{"text_format":"1","workbook":"xlsx","n_sheets":19,"sheets":["Home","KPICreate","Wk Input","KPIScore","MyChart","MyDashboard","CorpGraphs","Competencies","360Eval","GYCards","DM103","DM104","DM105","StaffCharts","ProjBM","RankBM","CListBM","sample","PicChart"],"not_rendered":{"charts":32,"images":60,"macros":1,"external_links":0,"defined_names":5,"comments":0,"pivot_tables":0},"unopened":[],"bounds":{"document_bytes":16777216,"sheet_cells":100000,"rows_first":2000,"rows_last":500,"rows_between":2000,"halvings":0,"cell_chars":16384,"cell_head_chars":4096},"cells_cut":0,"cells_raw":0,"read":"whole","date_system":"1900"}

{"sheet":"Home","index":0,"n_rows":1001,"n_cols":4592,"rows_kept":1001,"cut":false,"hidden":false,"merged":[[45,10,45,12],[45,13,45,14],[46,1,49,9],[51,1,53,9],[29,9,29,10],[29,11,29,13],[30,5,30,6],[30,7,30,8],[30,9,30,10],[30,11,33,13],[31,9,31,10],[32,9,32,10],[29,5,29,6],[29,7,29,8],[38,8,38,9],[33,7,33,8],[38,12,38,13],[37,12,37,13],[37,10,37,11],[37,8,37,9],[32,2,32,4],[33,2,33,4],[34,2,34,4],[33,9,33,10],[38,2,38,3],[38,4,38,5],[38,6,38,7],[38,10,38,11],[39,13,39,15],[26,2,27,3],[1,13,1,14],[37,6,37,7],[37,4,37,5],[37,2,37,3],[36,2,36,3],[34,11,34,12],[32,7,32,8],[31,7,31,8],[31,5,31,6],[32,5,32,6],[33,5,33,6],[34,5,34,6],[30,2,30,4],[31,2,31,4]]}
["User Status:","Activated",null,null,null,null,null,null,null,null,null,null,null,"Version:","10.0Sampel","Windows",null,null,null,null,null,null,null,true,{"$f":"LEFT(P41,LEN(P41)-3)","v":"SAMPEL"},{"$f":"RIGHT(P41,3)","v":"DM1"},{"$f":"VLOOKUP(Z1,$Z$2:$AA$1001,2,FALSE)","v":873},"DeActivated","-","-","-","-","-","-","-","-","-","-","-","-","-","-",0,0,0,0,"AA0"]
[null,null,null,null,null,null,null,"WELCOME TO PowerExec-xL",null,null,null,null,null,"Strictly for Demo Use Only",null,null,null,null,null,null,null,null,null,true,null,"AA0",2]
[null,null,null,null,null,null,null,"YOUR PRACTICAL BUSINESS PERFORMANCE EXECUTION TOOL",null,null,null,null,null,"Tarikh Hari Ini:",{"$f":"'Wk Input'!A2","v":"2020-12-31"},null,null,null,null,null,null,null,null,false,null,"AA1",3,null,null,null,null,null,null,null,null,null,null,null,null,null,null,null,null,null,null,null,null,null,null,null,null,null,null,null,null,null,null,null,null,null,null,null,null,null,null,null,null,null,null,null,null,null,null,null,null,null,null,null,null,null,null,null,null,null,null,null,null,null,null,null,null,null,null,null,null,null,null,null,null,null,null,null,null,null,null,null,null,null,null,null,null,null,null,null,null,null,null,null,null,null,null,null,null,null,null,null,null,null,null,null,null,null,null,null,null,null,null,null,null,null,null,null,null,null,null,null,null,null,null,null,null,null,null,null,null,null,null,null,null,null,null,null,null,null,null,null,null,null,null,null,null,null,null,null,null,null,null,null,null,null,null,null,null,null,null,null,null,null,null,null,null,null,null,null,null,null,null,null,null,null,null,null,null,null,null,null,null,null,null,null,null,null,null,null,null,null,null,null,null,null,null,null,null,null,null,null,null,null,null,null,null,null,null,null,null,null,null,null,null,null,null,null,null,null,null,null,null,null,null,null,null,null,null,null,null,null,null,null,null,null,null,null,null,null,null,null,null,null,null,null,null,null,null,null,null,null,null,null,null,null,null,null,null,null,null,null,null,null,null,null,null,null,null,null,null,null,null,null,null,null,null,null,null,null,null,null,null,null,null,null,null,null,null,null,null,null,null,null,null,null,null,null,null,null,null,null,null,null,null,null,null,null,null,null,null,null,null,null,null,null,null,null,null,null,null,null,null,null,null,null,null,null,null,null,null,null,null,null,null,null,null,null,null,null,null,null,null,null,null,null,null,null,null,null,null,null,null,null,null,null,null,null,null,null,null,null,null,null,null,null,null,null,null,null,null,null,null,null,null,null,null,null,null,null,null,null,null,null,null,null,null,null,null,null,null,null,null,null,null,null,null,null,null,null,null,null,null,null,null,null,null,null,null,null,null,null,null,null,null,null,null,null,null,null,null,null,null,null,null,null,null,null,null,null,null,null,null,null,null,null,null,null,null,null,null,null,null,null,null,null,null,null,null,null,null,null,null,null,null,null,null,null,null,null,null,null,null,null,null,null,null,null,null,null,null,null,null,null,null,null,null,null,null,null,null,null,null,null,null,null,null,null,null,null,null,null,null,null,null,null,null,null,null,null,null,null,null,null,null,null,null,null,null,null,null,null,null,null,null,null,null,null,null,null,null,null,null,null,null,null,null,null,null,null,null,null,null,null,null,null,null,null,null,null,null,null,null,null,null,null,null,null,null,null,null,null,null,null,null,null,null,null,null,null,null,null,null,null,null,null,null,null,null,null,null,null,null,null,null,null,null,null,null,null,null,null,null,null,null,null,null,null,null,null,null,null,null,null,null,null,null,null,null,null,null,null,null,null,null,null,null,null,null,null,null,null,null,null,null,null,null,null,null,null,null,null,null,null,null,null,null,null,null,null,null,null,null,null,null,null,null,null,null,null,null,null,null,null,null,null,null,null,null,null,null,null,null,null,null,null,null,null,null,null,null,null,null,null,null,null,null,null,null,null,null,null,null,null,null,null,null,null,null,null,null,null,null,null,null,null,null,null,null,null,null,null,null,null,null,null,null,null,null,null,null,null,null,null,null,null,null,null,null,null,null,null,null,null,null,null,null,null,null,null,null,null,null,null,null,null,null,null,null,null,null,null,null,null,null,null,null,null,null,null,null,null,null,null,null,null,null,null,null,null,null,null,null,null,null,null,null,null,null,null,null,null,null,null,null,null,null,null,null,null,null,null,null,null,null,null,null,null,null,null,null,null,null,null,null,null,null,null,null,null,null,null,null,null,null,null,null,null,null,null,null,null,null,null,null,null,null,null,null,null,null,null,null,null,null,null,null,null,null,null,null,null,null,null,null,null,null,null,null,null,null,null,null,null,null,null,null,null,null,null,null,null,null,null,null,null,null,null,null,null,null,null,null,null,null,null,null,null,null,null,null,null,null,null,null,null,null,null,null,null,null,null,null,null,null,null,null,null,null,null,null,null,null,null,null,null,null,null,null,null,null,null,null,null,null,null,null,null,null,null,null,null,null,null,null,null,null,null,null,null,null,null,null,null,null,null,null,null,null,null,null,null,null,null,null,null,null,null,null,null,null,null,null,null,null,null,null,null,null,null,null,null,null,null,null,null,null,null,null,null,null,null,null,null,null,null,null,null,null,null,null,null,null,null,null,null,null,null,null,null,null,null,null,null,null,null,null,null,null,null,null,null,null,null,null,null,null,null,null,null,null,null,null,null,null,null,null,null,null,null,null,null,null,null,null,null,null,null,null,null,null,null,null,null,null,null,null,null,null,null,null,null,null,null,null,null,null,null,null,null,null,null,null,null,null,null,null,null,null,null,null,null,null,null,null,null,null,null,null,null,null,null,null,null,null,null,null,null,null,null,null,null,null,null,null,null,null,null,null,null,null,null,null,null,null,null,null,null,null,null,null,null,null,null,null,null,null,null,null,null,null,null,null,null,null,null,null,null,null,null,null,null,null,null,null,null,null,null,null,null,null,null,null,null,null,null,null,null,null,null,null,null,null,null,null,null,null,null,null,null,null,null,null,null,null,null,null,null,null,null,null,null,null,null,null,null,null,null,null,null,null,null,null,null,null,null,null,null,null,null,null,null,null,null,null,null,null,null,null,null,null,null,null,null,null,null,null,null,null,null,null,null,null,null,null,null,null,null,null,null,null,null,null,null,null,null,null,null,null,null,null,null,null,null,null,null,null,null,null,null,null,null,null,null,null,null,null,null,null,null,null,null,null,null,null,null,null,null,null,null,null,null,null,null,null,null,null,null,null,null,null,null,null,null,null,null,null,null,null,null,null,null,null,null,null,null,null,null,null,null,null,null,null,null,null,null,null,null,null,null,null,null,null,null,null,null,null,null,null,null,null,null,null,null,null,null,null,null,null,null,null,null,null,null,null,null,null,null,null,null,null,null,null,null,null,null,null,null,null,null,null,null,null,null,null,null,null,null,null,null,null,null,null,null,null,null,null,null,null,null,null,null,null,null,null,null,null,null,null,null,null,null,null,null,null,null,null,null,null,null,null,null,null,null,null,null,null,null,null,null,null,null,null,null,null,null,null,null,null,null,null,null,null,null,null,null,null,null,null,null,null,null,null,null,null,null,null,null,null,null,null,null,null,null,null,null,null,null,null,null,null,null,null,null,null,null,null,null,null,null,null,null,null,null,null,null,null,null,null,null,null,null,null,null,null,null,null,null,null,null,null,null,null,null,null,null,null,null,null,null,null,null,null,null,null,null,null,null,null,null,null,null,null,null,null,null,null,null,null,null,null,null,null,null,null,null,null,null,null,null,null,null,null,null,null,null,null,null,null,null,null,null,null,null,null,null,null,null,null,null,null,null,null,null,null,null,null,null,null,null,null,null,null,null,null,null,null,null,null,null,null,null,null,null,null,null,null,null,null,null,null,null,null,null,null,null,null,null,null,null,null,null,null,null,null,null,null,null,null,null,null,null,null,null,null,null,null,null,null,null,null,null,null,null,null,null,null,null,null,null,null,null,null,null,null,null,null,null,null,null,null,null,null,null,null,null,null,null,null,null,null,null,null,null,null,null,null,null,null,null,null,null,null,null,null,null,null,null,null,null,null,null,null,null,null,null,null,null,null,null,null,null,null,null,null,null,null,null,null,null,null,null,null,null,null,null,null,null,null,null,null,null,null,null,null,null,null,null,null,null,null,null,null,null,null,null,null,null,null,null,null,null,null,null,null,null,null,null,null,null,null,null,null,null,null,null,null,null,null,null,null,null,null,null,null,null,null,null,null,null,null,null,null,null,null,null,null,null,null,null,null,null,null,null,null,null,null,null,null,null,null,null,null,null,null,null,null,null,null,null,null,null,null,null,null,null,null,null,null,null,null,null,null,null,null,null,null,null,null,null,null,null,null,null,null,null,null,null,null,null,null,null,null,null,null,null,null,null,null,null,null,null,null,null,null,null,null,null,null,null,null,null,null,null,null,null,null,null,null,null,null,null,null,null,null,null,null,null,null,null,null,null,null,null,null,null,null,null,null,null,null,null,null,null,null,null,null,null,null,null,null,null,null,null,null,null,null,null,null,null,null,null,null,null,null,null,null,null,null,null,null,null,null,null,null,null,null,null,null,null,null,null,null,null,null,null,null,null,null,null,null,null,null,null,null,null,null,null,null,null,null,null,null,null,null,null,null,null,null,null,null,null,null,null,null,null,null,null,null,null,null,null,null,null,null,null,null,null,null,null,null,null,null,null,null,null,null,null,null,null,null,null,null,null,null,null,null,null,null,null,null,null,null,null,null,null,null,null,null,null,null,null,null,null,null,null,null,null,null,null,null,null,null,null,null,null,null,null,null,null,null,null,null,null,null,null,null,null,null,null,null,null,null,null,null,null,null,null,null,null,null,null,null,null,null,null,null,null,null,null,null,null,null,null,null,null,null,null,null,null,null,null,null,null,null,null,null,null,null,null,null,null,null,null,null,null,null,null,null,null,null,null,null,null,null,null,null,null,null,null,null,null,null,null,null,null,null,null,null,null,null,null,null,null,null,null,null,null,null,null,null,null,null,null,null,null,null,null,null,null,null,null,null,null,null,null,null,null,null,null,null,null,null,null,null,null,null,null,null,null,null,null,null,null,null,null,null,null,null,null,null,null,null,null,null,null,null,null,null,null,null,null,null,null,null,null,null,null,null,null,null,null,null,null,null,null,null,null,null,null,null,null,null,null,null,null,null,null,null,null,null,null,null,null,null,null,null,null,null,null,null,null,null,null,null,null,null,null,null,null,null,null,null,null,null,null,null,null,null,null,null,null,null,null,null,null,null,null,null,null,null,null,null,null,null,null,null,null,null,null,null,null,null,null,null,null,null,null,null,null,null,null,null,null,null,null,null,null,null,null,null,null,null,null,null,null,null,null,null,null,null,null,null,null,null,null,null,null,null,null,null,null,null,null,null,null,null,null,null,null,null,null,null,null,null,null,null,null,null,null,null,null,null,null,null,null,null,null,null,null,null,null,null,null,null,null,null,null,null,null,null,null,null,null,null,null,null,null,null,null,null,null,null,null,null,null,null,null,null,null,null,null,null,null,null,null,null,null,null,null,null,null,null,null,null,null,null,null,null,null,null,null,null,null,null,null,null,null,null,null,null,null,null,null,null,null,null,null,null,null,null,null,null,null,null,null,null,null,null,null,null,null,null,null,null,null,null,null,null,null,null,null,null,null,null,null,null,null,null,null,null,null,null,null,null,null,null,null,null,null,null,null,null,null,null,null,null,null,null,null,null,null,null,null,null,null,null,null,null,null,null,null,null,null,null,null,null,null,null,null,null,null,null,null,null,null,null,null,null,null,null,null,null,null,null,null,null,null,null,null,null,null,null,null,null,null,null,null,null,null,null,null,null,null,null,null,null,null,null,null,null,null,null,null,null,null,null,null,null,null,null,null,null,null,null,null,null,null,null,null,null,null,null,null,null,null,null,null,null,null,null,null,null,null,null,null,null,null,null,null,null,null,null,null,null,null,null,null,null,null,null,null,null,null,null,null,null,null,null,null,null,null,null,null,null,null,null,null,null,null,null,null,null,null,null,null,null,null,null,null,null,null,null,null,null,null,null,null,null,null,null,null,null,null,null,null,null,null,null,null,null,null,null,null,null,null,null,null,null,null,null,null,null,null,null,null,null,null,null,null,null,null,null,null,null,null,null,null,null,null,null,null,null,null,null,null,null,null,null,null,null,null,null,null,null,null,null,null,null,null,null,null,null,null,null,null,null,null,null,null,null,null,null,null,null,null,null,null,null,null,null,null,null,null,null,null,null,null,null,null,null,null,null,null,null,null,null,null,null,null,null,null,null,null,null,null,null,null,null,null,null,null,null,null,null,null,null,null,null,null,null,null,null,null,null,null,null,null,null,null,null,null,null,null,null,null,null,null,null,null,null,null,null,null,null,null,null,null,null,null,null,null,null,null,null,null,null,null,null,null,null,null,null,null,null,null,null,null,null,null,null,null,null,null,null,null,null,null,null,null,null,null,null,null,null,null,null,null,null,null,null,null,null,null,null,null,null,null,null,null,null,null,null,null,null,null,null,null,null,null,null,null,null,null,null,null,null,null,null,null,null,null,null,null,null,null,null,null,null,null,null,null,null,null,null,null,null,null,null,null,null,null,null,null,null,null,null,null,null,null,null,null,null,null,null,null,null,null,null,null,null,null,null,null,null,null,null,null,null,null,null,null,null,null,null,null,null,null,null,null,null,null,null,null,null,null,null,null,null,null,null,null,null,null,null,null,null,null,null,null,null,null,null,null,null,null,null,null,null,null,null,null,null,null,null,null,null,null,null,null,null,null,null,null,null,null,null,null,null,null,null,null,null,null,null,null,null,null,null,null,null,null,null,null,null,null,null,null,null,null,null,null,null,null,null,null,null,null,null,null,null,null,null,null,null,null,null,null,null,null,null,null,null,null,null,null,null,null,null,null,null,null,null,null,null,null,null,null,null,null,null,null,null,null,null,null,null,null,null,null,null,null,null,null,null,null,null,null,null,null,null,null,null,null,null,null,null,null,null,null,null,null,null,null,null,null,null,null,null,null,null,null,null,null,null,null,null,null,null,null,null,null,null,null,null,null,null,null,null,null,null,null,null,null,null,null,null,null,null,null,null,null,null,null,null,null,null,null,null,null,null,null,null,null,null,null,null,null,null,null,null,null,null,null,null,null,null,null,null,null,null,null,null,null,null,null,null,null,null,null,null,null,null,null,null,null,null,null,null,null,null,null,null,null,null,null,null,null,null,null,null,null,null,null,null,null,null,null,null,null,null,null,null,null,null,null,null,null,null,null,null,null,null,null,null,null,null,null,null,null,null,null,null,null,null,null,null,null,null,null,null,null,null,null,null,null,null,null,null,null,null,null,null,null,null,null,null,null,null,null,null,null,null,null,null,null,null,null,null,null,null,null,null,null,null,null,null,null,null,null,null,null,null,null,null,null,null,null,null,null,null,null,null,null,null,null,null,null,null,null,null,null,null,null,null,null,null,null,null,null,null,null,null,null,null,null,null,null,null,null,null,null,null,null,null,null,null,null,null,null,null,null,null,null,null,null,null,null,null,null,null,null,null,null,null,null,null,null,null,null,null,null,null,null,null,null,null,null,null,null,null,null,null,null,null,null,null,null,null,null,null,null,null,null,null,null,null,null,null,null,null,null,null,null,null,null,null,null,null,null,null,null,null,null,null,null,null,null,null,null,null,null,null,null,null,null,null,null,null,null,null,null,null,null,null,null,null,null,null,null,null,null,null,null,null,null,null,null,null,null,null,null,null,null,null,null,null,null,null,null,null,null,null,null,null,null,null,null,null,null,null,null,null,null,null,null,null,null,null,null,null,null,null,null,null,null,null,null,null,null,null,null,null,null,null,null,null,null,null,null,null,null,null,null,null,null,null,null,null,null,null,null,null,null,null,null,null,null,null,null,null,null,null,null,null,null,null,null,null,null,null,null,null,null,null,null,null,null,null,null,null,null,null,null,null,null,null,null,null,null,null,null,null,null,null,null,null,null,null,null,null,null,null,null,null,null,null,null,null,null,null,null,null,null,null,null,null,null,null,null,null,null,null,null,null,null,null,null,null,null,null,null,null,null,null,null,null,null,null,null,null,null,null,null,null,null,null,null,null,null,null,null,null,null,null,null,null,null,null,null,null,null,null,null,null,null,null,null,null,null,null,null,null,null,null,null,null,null,null,null,null,null,null,null,null,null,null,null,null,null,null,null,null,null,null,null,null,null,null,null,null,null,null,null,null,null,null,null,null,null,null,null,null,null,null,null,null,null,null,null,null,null,null,null,null,null,null,null,null,null,null,null,null,null,null,null,null,null,null,null,null,null,null,null,null,null,null,null,null,null,null,null,null,null,null,null,null,null,null,null,null,null,null,null,null,null,null,null,null,null,null,null,null,null,null,null,null,null,null,null,null,null,null,null,null,null,null,null,null,null,null,null,null,null,null,null,null,null,null,null,null,null,null,null,null,null,null,null,null,null,null,null,null,null,null,null,null,null,null,null,null,null,null,null,null,null,null,null,null,null,null,null,null,null,null,null,null,null,null,null,null,null,null,null,null,null,null,null,null,null,null,null,null,null,null,null,null,null,null,null,null,null,null,null,null,null,null,null,null,null,null,null,null,null,null,null,null,null,null,null,null,null,null,null,null,null,null,null,null,null,null,null,null,null,null,null,null,null,null,null,null,null,null,null,null,null,null,null,null,null,null,null,null,null,null,null,null,null,null,null,null,null,null,null,null,null,null,null,null,null,null,null,null,null,null,null,null,null,null,null,null,null,null,null,null,null,null,null,null,null,null,null,null,null,null,null,null,null,null,null,null,null,null,null,null,null,null,null,null,null,null,null,null,null,null,null,null,null,null,null,null,null,null,null,null,null,null,null,null,null,null,null,null,null,null,null,null,null,null,null,null,null,null,null,null,null,null,null,null,null,null,null,null,null,null,null,null,null,null,null,null,null,null,null,null,null,null,null,null,null,null,null,null,null,null,null,null,null,null,null,null,null,null,null,null,null,null,null,null,null,null,null,null,null,null,null,null,null,null,null,null,null,null,null,null,null,null,null,null,null,null,null,null,null,null,null,null,null,null,null,null,null,null,null,null,null,null,null,null,null,null,null,null,null,null,null,null,null,null,null,null,null,null,null,null,null,null,null,null,null,null,null,null,null,null,null,null,null,null,null,null,null,null,null,null,null,null,null,null,null,null,null,null,null,null,null,null,null,null,null,null,null,null,null,null,null,null,null,null,null,null,null,null,null,null,null,null,null,null,null,null,null,null,null,null,null,null,null,null,null,null,null,null,null,null,null,null,null,null,null,null,null,null,null,null,null,null,null,null,null,null,null,null,null,null,null,null,null,null,null,null,null,null,null,null,null,null,null,null,null,null,null,null,null,null,null,null,null,null,null,null,null,null,null,null,null,null,null,null,null,null,null,null,null,null,null,null,null,null,null,null,null,null,null,null,null,null,null,null,null,null,null,null,null,null,null,null,null,null,null,null,null,null,null,null,null,null,null,null,null,null,null,null,null,null,null,null,null,null,null,null,null,null,null,null,null,null,null,null,null,null,null,null,null,null,null,null,null,null,null,null,null,null,null,null,null,null,null,null,null,null,null,null,null,null,null,null,null,null,null,null,null,null,null,null,null,null,null,null,null,null,null,null,null,null,null,null,null,null,null,null,null,null,null,null,null,null,null,null,null,null,null,null,null,null,null,null,null,null,null,null,null,null,null,null,null,null,null,null,null,null,null,null,null,null,null,null,null,null,null,null,null,null,null,null,null,null,null,null,null,null,null,null,null,null,null,null,null,null,null,null,null,null,null,null,null,null,null,null,null,null,null,null,null,null,null,null,null,null,null,null,null,null,null,null,null,null,null,null,null,null,null,null,null,null,null,null,null,null,null,null,null,null,null,null,null,null,null,null,null,null,null,null,null,null,null,null,null,null,null,null,null,null,null,null,null,null,null,null,null,null,null,null,null,null,null,null,null,null,null,null,null,null,null,null,null,null,null,null,null,null,null,null,null,null,null,null,null,null,null,null,null,null,null,null,null,null,null,null,null,null,null,null,null,null,null,null,null,null,null,null,null,null,null,null,null,null,null,null,null,null,null,null,null,null,null,null,null,null,null,null,null,null,null,null,null,null,null,null,null,null,null,null,null,null,null,null,null,null,null,null,null,null,null,null,null,null,null,null,null,null,null,null,null,null,null,null,null,null,null,null,null,null,null,null,null,null,null,null,null,null,null,null,null,null,null,null,null,null,null,null,null,null,null,null,null,null,null,null,null,null,null,null,null,null,null,null,null,null,null,null,null,null,null,null,null,null,null,null,null,null,null,null,null,null,null,null,null,null,null,null,null,null,null,null,null,null,null,null,null,null,null,null,null,null,null,null,null,null,null,null,null,null,null,null,null,null,null,null,null,null,null,null,null,null,null,null,null,null,null,null,null,null,null,null,null,null,null,null,null,null,null,null,null,null,null,null,null,null,null,null,null,null,null,null,null,null,null,null,null,null,null,null,null,null,null,null,null,null,null,null,null,null,null,null,null,null,null,null,null,null,null,null,null,null,null,null,null,null,null,null,null,null,null,null,null,null,null,null,null,null,null,null,null,null,null,null,null,null,null,null,null,null,null,null,null,null,null,null,null,null,null,null,null,null,null,null,null,null,null,null,null,null,null,null,null,null,null,null,null,null,null,null,null,null,null,null,null,null,null,null,null,null,null,null,null,null,null,null,null,null,null,null,null,null,null,null,0]
[null,null,null,null,null,null,null,null,null,null,null,null,null,"Minggu Ini:",{"$f":"'Wk Input'!J2","v":53},null,null,null,null,null,null,null,null,null,null,"AA2",4]
[null,null,null,null,null,null,null,null,null,null,null,null,null,null,null,null,null,null,null,null,null,null,null,null,null,"AA3",5]
[null,null,null,null,null,"Nama:",null,"ADAM NAUFAL HASMADI",null,null,null,null,null,null,null,null,null,null,null,null,null,null,null,null,null,"AA4",6]
[null,null,null,null,null,null,null,null,null,null,null,null,null,null,null,null,null,null,null,null,null,null,null,null,null,"AA5",7]
[null,null,null,null,null,"No Staf:",null,"1234HM",null,null,null,null,null,null,null,null,null,null,null,null,null,null,null,null,null,"AA6",8]
[null,null,null,null,null,null,null,null,null,null,null,null,null,null,null,null,null,null,null,null,null,null,null,null,null,"AA7",9]
[null,null,null,null,null,"Jawatan:",null,"PEN. KETUA PEMASARAN DAN PERKHIDMATAN",null,null,null,null,null,null,null,null,null,null,null,null,null,null,null,null,null,"AA8",10]
[null,null,null,null,null,null,null,null,null,null,null,null,null,null,null,null,null,null,null,null,null,null,null,null,null,"AA9",11]
[null,null,null,null,null,"Bahagian:",null,"PEMASARAN DAN PERKHIDMATAN",null,null,null,null,null,null,null,null,null,null,null,null,null,null,null,null,null,"AB0",12]
[null,null,null,null,null,null,null,null,null,null,null,null,null,null,null,null,null,null,null,null,null,null,null,null,null,"AB1",13]
[null,null,null,null,null,"Gred:",null,15,null,null,null,null,null,null,null,null,null,null,null,null,null,null,null,null,null,"AB2",14]
[null,null,null,null,null,null,null,null,null,null,null,null,null,null,null,null,null,null,null,null,null,null,null,null,null,"AB3",15]
[null,null,null,null,null,"Organisasi:",null,"SAMPEL CORPORATION LTD",null,null,null,null,null,null,null,null,null,null,null,null,null,null,null,null,null,"AB4",16]
[null,null,null,null,null,null,null,null,null,null,null,null,null,null,null,null,null,null,null,null,null,null,null,null,null,"AB5",17]
[null,null,null,null,null,"Emel:",null,"adam.naufal@sampel.com",null,null,null,null,null,null,null,null,null,null,null,null,null,null,null,null,null,"AB6",18]
[null,null,null,null,null,null,null,null,null,null,null,null,null,null,null,null,null,null,null,null,null,null,null,null,null,"AB7",19]
[null,null,null,null,null,"Tel Bimbit:",null,"012-345 6789",null,null,null,null,null,null,null,null,null,null,null,null,null,null,null,null,null,"AB8",20]
[null,null,null,null,null,null,null,null,null,null,null,null,null,null,null,null,null,null,null,null,null,null,null,null,null,"AB9",21]
[null,null,null,null,null,null,null,null,null,null,null,null,null,null,null,null,null,null,null,null,null,null,null,null,null,"AC0",22]
[null,null,null,null,null,"Ketua:",null,"RASHIDI ZAMAN",null,null,null,null,null,null,null,null,null,null,null,null,null,null,null,null,null,"AC1",23]
[null,null,null,null,null,null,null,null,null,null,null,null,null,null,null,null,null,null,null,null,null,null,null,null,null,"AC2",24]
[null,null,null,null,null,"Jawatan Ketua:",null,"PENGURUS KOMUNIKASI KORPORAT",null,null,null,null,null,null,null,null,null,null,null,null,null,null,null,null,null,"AC3",25]
[null,null,null,null,null,null,null,null,null,null,null,null,null,null,null,null,null,null,null,null,null,null,null,null,null,"AC4",26]
[null,null,2020,null,null,null,null,null,null,null,null,null,null,null,null,null,null,null,null,null,null,null,null,null,null,"AC5",27]
[null,null,null,null,null,null,null,"SKOR PRESTASI KESELURUHAN",null,null,null,null,null,null,null,null,null,null,null,null,null,null,null,null,null,"AC6",28]
[null,null,null,null,null,null,null,null,null,null,null,null,null,null,null,null,null,null,null,null,null,null,null,null,null,"AC7",29]
[null,null,null,null,null,"Wajaran %",null,"Skor %",null,"Skor diWajar %",null,"Jumlah Skor Keseluruhan %",null,null,null,null,null,null,null,null,null,null,null,null,null,"AC8",30]
[null,null,"KPI",null,null,{"$f":"sample!KG20","v":70},null,{"$f":"KPIScore!A2","v":95.11655302695533},null,{"$f":"IFERROR(F31*H31/100,0)","v":66.581587118868725},null,{"$f":"SUM(J31:K34)","v":85.239050488832106},null,null,null,null,null,null,null,null,null,null,null,null,null,"AC9",31]
[null,null,"Kompetensi Insaniah",null,null,{"$f":"sample!KH20","v":15},null,{"$f":"Competencies!M26","v":65.714285714285708},null,{"$f":"IFERROR(F32*H32/100,0)","v":9.8571428571428559},null,null,null,null,null,null,null,null,null,null,null,null,null,null,null,"AD0",32]
[null,null,"Kompetensi Teknikal",null,null,{"$f":"sample!KI20","v":10},null,{"$f":"Competencies!M55","v":59.999999999999986},null,{"$f":"IFERROR(F33*H33/100,0)","v":5.9999999999999991},null,null,null,null,null,null,null,null,null,null,null,null,null,null,null,"AD1",33]
[null,null,"Nilai Bersama",null,null,{"$f":"sample!KJ20","v":5},null,{"$f":"IFERROR(sample!OP5*100,\"\")","v":56.006410256410255},null,2.8003205128205129,null,null,null,null,null,null,null,null,null,null,null,null,null,null,null,"AD2",34]
[null,null,"JUMLAH",null,null,{"$f":"SUM(F31:G34)","v":100},null,null,null,null,null,"Taraf Prestasi",null,{"$f":"IF(L31<15,1,IF(L31<30,2,IF(L31<45,3,IF(L31<60,4,IF(L31<70,5,IF(L31<80,6,IF(L31<85,7,IF(L31<90,8,IF(L31<95,9,10)))))))))","v":8},null,null,null,null,null,null,null,null,null,null,null,"AD3",35]
[null,null,null,null,null,null,null,null,null,null,null,null,null,null,null,null,null,null,null,null,null,null,null,null,null,"AD4",36]
[null,null,"Taraf Prestasi Keseluruhan",null,1,2,3,4,5,6,7,8,9,10,null,null,null,null,null,null,null,null,null,null,null,"AD5",37]
[null,null,"Jumlah Skor %",null,"0% - 29.99%",null,"30% - 59.99%",null,"60% - 79.99%",null,"80% - 89.99%",null,"90% - 100%",null,null,null,null,null,null,null,null,null,null,null,null,"AD6",38]
[null,null,"Deskripsi",null,"Sangat Lemah",null,"Lemah",null,"Sederhana",null,"Baik",null,"Cemerlang",null,null,null,null,{"$f":"KPICreate!Q38","v":0},null,null,null,null,null,null,null,"AD7",39]
[null,null,null,null,null,null,null,null,null,null,null,null,null,"LICENCE CONTROL DO NOT CHANGE\nSerial No: 600409000000",null,null,null,{"$f":"LEN(R39)","v":1},{"$f":"R40+6","v":7},null,null,null,null,null,null,"AD8",40]
[null,null,null,null,null,null,null,"Form design by:",null,null,null,null,null,null,"User Licence No:","SAMPELDM1",null,{"$f":"CELL(\"filename\",R39)","v":"C:\\Users\\Zaharin\\Desktop\\Leadersense\\Software\\PowerExec-xL\\Release Ver10.0\\SAMPEL\\[PowerExecSampelDM1.xlsm]Home"},null,null,null,null,null,null,null,"AD9",41]
["My Local pathname:",null,null,null,null,null,null,null,null,null,null,null,null,null,"User Licence Pass:",null,null,{"$f":"LEN(R41)","v":111},{"$f":"R42-S40","v":104},null,null,null,null,null,null,"AE0",42]
[{"$f":"R43","v":"C:\\Users\\Zaharin\\Desktop\\Leadersense\\Software\\PowerExec-xL\\Release Ver10.0\\SAMPEL\\"},null,null,null,null,null,null,null,null,null,null,null,null,null,"Unlocked",null,null,{"$f":"LEFT(CELL(\"filename\",A1),FIND(\"[\",CELL(\"filename\",A1))-1)","v":"C:\\Users\\Zaharin\\Desktop\\Leadersense\\Software\\PowerExec-xL\\Release Ver10.0\\SAMPEL\\"},null,null,null,null,null,null,null,"AE1",43]
[null,null,null,null,null,null,null,"Leadersense Consulting & Systems Sdn Bhd @ 2017",null,null,null,null,null,null,null,null,null,null,null,null,null,null,null,null,null,"AE2",44]
[null,null,null,null,null,null,null,null,null,null,null,null,null,null,null,null,null,null,null,null,null,null,null,null,null,"AE3",45]
[null,"Catatan oleh Ketua:",null,null,null,null,null,null,null,null,"Tandatangan:",null,null,"Tarikh:",null,null,null,null,null,null,null,null,null,null,null,"AE4",46]
[null,null,null,null,null,null,null,null,null,null,null,null,null,null,null,null,null,null,null,null,null,null,null,null,null,"AE5",47]
[null,null,null,null,null,null,null,null,null,null,null,null,null,null,null,null,null,null,null,null,null,null,null,null,null,"AE6",48]
[null,null,null,null,null,null,null,null,null,null,null,null,null,null,null,null,null,null,null,null,null,null,null,null,null,"AE7",49]
[null,null,null,null,null,null,null,null,null,null,null,null,null,null,null,null,null,null,null,null,null,null,null,null,null,"AE8",50]
[null,"Catatan oleh Pegawai Penilai Kedua:",null,null,null,null,null,null,null,null,null,null,null,null,null,null,null,null,null,null,null,null,null,null,null,"AE9",51]
[null,null,null,null,null,null,null,null,null,null,null,null,null,null,null,null,null,null,null,null,null,null,null,null,null,"AF0",52]
[null,null,null,null,null,null,null,null,null,null,null,null,null,null,null,null,null,null,null,null,null,null,null,null,null,"AF1",53]
[null,null,null,null,null,null,null,null,null,null,null,null,null,null,null,null,null,null,null,null,null,null,null,null,null,"AF2",54]
[null,null,null,null,null,null,null,null,null,null,null,null,null,null,null,null,null,null,null,null,null,null,null,null,null,"AF3",55]
[null,null,null,null,null,null,null,null,null,null,null,null,null,null,null,null,null,null,null,null,null,null,null,null,null,"AF4",56]
[null,null,null,null,null,null,null,null,null,null,null,null,null,null,null,null,null,null,null,null,null,null,null,null,null,"AF5",57]
[null,null,null,null,null,null,null,null,null,null,null,null,null,null,null,null,null,null,null,null,null,null,null,null,null,"AF6",58]
[null,null,null,null,null,null,null,null,null,null,null,null,null,null,null,null,null,null,null,null,null,null,null,null,null,"AF7",59]
[null,null,null,null,null,null,null,null,null,null,null,null,null,null,null,null,null,null,null,null,null,null,null,null,null,"AF8",60]
[null,null,null,null,null,null,null,null,null,null,null,null,null,null,null,null,null,null,null,null,null,null,null,null,null,"AF9",61]
[null,null,null,null,null,null,null,null,null,null,null,null,null,null,null,null,null,null,null,null,null,null,null,null,null,"AG0",62]
[null,null,null,null,null,null,null,null,null,null,null,null,null,null,null,null,null,null,null,null,null,null,null,null,null,"AG1",63]
[null,null,null,null,null,null,null,null,null,null,null,null,null,null,null,null,null,null,null,null,null,null,null,null,null,"AG2",64]
[null,null,null,null,null,null,null,null,null,null,null,null,null,null,null,null,null,null,null,null,null,null,null,null,null,"AG3",65]
[null,null,null,null,null,null,null,null,null,null,null,null,null,null,null,null,null,null,null,null,null,null,null,null,null,"AG4",66]
[null,null,null,null,null,null,null,null,null,null,null,null,null,null,null,null,null,null,null,null,null,null,null,null,null,"AG5",67]
[null,null,null,null,null,null,null,null,null,null,null,null,null,null,null,null,null,null,null,null,null,null,null,null,null,"AG6",68]
[null,null,null,null,null,null,null,null,null,null,null,null,null,null,null,null,null,null,null,null,null,null,null,null,null,"AG7",69]
[null,null,null,null,null,null,null,null,null,null,null,null,null,null,null,null,null,null,null,null,null,null,null,null,null,"AG8",70]
[null,null,null,null,null,null,null,null,null,null,null,null,null,null,null,null,null,null,null,null,null,null,null,null,null,"AG9",71]
[null,null,null,null,null,null,null,null,null,null,null,null,null,null,null,null,null,null,null,null,null,null,null,null,null,"AH0",72]
[null,null,null,null,null,null,null,null,null,null,null,null,null,null,null,null,null,null,null,null,null,null,null,null,null,"AH1",73]
[null,null,null,null,null,null,null,null,null,null,null,null,null,null,null,null,null,null,null,null,null,null,null,null,null,"AH2",74]
[null,null,null,null,null,null,null,null,null,null,null,null,null,null,null,null,null,null,null,null,null,null,null,null,null,"AH3",75]
[null,null,null,null,null,null,null,null,null,null,null,null,null,null,null,null,null,null,null,null,null,null,null,null,null,"AH4",76]
[null,null,null,null,null,null,null,null,null,null,null,null,null,null,null,null,null,null,null,null,null,null,null,null,null,"AH5",77]
[null,null,null,null,null,null,null,null,null,null,null,null,null,null,null,null,null,null,null,null,null,null,null,null,null,"AH6",78]
[null,null,null,null,null,null,null,null,null,null,null,null,null,null,null,null,null,null,null,null,null,null,null,null,null,"AH7",79]
[null,null,null,null,null,null,null,null,null,null,null,null,null,null,null,null,null,null,null,null,null,null,null,null,null,"AH8",80]
[null,null,null,null,null,null,null,null,null,null,null,null,null,null,null,null,null,null,null,null,null,null,null,null,null,"AH9",81]
[null,null,null,null,null,null,null,null,null,null,null,null,null,null,null,null,null,null,null,null,null,null,null,null,null,"AI0",82]
[null,null,null,null,null,null,null,null,null,null,null,null,null,null,null,null,null,null,null,null,null,null,null,null,null,"AI1",83]
[null,null,null,null,null,null,null,null,null,null,null,null,null,null,null,null,null,null,null,null,null,null,null,null,null,"AI2",84]
[null,null,null,null,null,null,null,null,null,null,null,null,null,null,null,null,null,null,null,null,null,null,null,null,null,"AI3",85]
[null,null,null,null,null,null,null,null,null,null,null,null,null,null,null,null,null,null,null,null,null,null,null,null,null,"AI4",86]
[null,null,null,null,null,null,null,null,null,null,null,null,null,null,null,null,null,null,null,null,null,null,null,null,null,"AI5",87]
[null,null,null,null,null,null,null,null,null,null,null,null,null,null,null,null,null,null,null,null,null,null,null,null,null,"AI6",88]
[null,null,null,null,null,null,null,null,null,null,null,null,null,null,null,null,null,null,null,null,null,null,null,null,null,"AI7",89]
[null,null,null,null,null,null,null,null,null,null,null,null,null,null,null,null,null,null,null,null,null,null,null,null,null,"AI8",90]
[null,null,null,null,null,null,null,null,null,null,null,null,null,null,null,null,null,null,null,null,null,null,null,null,null,"AI9",91]
[null,null,null,null,null,null,null,null,null,null,null,null,null,null,null,null,null,null,null,null,null,null,null,null,null,"AJ0",92]
[null,null,null,null,null,null,null,null,null,null,null,null,null,null,null,null,null,null,null,null,null,null,null,null,null,"AJ1",93]
[null,null,null,null,null,null,null,null,null,null,null,null,null,null,null,null,null,null,null,null,null,null,null,null,null,"AJ2",94]
[null,null,null,null,null,null,null,null,null,null,null,null,null,null,null,null,null,null,null,null,null,null,null,null,null,"AJ3",95]
[null,null,null,null,null,null,null,null,null,null,null,null,null,null,null,null,null,null,null,null,null,null,null,null,null,"AJ4",96]
[null,null,null,null,null,null,null,null,null,null,null,null,null,null,null,null,null,null,null,null,null,null,null,null,null,"AJ5",97]
[null,null,null,null,null,null,null,null,null,null,null,null,null,null,null,null,null,null,null,null,null,null,null,null,null,"AJ6",98]
[null,null,null,null,null,null,null,null,null,null,null,null,null,null,null,null,null,null,null,null,null,null,null,null,null,"AJ7",99]
[null,null,null,null,null,null,null,null,null,null,null,null,null,null,null,null,null,null,null,null,null,null,null,null,null,"AJ8",100]
[null,null,null,null,null,null,null,null,null,null,null,null,null,null,null,null,null,null,null,null,null,null,null,null,null,"AJ9",101]
[null,null,null,null,null,null,null,null,null,null,null,null,null,null,null,null,null,null,null,null,null,null,null,null,null,"AK0",102]
[null,null,null,null,null,null,null,null,null,null,null,null,null,null,null,null,null,null,null,null,null,null,null,null,null,"AK1",103]
[null,null,null,null,null,null,null,null,null,null,null,null,null,null,null,null,null,null,null,null,null,null,null,null,null,"AK2",104]
[null,null,null,null,null,null,null,null,null,null,null,null,null,null,null,null,null,null,null,null,null,null,null,null,null,"AK3",105]
[null,null,null,null,null,null,null,null,null,null,null,null,null,null,null,null,null,null,null,null,null,null,null,null,null,"AK4",106]
[null,null,null,null,null,null,null,null,null,null,null,null,null,null,null,null,null,null,null,null,null,null,null,null,null,"AK5",107]
[null,null,null,null,null,null,null,null,null,null,null,null,null,null,null,null,null,null,null,null,null,null,null,null,null,"AK6",108]
[null,null,null,null,null,null,null,null,null,null,null,null,null,null,null,null,null,null,null,null,null,null,null,null,null,"AK7",109]
[null,null,null,null,null,null,null,null,null,null,null,null,null,null,null,null,null,null,null,null,null,null,null,null,null,"AK8",110]
[null,null,null,null,null,null,null,null,null,null,null,null,null,null,null,null,null,null,null,null,null,null,null,null,null,"AK9",111]
[null,null,null,null,null,null,null,null,null,null,null,null,null,null,null,null,null,null,null,null,null,null,null,null,null,"AL0",112]
[null,null,null,null,null,null,null,null,null,null,null,null,null,null,null,null,null,null,null,null,null,null,null,null,null,"AL1",113]
[null,null,null,null,null,null,null,null,null,null,null,null,null,null,null,null,null,null,null,null,null,null,null,null,null,"AL2",114]
[null,null,null,null,null,null,null,null,null,null,null,null,null,null,null,null,null,null,null,null,null,null,null,null,null,"AL3",115]
[null,null,null,null,null,null,null,null,null,null,null,null,null,null,null,null,null,null,null,null,null,null,null,null,null,"AL4",116]
[null,null,null,null,null,null,null,null,null,null,null,null,null,null,null,null,null,null,null,null,null,null,null,null,null,"AL5",117]
[null,null,null,null,null,null,null,null,null,null,null,null,null,null,null,null,null,null,null,null,null,null,null,null,null,"AL6",118]
[null,null,null,null,null,null,null,null,null,null,null,null,null,null,null,null,null,null,null,null,null,null,null,null,null,"AL7",119]
[null,null,null,null,null,null,null,null,null,null,null,null,null,null,null,null,null,null,null,null,null,null,null,null,null,"AL8",120]
[null,null,null,null,null,null,null,null,null,null,null,null,null,null,null,null,null,null,null,null,null,null,null,null,null,"AL9",121]
[null,null,null,null,null,null,null,null,null,null,null,null,null,null,null,null,null,null,null,null,null,null,null,null,null,"AM0",122]
[null,null,null,null,null,null,null,null,null,null,null,null,null,null,null,null,null,null,null,null,null,null,null,null,null,"AM1",123]
[null,null,null,null,null,null,null,null,null,null,null,null,null,null,null,null,null,null,null,null,null,null,null,null,null,"AM2",124]
[null,null,null,null,null,null,null,null,null,null,null,null,null,null,null,null,null,null,null,null,null,null,null,null,null,"AM3",125]
[null,null,null,null,null,null,null,null,null,null,null,null,null,null,null,null,null,null,null,null,null,null,null,null,null,"AM4",126]
[null,null,null,null,null,null,null,null,null,null,null,null,null,null,null,null,null,null,null,null,null,null,null,null,null,"AM5",127]
[null,null,null,null,null,null,null,null,null,null,null,null,null,null,null,null,null,null,null,null,null,null,null,null,null,"AM6",128]
[null,null,null,null,null,null,null,null,null,null,null,null,null,null,null,null,null,null,null,null,null,null,null,null,null,"AM7",129]
[null,null,null,null,null,null,null,null,null,null,null,null,null,null,null,null,null,null,null,null,null,null,null,null,null,"AM8",130]
[null,null,null,null,null,null,null,null,null,null,null,null,null,null,null,null,null,null,null,null,null,null,null,null,null,"AM9",131]
[null,null,null,null,null,null,null,null,null,null,null,null,null,null,null,null,null,null,null,null,null,null,null,null,null,"AN0",132]
[null,null,null,null,null,null,null,null,null,null,null,null,null,null,null,null,null,null,null,null,null,null,null,null,null,"AN1",133]
[null,null,null,null,null,null,null,null,null,null,null,null,null,null,null,null,null,null,null,null,null,null,null,null,null,"AN2",134]
[null,null,null,null,null,null,null,null,null,null,null,null,null,null,null,null,null,null,null,null,null,null,null,null,null,"AN3",135]
[null,null,null,null,null,null,null,null,null,null,null,null,null,null,null,null,null,null,null,null,null,null,null,null,null,"AN4",136]
[null,null,null,null,null,null,null,null,null,null,null,null,null,null,null,null,null,null,null,null,null,null,null,null,null,"AN5",137]
[null,null,null,null,null,null,null,null,null,null,null,null,null,null,null,null,null,null,null,null,null,null,null,null,null,"AN6",138]
[null,null,null,null,null,null,null,null,null,null,null,null,null,null,null,null,null,null,null,null,null,null,null,null,null,"AN7",139]
[null,null,null,null,null,null,null,null,null,null,null,null,null,null,null,null,null,null,null,null,null,null,null,null,null,"AN8",140]
[null,null,null,null,null,null,null,null,null,null,null,null,null,null,null,null,null,null,null,null,null,null,null,null,null,"AN9",141]
[null,null,null,null,null,null,null,null,null,null,null,null,null,null,null,null,null,null,null,null,null,null,null,null,null,"AO0",142]
[null,null,null,null,null,null,null,null,null,null,null,null,null,null,null,null,null,null,null,null,null,null,null,null,null,"AO1",143]
[null,null,null,null,null,null,null,null,null,null,null,null,null,null,null,null,null,null,null,null,null,null,null,null,null,"AO2",144]
[null,null,null,null,null,null,null,null,null,null,null,null,null,null,null,null,null,null,null,null,null,null,null,null,null,"AO3",145]
[null,null,null,null,null,null,null,null,null,null,null,null,null,null,null,null,null,null,null,null,null,null,null,null,null,"AO4",146]
[null,null,null,null,null,null,null,null,null,null,null,null,null,null,null,null,null,null,null,null,null,null,null,null,null,"AO5",147]
[null,null,null,null,null,null,null,null,null,null,null,null,null,null,null,null,null,null,null,null,null,null,null,null,null,"AO6",148]
[null,null,null,null,null,null,null,null,null,null,null,null,null,null,null,null,null,null,null,null,null,null,null,null,null,"AO7",149]
[null,null,null,null,null,null,null,null,null,null,null,null,null,null,null,null,null,null,null,null,null,null,null,null,null,"AO8",150]
[null,null,null,null,null,null,null,null,null,null,null,null,null,null,null,null,null,null,null,null,null,null,null,null,null,"AO9",151]
[null,null,null,null,null,null,null,null,null,null,null,null,null,null,null,null,null,null,null,null,null,null,null,null,null,"AP0",152]
[null,null,null,null,null,null,null,null,null,null,null,null,null,null,null,null,null,null,null,null,null,null,null,null,null,"AP1",153]
[null,null,null,null,null,null,null,null,null,null,null,null,null,null,null,null,null,null,null,null,null,null,null,null,null,"AP2",154]
[null,null,null,null,null,null,null,null,null,null,null,null,null,null,null,null,null,null,null,null,null,null,null,null,null,"AP3",155]
[null,null,null,null,null,null,null,null,null,null,null,null,null,null,null,null,null,null,null,null,null,null,null,null,null,"AP4",156]
[null,null,null,null,null,null,null,null,null,null,null,null,null,null,null,null,null,null,null,null,null,null,null,null,null,"AP5",157]
[null,null,null,null,null,null,null,null,null,null,null,null,null,null,null,null,null,null,null,null,null,null,null,null,null,"AP6",158]
[null,null,null,null,null,null,null,null,null,null,null,null,null,null,null,null,null,null,null,null,null,null,null,null,null,"AP7",159]
[null,null,null,null,null,null,null,null,null,null,null,null,null,null,null,null,null,null,null,null,null,null,null,null,null,"AP8",160]
[null,null,null,null,null,null,null,null,null,null,null,null,null,null,null,null,null,null,null,null,null,null,null,null,null,"AP9",161]
[null,null,null,null,null,null,null,null,null,null,null,null,null,null,null,null,null,null,null,null,null,null,null,null,null,"AQ0",162]
[null,null,null,null,null,null,null,null,null,null,null,null,null,null,null,null,null,null,null,null,null,null,null,null,null,"AQ1",163]
[null,null,null,null,null,null,null,null,null,null,null,null,null,null,null,null,null,null,null,null,null,null,null,null,null,"AQ2",164]
[null,null,null,null,null,null,null,null,null,null,null,null,null,null,null,null,null,null,null,null,null,null,null,null,null,"AQ3",165]
[null,null,null,null,null,null,null,null,null,null,null,null,null,null,null,null,null,null,null,null,null,null,null,null,null,"AQ4",166]
[null,null,null,null,null,null,null,null,null,null,null,null,null,null,null,null,null,null,null,null,null,null,null,null,null,"AQ5",167]
[null,null,null,null,null,null,null,null,null,null,null,null,null,null,null,null,null,null,null,null,null,null,null,null,null,"AQ6",168]
[null,null,null,null,null,null,null,null,null,null,null,null,null,null,null,null,null,null,null,null,null,null,null,null,null,"AQ7",169]
[null,null,null,null,null,null,null,null,null,null,null,null,null,null,null,null,null,null,null,null,null,null,null,null,null,"AQ8",170]
[null,null,null,null,null,null,null,null,null,null,null,null,null,null,null,null,null,null,null,null,null,null,null,null,null,"AQ9",171]
[null,null,null,null,null,null,null,null,null,null,null,null,null,null,null,null,null,null,null,null,null,null,null,null,null,"AR0",172]
[null,null,null,null,null,null,null,null,null,null,null,null,null,null,null,null,null,null,null,null,null,null,null,null,null,"AR1",173]
[null,null,null,null,null,null,null,null,null,null,null,null,null,null,null,null,null,null,null,null,null,null,null,null,null,"AR2",174]
[null,null,null,null,null,null,null,null,null,null,null,null,null,null,null,null,null,null,null,null,null,null,null,null,null,"AR3",175]
[null,null,null,null,null,null,null,null,null,null,null,null,null,null,null,null,null,null,null,null,null,null,null,null,null,"AR4",176]
[null,null,null,null,null,null,null,null,null,null,null,null,null,null,null,null,null,null,null,null,null,null,null,null,null,"AR5",177]
[null,null,null,null,null,null,null,null,null,null,null,null,null,null,null,null,null,null,null,null,null,null,null,null,null,"AR6",178]
[null,null,null,null,null,null,null,null,null,null,null,null,null,null,null,null,null,null,null,null,null,null,null,null,null,"AR7",179]
[null,null,null,null,null,null,null,null,null,null,null,null,null,null,null,null,null,null,null,null,null,null,null,null,null,"AR8",180]
[null,null,null,null,null,null,null,null,null,null,null,null,null,null,null,null,null,null,null,null,null,null,null,null,null,"AR9",181]
[null,null,null,null,null,null,null,null,null,null,null,null,null,null,null,null,null,null,null,null,null,null,null,null,null,"AS0",182]
[null,null,null,null,null,null,null,null,null,null,null,null,null,null,null,null,null,null,null,null,null,null,null,null,null,"AS1",183]
[null,null,null,null,null,null,null,null,null,null,null,null,null,null,null,null,null,null,null,null,null,null,null,null,null,"AS2",184]
[null,null,null,null,null,null,null,null,null,null,null,null,null,null,null,null,null,null,null,null,null,null,null,null,null,"AS3",185]
[null,null,null,null,null,null,null,null,null,null,null,null,null,null,null,null,null,null,null,null,null,null,null,null,null,"AS4",186]
[null,null,null,null,null,null,null,null,null,null,null,null,null,null,null,null,null,null,null,null,null,null,null,null,null,"AS5",187]
[null,null,null,null,null,null,null,null,null,null,null,null,null,null,null,null,null,null,null,null,null,null,null,null,null,"AS6",188]
[null,null,null,null,null,null,null,null,null,null,null,null,null,null,null,null,null,null,null,null,null,null,null,null,null,"AS7",189]
[null,null,null,null,null,null,null,null,null,null,null,null,null,null,null,null,null,null,null,null,null,null,null,null,null,"AS8",190]
[null,null,null,null,null,null,null,null,null,null,null,null,null,null,null,null,null,null,null,null,null,null,null,null,null,"AS9",191]
[null,null,null,null,null,null,null,null,null,null,null,null,null,null,null,null,null,null,null,null,null,null,null,null,null,"AT0",192]
[null,null,null,null,null,null,null,null,null,null,null,null,null,null,null,null,null,null,null,null,null,null,null,null,null,"AT1",193]
[null,null,null,null,null,null,null,null,null,null,null,null,null,null,null,null,null,null,null,null,null,null,null,null,null,"AT2",194]
[null,null,null,null,null,null,null,null,null,null,null,null,null,null,null,null,null,null,null,null,null,null,null,null,null,"AT3",195]
[null,null,null,null,null,null,null,null,null,null,null,null,null,null,null,null,null,null,null,null,null,null,null,null,null,"AT4",196]
[null,null,null,null,null,null,null,null,null,null,null,null,null,null,null,null,null,null,null,null,null,null,null,null,null,"AT5",197]
[null,null,null,null,null,null,null,null,null,null,null,null,null,null,null,null,null,null,null,null,null,null,null,null,null,"AT6",198]
[null,null,null,null,null,null,null,null,null,null,null,null,null,null,null,null,null,null,null,null,null,null,null,null,null,"AT7",199]
[null,null,null,null,null,null,null,null,null,null,null,null,null,null,null,null,null,null,null,null,null,null,null,null,null,"AT8",200]
[null,null,null,null,null,null,null,null,null,null,null,null,null,null,null,null,null,null,null,null,null,null,null,null,null,"AT9",201]
[null,null,null,null,null,null,null,null,null,null,null,null,null,null,null,null,null,null,null,null,null,null,null,null,null,"AU0",202]
[null,null,null,null,null,null,null,null,null,null,null,null,null,null,null,null,null,null,null,null,null,null,null,null,null,"AU1",203]
[null,null,null,null,null,null,null,null,null,null,null,null,null,null,null,null,null,null,null,null,null,null,null,null,null,"AU2",204]
[null,null,null,null,null,null,null,null,null,null,null,null,null,null,null,null,null,null,null,null,null,null,null,null,null,"AU3",205]
[null,null,null,null,null,null,null,null,null,null,null,null,null,null,null,null,null,null,null,null,null,null,null,null,null,"AU4",206]
[null,null,null,null,null,null,null,null,null,null,null,null,null,null,null,null,null,null,null,null,null,null,null,null,null,"AU5",207]
[null,null,null,null,null,null,null,null,null,null,null,null,null,null,null,null,null,null,null,null,null,null,null,null,null,"AU6",208]
[null,null,null,null,null,null,null,null,null,null,null,null,null,null,null,null,null,null,null,null,null,null,null,null,null,"AU7",209]
[null,null,null,null,null,null,null,null,null,null,null,null,null,null,null,null,null,null,null,null,null,null,null,null,null,"AU8",210]
[null,null,null,null,null,null,null,null,null,null,null,null,null,null,null,null,null,null,null,null,null,null,null,null,null,"AU9",211]
[null,null,null,null,null,null,null,null,null,null,null,null,null,null,null,null,null,null,null,null,null,null,null,null,null,"AV0",212]
[null,null,null,null,null,null,null,null,null,null,null,null,null,null,null,null,null,null,null,null,null,null,null,null,null,"AV1",213]
[null,null,null,null,null,null,null,null,null,null,null,null,null,null,null,null,null,null,null,null,null,null,null,null,null,"AV2",214]
[null,null,null,null,null,null,null,null,null,null,null,null,null,null,null,null,null,null,null,null,null,null,null,null,null,"AV3",215]
[null,null,null,null,null,null,null,null,null,null,null,null,null,null,null,null,null,null,null,null,null,null,null,null,null,"AV4",216]
[null,null,null,null,null,null,null,null,null,null,null,null,null,null,null,null,null,null,null,null,null,null,null,null,null,"AV5",217]
[null,null,null,null,null,null,null,null,null,null,null,null,null,null,null,null,null,null,null,null,null,null,null,null,null,"AV6",218]
[null,null,null,null,null,null,null,null,null,null,null,null,null,null,null,null,null,null,null,null,null,null,null,null,null,"AV7",219]
[null,null,null,null,null,null,null,null,null,null,null,null,null,null,null,null,null,null,null,null,null,null,null,null,null,"AV8",220]
[null,null,null,null,null,null,null,null,null,null,null,null,null,null,null,null,null,null,null,null,null,null,null,null,null,"AV9",221]
[null,null,null,null,null,null,null,null,null,null,null,null,null,null,null,null,null,null,null,null,null,null,null,null,null,"AW0",222]
[null,null,null,null,null,null,null,null,null,null,null,null,null,null,null,null,null,null,null,null,null,null,null,null,null,"AW1",223]
[null,null,null,null,null,null,null,null,null,null,null,null,null,null,null,null,null,null,null,null,null,null,null,null,null,"AW2",224]
[null,null,null,null,null,null,null,null,null,null,null,null,null,null,null,null,null,null,null,null,null,null,null,null,null,"AW3",225]
[null,null,null,null,null,null,null,null,null,null,null,null,null,null,null,null,null,null,null,null,null,null,null,null,null,"AW4",226]
[null,null,null,null,null,null,null,null,null,null,null,null,null,null,null,null,null,null,null,null,null,null,null,null,null,"AW5",227]
[null,null,null,null,null,null,null,null,null,null,null,null,null,null,null,null,null,null,null,null,null,null,null,null,null,"AW6",228]
[null,null,null,null,null,null,null,null,null,null,null,null,null,null,null,null,null,null,null,null,null,null,null,null,null,"AW7",229]
[null,null,null,null,null,null,null,null,null,null,null,null,null,null,null,null,null,null,null,null,null,null,null,null,null,"AW8",230]
[null,null,null,null,null,null,null,null,null,null,null,null,null,null,null,null,null,null,null,null,null,null,null,null,null,"AW9",231]
[null,null,null,null,null,null,null,null,null,null,null,null,null,null,null,null,null,null,null,null,null,null,null,null,null,"AX0",232]
[null,null,null,null,null,null,null,null,null,null,null,null,null,null,null,null,null,null,null,null,null,null,null,null,null,"AX1",233]
[null,null,null,null,null,null,null,null,null,null,null,null,null,null,null,null,null,null,null,null,null,null,null,null,null,"AX2",234]
[null,null,null,null,null,null,null,null,null,null,null,null,null,null,null,null,null,null,null,null,null,null,null,null,null,"AX3",235]
[null,null,null,null,null,null,null,null,null,null,null,null,null,null,null,null,null,null,null,null,null,null,null,null,null,"AX4",236]
[null,null,null,null,null,null,null,null,null,null,null,null,null,null,null,null,null,null,null,null,null,null,null,null,null,"AX5",237]
[null,null,null,null,null,null,null,null,null,null,null,null,null,null,null,null,null,null,null,null,null,null,null,null,null,"AX6",238]
[null,null,null,null,null,null,null,null,null,null,null,null,null,null,null,null,null,null,null,null,null,null,null,null,null,"AX7",239]
[null,null,null,null,null,null,null,null,null,null,null,null,null,null,null,null,null,null,null,null,null,null,null,null,null,"AX8",240]
[null,null,null,null,null,null,null,null,null,null,null,null,null,null,null,null,null,null,null,null,null,null,null,null,null,"AX9",241]
[null,null,null,null,null,null,null,null,null,null,null,null,null,null,null,null,null,null,null,null,null,null,null,null,null,"AY0",242]
[null,null,null,null,null,null,null,null,null,null,null,null,null,null,null,null,null,null,null,null,null,null,null,null,null,"AY1",243]
[null,null,null,null,null,null,null,null,null,null,null,null,null,null,null,null,null,null,null,null,null,null,null,null,null,"AY2",244]
[null,null,null,null,null,null,null,null,null,null,null,null,null,null,null,null,null,null,null,null,null,null,null,null,null,"AY3",245]
[null,null,null,null,null,null,null,null,null,null,null,null,null,null,null,null,null,null,null,null,null,null,null,null,null,"AY4",246]
[null,null,null,null,null,null,null,null,null,null,null,null,null,null,null,null,null,null,null,null,null,null,null,null,null,"AY5",247]
[null,null,null,null,null,null,null,null,null,null,null,null,null,null,null,null,null,null,null,null,null,null,null,null,null,"AY6",248]
[null,null,null,null,null,null,null,null,null,null,null,null,null,null,null,null,null,null,null,null,null,null,null,null,null,"AY7",249]
[null,null,null,null,null,null,null,null,null,null,null,null,null,null,null,null,null,null,null,null,null,null,null,null,null,"AY8",250]
[null,null,null,null,null,null,null,null,null,null,null,null,null,null,null,null,null,null,null,null,null,null,null,null,null,"AY9",251]
[null,null,null,null,null,null,null,null,null,null,null,null,null,null,null,null,null,null,null,null,null,null,null,null,null,"BA0",252]
[null,null,null,null,null,null,null,null,null,null,null,null,null,null,null,null,null,null,null,null,null,null,null,null,null,"BA1",253]
[null,null,null,null,null,null,null,null,null,null,null,null,null,null,null,null,null,null,null,null,null,null,null,null,null,"BA2",254]
[null,null,null,null,null,null,null,null,null,null,null,null,null,null,null,null,null,null,null,null,null,null,null,null,null,"BA3",255]
[null,null,null,null,null,null,null,null,null,null,null,null,null,null,null,null,null,null,null,null,null,null,null,null,null,"BA4",256]
[null,null,null,null,null,null,null,null,null,null,null,null,null,null,null,null,null,null,null,null,null,null,null,null,null,"BA5",257]
[null,null,null,null,null,null,null,null,null,null,null,null,null,null,null,null,null,null,null,null,null,null,null,null,null,"BA6",258]
[null,null,null,null,null,null,null,null,null,null,null,null,null,null,null,null,null,null,null,null,null,null,null,null,null,"BA7",259]
[null,null,null,null,null,null,null,null,null,null,null,null,null,null,null,null,null,null,null,null,null,null,null,null,null,"BA8",260]
[null,null,null,null,null,null,null,null,null,null,null,null,null,null,null,null,null,null,null,null,null,null,null,null,null,"BA9",261]
[null,null,null,null,null,null,null,null,null,null,null,null,null,null,null,null,null,null,null,null,null,null,null,null,null,"BB0",262]
[null,null,null,null,null,null,null,null,null,null,null,null,null,null,null,null,null,null,null,null,null,null,null,null,null,"BB1",263]
[null,null,null,null,null,null,null,null,null,null,null,null,null,null,null,null,null,null,null,null,null,null,null,null,null,"BB2",264]
[null,null,null,null,null,null,null,null,null,null,null,null,null,null,null,null,null,null,null,null,null,null,null,null,null,"BB3",265]
[null,null,null,null,null,null,null,null,null,null,null,null,null,null,null,null,null,null,null,null,null,null,null,null,null,"BB4",266]
[null,null,null,null,null,null,null,null,null,null,null,null,null,null,null,null,null,null,null,null,null,null,null,null,null,"BB5",267]
[null,null,null,null,null,null,null,null,null,null,null,null,null,null,null,null,null,null,null,null,null,null,null,null,null,"BB6",268]
[null,null,null,null,null,null,null,null,null,null,null,null,null,null,null,null,null,null,null,null,null,null,null,null,null,"BB7",269]
[null,null,null,null,null,null,null,null,null,null,null,null,null,null,null,null,null,null,null,null,null,null,null,null,null,"BB8",270]
[null,null,null,null,null,null,null,null,null,null,null,null,null,null,null,null,null,null,null,null,null,null,null,null,null,"BB9",271]
[null,null,null,null,null,null,null,null,null,null,null,null,null,null,null,null,null,null,null,null,null,null,null,null,null,"BC0",272]
[null,null,null,null,null,null,null,null,null,null,null,null,null,null,null,null,null,null,null,null,null,null,null,null,null,"BC1",273]
[null,null,null,null,null,null,null,null,null,null,null,null,null,null,null,null,null,null,null,null,null,null,null,null,null,"BC2",274]
[null,null,null,null,null,null,null,null,null,null,null,null,null,null,null,null,null,null,null,null,null,null,null,null,null,"BC3",275]
[null,null,null,null,null,null,null,null,null,null,null,null,null,null,null,null,null,null,null,null,null,null,null,null,null,"BC4",276]
[null,null,null,null,null,null,null,null,null,null,null,null,null,null,null,null,null,null,null,null,null,null,null,null,null,"BC5",277]
[null,null,null,null,null,null,null,null,null,null,null,null,null,null,null,null,null,null,null,null,null,null,null,null,null,"BC6",278]
[null,null,null,null,null,null,null,null,null,null,null,null,null,null,null,null,null,null,null,null,null,null,null,null,null,"BC7",279]
[null,null,null,null,null,null,null,null,null,null,null,null,null,null,null,null,null,null,null,null,null,null,null,null,null,"BC8",280]
[null,null,null,null,null,null,null,null,null,null,null,null,null,null,null,null,null,null,null,null,null,null,null,null,null,"BC9",281]
[null,null,null,null,null,null,null,null,null,null,null,null,null,null,null,null,null,null,null,null,null,null,null,null,null,"BD0",282]
[null,null,null,null,null,null,null,null,null,null,null,null,null,null,null,null,null,null,null,null,null,null,null,null,null,"BD1",283]
[null,null,null,null,null,null,null,null,null,null,null,null,null,null,null,null,null,null,null,null,null,null,null,null,null,"BD2",284]
[null,null,null,null,null,null,null,null,null,null,null,null,null,null,null,null,null,null,null,null,null,null,null,null,null,"BD3",285]
[null,null,null,null,null,null,null,null,null,null,null,null,null,null,null,null,null,null,null,null,null,null,null,null,null,"BD4",286]
[null,null,null,null,null,null,null,null,null,null,null,null,null,null,null,null,null,null,null,null,null,null,null,null,null,"BD5",287]
[null,null,null,null,null,null,null,null,null,null,null,null,null,null,null,null,null,null,null,null,null,null,null,null,null,"BD6",288]
[null,null,null,null,null,null,null,null,null,null,null,null,null,null,null,null,null,null,null,null,null,null,null,null,null,"BD7",289]
[null,null,null,null,null,null,null,null,null,null,null,null,null,null,null,null,null,null,null,null,null,null,null,null,null,"BD8",290]
[null,null,null,null,null,null,null,null,null,null,null,null,null,null,null,null,null,null,null,null,null,null,null,null,null,"BD9",291]
[null,null,null,null,null,null,null,null,null,null,null,null,null,null,null,null,null,null,null,null,null,null,null,null,null,"BE0",292]
[null,null,null,null,null,null,null,null,null,null,null,null,null,null,null,null,null,null,null,null,null,null,null,null,null,"BE1",293]
[null,null,null,null,null,null,null,null,null,null,null,null,null,null,null,null,null,null,null,null,null,null,null,null,null,"BE2",294]
[null,null,null,null,null,null,null,null,null,null,null,null,null,null,null,null,null,null,null,null,null,null,null,null,null,"BE3",295]
[null,null,null,null,null,null,null,null,null,null,null,null,null,null,null,null,null,null,null,null,null,null,null,null,null,"BE4",296]
[null,null,null,null,null,null,null,null,null,null,null,null,null,null,null,null,null,null,null,null,null,null,null,null,null,"BE5",297]
[null,null,null,null,null,null,null,null,null,null,null,null,null,null,null,null,null,null,null,null,null,null,null,null,null,"BE6",298]
[null,null,null,null,null,null,null,null,null,null,null,null,null,null,null,null,null,null,null,null,null,null,null,null,null,"BE7",299]
[null,null,null,null,null,null,null,null,null,null,null,null,null,null,null,null,null,null,null,null,null,null,null,null,null,"BE8",300]
[null,null,null,null,null,null,null,null,null,null,null,null,null,null,null,null,null,null,null,null,null,null,null,null,null,"BE9",301]
[null,null,null,null,null,null,null,null,null,null,null,null,null,null,null,null,null,null,null,null,null,null,null,null,null,"BF0",302]
[null,null,null,null,null,null,null,null,null,null,null,null,null,null,null,null,null,null,null,null,null,null,null,null,null,"BF1",303]
[null,null,null,null,null,null,null,null,null,null,null,null,null,null,null,null,null,null,null,null,null,null,null,null,null,"BF2",304]
[null,null,null,null,null,null,null,null,null,null,null,null,null,null,null,null,null,null,null,null,null,null,null,null,null,"BF3",305]
[null,null,null,null,null,null,null,null,null,null,null,null,null,null,null,null,null,null,null,null,null,null,null,null,null,"BF4",306]
[null,null,null,null,null,null,null,null,null,null,null,null,null,null,null,null,null,null,null,null,null,null,null,null,null,"BF5",307]
[null,null,null,null,null,null,null,null,null,null,null,null,null,null,null,null,null,null,null,null,null,null,null,null,null,"BF6",308]
[null,null,null,null,null,null,null,null,null,null,null,null,null,null,null,null,null,null,null,null,null,null,null,null,null,"BF7",309]
[null,null,null,null,null,null,null,null,null,null,null,null,null,null,null,null,null,null,null,null,null,null,null,null,null,"BF8",310]
[null,null,null,null,null,null,null,null,null,null,null,null,null,null,null,null,null,null,null,null,null,null,null,null,null,"BF9",311]
[null,null,null,null,null,null,null,null,null,null,null,null,null,null,null,null,null,null,null,null,null,null,null,null,null,"BG0",312]
[null,null,null,null,null,null,null,null,null,null,null,null,null,null,null,null,null,null,null,null,null,null,null,null,null,"BG1",313]
[null,null,null,null,null,null,null,null,null,null,null,null,null,null,null,null,null,null,null,null,null,null,null,null,null,"BG2",314]
[null,null,null,null,null,null,null,null,null,null,null,null,null,null,null,null,null,null,null,null,null,null,null,null,null,"BG3",315]
[null,null,null,null,null,null,null,null,null,null,null,null,null,null,null,null,null,null,null,null,null,null,null,null,null,"BG4",316]
[null,null,null,null,null,null,null,null,null,null,null,null,null,null,null,null,null,null,null,null,null,null,null,null,null,"BG5",317]
[null,null,null,null,null,null,null,null,null,null,null,null,null,null,null,null,null,null,null,null,null,null,null,null,null,"BG6",318]
[null,null,null,null,null,null,null,null,null,null,null,null,null,null,null,null,null,null,null,null,null,null,null,null,null,"BG7",319]
[null,null,null,null,null,null,null,null,null,null,null,null,null,null,null,null,null,null,null,null,null,null,null,null,null,"BG8",320]
[null,null,null,null,null,null,null,null,null,null,null,null,null,null,null,null,null,null,null,null,null,null,null,null,null,"BG9",321]
[null,null,null,null,null,null,null,null,null,null,null,null,null,null,null,null,null,null,null,null,null,null,null,null,null,"BH0",322]
[null,null,null,null,null,null,null,null,null,null,null,null,null,null,null,null,null,null,null,null,null,null,null,null,null,"BH1",323]
[null,null,null,null,null,null,null,null,null,null,null,null,null,null,null,null,null,null,null,null,null,null,null,null,null,"BH2",324]
[null,null,null,null,null,null,null,null,null,null,null,null,null,null,null,null,null,null,null,null,null,null,null,null,null,"BH3",325]
[null,null,null,null,null,null,null,null,null,null,null,null,null,null,null,null,null,null,null,null,null,null,null,null,null,"BH4",326]
[null,null,null,null,null,null,null,null,null,null,null,null,null,null,null,null,null,null,null,null,null,null,null,null,null,"BH5",327]
[null,null,null,null,null,null,null,null,null,null,null,null,null,null,null,null,null,null,null,null,null,null,null,null,null,"BH6",328]
[null,null,null,null,null,null,null,null,null,null,null,null,null,null,null,null,null,null,null,null,null,null,null,null,null,"BH7",329]
[null,null,null,null,null,null,null,null,null,null,null,null,null,null,null,null,null,null,null,null,null,null,null,null,null,"BH8",330]
[null,null,null,null,null,null,null,null,null,null,null,null,null,null,null,null,null,null,null,null,null,null,null,null,null,"BH9",331]
[null,null,null,null,null,null,null,null,null,null,null,null,null,null,null,null,null,null,null,null,null,null,null,null,null,"BI0",332]
[null,null,null,null,null,null,null,null,null,null,null,null,null,null,null,null,null,null,null,null,null,null,null,null,null,"BI1",333]
[null,null,null,null,null,null,null,null,null,null,null,null,null,null,null,null,null,null,null,null,null,null,null,null,null,"BI2",334]
[null,null,null,null,null,null,null,null,null,null,null,null,null,null,null,null,null,null,null,null,null,null,null,null,null,"BI3",335]
[null,null,null,null,null,null,null,null,null,null,null,null,null,null,null,null,null,null,null,null,null,null,null,null,null,"BI4",336]
[null,null,null,null,null,null,null,null,null,null,null,null,null,null,null,null,null,null,null,null,null,null,null,null,null,"BI5",337]
[null,null,null,null,null,null,null,null,null,null,null,null,null,null,null,null,null,null,null,null,null,null,null,null,null,"BI6",338]
[null,null,null,null,null,null,null,null,null,null,null,null,null,null,null,null,null,null,null,null,null,null,null,null,null,"BI7",339]
[null,null,null,null,null,null,null,null,null,null,null,null,null,null,null,null,null,null,null,null,null,null,null,null,null,"BI8",340]
[null,null,null,null,null,null,null,null,null,null,null,null,null,null,null,null,null,null,null,null,null,null,null,null,null,"BI9",341]
[null,null,null,null,null,null,null,null,null,null,null,null,null,null,null,null,null,null,null,null,null,null,null,null,null,"BJ0",342]
[null,null,null,null,null,null,null,null,null,null,null,null,null,null,null,null,null,null,null,null,null,null,null,null,null,"BJ1",343]
[null,null,null,null,null,null,null,null,null,null,null,null,null,null,null,null,null,null,null,null,null,null,null,null,null,"BJ2",344]
[null,null,null,null,null,null,null,null,null,null,null,null,null,null,null,null,null,null,null,null,null,null,null,null,null,"BJ3",345]
[null,null,null,null,null,null,null,null,null,null,null,null,null,null,null,null,null,null,null,null,null,null,null,null,null,"BJ4",346]
[null,null,null,null,null,null,null,null,null,null,null,null,null,null,null,null,null,null,null,null,null,null,null,null,null,"BJ5",347]
[null,null,null,null,null,null,null,null,null,null,null,null,null,null,null,null,null,null,null,null,null,null,null,null,null,"BJ6",348]
[null,null,null,null,null,null,null,null,null,null,null,null,null,null,null,null,null,null,null,null,null,null,null,null,null,"BJ7",349]
[null,null,null,null,null,null,null,null,null,null,null,null,null,null,null,null,null,null,null,null,null,null,null,null,null,"BJ8",350]
[null,null,null,null,null,null,null,null,null,null,null,null,null,null,null,null,null,null,null,null,null,null,null,null,null,"BJ9",351]
[null,null,null,null,null,null,null,null,null,null,null,null,null,null,null,null,null,null,null,null,null,null,null,null,null,"BK0",352]
[null,null,null,null,null,null,null,null,null,null,null,null,null,null,null,null,null,null,null,null,null,null,null,null,null,"BK1",353]
[null,null,null,null,null,null,null,null,null,null,null,null,null,null,null,null,null,null,null,null,null,null,null,null,null,"BK2",354]
[null,null,null,null,null,null,null,null,null,null,null,null,null,null,null,null,null,null,null,null,null,null,null,null,null,"BK3",355]
[null,null,null,null,null,null,null,null,null,null,null,null,null,null,null,null,null,null,null,null,null,null,null,null,null,"BK4",356]
[null,null,null,null,null,null,null,null,null,null,null,null,null,null,null,null,null,null,null,null,null,null,null,null,null,"BK5",357]
[null,null,null,null,null,null,null,null,null,null,null,null,null,null,null,null,null,null,null,null,null,null,null,null,null,"BK6",358]
[null,null,null,null,null,null,null,null,null,null,null,null,null,null,null,null,null,null,null,null,null,null,null,null,null,"BK7",359]
[null,null,null,null,null,null,null,null,null,null,null,null,null,null,null,null,null,null,null,null,null,null,null,null,null,"BK8",360]
[null,null,null,null,null,null,null,null,null,null,null,null,null,null,null,null,null,null,null,null,null,null,null,null,null,"BK9",361]
[null,null,null,null,null,null,null,null,null,null,null,null,null,null,null,null,null,null,null,null,null,null,null,null,null,"BL0",362]
[null,null,null,null,null,null,null,null,null,null,null,null,null,null,null,null,null,null,null,null,null,null,null,null,null,"BL1",363]
[null,null,null,null,null,null,null,null,null,null,null,null,null,null,null,null,null,null,null,null,null,null,null,null,null,"BL2",364]
[null,null,null,null,null,null,null,null,null,null,null,null,null,null,null,null,null,null,null,null,null,null,null,null,null,"BL3",365]
[null,null,null,null,null,null,null,null,null,null,null,null,null,null,null,null,null,null,null,null,null,null,null,null,null,"BL4",366]
[null,null,null,null,null,null,null,null,null,null,null,null,null,null,null,null,null,null,null,null,null,null,null,null,null,"BL5",367]
[null,null,null,null,null,null,null,null,null,null,null,null,null,null,null,null,null,null,null,null,null,null,null,null,null,"BL6",368]
[null,null,null,null,null,null,null,null,null,null,null,null,null,null,null,null,null,null,null,null,null,null,null,null,null,"BL7",369]
[null,null,null,null,null,null,null,null,null,null,null,null,null,null,null,null,null,null,null,null,null,null,null,null,null,"BL8",370]
[null,null,null,null,null,null,null,null,null,null,null,null,null,null,null,null,null,null,null,null,null,null,null,null,null,"BL9",371]
[null,null,null,null,null,null,null,null,null,null,null,null,null,null,null,null,null,null,null,null,null,null,null,null,null,"BM0",372]
[null,null,null,null,null,null,null,null,null,null,null,null,null,null,null,null,null,null,null,null,null,null,null,null,null,"BM1",373]
[null,null,null,null,null,null,null,null,null,null,null,null,null,null,null,null,null,null,null,null,null,null,null,null,null,"BM2",374]
[null,null,null,null,null,null,null,null,null,null,null,null,null,null,null,null,null,null,null,null,null,null,null,null,null,"BM3",375]
[null,null,null,null,null,null,null,null,null,null,null,null,null,null,null,null,null,null,null,null,null,null,null,null,null,"BM4",376]
[null,null,null,null,null,null,null,null,null,null,null,null,null,null,null,null,null,null,null,null,null,null,null,null,null,"BM5",377]
[null,null,null,null,null,null,null,null,null,null,null,null,null,null,null,null,null,null,null,null,null,null,null,null,null,"BM6",378]
[null,null,null,null,null,null,null,null,null,null,null,null,null,null,null,null,null,null,null,null,null,null,null,null,null,"BM7",379]
[null,null,null,null,null,null,null,null,null,null,null,null,null,null,null,null,null,null,null,null,null,null,null,null,null,"BM8",380]
[null,null,null,null,null,null,null,null,null,null,null,null,null,null,null,null,null,null,null,null,null,null,null,null,null,"BM9",381]
[null,null,null,null,null,null,null,null,null,null,null,null,null,null,null,null,null,null,null,null,null,null,null,null,null,"BN0",382]
[null,null,null,null,null,null,null,null,null,null,null,null,null,null,null,null,null,null,null,null,null,null,null,null,null,"BN1",383]
[null,null,null,null,null,null,null,null,null,null,null,null,null,null,null,null,null,null,null,null,null,null,null,null,null,"BN2",384]
[null,null,null,null,null,null,null,null,null,null,null,null,null,null,null,null,null,null,null,null,null,null,null,null,null,"BN3",385]
[null,null,null,null,null,null,null,null,null,null,null,null,null,null,null,null,null,null,null,null,null,null,null,null,null,"BN4",386]
[null,null,null,null,null,null,null,null,null,null,null,null,null,null,null,null,null,null,null,null,null,null,null,null,null,"BN5",387]
[null,null,null,null,null,null,null,null,null,null,null,null,null,null,null,null,null,null,null,null,null,null,null,null,null,"BN6",388]
[null,null,null,null,null,null,null,null,null,null,null,null,null,null,null,null,null,null,null,null,null,null,null,null,null,"BN7",389]
[null,null,null,null,null,null,null,null,null,null,null,null,null,null,null,null,null,null,null,null,null,null,null,null,null,"BN8",390]
[null,null,null,null,null,null,null,null,null,null,null,null,null,null,null,null,null,null,null,null,null,null,null,null,null,"BN9",391]
[null,null,null,null,null,null,null,null,null,null,null,null,null,null,null,null,null,null,null,null,null,null,null,null,null,"BO0",392]
[null,null,null,null,null,null,null,null,null,null,null,null,null,null,null,null,null,null,null,null,null,null,null,null,null,"BO1",393]
[null,null,null,null,null,null,null,null,null,null,null,null,null,null,null,null,null,null,null,null,null,null,null,null,null,"BO2",394]
[null,null,null,null,null,null,null,null,null,null,null,null,null,null,null,null,null,null,null,null,null,null,null,null,null,"BO3",395]
[null,null,null,null,null,null,null,null,null,null,null,null,null,null,null,null,null,null,null,null,null,null,null,null,null,"BO4",396]
[null,null,null,null,null,null,null,null,null,null,null,null,null,null,null,null,null,null,null,null,null,null,null,null,null,"BO5",397]
[null,null,null,null,null,null,null,null,null,null,null,null,null,null,null,null,null,null,null,null,null,null,null,null,null,"BO6",398]
[null,null,null,null,null,null,null,null,null,null,null,null,null,null,null,null,null,null,null,null,null,null,null,null,null,"BO7",399]
[null,null,null,null,null,null,null,null,null,null,null,null,null,null,null,null,null,null,null,null,null,null,null,null,null,"BO8",400]
[null,null,null,null,null,null,null,null,null,null,null,null,null,null,null,null,null,null,null,null,null,null,null,null,null,"BO9",401]
[null,null,null,null,null,null,null,null,null,null,null,null,null,null,null,null,null,null,null,null,null,null,null,null,null,"BP0",402]
[null,null,null,null,null,null,null,null,null,null,null,null,null,null,null,null,null,null,null,null,null,null,null,null,null,"BP1",403]
[null,null,null,null,null,null,null,null,null,null,null,null,null,null,null,null,null,null,null,null,null,null,null,null,null,"BP2",404]
[null,null,null,null,null,null,null,null,null,null,null,null,null,null,null,null,null,null,null,null,null,null,null,null,null,"BP3",405]
[null,null,null,null,null,null,null,null,null,null,null,null,null,null,null,null,null,null,null,null,null,null,null,null,null,"BP4",406]
[null,null,null,null,null,null,null,null,null,null,null,null,null,null,null,null,null,null,null,null,null,null,null,null,null,"BP5",407]
[null,null,null,null,null,null,null,null,null,null,null,null,null,null,null,null,null,null,null,null,null,null,null,null,null,"BP6",408]
[null,null,null,null,null,null,null,null,null,null,null,null,null,null,null,null,null,null,null,null,null,null,null,null,null,"BP7",409]
[null,null,null,null,null,null,null,null,null,null,null,null,null,null,null,null,null,null,null,null,null,null,null,null,null,"BP8",410]
[null,null,null,null,null,null,null,null,null,null,null,null,null,null,null,null,null,null,null,null,null,null,null,null,null,"BP9",411]
[null,null,null,null,null,null,null,null,null,null,null,null,null,null,null,null,null,null,null,null,null,null,null,null,null,"BQ0",412]
[null,null,null,null,null,null,null,null,null,null,null,null,null,null,null,null,null,null,null,null,null,null,null,null,null,"BQ1",413]
[null,null,null,null,null,null,null,null,null,null,null,null,null,null,null,null,null,null,null,null,null,null,null,null,null,"BQ2",414]
[null,null,null,null,null,null,null,null,null,null,null,null,null,null,null,null,null,null,null,null,null,null,null,null,null,"BQ3",415]
[null,null,null,null,null,null,null,null,null,null,null,null,null,null,null,null,null,null,null,null,null,null,null,null,null,"BQ4",416]
[null,null,null,null,null,null,null,null,null,null,null,null,null,null,null,null,null,null,null,null,null,null,null,null,null,"BQ5",417]
[null,null,null,null,null,null,null,null,null,null,null,null,null,null,null,null,null,null,null,null,null,null,null,null,null,"BQ6",418]
[null,null,null,null,null,null,null,null,null,null,null,null,null,null,null,null,null,null,null,null,null,null,null,null,null,"BQ7",419]
[null,null,null,null,null,null,null,null,null,null,null,null,null,null,null,null,null,null,null,null,null,null,null,null,null,"BQ8",420]
[null,null,null,null,null,null,null,null,null,null,null,null,null,null,null,null,null,null,null,null,null,null,null,null,null,"BQ9",421]
[null,null,null,null,null,null,null,null,null,null,null,null,null,null,null,null,null,null,null,null,null,null,null,null,null,"BR0",422]
[null,null,null,null,null,null,null,null,null,null,null,null,null,null,null,null,null,null,null,null,null,null,null,null,null,"BR1",423]
[null,null,null,null,null,null,null,null,null,null,null,null,null,null,null,null,null,null,null,null,null,null,null,null,null,"BR2",424]
[null,null,null,null,null,null,null,null,null,null,null,null,null,null,null,null,null,null,null,null,null,null,null,null,null,"BR3",425]
[null,null,null,null,null,null,null,null,null,null,null,null,null,null,null,null,null,null,null,null,null,null,null,null,null,"BR4",426]
[null,null,null,null,null,null,null,null,null,null,null,null,null,null,null,null,null,null,null,null,null,null,null,null,null,"BR5",427]
[null,null,null,null,null,null,null,null,null,null,null,null,null,null,null,null,null,null,null,null,null,null,null,null,null,"BR6",428]
[null,null,null,null,null,null,null,null,null,null,null,null,null,null,null,null,null,null,null,null,null,null,null,null,null,"BR7",429]
[null,null,null,null,null,null,null,null,null,null,null,null,null,null,null,null,null,null,null,null,null,null,null,null,null,"BR8",430]
[null,null,null,null,null,null,null,null,null,null,null,null,null,null,null,null,null,null,null,null,null,null,null,null,null,"BR9",431]
[null,null,null,null,null,null,null,null,null,null,null,null,null,null,null,null,null,null,null,null,null,null,null,null,null,"BS0",432]
[null,null,null,null,null,null,null,null,null,null,null,null,null,null,null,null,null,null,null,null,null,null,null,null,null,"BS1",433]
[null,null,null,null,null,null,null,null,null,null,null,null,null,null,null,null,null,null,null,null,null,null,null,null,null,"BS2",434]
[null,null,null,null,null,null,null,null,null,null,null,null,null,null,null,null,null,null,null,null,null,null,null,null,null,"BS3",435]
[null,null,null,null,null,null,null,null,null,null,null,null,null,null,null,null,null,null,null,null,null,null,null,null,null,"BS4",436]
[null,null,null,null,null,null,null,null,null,null,null,null,null,null,null,null,null,null,null,null,null,null,null,null,null,"BS5",437]
[null,null,null,null,null,null,null,null,null,null,null,null,null,null,null,null,null,null,null,null,null,null,null,null,null,"BS6",438]
[null,null,null,null,null,null,null,null,null,null,null,null,null,null,null,null,null,null,null,null,null,null,null,null,null,"BS7",439]
[null,null,null,null,null,null,null,null,null,null,null,null,null,null,null,null,null,null,null,null,null,null,null,null,null,"BS8",440]
[null,null,null,null,null,null,null,null,null,null,null,null,null,null,null,null,null,null,null,null,null,null,null,null,null,"BS9",441]
[null,null,null,null,null,null,null,null,null,null,null,null,null,null,null,null,null,null,null,null,null,null,null,null,null,"BT0",442]
[null,null,null,null,null,null,null,null,null,null,null,null,null,null,null,null,null,null,null,null,null,null,null,null,null,"BT1",443]
[null,null,null,null,null,null,null,null,null,null,null,null,null,null,null,null,null,null,null,null,null,null,null,null,null,"BT2",444]
[null,null,null,null,null,null,null,null,null,null,null,null,null,null,null,null,null,null,null,null,null,null,null,null,null,"BT3",445]
[null,null,null,null,null,null,null,null,null,null,null,null,null,null,null,null,null,null,null,null,null,null,null,null,null,"BT4",446]
[null,null,null,null,null,null,null,null,null,null,null,null,null,null,null,null,null,null,null,null,null,null,null,null,null,"BT5",447]
[null,null,null,null,null,null,null,null,null,null,null,null,null,null,null,null,null,null,null,null,null,null,null,null,null,"BT6",448]
[null,null,null,null,null,null,null,null,null,null,null,null,null,null,null,null,null,null,null,null,null,null,null,null,null,"BT7",449]
[null,null,null,null,null,null,null,null,null,null,null,null,null,null,null,null,null,null,null,null,null,null,null,null,null,"BT8",450]
[null,null,null,null,null,null,null,null,null,null,null,null,null,null,null,null,null,null,null,null,null,null,null,null,null,"BT9",451]
[null,null,null,null,null,null,null,null,null,null,null,null,null,null,null,null,null,null,null,null,null,null,null,null,null,"BU0",452]
[null,null,null,null,null,null,null,null,null,null,null,null,null,null,null,null,null,null,null,null,null,null,null,null,null,"BU1",453]
[null,null,null,null,null,null,null,null,null,null,null,null,null,null,null,null,null,null,null,null,null,null,null,null,null,"BU2",454]
[null,null,null,null,null,null,null,null,null,null,null,null,null,null,null,null,null,null,null,null,null,null,null,null,null,"BU3",455]
[null,null,null,null,null,null,null,null,null,null,null,null,null,null,null,null,null,null,null,null,null,null,null,null,null,"BU4",456]
[null,null,null,null,null,null,null,null,null,null,null,null,null,null,null,null,null,null,null,null,null,null,null,null,null,"BU5",457]
[null,null,null,null,null,null,null,null,null,null,null,null,null,null,null,null,null,null,null,null,null,null,null,null,null,"BU6",458]
[null,null,null,null,null,null,null,null,null,null,null,null,null,null,null,null,null,null,null,null,null,null,null,null,null,"BU7",459]
[null,null,null,null,null,null,null,null,null,null,null,null,null,null,null,null,null,null,null,null,null,null,null,null,null,"BU8",460]
[null,null,null,null,null,null,null,null,null,null,null,null,null,null,null,null,null,null,null,null,null,null,null,null,null,"BU9",461]
[null,null,null,null,null,null,null,null,null,null,null,null,null,null,null,null,null,null,null,null,null,null,null,null,null,"BV0",462]
[null,null,null,null,null,null,null,null,null,null,null,null,null,null,null,null,null,null,null,null,null,null,null,null,null,"BV1",463]
[null,null,null,null,null,null,null,null,null,null,null,null,null,null,null,null,null,null,null,null,null,null,null,null,null,"BV2",464]
[null,null,null,null,null,null,null,null,null,null,null,null,null,null,null,null,null,null,null,null,null,null,null,null,null,"BV3",465]
[null,null,null,null,null,null,null,null,null,null,null,null,null,null,null,null,null,null,null,null,null,null,null,null,null,"BV4",466]
[null,null,null,null,null,null,null,null,null,null,null,null,null,null,null,null,null,null,null,null,null,null,null,null,null,"BV5",467]
[null,null,null,null,null,null,null,null,null,null,null,null,null,null,null,null,null,null,null,null,null,null,null,null,null,"BV6",468]
[null,null,null,null,null,null,null,null,null,null,null,null,null,null,null,null,null,null,null,null,null,null,null,null,null,"BV7",469]
[null,null,null,null,null,null,null,null,null,null,null,null,null,null,null,null,null,null,null,null,null,null,null,null,null,"BV8",470]
[null,null,null,null,null,null,null,null,null,null,null,null,null,null,null,null,null,null,null,null,null,null,null,null,null,"BV9",471]
[null,null,null,null,null,null,null,null,null,null,null,null,null,null,null,null,null,null,null,null,null,null,null,null,null,"BW0",472]
[null,null,null,null,null,null,null,null,null,null,null,null,null,null,null,null,null,null,null,null,null,null,null,null,null,"BW1",473]
[null,null,null,null,null,null,null,null,null,null,null,null,null,null,null,null,null,null,null,null,null,null,null,null,null,"BW2",474]
[null,null,null,null,null,null,null,null,null,null,null,null,null,null,null,null,null,null,null,null,null,null,null,null,null,"BW3",475]
[null,null,null,null,null,null,null,null,null,null,null,null,null,null,null,null,null,null,null,null,null,null,null,null,null,"BW4",476]
[null,null,null,null,null,null,null,null,null,null,null,null,null,null,null,null,null,null,null,null,null,null,null,null,null,"BW5",477]
[null,null,null,null,null,null,null,null,null,null,null,null,null,null,null,null,null,null,null,null,null,null,null,null,null,"BW6",478]
[null,null,null,null,null,null,null,null,null,null,null,null,null,null,null,null,null,null,null,null,null,null,null,null,null,"BW7",479]
[null,null,null,null,null,null,null,null,null,null,null,null,null,null,null,null,null,null,null,null,null,null,null,null,null,"BW8",480]
[null,null,null,null,null,null,null,null,null,null,null,null,null,null,null,null,null,null,null,null,null,null,null,null,null,"BW9",481]
[null,null,null,null,null,null,null,null,null,null,null,null,null,null,null,null,null,null,null,null,null,null,null,null,null,"BX0",482]
[null,null,null,null,null,null,null,null,null,null,null,null,null,null,null,null,null,null,null,null,null,null,null,null,null,"BX1",483]
[null,null,null,null,null,null,null,null,null,null,null,null,null,null,null,null,null,null,null,null,null,null,null,null,null,"BX2",484]
[null,null,null,null,null,null,null,null,null,null,null,null,null,null,null,null,null,null,null,null,null,null,null,null,null,"BX3",485]
[null,null,null,null,null,null,null,null,null,null,null,null,null,null,null,null,null,null,null,null,null,null,null,null,null,"BX4",486]
[null,null,null,null,null,null,null,null,null,null,null,null,null,null,null,null,null,null,null,null,null,null,null,null,null,"BX5",487]
[null,null,null,null,null,null,null,null,null,null,null,null,null,null,null,null,null,null,null,null,null,null,null,null,null,"BX6",488]
[null,null,null,null,null,null,null,null,null,null,null,null,null,null,null,null,null,null,null,null,null,null,null,null,null,"BX7",489]
[null,null,null,null,null,null,null,null,null,null,null,null,null,null,null,null,null,null,null,null,null,null,null,null,null,"BX8",490]
[null,null,null,null,null,null,null,null,null,null,null,null,null,null,null,null,null,null,null,null,null,null,null,null,null,"BX9",491]
[null,null,null,null,null,null,null,null,null,null,null,null,null,null,null,null,null,null,null,null,null,null,null,null,null,"BY0",492]
[null,null,null,null,null,null,null,null,null,null,null,null,null,null,null,null,null,null,null,null,null,null,null,null,null,"BY1",493]
[null,null,null,null,null,null,null,null,null,null,null,null,null,null,null,null,null,null,null,null,null,null,null,null,null,"BY2",494]
[null,null,null,null,null,null,null,null,null,null,null,null,null,null,null,null,null,null,null,null,null,null,null,null,null,"BY3",495]
[null,null,null,null,null,null,null,null,null,null,null,null,null,null,null,null,null,null,null,null,null,null,null,null,null,"BY4",496]
[null,null,null,null,null,null,null,null,null,null,null,null,null,null,null,null,null,null,null,null,null,null,null,null,null,"BY5",497]
[null,null,null,null,null,null,null,null,null,null,null,null,null,null,null,null,null,null,null,null,null,null,null,null,null,"BY6",498]
[null,null,null,null,null,null,null,null,null,null,null,null,null,null,null,null,null,null,null,null,null,null,null,null,null,"BY7",499]
[null,null,null,null,null,null,null,null,null,null,null,null,null,null,null,null,null,null,null,null,null,null,null,null,null,"BY8",500]
[null,null,null,null,null,null,null,null,null,null,null,null,null,null,null,null,null,null,null,null,null,null,null,null,null,"BY9",501]
[null,null,null,null,null,null,null,null,null,null,null,null,null,null,null,null,null,null,null,null,null,null,null,null,null,"CA0",502]
[null,null,null,null,null,null,null,null,null,null,null,null,null,null,null,null,null,null,null,null,null,null,null,null,null,"CA1",503]
[null,null,null,null,null,null,null,null,null,null,null,null,null,null,null,null,null,null,null,null,null,null,null,null,null,"CA2",504]
[null,null,null,null,null,null,null,null,null,null,null,null,null,null,null,null,null,null,null,null,null,null,null,null,null,"CA3",505]
[null,null,null,null,null,null,null,null,null,null,null,null,null,null,null,null,null,null,null,null,null,null,null,null,null,"CA4",506]
[null,null,null,null,null,null,null,null,null,null,null,null,null,null,null,null,null,null,null,null,null,null,null,null,null,"CA5",507]
[null,null,null,null,null,null,null,null,null,null,null,null,null,null,null,null,null,null,null,null,null,null,null,null,null,"CA6",508]
[null,null,null,null,null,null,null,null,null,null,null,null,null,null,null,null,null,null,null,null,null,null,null,null,null,"CA7",509]
[null,null,null,null,null,null,null,null,null,null,null,null,null,null,null,null,null,null,null,null,null,null,null,null,null,"CA8",510]
[null,null,null,null,null,null,null,null,null,null,null,null,null,null,null,null,null,null,null,null,null,null,null,null,null,"CA9",511]
[null,null,null,null,null,null,null,null,null,null,null,null,null,null,null,null,null,null,null,null,null,null,null,null,null,"CB0",512]
[null,null,null,null,null,null,null,null,null,null,null,null,null,null,null,null,null,null,null,null,null,null,null,null,null,"CB1",513]
[null,null,null,null,null,null,null,null,null,null,null,null,null,null,null,null,null,null,null,null,null,null,null,null,null,"CB2",514]
[null,null,null,null,null,null,null,null,null,null,null,null,null,null,null,null,null,null,null,null,null,null,null,null,null,"CB3",515]
[null,null,null,null,null,null,null,null,null,null,null,null,null,null,null,null,null,null,null,null,null,null,null,null,null,"CB4",516]
[null,null,null,null,null,null,null,null,null,null,null,null,null,null,null,null,null,null,null,null,null,null,null,null,null,"CB5",517]
[null,null,null,null,null,null,null,null,null,null,null,null,null,null,null,null,null,null,null,null,null,null,null,null,null,"CB6",518]
[null,null,null,null,null,null,null,null,null,null,null,null,null,null,null,null,null,null,null,null,null,null,null,null,null,"CB7",519]
[null,null,null,null,null,null,null,null,null,null,null,null,null,null,null,null,null,null,null,null,null,null,null,null,null,"CB8",520]
[null,null,null,null,null,null,null,null,null,null,null,null,null,null,null,null,null,null,null,null,null,null,null,null,null,"CB9",521]
[null,null,null,null,null,null,null,null,null,null,null,null,null,null,null,null,null,null,null,null,null,null,null,null,null,"CC0",522]
[null,null,null,null,null,null,null,null,null,null,null,null,null,null,null,null,null,null,null,null,null,null,null,null,null,"CC1",523]
[null,null,null,null,null,null,null,null,null,null,null,null,null,null,null,null,null,null,null,null,null,null,null,null,null,"CC2",524]
[null,null,null,null,null,null,null,null,null,null,null,null,null,null,null,null,null,null,null,null,null,null,null,null,null,"CC3",525]
[null,null,null,null,null,null,null,null,null,null,null,null,null,null,null,null,null,null,null,null,null,null,null,null,null,"CC4",526]
[null,null,null,null,null,null,null,null,null,null,null,null,null,null,null,null,null,null,null,null,null,null,null,null,null,"CC5",527]
[null,null,null,null,null,null,null,null,null,null,null,null,null,null,null,null,null,null,null,null,null,null,null,null,null,"CC6",528]
[null,null,null,null,null,null,null,null,null,null,null,null,null,null,null,null,null,null,null,null,null,null,null,null,null,"CC7",529]
[null,null,null,null,null,null,null,null,null,null,null,null,null,null,null,null,null,null,null,null,null,null,null,null,null,"CC8",530]
[null,null,null,null,null,null,null,null,null,null,null,null,null,null,null,null,null,null,null,null,null,null,null,null,null,"CC9",531]
[null,null,null,null,null,null,null,null,null,null,null,null,null,null,null,null,null,null,null,null,null,null,null,null,null,"CD0",532]
[null,null,null,null,null,null,null,null,null,null,null,null,null,null,null,null,null,null,null,null,null,null,null,null,null,"CD1",533]
[null,null,null,null,null,null,null,null,null,null,null,null,null,null,null,null,null,null,null,null,null,null,null,null,null,"CD2",534]
[null,null,null,null,null,null,null,null,null,null,null,null,null,null,null,null,null,null,null,null,null,null,null,null,null,"CD3",535]
[null,null,null,null,null,null,null,null,null,null,null,null,null,null,null,null,null,null,null,null,null,null,null,null,null,"CD4",536]
[null,null,null,null,null,null,null,null,null,null,null,null,null,null,null,null,null,null,null,null,null,null,null,null,null,"CD5",537]
[null,null,null,null,null,null,null,null,null,null,null,null,null,null,null,null,null,null,null,null,null,null,null,null,null,"CD6",538]
[null,null,null,null,null,null,null,null,null,null,null,null,null,null,null,null,null,null,null,null,null,null,null,null,null,"CD7",539]
[null,null,null,null,null,null,null,null,null,null,null,null,null,null,null,null,null,null,null,null,null,null,null,null,null,"CD8",540]
[null,null,null,null,null,null,null,null,null,null,null,null,null,null,null,null,null,null,null,null,null,null,null,null,null,"CD9",541]
[null,null,null,null,null,null,null,null,null,null,null,null,null,null,null,null,null,null,null,null,null,null,null,null,null,"CE0",542]
[null,null,null,null,null,null,null,null,null,null,null,null,null,null,null,null,null,null,null,null,null,null,null,null,null,"CE1",543]
[null,null,null,null,null,null,null,null,null,null,null,null,null,null,null,null,null,null,null,null,null,null,null,null,null,"CE2",544]
[null,null,null,null,null,null,null,null,null,null,null,null,null,null,null,null,null,null,null,null,null,null,null,null,null,"CE3",545]
[null,null,null,null,null,null,null,null,null,null,null,null,null,null,null,null,null,null,null,null,null,null,null,null,null,"CE4",546]
[null,null,null,null,null,null,null,null,null,null,null,null,null,null,null,null,null,null,null,null,null,null,null,null,null,"CE5",547]
[null,null,null,null,null,null,null,null,null,null,null,null,null,null,null,null,null,null,null,null,null,null,null,null,null,"CE6",548]
[null,null,null,null,null,null,null,null,null,null,null,null,null,null,null,null,null,null,null,null,null,null,null,null,null,"CE7",549]
[null,null,null,null,null,null,null,null,null,null,null,null,null,null,null,null,null,null,null,null,null,null,null,null,null,"CE8",550]
[null,null,null,null,null,null,null,null,null,null,null,null,null,null,null,null,null,null,null,null,null,null,null,null,null,"CE9",551]
[null,null,null,null,null,null,null,null,null,null,null,null,null,null,null,null,null,null,null,null,null,null,null,null,null,"CF0",552]
[null,null,null,null,null,null,null,null,null,null,null,null,null,null,null,null,null,null,null,null,null,null,null,null,null,"CF1",553]
[null,null,null,null,null,null,null,null,null,null,null,null,null,null,null,null,null,null,null,null,null,null,null,null,null,"CF2",554]
[null,null,null,null,null,null,null,null,null,null,null,null,null,null,null,null,null,null,null,null,null,null,null,null,null,"CF3",555]
[null,null,null,null,null,null,null,null,null,null,null,null,null,null,null,null,null,null,null,null,null,null,null,null,null,"CF4",556]
[null,null,null,null,null,null,null,null,null,null,null,null,null,null,null,null,null,null,null,null,null,null,null,null,null,"CF5",557]
[null,null,null,null,null,null,null,null,null,null,null,null,null,null,null,null,null,null,null,null,null,null,null,null,null,"CF6",558]
[null,null,null,null,null,null,null,null,null,null,null,null,null,null,null,null,null,null,null,null,null,null,null,null,null,"CF7",559]
[null,null,null,null,null,null,null,null,null,null,null,null,null,null,null,null,null,null,null,null,null,null,null,null,null,"CF8",560]
[null,null,null,null,null,null,null,null,null,null,null,null,null,null,null,null,null,null,null,null,null,null,null,null,null,"CF9",561]
[null,null,null,null,null,null,null,null,null,null,null,null,null,null,null,null,null,null,null,null,null,null,null,null,null,"CG0",562]
[null,null,null,null,null,null,null,null,null,null,null,null,null,null,null,null,null,null,null,null,null,null,null,null,null,"CG1",563]
[null,null,null,null,null,null,null,null,null,null,null,null,null,null,null,null,null,null,null,null,null,null,null,null,null,"CG2",564]
[null,null,null,null,null,null,null,null,null,null,null,null,null,null,null,null,null,null,null,null,null,null,null,null,null,"CG3",565]
[null,null,null,null,null,null,null,null,null,null,null,null,null,null,null,null,null,null,null,null,null,null,null,null,null,"CG4",566]
[null,null,null,null,null,null,null,null,null,null,null,null,null,null,null,null,null,null,null,null,null,null,null,null,null,"CG5",567]
[null,null,null,null,null,null,null,null,null,null,null,null,null,null,null,null,null,null,null,null,null,null,null,null,null,"CG6",568]
[null,null,null,null,null,null,null,null,null,null,null,null,null,null,null,null,null,null,null,null,null,null,null,null,null,"CG7",569]
[null,null,null,null,null,null,null,null,null,null,null,null,null,null,null,null,null,null,null,null,null,null,null,null,null,"CG8",570]
[null,null,null,null,null,null,null,null,null,null,null,null,null,null,null,null,null,null,null,null,null,null,null,null,null,"CG9",571]
[null,null,null,null,null,null,null,null,null,null,null,null,null,null,null,null,null,null,null,null,null,null,null,null,null,"CH0",572]
[null,null,null,null,null,null,null,null,null,null,null,null,null,null,null,null,null,null,null,null,null,null,null,null,null,"CH1",573]
[null,null,null,null,null,null,null,null,null,null,null,null,null,null,null,null,null,null,null,null,null,null,null,null,null,"CH2",574]
[null,null,null,null,null,null,null,null,null,null,null,null,null,null,null,null,null,null,null,null,null,null,null,null,null,"CH3",575]
[null,null,null,null,null,null,null,null,null,null,null,null,null,null,null,null,null,null,null,null,null,null,null,null,null,"CH4",576]
[null,null,null,null,null,null,null,null,null,null,null,null,null,null,null,null,null,null,null,null,null,null,null,null,null,"CH5",577]
[null,null,null,null,null,null,null,null,null,null,null,null,null,null,null,null,null,null,null,null,null,null,null,null,null,"CH6",578]
[null,null,null,null,null,null,null,null,null,null,null,null,null,null,null,null,null,null,null,null,null,null,null,null,null,"CH7",579]
[null,null,null,null,null,null,null,null,null,null,null,null,null,null,null,null,null,null,null,null,null,null,null,null,null,"CH8",580]
[null,null,null,null,null,null,null,null,null,null,null,null,null,null,null,null,null,null,null,null,null,null,null,null,null,"CH9",581]
[null,null,null,null,null,null,null,null,null,null,null,null,null,null,null,null,null,null,null,null,null,null,null,null,null,"CI0",582]
[null,null,null,null,null,null,null,null,null,null,null,null,null,null,null,null,null,null,null,null,null,null,null,null,null,"CI1",583]
[null,null,null,null,null,null,null,null,null,null,null,null,null,null,null,null,null,null,null,null,null,null,null,null,null,"CI2",584]
[null,null,null,null,null,null,null,null,null,null,null,null,null,null,null,null,null,null,null,null,null,null,null,null,null,"CI3",585]
[null,null,null,null,null,null,null,null,null,null,null,null,null,null,null,null,null,null,null,null,null,null,null,null,null,"CI4",586]
[null,null,null,null,null,null,null,null,null,null,null,null,null,null,null,null,null,null,null,null,null,null,null,null,null,"CI5",587]
[null,null,null,null,null,null,null,null,null,null,null,null,null,null,null,null,null,null,null,null,null,null,null,null,null,"CI6",588]
[null,null,null,null,null,null,null,null,null,null,null,null,null,null,null,null,null,null,null,null,null,null,null,null,null,"CI7",589]
[null,null,null,null,null,null,null,null,null,null,null,null,null,null,null,null,null,null,null,null,null,null,null,null,null,"CI8",590]
[null,null,null,null,null,null,null,null,null,null,null,null,null,null,null,null,null,null,null,null,null,null,null,null,null,"CI9",591]
[null,null,null,null,null,null,null,null,null,null,null,null,null,null,null,null,null,null,null,null,null,null,null,null,null,"CJ0",592]
[null,null,null,null,null,null,null,null,null,null,null,null,null,null,null,null,null,null,null,null,null,null,null,null,null,"CJ1",593]
[null,null,null,null,null,null,null,null,null,null,null,null,null,null,null,null,null,null,null,null,null,null,null,null,null,"CJ2",594]
[null,null,null,null,null,null,null,null,null,null,null,null,null,null,null,null,null,null,null,null,null,null,null,null,null,"CJ3",595]
[null,null,null,null,null,null,null,null,null,null,null,null,null,null,null,null,null,null,null,null,null,null,null,null,null,"CJ4",596]
[null,null,null,null,null,null,null,null,null,null,null,null,null,null,null,null,null,null,null,null,null,null,null,null,null,"CJ5",597]
[null,null,null,null,null,null,null,null,null,null,null,null,null,null,null,null,null,null,null,null,null,null,null,null,null,"CJ6",598]
[null,null,null,null,null,null,null,null,null,null,null,null,null,null,null,null,null,null,null,null,null,null,null,null,null,"CJ7",599]
[null,null,null,null,null,null,null,null,null,null,null,null,null,null,null,null,null,null,null,null,null,null,null,null,null,"CJ8",600]
[null,null,null,null,null,null,null,null,null,null,null,null,null,null,null,null,null,null,null,null,null,null,null,null,null,"CJ9",601]
[null,null,null,null,null,null,null,null,null,null,null,null,null,null,null,null,null,null,null,null,null,null,null,null,null,"CK0",602]
[null,null,null,null,null,null,null,null,null,null,null,null,null,null,null,null,null,null,null,null,null,null,null,null,null,"CK1",603]
[null,null,null,null,null,null,null,null,null,null,null,null,null,null,null,null,null,null,null,null,null,null,null,null,null,"CK2",604]
[null,null,null,null,null,null,null,null,null,null,null,null,null,null,null,null,null,null,null,null,null,null,null,null,null,"CK3",605]
[null,null,null,null,null,null,null,null,null,null,null,null,null,null,null,null,null,null,null,null,null,null,null,null,null,"CK4",606]
[null,null,null,null,null,null,null,null,null,null,null,null,null,null,null,null,null,null,null,null,null,null,null,null,null,"CK5",607]
[null,null,null,null,null,null,null,null,null,null,null,null,null,null,null,null,null,null,null,null,null,null,null,null,null,"CK6",608]
[null,null,null,null,null,null,null,null,null,null,null,null,null,null,null,null,null,null,null,null,null,null,null,null,null,"CK7",609]
[null,null,null,null,null,null,null,null,null,null,null,null,null,null,null,null,null,null,null,null,null,null,null,null,null,"CK8",610]
[null,null,null,null,null,null,null,null,null,null,null,null,null,null,null,null,null,null,null,null,null,null,null,null,null,"CK9",611]
[null,null,null,null,null,null,null,null,null,null,null,null,null,null,null,null,null,null,null,null,null,null,null,null,null,"CL0",612]
[null,null,null,null,null,null,null,null,null,null,null,null,null,null,null,null,null,null,null,null,null,null,null,null,null,"CL1",613]
[null,null,null,null,null,null,null,null,null,null,null,null,null,null,null,null,null,null,null,null,null,null,null,null,null,"CL2",614]
[null,null,null,null,null,null,null,null,null,null,null,null,null,null,null,null,null,null,null,null,null,null,null,null,null,"CL3",615]
[null,null,null,null,null,null,null,null,null,null,null,null,null,null,null,null,null,null,null,null,null,null,null,null,null,"CL4",616]
[null,null,null,null,null,null,null,null,null,null,null,null,null,null,null,null,null,null,null,null,null,null,null,null,null,"CL5",617]
[null,null,null,null,null,null,null,null,null,null,null,null,null,null,null,null,null,null,null,null,null,null,null,null,null,"CL6",618]
[null,null,null,null,null,null,null,null,null,null,null,null,null,null,null,null,null,null,null,null,null,null,null,null,null,"CL7",619]
[null,null,null,null,null,null,null,null,null,null,null,null,null,null,null,null,null,null,null,null,null,null,null,null,null,"CL8",620]
[null,null,null,null,null,null,null,null,null,null,null,null,null,null,null,null,null,null,null,null,null,null,null,null,null,"CL9",621]
[null,null,null,null,null,null,null,null,null,null,null,null,null,null,null,null,null,null,null,null,null,null,null,null,null,"CM0",622]
[null,null,null,null,null,null,null,null,null,null,null,null,null,null,null,null,null,null,null,null,null,null,null,null,null,"CM1",623]
[null,null,null,null,null,null,null,null,null,null,null,null,null,null,null,null,null,null,null,null,null,null,null,null,null,"CM2",624]
[null,null,null,null,null,null,null,null,null,null,null,null,null,null,null,null,null,null,null,null,null,null,null,null,null,"CM3",625]
[null,null,null,null,null,null,null,null,null,null,null,null,null,null,null,null,null,null,null,null,null,null,null,null,null,"CM4",626]
[null,null,null,null,null,null,null,null,null,null,null,null,null,null,null,null,null,null,null,null,null,null,null,null,null,"CM5",627]
[null,null,null,null,null,null,null,null,null,null,null,null,null,null,null,null,null,null,null,null,null,null,null,null,null,"CM6",628]
[null,null,null,null,null,null,null,null,null,null,null,null,null,null,null,null,null,null,null,null,null,null,null,null,null,"CM7",629]
[null,null,null,null,null,null,null,null,null,null,null,null,null,null,null,null,null,null,null,null,null,null,null,null,null,"CM8",630]
[null,null,null,null,null,null,null,null,null,null,null,null,null,null,null,null,null,null,null,null,null,null,null,null,null,"CM9",631]
[null,null,null,null,null,null,null,null,null,null,null,null,null,null,null,null,null,null,null,null,null,null,null,null,null,"CN0",632]
[null,null,null,null,null,null,null,null,null,null,null,null,null,null,null,null,null,null,null,null,null,null,null,null,null,"CN1",633]
[null,null,null,null,null,null,null,null,null,null,null,null,null,null,null,null,null,null,null,null,null,null,null,null,null,"CN2",634]
[null,null,null,null,null,null,null,null,null,null,null,null,null,null,null,null,null,null,null,null,null,null,null,null,null,"CN3",635]
[null,null,null,null,null,null,null,null,null,null,null,null,null,null,null,null,null,null,null,null,null,null,null,null,null,"CN4",636]
[null,null,null,null,null,null,null,null,null,null,null,null,null,null,null,null,null,null,null,null,null,null,null,null,null,"CN5",637]
[null,null,null,null,null,null,null,null,null,null,null,null,null,null,null,null,null,null,null,null,null,null,null,null,null,"CN6",638]
[null,null,null,null,null,null,null,null,null,null,null,null,null,null,null,null,null,null,null,null,null,null,null,null,null,"CN7",639]
[null,null,null,null,null,null,null,null,null,null,null,null,null,null,null,null,null,null,null,null,null,null,null,null,null,"CN8",640]
[null,null,null,null,null,null,null,null,null,null,null,null,null,null,null,null,null,null,null,null,null,null,null,null,null,"CN9",641]
[null,null,null,null,null,null,null,null,null,null,null,null,null,null,null,null,null,null,null,null,null,null,null,null,null,"CO0",642]
[null,null,null,null,null,null,null,null,null,null,null,null,null,null,null,null,null,null,null,null,null,null,null,null,null,"CO1",643]
[null,null,null,null,null,null,null,null,null,null,null,null,null,null,null,null,null,null,null,null,null,null,null,null,null,"CO2",644]
[null,null,null,null,null,null,null,null,null,null,null,null,null,null,null,null,null,null,null,null,null,null,null,null,null,"CO3",645]
[null,null,null,null,null,null,null,null,null,null,null,null,null,null,null,null,null,null,null,null,null,null,null,null,null,"CO4",646]
[null,null,null,null,null,null,null,null,null,null,null,null,null,null,null,null,null,null,null,null,null,null,null,null,null,"CO5",647]
[null,null,null,null,null,null,null,null,null,null,null,null,null,null,null,null,null,null,null,null,null,null,null,null,null,"CO6",648]
[null,null,null,null,null,null,null,null,null,null,null,null,null,null,null,null,null,null,null,null,null,null,null,null,null,"CO7",649]
[null,null,null,null,null,null,null,null,null,null,null,null,null,null,null,null,null,null,null,null,null,null,null,null,null,"CO8",650]
[null,null,null,null,null,null,null,null,null,null,null,null,null,null,null,null,null,null,null,null,null,null,null,null,null,"CO9",651]
[null,null,null,null,null,null,null,null,null,null,null,null,null,null,null,null,null,null,null,null,null,null,null,null,null,"CP0",652]
[null,null,null,null,null,null,null,null,null,null,null,null,null,null,null,null,null,null,null,null,null,null,null,null,null,"CP1",653]
[null,null,null,null,null,null,null,null,null,null,null,null,null,null,null,null,null,null,null,null,null,null,null,null,null,"CP2",654]
[null,null,null,null,null,null,null,null,null,null,null,null,null,null,null,null,null,null,null,null,null,null,null,null,null,"CP3",655]
[null,null,null,null,null,null,null,null,null,null,null,null,null,null,null,null,null,null,null,null,null,null,null,null,null,"CP4",656]
[null,null,null,null,null,null,null,null,null,null,null,null,null,null,null,null,null,null,null,null,null,null,null,null,null,"CP5",657]
[null,null,null,null,null,null,null,null,null,null,null,null,null,null,null,null,null,null,null,null,null,null,null,null,null,"CP6",658]
[null,null,null,null,null,null,null,null,null,null,null,null,null,null,null,null,null,null,null,null,null,null,null,null,null,"CP7",659]
[null,null,null,null,null,null,null,null,null,null,null,null,null,null,null,null,null,null,null,null,null,null,null,null,null,"CP8",660]
[null,null,null,null,null,null,null,null,null,null,null,null,null,null,null,null,null,null,null,null,null,null,null,null,null,"CP9",661]
[null,null,null,null,null,null,null,null,null,null,null,null,null,null,null,null,null,null,null,null,null,null,null,null,null,"CQ0",662]
[null,null,null,null,null,null,null,null,null,null,null,null,null,null,null,null,null,null,null,null,null,null,null,null,null,"CQ1",663]
[null,null,null,null,null,null,null,null,null,null,null,null,null,null,null,null,null,null,null,null,null,null,null,null,null,"CQ2",664]
[null,null,null,null,null,null,null,null,null,null,null,null,null,null,null,null,null,null,null,null,null,null,null,null,null,"CQ3",665]
[null,null,null,null,null,null,null,null,null,null,null,null,null,null,null,null,null,null,null,null,null,null,null,null,null,"CQ4",666]
[null,null,null,null,null,null,null,null,null,null,null,null,null,null,null,null,null,null,null,null,null,null,null,null,null,"CQ5",667]
[null,null,null,null,null,null,null,null,null,null,null,null,null,null,null,null,null,null,null,null,null,null,null,null,null,"CQ6",668]
[null,null,null,null,null,null,null,null,null,null,null,null,null,null,null,null,null,null,null,null,null,null,null,null,null,"CQ7",669]
[null,null,null,null,null,null,null,null,null,null,null,null,null,null,null,null,null,null,null,null,null,null,null,null,null,"CQ8",670]
[null,null,null,null,null,null,null,null,null,null,null,null,null,null,null,null,null,null,null,null,null,null,null,null,null,"CQ9",671]
[null,null,null,null,null,null,null,null,null,null,null,null,null,null,null,null,null,null,null,null,null,null,null,null,null,"CR0",672]
[null,null,null,null,null,null,null,null,null,null,null,null,null,null,null,null,null,null,null,null,null,null,null,null,null,"CR1",673]
[null,null,null,null,null,null,null,null,null,null,null,null,null,null,null,null,null,null,null,null,null,null,null,null,null,"CR2",674]
[null,null,null,null,null,null,null,null,null,null,null,null,null,null,null,null,null,null,null,null,null,null,null,null,null,"CR3",675]
[null,null,null,null,null,null,null,null,null,null,null,null,null,null,null,null,null,null,null,null,null,null,null,null,null,"CR4",676]
[null,null,null,null,null,null,null,null,null,null,null,null,null,null,null,null,null,null,null,null,null,null,null,null,null,"CR5",677]
[null,null,null,null,null,null,null,null,null,null,null,null,null,null,null,null,null,null,null,null,null,null,null,null,null,"CR6",678]
[null,null,null,null,null,null,null,null,null,null,null,null,null,null,null,null,null,null,null,null,null,null,null,null,null,"CR7",679]
[null,null,null,null,null,null,null,null,null,null,null,null,null,null,null,null,null,null,null,null,null,null,null,null,null,"CR8",680]
[null,null,null,null,null,null,null,null,null,null,null,null,null,null,null,null,null,null,null,null,null,null,null,null,null,"CR9",681]
[null,null,null,null,null,null,null,null,null,null,null,null,null,null,null,null,null,null,null,null,null,null,null,null,null,"CS0",682]
[null,null,null,null,null,null,null,null,null,null,null,null,null,null,null,null,null,null,null,null,null,null,null,null,null,"CS1",683]
[null,null,null,null,null,null,null,null,null,null,null,null,null,null,null,null,null,null,null,null,null,null,null,null,null,"CS2",684]
[null,null,null,null,null,null,null,null,null,null,null,null,null,null,null,null,null,null,null,null,null,null,null,null,null,"CS3",685]
[null,null,null,null,null,null,null,null,null,null,null,null,null,null,null,null,null,null,null,null,null,null,null,null,null,"CS4",686]
[null,null,null,null,null,null,null,null,null,null,null,null,null,null,null,null,null,null,null,null,null,null,null,null,null,"CS5",687]
[null,null,null,null,null,null,null,null,null,null,null,null,null,null,null,null,null,null,null,null,null,null,null,null,null,"CS6",688]
[null,null,null,null,null,null,null,null,null,null,null,null,null,null,null,null,null,null,null,null,null,null,null,null,null,"CS7",689]
[null,null,null,null,null,null,null,null,null,null,null,null,null,null,null,null,null,null,null,null,null,null,null,null,null,"CS8",690]
[null,null,null,null,null,null,null,null,null,null,null,null,null,null,null,null,null,null,null,null,null,null,null,null,null,"CS9",691]
[null,null,null,null,null,null,null,null,null,null,null,null,null,null,null,null,null,null,null,null,null,null,null,null,null,"CT0",692]
[null,null,null,null,null,null,null,null,null,null,null,null,null,null,null,null,null,null,null,null,null,null,null,null,null,"CT1",693]
[null,null,null,null,null,null,null,null,null,null,null,null,null,null,null,null,null,null,null,null,null,null,null,null,null,"CT2",694]
[null,null,null,null,null,null,null,null,null,null,null,null,null,null,null,null,null,null,null,null,null,null,null,null,null,"CT3",695]
[null,null,null,null,null,null,null,null,null,null,null,null,null,null,null,null,null,null,null,null,null,null,null,null,null,"CT4",696]
[null,null,null,null,null,null,null,null,null,null,null,null,null,null,null,null,null,null,null,null,null,null,null,null,null,"CT5",697]
[null,null,null,null,null,null,null,null,null,null,null,null,null,null,null,null,null,null,null,null,null,null,null,null,null,"CT6",698]
[null,null,null,null,null,null,null,null,null,null,null,null,null,null,null,null,null,null,null,null,null,null,null,null,null,"CT7",699]
[null,null,null,null,null,null,null,null,null,null,null,null,null,null,null,null,null,null,null,null,null,null,null,null,null,"CT8",700]
[null,null,null,null,null,null,null,null,null,null,null,null,null,null,null,null,null,null,null,null,null,null,null,null,null,"CT9",701]
[null,null,null,null,null,null,null,null,null,null,null,null,null,null,null,null,null,null,null,null,null,null,null,null,null,"CU0",702]
[null,null,null,null,null,null,null,null,null,null,null,null,null,null,null,null,null,null,null,null,null,null,null,null,null,"CU1",703]
[null,null,null,null,null,null,null,null,null,null,null,null,null,null,null,null,null,null,null,null,null,null,null,null,null,"CU2",704]
[null,null,null,null,null,null,null,null,null,null,null,null,null,null,null,null,null,null,null,null,null,null,null,null,null,"CU3",705]
[null,null,null,null,null,null,null,null,null,null,null,null,null,null,null,null,null,null,null,null,null,null,null,null,null,"CU4",706]
[null,null,null,null,null,null,null,null,null,null,null,null,null,null,null,null,null,null,null,null,null,null,null,null,null,"CU5",707]
[null,null,null,null,null,null,null,null,null,null,null,null,null,null,null,null,null,null,null,null,null,null,null,null,null,"CU6",708]
[null,null,null,null,null,null,null,null,null,null,null,null,null,null,null,null,null,null,null,null,null,null,null,null,null,"CU7",709]
[null,null,null,null,null,null,null,null,null,null,null,null,null,null,null,null,null,null,null,null,null,null,null,null,null,"CU8",710]
[null,null,null,null,null,null,null,null,null,null,null,null,null,null,null,null,null,null,null,null,null,null,null,null,null,"CU9",711]
[null,null,null,null,null,null,null,null,null,null,null,null,null,null,null,null,null,null,null,null,null,null,null,null,null,"CV0",712]
[null,null,null,null,null,null,null,null,null,null,null,null,null,null,null,null,null,null,null,null,null,null,null,null,null,"CV1",713]
[null,null,null,null,null,null,null,null,null,null,null,null,null,null,null,null,null,null,null,null,null,null,null,null,null,"CV2",714]
[null,null,null,null,null,null,null,null,null,null,null,null,null,null,null,null,null,null,null,null,null,null,null,null,null,"CV3",715]
[null,null,null,null,null,null,null,null,null,null,null,null,null,null,null,null,null,null,null,null,null,null,null,null,null,"CV4",716]
[null,null,null,null,null,null,null,null,null,null,null,null,null,null,null,null,null,null,null,null,null,null,null,null,null,"CV5",717]
[null,null,null,null,null,null,null,null,null,null,null,null,null,null,null,null,null,null,null,null,null,null,null,null,null,"CV6",718]
[null,null,null,null,null,null,null,null,null,null,null,null,null,null,null,null,null,null,null,null,null,null,null,null,null,"CV7",719]
[null,null,null,null,null,null,null,null,null,null,null,null,null,null,null,null,null,null,null,null,null,null,null,null,null,"CV8",720]
[null,null,null,null,null,null,null,null,null,null,null,null,null,null,null,null,null,null,null,null,null,null,null,null,null,"CV9",721]
[null,null,null,null,null,null,null,null,null,null,null,null,null,null,null,null,null,null,null,null,null,null,null,null,null,"CW0",722]
[null,null,null,null,null,null,null,null,null,null,null,null,null,null,null,null,null,null,null,null,null,null,null,null,null,"CW1",723]
[null,null,null,null,null,null,null,null,null,null,null,null,null,null,null,null,null,null,null,null,null,null,null,null,null,"CW2",724]
[null,null,null,null,null,null,null,null,null,null,null,null,null,null,null,null,null,null,null,null,null,null,null,null,null,"CW3",725]
[null,null,null,null,null,null,null,null,null,null,null,null,null,null,null,null,null,null,null,null,null,null,null,null,null,"CW4",726]
[null,null,null,null,null,null,null,null,null,null,null,null,null,null,null,null,null,null,null,null,null,null,null,null,null,"CW5",727]
[null,null,null,null,null,null,null,null,null,null,null,null,null,null,null,null,null,null,null,null,null,null,null,null,null,"CW6",728]
[null,null,null,null,null,null,null,null,null,null,null,null,null,null,null,null,null,null,null,null,null,null,null,null,null,"CW7",729]
[null,null,null,null,null,null,null,null,null,null,null,null,null,null,null,null,null,null,null,null,null,null,null,null,null,"CW8",730]
[null,null,null,null,null,null,null,null,null,null,null,null,null,null,null,null,null,null,null,null,null,null,null,null,null,"CW9",731]
[null,null,null,null,null,null,null,null,null,null,null,null,null,null,null,null,null,null,null,null,null,null,null,null,null,"CX0",732]
[null,null,null,null,null,null,null,null,null,null,null,null,null,null,null,null,null,null,null,null,null,null,null,null,null,"CX1",733]
[null,null,null,null,null,null,null,null,null,null,null,null,null,null,null,null,null,null,null,null,null,null,null,null,null,"CX2",734]
[null,null,null,null,null,null,null,null,null,null,null,null,null,null,null,null,null,null,null,null,null,null,null,null,null,"CX3",735]
[null,null,null,null,null,null,null,null,null,null,null,null,null,null,null,null,null,null,null,null,null,null,null,null,null,"CX4",736]
[null,null,null,null,null,null,null,null,null,null,null,null,null,null,null,null,null,null,null,null,null,null,null,null,null,"CX5",737]
[null,null,null,null,null,null,null,null,null,null,null,null,null,null,null,null,null,null,null,null,null,null,null,null,null,"CX6",738]
[null,null,null,null,null,null,null,null,null,null,null,null,null,null,null,null,null,null,null,null,null,null,null,null,null,"CX7",739]
[null,null,null,null,null,null,null,null,null,null,null,null,null,null,null,null,null,null,null,null,null,null,null,null,null,"CX8",740]
[null,null,null,null,null,null,null,null,null,null,null,null,null,null,null,null,null,null,null,null,null,null,null,null,null,"CX9",741]
[null,null,null,null,null,null,null,null,null,null,null,null,null,null,null,null,null,null,null,null,null,null,null,null,null,"CY0",742]
[null,null,null,null,null,null,null,null,null,null,null,null,null,null,null,null,null,null,null,null,null,null,null,null,null,"CY1",743]
[null,null,null,null,null,null,null,null,null,null,null,null,null,null,null,null,null,null,null,null,null,null,null,null,null,"CY2",744]
[null,null,null,null,null,null,null,null,null,null,null,null,null,null,null,null,null,null,null,null,null,null,null,null,null,"CY3",745]
[null,null,null,null,null,null,null,null,null,null,null,null,null,null,null,null,null,null,null,null,null,null,null,null,null,"CY4",746]
[null,null,null,null,null,null,null,null,null,null,null,null,null,null,null,null,null,null,null,null,null,null,null,null,null,"CY5",747]
[null,null,null,null,null,null,null,null,null,null,null,null,null,null,null,null,null,null,null,null,null,null,null,null,null,"CY6",748]
[null,null,null,null,null,null,null,null,null,null,null,null,null,null,null,null,null,null,null,null,null,null,null,null,null,"CY7",749]
[null,null,null,null,null,null,null,null,null,null,null,null,null,null,null,null,null,null,null,null,null,null,null,null,null,"CY8",750]
[null,null,null,null,null,null,null,null,null,null,null,null,null,null,null,null,null,null,null,null,null,null,null,null,null,"CY9",751]
[null,null,null,null,null,null,null,null,null,null,null,null,null,null,null,null,null,null,null,null,null,null,null,null,null,"DA0",752]
[null,null,null,null,null,null,null,null,null,null,null,null,null,null,null,null,null,null,null,null,null,null,null,null,null,"DA1",753]
[null,null,null,null,null,null,null,null,null,null,null,null,null,null,null,null,null,null,null,null,null,null,null,null,null,"DA2",754]
[null,null,null,null,null,null,null,null,null,null,null,null,null,null,null,null,null,null,null,null,null,null,null,null,null,"DA3",755]
[null,null,null,null,null,null,null,null,null,null,null,null,null,null,null,null,null,null,null,null,null,null,null,null,null,"DA4",756]
[null,null,null,null,null,null,null,null,null,null,null,null,null,null,null,null,null,null,null,null,null,null,null,null,null,"DA5",757]
[null,null,null,null,null,null,null,null,null,null,null,null,null,null,null,null,null,null,null,null,null,null,null,null,null,"DA6",758]
[null,null,null,null,null,null,null,null,null,null,null,null,null,null,null,null,null,null,null,null,null,null,null,null,null,"DA7",759]
[null,null,null,null,null,null,null,null,null,null,null,null,null,null,null,null,null,null,null,null,null,null,null,null,null,"DA8",760]
[null,null,null,null,null,null,null,null,null,null,null,null,null,null,null,null,null,null,null,null,null,null,null,null,null,"DA9",761]
[null,null,null,null,null,null,null,null,null,null,null,null,null,null,null,null,null,null,null,null,null,null,null,null,null,"DB0",762]
[null,null,null,null,null,null,null,null,null,null,null,null,null,null,null,null,null,null,null,null,null,null,null,null,null,"DB1",763]
[null,null,null,null,null,null,null,null,null,null,null,null,null,null,null,null,null,null,null,null,null,null,null,null,null,"DB2",764]
[null,null,null,null,null,null,null,null,null,null,null,null,null,null,null,null,null,null,null,null,null,null,null,null,null,"DB3",765]
[null,null,null,null,null,null,null,null,null,null,null,null,null,null,null,null,null,null,null,null,null,null,null,null,null,"DB4",766]
[null,null,null,null,null,null,null,null,null,null,null,null,null,null,null,null,null,null,null,null,null,null,null,null,null,"DB5",767]
[null,null,null,null,null,null,null,null,null,null,null,null,null,null,null,null,null,null,null,null,null,null,null,null,null,"DB6",768]
[null,null,null,null,null,null,null,null,null,null,null,null,null,null,null,null,null,null,null,null,null,null,null,null,null,"DB7",769]
[null,null,null,null,null,null,null,null,null,null,null,null,null,null,null,null,null,null,null,null,null,null,null,null,null,"DB8",770]
[null,null,null,null,null,null,null,null,null,null,null,null,null,null,null,null,null,null,null,null,null,null,null,null,null,"DB9",771]
[null,null,null,null,null,null,null,null,null,null,null,null,null,null,null,null,null,null,null,null,null,null,null,null,null,"DC0",772]
[null,null,null,null,null,null,null,null,null,null,null,null,null,null,null,null,null,null,null,null,null,null,null,null,null,"DC1",773]
[null,null,null,null,null,null,null,null,null,null,null,null,null,null,null,null,null,null,null,null,null,null,null,null,null,"DC2",774]
[null,null,null,null,null,null,null,null,null,null,null,null,null,null,null,null,null,null,null,null,null,null,null,null,null,"DC3",775]
[null,null,null,null,null,null,null,null,null,null,null,null,null,null,null,null,null,null,null,null,null,null,null,null,null,"DC4",776]
[null,null,null,null,null,null,null,null,null,null,null,null,null,null,null,null,null,null,null,null,null,null,null,null,null,"DC5",777]
[null,null,null,null,null,null,null,null,null,null,null,null,null,null,null,null,null,null,null,null,null,null,null,null,null,"DC6",778]
[null,null,null,null,null,null,null,null,null,null,null,null,null,null,null,null,null,null,null,null,null,null,null,null,null,"DC7",779]
[null,null,null,null,null,null,null,null,null,null,null,null,null,null,null,null,null,null,null,null,null,null,null,null,null,"DC8",780]
[null,null,null,null,null,null,null,null,null,null,null,null,null,null,null,null,null,null,null,null,null,null,null,null,null,"DC9",781]
[null,null,null,null,null,null,null,null,null,null,null,null,null,null,null,null,null,null,null,null,null,null,null,null,null,"DD0",782]
[null,null,null,null,null,null,null,null,null,null,null,null,null,null,null,null,null,null,null,null,null,null,null,null,null,"DD1",783]
[null,null,null,null,null,null,null,null,null,null,null,null,null,null,null,null,null,null,null,null,null,null,null,null,null,"DD2",784]
[null,null,null,null,null,null,null,null,null,null,null,null,null,null,null,null,null,null,null,null,null,null,null,null,null,"DD3",785]
[null,null,null,null,null,null,null,null,null,null,null,null,null,null,null,null,null,null,null,null,null,null,null,null,null,"DD4",786]
[null,null,null,null,null,null,null,null,null,null,null,null,null,null,null,null,null,null,null,null,null,null,null,null,null,"DD5",787]
[null,null,null,null,null,null,null,null,null,null,null,null,null,null,null,null,null,null,null,null,null,null,null,null,null,"DD6",788]
[null,null,null,null,null,null,null,null,null,null,null,null,null,null,null,null,null,null,null,null,null,null,null,null,null,"DD7",789]
[null,null,null,null,null,null,null,null,null,null,null,null,null,null,null,null,null,null,null,null,null,null,null,null,null,"DD8",790]
[null,null,null,null,null,null,null,null,null,null,null,null,null,null,null,null,null,null,null,null,null,null,null,null,null,"DD9",791]
[null,null,null,null,null,null,null,null,null,null,null,null,null,null,null,null,null,null,null,null,null,null,null,null,null,"DE0",792]
[null,null,null,null,null,null,null,null,null,null,null,null,null,null,null,null,null,null,null,null,null,null,null,null,null,"DE1",793]
[null,null,null,null,null,null,null,null,null,null,null,null,null,null,null,null,null,null,null,null,null,null,null,null,null,"DE2",794]
[null,null,null,null,null,null,null,null,null,null,null,null,null,null,null,null,null,null,null,null,null,null,null,null,null,"DE3",795]
[null,null,null,null,null,null,null,null,null,null,null,null,null,null,null,null,null,null,null,null,null,null,null,null,null,"DE4",796]
[null,null,null,null,null,null,null,null,null,null,null,null,null,null,null,null,null,null,null,null,null,null,null,null,null,"DE5",797]
[null,null,null,null,null,null,null,null,null,null,null,null,null,null,null,null,null,null,null,null,null,null,null,null,null,"DE6",798]
[null,null,null,null,null,null,null,null,null,null,null,null,null,null,null,null,null,null,null,null,null,null,null,null,null,"DE7",799]
[null,null,null,null,null,null,null,null,null,null,null,null,null,null,null,null,null,null,null,null,null,null,null,null,null,"DE8",800]
[null,null,null,null,null,null,null,null,null,null,null,null,null,null,null,null,null,null,null,null,null,null,null,null,null,"DE9",801]
[null,null,null,null,null,null,null,null,null,null,null,null,null,null,null,null,null,null,null,null,null,null,null,null,null,"DF0",802]
[null,null,null,null,null,null,null,null,null,null,null,null,null,null,null,null,null,null,null,null,null,null,null,null,null,"DF1",803]
[null,null,null,null,null,null,null,null,null,null,null,null,null,null,null,null,null,null,null,null,null,null,null,null,null,"DF2",804]
[null,null,null,null,null,null,null,null,null,null,null,null,null,null,null,null,null,null,null,null,null,null,null,null,null,"DF3",805]
[null,null,null,null,null,null,null,null,null,null,null,null,null,null,null,null,null,null,null,null,null,null,null,null,null,"DF4",806]
[null,null,null,null,null,null,null,null,null,null,null,null,null,null,null,null,null,null,null,null,null,null,null,null,null,"DF5",807]
[null,null,null,null,null,null,null,null,null,null,null,null,null,null,null,null,null,null,null,null,null,null,null,null,null,"DF6",808]
[null,null,null,null,null,null,null,null,null,null,null,null,null,null,null,null,null,null,null,null,null,null,null,null,null,"DF7",809]
[null,null,null,null,null,null,null,null,null,null,null,null,null,null,null,null,null,null,null,null,null,null,null,null,null,"DF8",810]
[null,null,null,null,null,null,null,null,null,null,null,null,null,null,null,null,null,null,null,null,null,null,null,null,null,"DF9",811]
[null,null,null,null,null,null,null,null,null,null,null,null,null,null,null,null,null,null,null,null,null,null,null,null,null,"DG0",812]
[null,null,null,null,null,null,null,null,null,null,null,null,null,null,null,null,null,null,null,null,null,null,null,null,null,"DG1",813]
[null,null,null,null,null,null,null,null,null,null,null,null,null,null,null,null,null,null,null,null,null,null,null,null,null,"DG2",814]
[null,null,null,null,null,null,null,null,null,null,null,null,null,null,null,null,null,null,null,null,null,null,null,null,null,"DG3",815]
[null,null,null,null,null,null,null,null,null,null,null,null,null,null,null,null,null,null,null,null,null,null,null,null,null,"DG4",816]
[null,null,null,null,null,null,null,null,null,null,null,null,null,null,null,null,null,null,null,null,null,null,null,null,null,"DG5",817]
[null,null,null,null,null,null,null,null,null,null,null,null,null,null,null,null,null,null,null,null,null,null,null,null,null,"DG6",818]
[null,null,null,null,null,null,null,null,null,null,null,null,null,null,null,null,null,null,null,null,null,null,null,null,null,"DG7",819]
[null,null,null,null,null,null,null,null,null,null,null,null,null,null,null,null,null,null,null,null,null,null,null,null,null,"DG8",820]
[null,null,null,null,null,null,null,null,null,null,null,null,null,null,null,null,null,null,null,null,null,null,null,null,null,"DG9",821]
[null,null,null,null,null,null,null,null,null,null,null,null,null,null,null,null,null,null,null,null,null,null,null,null,null,"DH0",822]
[null,null,null,null,null,null,null,null,null,null,null,null,null,null,null,null,null,null,null,null,null,null,null,null,null,"DH1",823]
[null,null,null,null,null,null,null,null,null,null,null,null,null,null,null,null,null,null,null,null,null,null,null,null,null,"DH2",824]
[null,null,null,null,null,null,null,null,null,null,null,null,null,null,null,null,null,null,null,null,null,null,null,null,null,"DH3",825]
[null,null,null,null,null,null,null,null,null,null,null,null,null,null,null,null,null,null,null,null,null,null,null,null,null,"DH4",826]
[null,null,null,null,null,null,null,null,null,null,null,null,null,null,null,null,null,null,null,null,null,null,null,null,null,"DH5",827]
[null,null,null,null,null,null,null,null,null,null,null,null,null,null,null,null,null,null,null,null,null,null,null,null,null,"DH6",828]
[null,null,null,null,null,null,null,null,null,null,null,null,null,null,null,null,null,null,null,null,null,null,null,null,null,"DH7",829]
[null,null,null,null,null,null,null,null,null,null,null,null,null,null,null,null,null,null,null,null,null,null,null,null,null,"DH8",830]
[null,null,null,null,null,null,null,null,null,null,null,null,null,null,null,null,null,null,null,null,null,null,null,null,null,"DH9",831]
[null,null,null,null,null,null,null,null,null,null,null,null,null,null,null,null,null,null,null,null,null,null,null,null,null,"DI0",832]
[null,null,null,null,null,null,null,null,null,null,null,null,null,null,null,null,null,null,null,null,null,null,null,null,null,"DI1",833]
[null,null,null,null,null,null,null,null,null,null,null,null,null,null,null,null,null,null,null,null,null,null,null,null,null,"DI2",834]
[null,null,null,null,null,null,null,null,null,null,null,null,null,null,null,null,null,null,null,null,null,null,null,null,null,"DI3",835]
[null,null,null,null,null,null,null,null,null,null,null,null,null,null,null,null,null,null,null,null,null,null,null,null,null,"DI4",836]
[null,null,null,null,null,null,null,null,null,null,null,null,null,null,null,null,null,null,null,null,null,null,null,null,null,"DI5",837]
[null,null,null,null,null,null,null,null,null,null,null,null,null,null,null,null,null,null,null,null,null,null,null,null,null,"DI6",838]
[null,null,null,null,null,null,null,null,null,null,null,null,null,null,null,null,null,null,null,null,null,null,null,null,null,"DI7",839]
[null,null,null,null,null,null,null,null,null,null,null,null,null,null,null,null,null,null,null,null,null,null,null,null,null,"DI8",840]
[null,null,null,null,null,null,null,null,null,null,null,null,null,null,null,null,null,null,null,null,null,null,null,null,null,"DI9",841]
[null,null,null,null,null,null,null,null,null,null,null,null,null,null,null,null,null,null,null,null,null,null,null,null,null,"DJ0",842]
[null,null,null,null,null,null,null,null,null,null,null,null,null,null,null,null,null,null,null,null,null,null,null,null,null,"DJ1",843]
[null,null,null,null,null,null,null,null,null,null,null,null,null,null,null,null,null,null,null,null,null,null,null,null,null,"DJ2",844]
[null,null,null,null,null,null,null,null,null,null,null,null,null,null,null,null,null,null,null,null,null,null,null,null,null,"DJ3",845]
[null,null,null,null,null,null,null,null,null,null,null,null,null,null,null,null,null,null,null,null,null,null,null,null,null,"DJ4",846]
[null,null,null,null,null,null,null,null,null,null,null,null,null,null,null,null,null,null,null,null,null,null,null,null,null,"DJ5",847]
[null,null,null,null,null,null,null,null,null,null,null,null,null,null,null,null,null,null,null,null,null,null,null,null,null,"DJ6",848]
[null,null,null,null,null,null,null,null,null,null,null,null,null,null,null,null,null,null,null,null,null,null,null,null,null,"DJ7",849]
[null,null,null,null,null,null,null,null,null,null,null,null,null,null,null,null,null,null,null,null,null,null,null,null,null,"DJ8",850]
[null,null,null,null,null,null,null,null,null,null,null,null,null,null,null,null,null,null,null,null,null,null,null,null,null,"DJ9",851]
[null,null,null,null,null,null,null,null,null,null,null,null,null,null,null,null,null,null,null,null,null,null,null,null,null,"DK0",852]
[null,null,null,null,null,null,null,null,null,null,null,null,null,null,null,null,null,null,null,null,null,null,null,null,null,"DK1",853]
[null,null,null,null,null,null,null,null,null,null,null,null,null,null,null,null,null,null,null,null,null,null,null,null,null,"DK2",854]
[null,null,null,null,null,null,null,null,null,null,null,null,null,null,null,null,null,null,null,null,null,null,null,null,null,"DK3",855]
[null,null,null,null,null,null,null,null,null,null,null,null,null,null,null,null,null,null,null,null,null,null,null,null,null,"DK4",856]
[null,null,null,null,null,null,null,null,null,null,null,null,null,null,null,null,null,null,null,null,null,null,null,null,null,"DK5",857]
[null,null,null,null,null,null,null,null,null,null,null,null,null,null,null,null,null,null,null,null,null,null,null,null,null,"DK6",858]
[null,null,null,null,null,null,null,null,null,null,null,null,null,null,null,null,null,null,null,null,null,null,null,null,null,"DK7",859]
[null,null,null,null,null,null,null,null,null,null,null,null,null,null,null,null,null,null,null,null,null,null,null,null,null,"DK8",860]
[null,null,null,null,null,null,null,null,null,null,null,null,null,null,null,null,null,null,null,null,null,null,null,null,null,"DK9",861]
[null,null,null,null,null,null,null,null,null,null,null,null,null,null,null,null,null,null,null,null,null,null,null,null,null,"DL0",862]
[null,null,null,null,null,null,null,null,null,null,null,null,null,null,null,null,null,null,null,null,null,null,null,null,null,"DL1",863]
[null,null,null,null,null,null,null,null,null,null,null,null,null,null,null,null,null,null,null,null,null,null,null,null,null,"DL2",864]
[null,null,null,null,null,null,null,null,null,null,null,null,null,null,null,null,null,null,null,null,null,null,null,null,null,"DL3",865]
[null,null,null,null,null,null,null,null,null,null,null,null,null,null,null,null,null,null,null,null,null,null,null,null,null,"DL4",866]
[null,null,null,null,null,null,null,null,null,null,null,null,null,null,null,null,null,null,null,null,null,null,null,null,null,"DL5",867]
[null,null,null,null,null,null,null,null,null,null,null,null,null,null,null,null,null,null,null,null,null,null,null,null,null,"DL6",868]
[null,null,null,null,null,null,null,null,null,null,null,null,null,null,null,null,null,null,null,null,null,null,null,null,null,"DL7",869]
[null,null,null,null,null,null,null,null,null,null,null,null,null,null,null,null,null,null,null,null,null,null,null,null,null,"DL8",870]
[null,null,null,null,null,null,null,null,null,null,null,null,null,null,null,null,null,null,null,null,null,null,null,null,null,"DL9",871]
[null,null,null,null,null,null,null,null,null,null,null,null,null,null,null,null,null,null,null,null,null,null,null,null,null,"DM0",872]
[null,null,null,null,null,null,null,null,null,null,null,null,null,null,null,null,null,null,null,null,null,null,null,null,null,"DM1",873]
[null,null,null,null,null,null,null,null,null,null,null,null,null,null,null,null,null,null,null,null,null,null,null,null,null,"DM2",874]
[null,null,null,null,null,null,null,null,null,null,null,null,null,null,null,null,null,null,null,null,null,null,null,null,null,"DM3",875]
[null,null,null,null,null,null,null,null,null,null,null,null,null,null,null,null,null,null,null,null,null,null,null,null,null,"DM4",876]
[null,null,null,null,null,null,null,null,null,null,null,null,null,null,null,null,null,null,null,null,null,null,null,null,null,"DM5",877]
[null,null,null,null,null,null,null,null,null,null,null,null,null,null,null,null,null,null,null,null,null,null,null,null,null,"DM6",878]
[null,null,null,null,null,null,null,null,null,null,null,null,null,null,null,null,null,null,null,null,null,null,null,null,null,"DM7",879]
[null,null,null,null,null,null,null,null,null,null,null,null,null,null,null,null,null,null,null,null,null,null,null,null,null,"DM8",880]
[null,null,null,null,null,null,null,null,null,null,null,null,null,null,null,null,null,null,null,null,null,null,null,null,null,"DM9",881]
[null,null,null,null,null,null,null,null,null,null,null,null,null,null,null,null,null,null,null,null,null,null,null,null,null,"DN0",882]
[null,null,null,null,null,null,null,null,null,null,null,null,null,null,null,null,null,null,null,null,null,null,null,null,null,"DN1",883]
[null,null,null,null,null,null,null,null,null,null,null,null,null,null,null,null,null,null,null,null,null,null,null,null,null,"DN2",884]
[null,null,null,null,null,null,null,null,null,null,null,null,null,null,null,null,null,null,null,null,null,null,null,null,null,"DN3",885]
[null,null,null,null,null,null,null,null,null,null,null,null,null,null,null,null,null,null,null,null,null,null,null,null,null,"DN4",886]
[null,null,null,null,null,null,null,null,null,null,null,null,null,null,null,null,null,null,null,null,null,null,null,null,null,"DN5",887]
[null,null,null,null,null,null,null,null,null,null,null,null,null,null,null,null,null,null,null,null,null,null,null,null,null,"DN6",888]
[null,null,null,null,null,null,null,null,null,null,null,null,null,null,null,null,null,null,null,null,null,null,null,null,null,"DN7",889]
[null,null,null,null,null,null,null,null,null,null,null,null,null,null,null,null,null,null,null,null,null,null,null,null,null,"DN8",890]
[null,null,null,null,null,null,null,null,null,null,null,null,null,null,null,null,null,null,null,null,null,null,null,null,null,"DN9",891]
[null,null,null,null,null,null,null,null,null,null,null,null,null,null,null,null,null,null,null,null,null,null,null,null,null,"DO0",892]
[null,null,null,null,null,null,null,null,null,null,null,null,null,null,null,null,null,null,null,null,null,null,null,null,null,"DO1",893]
[null,null,null,null,null,null,null,null,null,null,null,null,null,null,null,null,null,null,null,null,null,null,null,null,null,"DO2",894]
[null,null,null,null,null,null,null,null,null,null,null,null,null,null,null,null,null,null,null,null,null,null,null,null,null,"DO3",895]
[null,null,null,null,null,null,null,null,null,null,null,null,null,null,null,null,null,null,null,null,null,null,null,null,null,"DO4",896]
[null,null,null,null,null,null,null,null,null,null,null,null,null,null,null,null,null,null,null,null,null,null,null,null,null,"DO5",897]
[null,null,null,null,null,null,null,null,null,null,null,null,null,null,null,null,null,null,null,null,null,null,null,null,null,"DO6",898]
[null,null,null,null,null,null,null,null,null,null,null,null,null,null,null,null,null,null,null,null,null,null,null,null,null,"DO7",899]
[null,null,null,null,null,null,null,null,null,null,null,null,null,null,null,null,null,null,null,null,null,null,null,null,null,"DO8",900]
[null,null,null,null,null,null,null,null,null,null,null,null,null,null,null,null,null,null,null,null,null,null,null,null,null,"DO9",901]
[null,null,null,null,null,null,null,null,null,null,null,null,null,null,null,null,null,null,null,null,null,null,null,null,null,"DP0",902]
[null,null,null,null,null,null,null,null,null,null,null,null,null,null,null,null,null,null,null,null,null,null,null,null,null,"DP1",903]
[null,null,null,null,null,null,null,null,null,null,null,null,null,null,null,null,null,null,null,null,null,null,null,null,null,"DP2",904]
[null,null,null,null,null,null,null,null,null,null,null,null,null,null,null,null,null,null,null,null,null,null,null,null,null,"DP3",905]
[null,null,null,null,null,null,null,null,null,null,null,null,null,null,null,null,null,null,null,null,null,null,null,null,null,"DP4",906]
[null,null,null,null,null,null,null,null,null,null,null,null,null,null,null,null,null,null,null,null,null,null,null,null,null,"DP5",907]
[null,null,null,null,null,null,null,null,null,null,null,null,null,null,null,null,null,null,null,null,null,null,null,null,null,"DP6",908]
[null,null,null,null,null,null,null,null,null,null,null,null,null,null,null,null,null,null,null,null,null,null,null,null,null,"DP7",909]
[null,null,null,null,null,null,null,null,null,null,null,null,null,null,null,null,null,null,null,null,null,null,null,null,null,"DP8",910]
[null,null,null,null,null,null,null,null,null,null,null,null,null,null,null,null,null,null,null,null,null,null,null,null,null,"DP9",911]
[null,null,null,null,null,null,null,null,null,null,null,null,null,null,null,null,null,null,null,null,null,null,null,null,null,"DQ0",912]
[null,null,null,null,null,null,null,null,null,null,null,null,null,null,null,null,null,null,null,null,null,null,null,null,null,"DQ1",913]
[null,null,null,null,null,null,null,null,null,null,null,null,null,null,null,null,null,null,null,null,null,null,null,null,null,"DQ2",914]
[null,null,null,null,null,null,null,null,null,null,null,null,null,null,null,null,null,null,null,null,null,null,null,null,null,"DQ3",915]
[null,null,null,null,null,null,null,null,null,null,null,null,null,null,null,null,null,null,null,null,null,null,null,null,null,"DQ4",916]
[null,null,null,null,null,null,null,null,null,null,null,null,null,null,null,null,null,null,null,null,null,null,null,null,null,"DQ5",917]
[null,null,null,null,null,null,null,null,null,null,null,null,null,null,null,null,null,null,null,null,null,null,null,null,null,"DQ6",918]
[null,null,null,null,null,null,null,null,null,null,null,null,null,null,null,null,null,null,null,null,null,null,null,null,null,"DQ7",919]
[null,null,null,null,null,null,null,null,null,null,null,null,null,null,null,null,null,null,null,null,null,null,null,null,null,"DQ8",920]
[null,null,null,null,null,null,null,null,null,null,null,null,null,null,null,null,null,null,null,null,null,null,null,null,null,"DQ9",921]
[null,null,null,null,null,null,null,null,null,null,null,null,null,null,null,null,null,null,null,null,null,null,null,null,null,"DR0",922]
[null,null,null,null,null,null,null,null,null,null,null,null,null,null,null,null,null,null,null,null,null,null,null,null,null,"DR1",923]
[null,null,null,null,null,null,null,null,null,null,null,null,null,null,null,null,null,null,null,null,null,null,null,null,null,"DR2",924]
[null,null,null,null,null,null,null,null,null,null,null,null,null,null,null,null,null,null,null,null,null,null,null,null,null,"DR3",925]
[null,null,null,null,null,null,null,null,null,null,null,null,null,null,null,null,null,null,null,null,null,null,null,null,null,"DR4",926]
[null,null,null,null,null,null,null,null,null,null,null,null,null,null,null,null,null,null,null,null,null,null,null,null,null,"DR5",927]
[null,null,null,null,null,null,null,null,null,null,null,null,null,null,null,null,null,null,null,null,null,null,null,null,null,"DR6",928]
[null,null,null,null,null,null,null,null,null,null,null,null,null,null,null,null,null,null,null,null,null,null,null,null,null,"DR7",929]
[null,null,null,null,null,null,null,null,null,null,null,null,null,null,null,null,null,null,null,null,null,null,null,null,null,"DR8",930]
[null,null,null,null,null,null,null,null,null,null,null,null,null,null,null,null,null,null,null,null,null,null,null,null,null,"DR9",931]
[null,null,null,null,null,null,null,null,null,null,null,null,null,null,null,null,null,null,null,null,null,null,null,null,null,"DS0",932]
[null,null,null,null,null,null,null,null,null,null,null,null,null,null,null,null,null,null,null,null,null,null,null,null,null,"DS1",933]
[null,null,null,null,null,null,null,null,null,null,null,null,null,null,null,null,null,null,null,null,null,null,null,null,null,"DS2",934]
[null,null,null,null,null,null,null,null,null,null,null,null,null,null,null,null,null,null,null,null,null,null,null,null,null,"DS3",935]
[null,null,null,null,null,null,null,null,null,null,null,null,null,null,null,null,null,null,null,null,null,null,null,null,null,"DS4",936]
[null,null,null,null,null,null,null,null,null,null,null,null,null,null,null,null,null,null,null,null,null,null,null,null,null,"DS5",937]
[null,null,null,null,null,null,null,null,null,null,null,null,null,null,null,null,null,null,null,null,null,null,null,null,null,"DS6",938]
[null,null,null,null,null,null,null,null,null,null,null,null,null,null,null,null,null,null,null,null,null,null,null,null,null,"DS7",939]
[null,null,null,null,null,null,null,null,null,null,null,null,null,null,null,null,null,null,null,null,null,null,null,null,null,"DS8",940]
[null,null,null,null,null,null,null,null,null,null,null,null,null,null,null,null,null,null,null,null,null,null,null,null,null,"DS9",941]
[null,null,null,null,null,null,null,null,null,null,null,null,null,null,null,null,null,null,null,null,null,null,null,null,null,"DT0",942]
[null,null,null,null,null,null,null,null,null,null,null,null,null,null,null,null,null,null,null,null,null,null,null,null,null,"DT1",943]
[null,null,null,null,null,null,null,null,null,null,null,null,null,null,null,null,null,null,null,null,null,null,null,null,null,"DT2",944]
[null,null,null,null,null,null,null,null,null,null,null,null,null,null,null,null,null,null,null,null,null,null,null,null,null,"DT3",945]
[null,null,null,null,null,null,null,null,null,null,null,null,null,null,null,null,null,null,null,null,null,null,null,null,null,"DT4",946]
[null,null,null,null,null,null,null,null,null,null,null,null,null,null,null,null,null,null,null,null,null,null,null,null,null,"DT5",947]
[null,null,null,null,null,null,null,null,null,null,null,null,null,null,null,null,null,null,null,null,null,null,null,null,null,"DT6",948]
[null,null,null,null,null,null,null,null,null,null,null,null,null,null,null,null,null,null,null,null,null,null,null,null,null,"DT7",949]
[null,null,null,null,null,null,null,null,null,null,null,null,null,null,null,null,null,null,null,null,null,null,null,null,null,"DT8",950]
[null,null,null,null,null,null,null,null,null,null,null,null,null,null,null,null,null,null,null,null,null,null,null,null,null,"DT9",951]
[null,null,null,null,null,null,null,null,null,null,null,null,null,null,null,null,null,null,null,null,null,null,null,null,null,"DU0",952]
[null,null,null,null,null,null,null,null,null,null,null,null,null,null,null,null,null,null,null,null,null,null,null,null,null,"DU1",953]
[null,null,null,null,null,null,null,null,null,null,null,null,null,null,null,null,null,null,null,null,null,null,null,null,null,"DU2",954]
[null,null,null,null,null,null,null,null,null,null,null,null,null,null,null,null,null,null,null,null,null,null,null,null,null,"DU3",955]
[null,null,null,null,null,null,null,null,null,null,null,null,null,null,null,null,null,null,null,null,null,null,null,null,null,"DU4",956]
[null,null,null,null,null,null,null,null,null,null,null,null,null,null,null,null,null,null,null,null,null,null,null,null,null,"DU5",957]
[null,null,null,null,null,null,null,null,null,null,null,null,null,null,null,null,null,null,null,null,null,null,null,null,null,"DU6",958]
[null,null,null,null,null,null,null,null,null,null,null,null,null,null,null,null,null,null,null,null,null,null,null,null,null,"DU7",959]
[null,null,null,null,null,null,null,null,null,null,null,null,null,null,null,null,null,null,null,null,null,null,null,null,null,"DU8",960]
[null,null,null,null,null,null,null,null,null,null,null,null,null,null,null,null,null,null,null,null,null,null,null,null,null,"DU9",961]
[null,null,null,null,null,null,null,null,null,null,null,null,null,null,null,null,null,null,null,null,null,null,null,null,null,"DV0",962]
[null,null,null,null,null,null,null,null,null,null,null,null,null,null,null,null,null,null,null,null,null,null,null,null,null,"DV1",963]
[null,null,null,null,null,null,null,null,null,null,null,null,null,null,null,null,null,null,null,null,null,null,null,null,null,"DV2",964]
[null,null,null,null,null,null,null,null,null,null,null,null,null,null,null,null,null,null,null,null,null,null,null,null,null,"DV3",965]
[null,null,null,null,null,null,null,null,null,null,null,null,null,null,null,null,null,null,null,null,null,null,null,null,null,"DV4",966]
[null,null,null,null,null,null,null,null,null,null,null,null,null,null,null,null,null,null,null,null,null,null,null,null,null,"DV5",967]
[null,null,null,null,null,null,null,null,null,null,null,null,null,null,null,null,null,null,null,null,null,null,null,null,null,"DV6",968]
[null,null,null,null,null,null,null,null,null,null,null,null,null,null,null,null,null,null,null,null,null,null,null,null,null,"DV7",969]
[null,null,null,null,null,null,null,null,null,null,null,null,null,null,null,null,null,null,null,null,null,null,null,null,null,"DV8",970]
[null,null,null,null,null,null,null,null,null,null,null,null,null,null,null,null,null,null,null,null,null,null,null,null,null,"DV9",971]
[null,null,null,null,null,null,null,null,null,null,null,null,null,null,null,null,null,null,null,null,null,null,null,null,null,"DW0",972]
[null,null,null,null,null,null,null,null,null,null,null,null,null,null,null,null,null,null,null,null,null,null,null,null,null,"DW1",973]
[null,null,null,null,null,null,null,null,null,null,null,null,null,null,null,null,null,null,null,null,null,null,null,null,null,"DW2",974]
[null,null,null,null,null,null,null,null,null,null,null,null,null,null,null,null,null,null,null,null,null,null,null,null,null,"DW3",975]
[null,null,null,null,null,null,null,null,null,null,null,null,null,null,null,null,null,null,null,null,null,null,null,null,null,"DW4",976]
[null,null,null,null,null,null,null,null,null,null,null,null,null,null,null,null,null,null,null,null,null,null,null,null,null,"DW5",977]
[null,null,null,null,null,null,null,null,null,null,null,null,null,null,null,null,null,null,null,null,null,null,null,null,null,"DW6",978]
[null,null,null,null,null,null,null,null,null,null,null,null,null,null,null,null,null,null,null,null,null,null,null,null,null,"DW7",979]
[null,null,null,null,null,null,null,null,null,null,null,null,null,null,null,null,null,null,null,null,null,null,null,null,null,"DW8",980]
[null,null,null,null,null,null,null,null,null,null,null,null,null,null,null,null,null,null,null,null,null,null,null,null,null,"DW9",981]
[null,null,null,null,null,null,null,null,null,null,null,null,null,null,null,null,null,null,null,null,null,null,null,null,null,"DX0",982]
[null,null,null,null,null,null,null,null,null,null,null,null,null,null,null,null,null,null,null,null,null,null,null,null,null,"DX1",983]
[null,null,null,null,null,null,null,null,null,null,null,null,null,null,null,null,null,null,null,null,null,null,null,null,null,"DX2",984]
[null,null,null,null,null,null,null,null,null,null,null,null,null,null,null,null,null,null,null,null,null,null,null,null,null,"DX3",985]
[null,null,null,null,null,null,null,null,null,null,null,null,null,null,null,null,null,null,null,null,null,null,null,null,null,"DX4",986]
[null,null,null,null,null,null,null,null,null,null,null,null,null,null,null,null,null,null,null,null,null,null,null,null,null,"DX5",987]
[null,null,null,null,null,null,null,null,null,null,null,null,null,null,null,null,null,null,null,null,null,null,null,null,null,"DX6",988]
[null,null,null,null,null,null,null,null,null,null,null,null,null,null,null,null,null,null,null,null,null,null,null,null,null,"DX7",989]
[null,null,null,null,null,null,null,null,null,null,null,null,null,null,null,null,null,null,null,null,null,null,null,null,null,"DX8",990]
[null,null,null,null,null,null,null,null,null,null,null,null,null,null,null,null,null,null,null,null,null,null,null,null,null,"DX9",991]
[null,null,null,null,null,null,null,null,null,null,null,null,null,null,null,null,null,null,null,null,null,null,null,null,null,"DY0",992]
[null,null,null,null,null,null,null,null,null,null,null,null,null,null,null,null,null,null,null,null,null,null,null,null,null,"DY1",993]
[null,null,null,null,null,null,null,null,null,null,null,null,null,null,null,null,null,null,null,null,null,null,null,null,null,"DY2",994]
[null,null,null,null,null,null,null,null,null,null,null,null,null,null,null,null,null,null,null,null,null,null,null,null,null,"DY3",995]
[null,null,null,null,null,null,null,null,null,null,null,null,null,null,null,null,null,null,null,null,null,null,null,null,null,"DY4",996]
[null,null,null,null,null,null,null,null,null,null,null,null,null,null,null,null,null,null,null,null,null,null,null,null,null,"DY5",997]
[null,null,null,null,null,null,null,null,null,null,null,null,null,null,null,null,null,null,null,null,null,null,null,null,null,"DY6",998]
[null,null,null,null,null,null,null,null,null,null,null,null,null,null,null,null,null,null,null,null,null,null,null,null,null,"DY7",999]
[null,null,null,null,null,null,null,null,null,null,null,null,null,null,null,null,null,null,null,null,null,null,null,null,null,"DY8",1000]
[null,null,null,null,null,null,null,null,null,null,null,null,null,null,null,null,null,null,null,null,null,null,null,null,null,"DY9",1001]

{"sheet":"KPICreate","index":1,"n_rows":16038,"n_cols":298,"rows_kept":16038,"cut":false,"hidden":false,"merged":[[36,0,36,2],[36,5,36,9],[36,10,36,11],[36,12,36,13],[36,14,36,18],[36,19,36,20],[32,2,33,2],[34,2,35,2],[34,6,35,6],[32,7,33,7],[34,7,35,7],[32,16,33,16],[34,16,35,16],[32,18,33,18],[34,18,35,18],[32,20,33,20],[34,20,35,20],[32,1,33,1],[34,1,35,1],[32,8,33,8],[34,8,35,8],[32,9,33,9],[34,9,35,9],[32,10,33,10],[30,4,31,4],[30,5,31,5],[30,6,31,6],[28,6,29,6],[28,8,29,8],[28,9,29,9],[28,1,29,1],[28,2,29,2],[28,4,29,4],[30,9,31,9],[30,1,31,1],[30,2,31,2],[26,1,27,1],[26,2,27,2],[26,4,27,4],[26,5,27,5],[26,6,27,6],[26,8,27,8],[26,9,27,9],[24,14,25,14],[26,10,27,10],[26,12,27,12],[26,14,27,14],[24,1,25,1],[24,2,25,2],[24,7,25,7],[26,7,27,7],[24,4,25,4],[24,5,25,5],[24,6,25,6],[24,8,25,8],[24,20,25,20],[24,9,25,9],[24,10,25,10],[24,12,25,12],[24,16,25,16],[24,18,25,18],[18,10,19,10],[18,12,19,12],[18,14,19,14],[18,16,19,16],[18,18,19,18],[18,20,19,20],[20,16,21,16],[20,18,21,18],[20,20,21,20],[20,9,21,9],[20,10,21,10],[20,12,21,12],[20,14,21,14],[22,18,23,18],[22,20,23,20],[22,9,23,9],[22,10,23,10],[22,12,23,12],[26,16,27,16],[28,5,29,5],[30,18,31,18],[30,20,31,20],[26,18,27,18],[26,20,27,20],[28,20,29,20],[30,16,31,16],[30,14,31,14],[28,7,29,7],[30,7,31,7],[30,8,31,8],[28,16,29,16],[28,18,29,18],[28,10,29,10],[28,12,29,12],[28,14,29,14],[30,10,31,10],[30,12,31,12],[22,14,23,14],[22,16,23,16],[22,1,23,1],[22,2,23,2],[22,4,23,4],[22,5,23,5],[22,6,23,6],[20,6,21,6],[20,8,21,8],[20,1,21,1],[20,2,21,2],[20,4,21,4],[20,5,21,5],[22,8,23,8],[20,7,21,7],[22,7,23,7],[16,20,17,20],[18,1,19,1],[18,2,19,2],[18,4,19,4],[18,5,19,5],[18,6,19,6],[18,8,19,8],[18,9,19,9],[16,9,17,9],[16,10,17,10],[16,12,17,12],[16,14,17,14],[16,16,17,16],[16,18,17,18],[16,1,17,1],[16,2,17,2],[16,6,17,6],[16,8,17,8],[16,4,17,4],[16,7,17,7],[18,7,19,7],[16,5,17,5],[8,20,9,20],[12,14,13,14],[14,1,15,1],[14,2,15,2],[14,4,15,4],[14,5,15,5],[14,6,15,6],[12,6,13,6],[12,8,13,8],[12,9,13,9],[12,1,13,1],[12,2,13,2],[12,4,13,4],[12,5,13,5],[12,7,13,7],[14,7,15,7],[14,8,15,8],[14,18,15,18],[14,20,15,20],[10,10,11,10],[10,12,11,12],[10,14,11,14],[10,16,11,16],[10,18,11,18],[10,20,11,20],[14,9,15,9],[14,10,15,10],[14,12,15,12],[14,14,15,14],[14,16,15,16],[12,16,13,16],[12,18,13,18],[12,20,13,20],[12,10,13,10],[12,12,13,12],[8,12,9,12],[8,14,9,14],[8,16,9,16],[6,10,7,10],[6,8,7,8],[8,9,9,9],[8,18,9,18],[4,18,5,18],[8,4,9,4],[8,5,9,5],[8,6,9,6],[6,12,7,12],[6,14,7,14],[6,6,7,6],[6,18,7,18],[6,20,7,20],[6,9,7,9],[1,11,2,11],[1,12,2,12],[1,13,2,13],[1,14,2,14],[1,15,2,15],[1,16,2,16],[4,10,5,10],[4,12,5,12],[4,14,5,14],[6,16,7,16],[4,20,5,20],[4,9,5,9],[0,10,2,10],[0,1,2,1],[4,6,5,6],[4,8,5,8],[1,17,2,17],[1,18,2,18],[1,19,2,19],[1,20,2,20],[4,1,5,1],[4,2,5,2],[4,4,5,4],[4,5,5,5],[0,5,2,5],[0,4,2,4],[0,7,2,7],[0,0,2,0],[0,6,2,6],[0,9,2,9],[4,7,5,7],[0,8,2,8],[4,16,5,16],[10,1,11,1],[10,2,11,2],[10,4,11,4],[10,5,11,5],[10,6,11,6],[10,8,11,8],[10,9,11,9],[8,8,9,8],[10,7,11,7],[6,1,7,1],[6,2,7,2],[6,4,7,4],[6,7,7,7],[8,7,9,7],[8,1,9,1],[8,2,9,2],[8,10,9,10],[6,5,7,5],[34,10,35,10],[32,12,33,12],[34,12,35,12],[32,14,33,14],[34,14,35,14],[32,4,33,4],[34,4,35,4],[32,5,33,5],[34,5,35,5],[32,6,33,6],[1,21,2,21],[1,22,2,22],[1,23,2,23],[1,24,2,24],[1,25,2,25],[1,26,2,26],[4,22,5,22],[6,22,7,22],[8,22,9,22],[4,26,5,26],[6,26,7,26],[8,26,9,26],[34,24,35,24],[10,22,11,22],[12,22,13,22],[14,22,15,22],[16,22,17,22],[18,22,19,22],[20,22,21,22],[22,22,23,22],[24,22,25,22],[26,22,27,22],[16,24,17,24],[18,24,19,24],[20,24,21,24],[22,24,23,24],[24,24,25,24],[26,24,27,24],[28,24,29,24],[30,24,31,24],[32,24,33,24],[28,26,29,26],[30,26,31,26],[32,26,33,26],[34,26,35,26],[0,11,0,26],[10,26,11,26],[12,26,13,26],[14,26,15,26],[16,26,17,26],[18,26,19,26],[20,26,21,26],[22,26,23,26],[24,26,25,26],[26,26,27,26],[28,22,29,22],[30,22,31,22],[32,22,33,22],[34,22,35,22],[4,24,5,24],[6,24,7,24],[8,24,9,24],[10,24,11,24],[12,24,13,24],[14,24,15,24]]}
["Terima Cascade Dari?","ID KPI",null,null,"Metoda\nUkuran","SMART\nSasaran\n(Elakkan 0)","Jenis","Wk Mula","Wk Dead Line","Cascade Ke Bawah?","Kontribusi\nSendiri","Cascade Ke Bawah"]
[null,null,"                Deskripsi Spesifik KPI","«\nWajaran",null,null,null,null,null,null,null,"Cascade\n1","Kontribusi","Cascade\n2","Kontribusi","Cascade\n3","Kontribusi","Cascade\n4","Kontribusi","Cascade\n5","Kontribusi","Cascade\n6","Kontrib","Cascade\n7","Kontrib","Cascade\n8","Kontrib"]
[null,null,null,"%",null,null,null,null,null,null,null,null,null,null,null,null,null,null,null,null,null,null,null,null,null,null,null,null,null,null,null,null,null,null,null,null,null,null,null,null,null,null,null,null,null,null,null,null,null,null,null,null,null,null,null,null,null,null,null,null,null,null,null,null,null,null,null,null,null,null,null,null,null,null,null,null,null,null,{"$f":"IF(CA4>BI4,TRUE,FALSE)","v":false}]
[2020,null,{"$f":"CONCATENATE(Home!H6,\": \",Home!H10)","v":"ADAM NAUFAL HASMADI: PEN. KETUA PEMASARAN DAN PERKHIDMATAN"}]
["Rashidi","DM101","WK01 Mencapai sasaran pendapatan korporat yang meningkat bagi Sektor Perumahan (RM Juta)","5⍟","Number",38.5,"A",1,52,"Absolute",18.5,"Raymond",10,"Linda",10,null,null,null,null,null,null,null,null,null,null,null,null,null,null,null,null,null,null,null,null,null,null,null,null,null,null,null,null,null,null,null,null,null,{"$f":"IFERROR(VALUE(LEFT(D5,1)),\"\")","v":5},null,"01"]
["BM301",null,null,{"$f":"IFERROR($AW5*100/$AW$21,0)","v":22.727272727272727},null,null,null,null,null,null,null,"CG801",null,"DK602",null,null,null,null,null,null,null,null,null,null,null,null,null,null,null,null,null,null,null,null,null,null,null,null,null,null,null,null,null,null,null,null,null,null,{"$f":"IFERROR(VALUE(LEFT(D7,1)),\"\")","v":3},null,"02"]
[null,"DM102","BP03 Mengekalkan pembayaran pulang deposit pelanggan sewaan dalam tempoh yang optimum (Bil Hari)","3⍟","MaxLimit",14,"M",1,52,"No",null,null,null,null,null,null,null,null,null,null,null,null,null,null,null,null,null,null,null,null,null,null,null,null,null,null,null,null,null,null,null,null,null,null,null,null,null,null,{"$f":"IFERROR(VALUE(LEFT(D9,1)),\"\")","v":3},null,"03"]
[null,null,null,{"$f":"IFERROR($AW6*100/$AW$21,0)","v":13.636363636363637},null,null,null,null,null,null,null,null,null,null,null,null,null,null,null,null,null,null,null,null,null,null,null,null,null,null,null,null,null,null,null,null,null,null,null,null,null,null,null,null,null,null,null,null,{"$f":"IFERROR(VALUE(LEFT(D11,1)),\"\")","v":4},null,"04"]
[null,"DM103","BP49 Mengekalkan Penghantaran shipment Pelanggan menepati sasaran","3⍟","Percentage",95,"M",1,52,"%Prorated",80,"Raymond",20,null,null,null,null,null,null,null,null,null,null,null,null,null,null,null,null,null,null,null,null,null,null,null,null,null,null,null,null,null,null,null,null,null,null,null,{"$f":"IFERROR(VALUE(LEFT(D13,1)),\"\")","v":3},null,"05"]
[null,null,null,{"$f":"IFERROR($AW7*100/$AW$21,0)","v":13.636363636363637},null,null,null,null,null,null,null,"CG802",null,null,null,null,null,null,null,null,null,null,null,null,null,null,null,null,null,null,null,null,null,null,null,null,null,null,null,null,null,null,null,null,null,null,null,null,{"$f":"IFERROR(VALUE(LEFT(D15,1)),\"\")","v":4},null,"06"]
["Rashidi","DM104","BP19 Mencapai penyempurnaan survei kajian penyelidikan 5 Klien-Produk","4⍟","Percentage",90,"A",1,44,"%Prorated",70,"Linda",30,null,null,null,null,null,null,null,null,null,null,null,null,null,null,null,null,null,null,null,null,null,null,null,null,null,null,null,null,null,null,null,null,null,null,null,{"$f":"IFERROR(VALUE(LEFT(D17,1)),\"\")","v":""},null,"07"]
["BM303",null,null,{"$f":"IFERROR($AW8*100/$AW$21,0)","v":18.181818181818183},null,null,null,null,null,null,null,"DK604",null,null,null,null,null,null,null,null,null,null,null,null,null,null,null,null,null,null,null,null,null,null,null,null,null,null,null,null,null,null,null,null,null,null,null,null,{"$f":"IFERROR(VALUE(LEFT(D19,1)),\"\")","v":""},null,"08"]
[null,"DM105","OR04 Mengekalkan penyempurnaan kerja-kerja adhoc pemasaran dan perkhidmatan seperti yang diperlukan oleh Jabatan","3⍟","Percentage",95,"M",1,52,"No",null,null,null,null,null,null,null,null,null,null,null,null,null,null,null,null,null,null,null,null,null,null,null,null,null,null,null,null,null,null,null,null,null,null,null,null,null,null,{"$f":"IFERROR(VALUE(LEFT(D21,1)),\"\")","v":""},null,"09"]
[null,null,null,{"$f":"IFERROR($AW9*100/$AW$21,0)","v":13.636363636363637},null,null,null,null,null,null,null,null,null,null,null,null,null,null,null,null,null,null,null,null,null,null,null,null,null,null,null,null,null,null,null,null,null,null,null,null,null,null,null,null,null,null,null,null,{"$f":"IFERROR(VALUE(LEFT(D23,1)),\"\")","v":""},null,"10"]
[null,"DM106","OR05 Mencapai pensijilan ISO18001:2007 oleh badan pensijilan","4⍟","Yes/No","Yes","A",10,45,"No",null,null,null,null,null,null,null,null,null,null,null,null,null,null,null,null,null,null,null,null,null,null,null,null,null,null,null,null,null,null,null,null,null,null,null,null,null,null,{"$f":"IFERROR(VALUE(LEFT(D25,1)),\"\")","v":""},null,"11"]
[null,null,null,{"$f":"IFERROR($AW10*100/$AW$21,0)","v":18.181818181818183},null,null,null,null,null,null,null,null,null,null,null,null,null,null,null,null,null,null,null,null,null,null,null,null,null,null,null,null,null,null,null,null,null,null,null,null,null,null,null,null,null,null,null,null,{"$f":"IFERROR(VALUE(LEFT(D27,1)),\"\")","v":""},null,"12"]
[null,"DM107",null,null,null,null,null,null,null,null,null,null,null,null,null,null,null,null,null,null,null,null,null,null,null,null,null,null,null,null,null,null,null,null,null,null,null,null,null,null,null,null,null,null,null,null,null,null,{"$f":"IFERROR(VALUE(LEFT(D29,1)),\"\")","v":""},null,"13"]
[null,null,null,{"$f":"IFERROR($AW11*100/$AW$21,0)","v":0},null,null,null,null,null,null,null,null,null,null,null,null,null,null,null,null,null,null,null,null,null,null,null,null,null,null,null,null,null,null,null,null,null,null,null,null,null,null,null,null,null,null,null,null,{"$f":"IFERROR(VALUE(LEFT(D31,1)),\"\")","v":""},null,"14"]
[null,"DM108",null,null,null,null,null,null,null,null,null,null,null,null,null,null,null,null,null,null,null,null,null,null,null,null,null,null,null,null,null,null,null,null,null,null,null,null,null,null,null,null,null,null,null,null,null,null,{"$f":"IFERROR(VALUE(LEFT(D33,1)),\"\")","v":""},null,"15"]
[null,null,null,{"$f":"IFERROR($AW12*100/$AW$21,0)","v":0},null,null,null,null,null,null,null,null,null,null,null,null,null,null,null,null,null,null,null,null,null,null,null,null,null,null,null,null,null,null,null,null,null,null,null,null,null,null,null,null,null,null,null,null,{"$f":"IFERROR(VALUE(LEFT(D35,1)),\"\")","v":""},null,"16",null,null,null,null,null,null,null,null,null,null,null,null,null,null,null,null,null,null,null,null,null,null,null,null,null,null,null,null,null,null,null,null,null,null,null,null,null,null,null,null,null,null,null,null,null,null,null,null,null,null,null,null,null,null,null,null,null,null,null,null,null,null,null,null,null,null,null,null,null,null,null,null,null,null,null,null,null,null,null,null,null,null,null,null,null,null,null,null,null,null,null,null,null,null,null,null,null,null,null,null,null,null,null,null,null,null,null,null,null,null,null,null,null,null,null,null,null,null,null,null,null,null,null,null,null,null,null,null,null,null,null,null,null,null,null,null,null,null,null,null,null,null,null,null,null,null,null,null,null,null,null,null,null,null,null,null,null,null,null,null,null,null,null,null,null,null,null,null,null,null,null,null,null,null,null,null,null,null,null,null,null,null,null,null,null,null,null,null,null,null,null,null,null,null,null,null,null,null,null,null,null,null,null,null,null,null,null,null,null,null,null,null,null,null,null,null,null,null,null,null,null,null,null,null,null,null,null,null,null,null,null,null,null,null,null,null,null,null,null,null,null,null,null,null,null,null,true]
[null,"DM109",null,null,null,null,null,null,null,null,null,null,null,null,null,null,null,null,null,null,null,null,null,null,null,null,null,null,null,null,null,null,null,null,null,null,null,null,null,null,null,null,null,null,null,null,null,null,{"$f":"IFERROR(IF(SUM(AW5:AW20)=0,1,SUM(AW5:AW20)),1)","v":22}]
[null,null,null,{"$f":"IFERROR($AW13*100/$AW$21,0)","v":0},null,null,null,null,null,null,null,null,null,null,null,null,null,null,null,null,null,null,null,null,null,null,null,null,null,null,null,null,null,null,null,null,null,null,null,null,null,null,null,null,null,null,null,null,null,null,0]
[null,"DM110",null,null,null,null,null,null,null,null,null,null,null,null,null,null,null,null,null,null,null,null,null,null,null,null,null,null,null,null,null,null,null,null,null,null,null,null,null,null,null,null,null,null,null,null,null,null,null,null,"1⍟"]
[null,null,null,{"$f":"IFERROR($AW14*100/$AW$21,0)","v":0},null,null,null,null,null,null,null,null,null,null,null,null,null,null,null,null,null,null,null,null,null,null,null,null,null,null,null,null,null,null,null,null,null,null,null,null,null,null,null,null,null,null,null,null,null,null,"2⍟"]
[null,"DM111",null,null,null,null,null,null,null,null,null,null,null,null,null,null,null,null,null,null,null,null,null,null,null,null,null,null,null,null,null,null,null,null,null,null,null,null,null,null,null,null,null,null,null,null,null,null,null,null,"3⍟"]
[null,null,null,{"$f":"IFERROR($AW15*100/$AW$21,0)","v":0},null,null,null,null,null,null,null,null,null,null,null,null,null,null,null,null,null,null,null,null,null,null,null,null,null,null,null,null,null,null,null,null,null,null,null,null,null,null,null,null,null,null,null,null,null,null,"4⍟"]
[null,"DM112",null,null,null,null,null,null,null,null,null,null,null,null,null,null,null,null,null,null,null,null,null,null,null,null,null,null,null,null,null,null,null,null,null,null,null,null,null,null,null,null,null,null,null,null,null,null,null,null,"5⍟"]
[null,null,null,{"$f":"IFERROR($AW16*100/$AW$21,0)","v":0}]
[null,"DM113"]
[null,null,null,{"$f":"IFERROR($AW17*100/$AW$21,0)","v":0}]
[null,"DM114"]
[null,null,null,{"$f":"IFERROR($AW18*100/$AW$21,0)","v":0}]
[null,"DM115"]
[null,null,null,{"$f":"IFERROR($AW19*100/$AW$21,0)","v":0}]
[null,"DM116"]
[null,null,null,{"$f":"IFERROR($AW20*100/$AW$21,0)","v":0}]
[{"$f":"CONCATENATE(Home!A43,Home!P41,\"KPICreate.jpg\")","v":"C:\\Users\\Zaharin\\Desktop\\Leadersense\\Software\\PowerExec-xL\\Release Ver10.0\\SAMPEL\\SAMPELDM1KPICreate.jpg"},null,null,{"$f":"D6+D8+D10+D12+D14+D16+D18+D20+D22+D24+D26+D28+D30+D32+D34+D36","v":100.00000000000001},"Empunya:","Tandatangan",null,null,null,null,"Tarikh",null,"Diluluskan:",null,"Tandatangan",null,null,null,null,"Tarikh"]
[null,null,null,"Form design by LEADERSENSE CONSULTING & SYSTEMS SDN BHD © 2016"]
["AA001"]
["AA002"]
["AA003"]
["AA004"]
["AA005"]
["AA006"]
["AA007"]
["AA008"]
["AA009"]
["AA010"]
["AA011"]
["AA012"]
["AA013"]
["AA014"]
["AA015"]
["AA016"]
["AA101"]
["AA102"]
["AA103"]
["AA104"]
["AA105"]
["AA106"]
["AA107"]
["AA108"]
["AA109"]
["AA110"]
["AA111"]
["AA112"]
["AA113"]
["AA114"]
["AA115"]
["AA116"]
["AA201"]
["AA202"]
["AA203"]
["AA204"]
["AA205"]
["AA206"]
["AA207"]
["AA208"]
["AA209"]
["AA210"]
["AA211"]
["AA212"]
["AA213"]
["AA214"]
["AA215"]
["AA216"]
["AA301"]
["AA302"]
["AA303"]
["AA304"]
["AA305"]
["AA306"]
["AA307"]
["AA308"]
["AA309"]
["AA310"]
["AA311"]
["AA312"]
["AA313"]
["AA314"]
["AA315"]
["AA316"]
["AA401"]
["AA402"]
["AA403"]
["AA404"]
["AA405"]
["AA406"]
["AA407"]
["AA408"]
["AA409"]
["AA410"]
["AA411"]
["AA412"]
["AA413"]
["AA414"]
["AA415"]
["AA416"]
["AA501"]
["AA502"]
["AA503"]
["AA504"]
["AA505"]
["AA506"]
["AA507"]
["AA508"]
["AA509"]
["AA510"]
["AA511"]
["AA512"]
["AA513"]
["AA514"]
["AA515"]
["AA516"]
["AA601"]
["AA602"]
["AA603"]
["AA604"]
["AA605"]
["AA606"]
["AA607"]
["AA608"]
["AA609"]
["AA610"]
["AA611"]
["AA612"]
["AA613"]
["AA614"]
["AA615"]
["AA616"]
["AA701"]
["AA702"]
["AA703"]
["AA704"]
["AA705"]
["AA706"]
["AA707"]
["AA708"]
["AA709"]
["AA710"]
["AA711"]
["AA712"]
["AA713"]
["AA714"]
["AA715"]
["AA716"]
["AA801"]
["AA802"]
["AA803"]
["AA804"]
["AA805"]
["AA806"]
["AA807"]
["AA808"]
["AA809"]
["AA810"]
["AA811"]
["AA812"]
["AA813"]
["AA814"]
["AA815"]
["AA816"]
["AA901"]
["AA902"]
["AA903"]
["AA904"]
["AA905"]
["AA906"]
["AA907"]
["AA908"]
["AA909"]
["AA910"]
["AA911"]
["AA912"]
["AA913"]
["AA914"]
["AA915"]
["AA916"]
["AB001"]
["AB002"]
["AB003"]
["AB004"]
["AB005"]
["AB006"]
["AB007"]
["AB008"]
["AB009"]
["AB010"]
["AB011"]
["AB012"]
["AB013"]
["AB014"]
["AB015"]
["AB016"]
["AB101"]
["AB102"]
["AB103"]
["AB104"]
["AB105"]
["AB106"]
["AB107"]
["AB108"]
["AB109"]
["AB110"]
["AB111"]
["AB112"]
["AB113"]
["AB114"]
["AB115"]
["AB116"]
["AB201"]
["AB202"]
["AB203"]
["AB204"]
["AB205"]
["AB206"]
["AB207"]
["AB208"]
["AB209"]
["AB210"]
["AB211"]
["AB212"]
["AB213"]
["AB214"]
["AB215"]
["AB216"]
["AB301"]
["AB302"]
["AB303"]
["AB304"]
["AB305"]
["AB306"]
["AB307"]
["AB308"]
["AB309"]
["AB310"]
["AB311"]
["AB312"]
["AB313"]
["AB314"]
["AB315"]
["AB316"]
["AB401"]
["AB402"]
["AB403"]
["AB404"]
["AB405"]
["AB406"]
["AB407"]
["AB408"]
["AB409"]
["AB410"]
["AB411"]
["AB412"]
["AB413"]
["AB414"]
["AB415"]
["AB416"]
["AB501"]
["AB502"]
["AB503"]
["AB504"]
["AB505"]
["AB506"]
["AB507"]
["AB508"]
["AB509"]
["AB510"]
["AB511"]
["AB512"]
["AB513"]
["AB514"]
["AB515"]
["AB516"]
["AB601"]
["AB602"]
["AB603"]
["AB604"]
["AB605"]
["AB606"]
["AB607"]
["AB608"]
["AB609"]
["AB610"]
["AB611"]
["AB612"]
["AB613"]
["AB614"]
["AB615"]
["AB616"]
["AB701"]
["AB702"]
["AB703"]
["AB704"]
["AB705"]
["AB706"]
["AB707"]
["AB708"]
["AB709"]
["AB710"]
["AB711"]
["AB712"]
["AB713"]
["AB714"]
["AB715"]
["AB716"]
["AB801"]
["AB802"]
["AB803"]
["AB804"]
["AB805"]
["AB806"]
["AB807"]
["AB808"]
["AB809"]
["AB810"]
["AB811"]
["AB812"]
["AB813"]
["AB814"]
["AB815"]
["AB816"]
["AB901"]
["AB902"]
["AB903"]
["AB904"]
["AB905"]
["AB906"]
["AB907"]
["AB908"]
["AB909"]
["AB910"]
["AB911"]
["AB912"]
["AB913"]
["AB914"]
["AB915"]
["AB916"]
["AC001"]
["AC002"]
["AC003"]
["AC004"]
["AC005"]
["AC006"]
["AC007"]
["AC008"]
["AC009"]
["AC010"]
["AC011"]
["AC012"]
["AC013"]
["AC014"]
["AC015"]
["AC016"]
["AC101"]
["AC102"]
["AC103"]
["AC104"]
["AC105"]
["AC106"]
["AC107"]
["AC108"]
["AC109"]
["AC110"]
["AC111"]
["AC112"]
["AC113"]
["AC114"]
["AC115"]
["AC116"]
["AC201"]
["AC202"]
["AC203"]
["AC204"]
["AC205"]
["AC206"]
["AC207"]
["AC208"]
["AC209"]
["AC210"]
["AC211"]
["AC212"]
["AC213"]
["AC214"]
["AC215"]
["AC216"]
["AC301"]
["AC302"]
["AC303"]
["AC304"]
["AC305"]
["AC306"]
["AC307"]
["AC308"]
["AC309"]
["AC310"]
["AC311"]
["AC312"]
["AC313"]
["AC314"]
["AC315"]
["AC316"]
["AC401"]
["AC402"]
["AC403"]
["AC404"]
["AC405"]
["AC406"]
["AC407"]
["AC408"]
["AC409"]
["AC410"]
["AC411"]
["AC412"]
["AC413"]
["AC414"]
["AC415"]
["AC416"]
["AC501"]
["AC502"]
["AC503"]
["AC504"]
["AC505"]
["AC506"]
["AC507"]
["AC508"]
["AC509"]
["AC510"]
["AC511"]
["AC512"]
["AC513"]
["AC514"]
["AC515"]
["AC516"]
["AC601"]
["AC602"]
["AC603"]
["AC604"]
["AC605"]
["AC606"]
["AC607"]
["AC608"]
["AC609"]
["AC610"]
["AC611"]
["AC612"]
["AC613"]
["AC614"]
["AC615"]
["AC616"]
["AC701"]
["AC702"]
["AC703"]
["AC704"]
["AC705"]
["AC706"]
["AC707"]
["AC708"]
["AC709"]
["AC710"]
["AC711"]
["AC712"]
["AC713"]
["AC714"]
["AC715"]
["AC716"]
["AC801"]
["AC802"]
["AC803"]
["AC804"]
["AC805"]
["AC806"]
["AC807"]
["AC808"]
["AC809"]
["AC810"]
["AC811"]
["AC812"]
["AC813"]
["AC814"]
["AC815"]
["AC816"]
["AC901"]
["AC902"]
["AC903"]
["AC904"]
["AC905"]
["AC906"]
["AC907"]
["AC908"]
["AC909"]
["AC910"]
["AC911"]
["AC912"]
["AC913"]
["AC914"]
["AC915"]
["AC916"]
["AD001"]
["AD002"]
["AD003"]
["AD004"]
["AD005"]
["AD006"]
["AD007"]
["AD008"]
["AD009"]
["AD010"]
["AD011"]
["AD012"]
["AD013"]
["AD014"]
["AD015"]
["AD016"]
["AD101"]
["AD102"]
["AD103"]
["AD104"]
["AD105"]
["AD106"]
["AD107"]
["AD108"]
["AD109"]
["AD110"]
["AD111"]
["AD112"]
["AD113"]
["AD114"]
["AD115"]
["AD116"]
["AD201"]
["AD202"]
["AD203"]
["AD204"]
["AD205"]
["AD206"]
["AD207"]
["AD208"]
["AD209"]
["AD210"]
["AD211"]
["AD212"]
["AD213"]
["AD214"]
["AD215"]
["AD216"]
["AD301"]
["AD302"]
["AD303"]
["AD304"]
["AD305"]
["AD306"]
["AD307"]
["AD308"]
["AD309"]
["AD310"]
["AD311"]
["AD312"]
["AD313"]
["AD314"]
["AD315"]
["AD316"]
["AD401"]
["AD402"]
["AD403"]
["AD404"]
["AD405"]
["AD406"]
["AD407"]
["AD408"]
["AD409"]
["AD410"]
["AD411"]
["AD412"]
["AD413"]
["AD414"]
["AD415"]
["AD416"]
["AD501"]
["AD502"]
["AD503"]
["AD504"]
["AD505"]
["AD506"]
["AD507"]
["AD508"]
["AD509"]
["AD510"]
["AD511"]
["AD512"]
["AD513"]
["AD514"]
["AD515"]
["AD516"]
["AD601"]
["AD602"]
["AD603"]
["AD604"]
["AD605"]
["AD606"]
["AD607"]
["AD608"]
["AD609"]
["AD610"]
["AD611"]
["AD612"]
["AD613"]
["AD614"]
["AD615"]
["AD616"]
["AD701"]
["AD702"]
["AD703"]
["AD704"]
["AD705"]
["AD706"]
["AD707"]
["AD708"]
["AD709"]
["AD710"]
["AD711"]
["AD712"]
["AD713"]
["AD714"]
["AD715"]
["AD716"]
["AD801"]
["AD802"]
["AD803"]
["AD804"]
["AD805"]
["AD806"]
["AD807"]
["AD808"]
["AD809"]
["AD810"]
["AD811"]
["AD812"]
["AD813"]
["AD814"]
["AD815"]
["AD816"]
["AD901"]
["AD902"]
["AD903"]
["AD904"]
["AD905"]
["AD906"]
["AD907"]
["AD908"]
["AD909"]
["AD910"]
["AD911"]
["AD912"]
["AD913"]
["AD914"]
["AD915"]
["AD916"]
["AE001"]
["AE002"]
["AE003"]
["AE004"]
["AE005"]
["AE006"]
["AE007"]
["AE008"]
["AE009"]
["AE010"]
["AE011"]
["AE012"]
["AE013"]
["AE014"]
["AE015"]
["AE016"]
["AE101"]
["AE102"]
["AE103"]
["AE104"]
["AE105"]
["AE106"]
["AE107"]
["AE108"]
["AE109"]
["AE110"]
["AE111"]
["AE112"]
["AE113"]
["AE114"]
["AE115"]
["AE116"]
["AE201"]
["AE202"]
["AE203"]
["AE204"]
["AE205"]
["AE206"]
["AE207"]
["AE208"]
["AE209"]
["AE210"]
["AE211"]
["AE212"]
["AE213"]
["AE214"]
["AE215"]
["AE216"]
["AE301"]
["AE302"]
["AE303"]
["AE304"]
["AE305"]
["AE306"]
["AE307"]
["AE308"]
["AE309"]
["AE310"]
["AE311"]
["AE312"]
["AE313"]
["AE314"]
["AE315"]
["AE316"]
["AE401"]
["AE402"]
["AE403"]
["AE404"]
["AE405"]
["AE406"]
["AE407"]
["AE408"]
["AE409"]
["AE410"]
["AE411"]
["AE412"]
["AE413"]
["AE414"]
["AE415"]
["AE416"]
["AE501"]
["AE502"]
["AE503"]
["AE504"]
["AE505"]
["AE506"]
["AE507"]
["AE508"]
["AE509"]
["AE510"]
["AE511"]
["AE512"]
["AE513"]
["AE514"]
["AE515"]
["AE516"]
["AE601"]
["AE602"]
["AE603"]
["AE604"]
["AE605"]
["AE606"]
["AE607"]
["AE608"]
["AE609"]
["AE610"]
["AE611"]
["AE612"]
["AE613"]
["AE614"]
["AE615"]
["AE616"]
["AE701"]
["AE702"]
["AE703"]
["AE704"]
["AE705"]
["AE706"]
["AE707"]
["AE708"]
["AE709"]
["AE710"]
["AE711"]
["AE712"]
["AE713"]
["AE714"]
["AE715"]
["AE716"]
["AE801"]
["AE802"]
["AE803"]
["AE804"]
["AE805"]
["AE806"]
["AE807"]
["AE808"]
["AE809"]
["AE810"]
["AE811"]
["AE812"]
["AE813"]
["AE814"]
["AE815"]
["AE816"]
["AE901"]
["AE902"]
["AE903"]
["AE904"]
["AE905"]
["AE906"]
["AE907"]
["AE908"]
["AE909"]
["AE910"]
["AE911"]
["AE912"]
["AE913"]
["AE914"]
["AE915"]
["AE916"]
["AF001"]
["AF002"]
["AF003"]
["AF004"]
["AF005"]
["AF006"]
["AF007"]
["AF008"]
["AF009"]
["AF010"]
["AF011"]
["AF012"]
["AF013"]
["AF014"]
["AF015"]
["AF016"]
["AF101"]
["AF102"]
["AF103"]
["AF104"]
["AF105"]
["AF106"]
["AF107"]
["AF108"]
["AF109"]
["AF110"]
["AF111"]
["AF112"]
["AF113"]
["AF114"]
["AF115"]
["AF116"]
["AF201"]
["AF202"]
["AF203"]
["AF204"]
["AF205"]
["AF206"]
["AF207"]
["AF208"]
["AF209"]
["AF210"]
["AF211"]
["AF212"]
["AF213"]
["AF214"]
["AF215"]
["AF216"]
["AF301"]
["AF302"]
["AF303"]
["AF304"]
["AF305"]
["AF306"]
["AF307"]
["AF308"]
["AF309"]
["AF310"]
["AF311"]
["AF312"]
["AF313"]
["AF314"]
["AF315"]
["AF316"]
["AF401"]
["AF402"]
["AF403"]
["AF404"]
["AF405"]
["AF406"]
["AF407"]
["AF408"]
["AF409"]
["AF410"]
["AF411"]
["AF412"]
["AF413"]
["AF414"]
["AF415"]
["AF416"]
["AF501"]
["AF502"]
["AF503"]
["AF504"]
["AF505"]
["AF506"]
["AF507"]
["AF508"]
["AF509"]
["AF510"]
["AF511"]
["AF512"]
["AF513"]
["AF514"]
["AF515"]
["AF516"]
["AF601"]
["AF602"]
["AF603"]
["AF604"]
["AF605"]
["AF606"]
["AF607"]
["AF608"]
["AF609"]
["AF610"]
["AF611"]
["AF612"]
["AF613"]
["AF614"]
["AF615"]
["AF616"]
["AF701"]
["AF702"]
["AF703"]
["AF704"]
["AF705"]
["AF706"]
["AF707"]
["AF708"]
["AF709"]
["AF710"]
["AF711"]
["AF712"]
["AF713"]
["AF714"]
["AF715"]
["AF716"]
["AF801"]
["AF802"]
["AF803"]
["AF804"]
["AF805"]
["AF806"]
["AF807"]
["AF808"]
["AF809"]
["AF810"]
["AF811"]
["AF812"]
["AF813"]
["AF814"]
["AF815"]
["AF816"]
["AF901"]
["AF902"]
["AF903"]
["AF904"]
["AF905"]
["AF906"]
["AF907"]
["AF908"]
["AF909"]
["AF910"]
["AF911"]
["AF912"]
["AF913"]
["AF914"]
["AF915"]
["AF916"]
["AG001"]
["AG002"]
["AG003"]
["AG004"]
["AG005"]
["AG006"]
["AG007"]
["AG008"]
["AG009"]
["AG010"]
["AG011"]
["AG012"]
["AG013"]
["AG014"]
["AG015"]
["AG016"]
["AG101"]
["AG102"]
["AG103"]
["AG104"]
["AG105"]
["AG106"]
["AG107"]
["AG108"]
["AG109"]
["AG110"]
["AG111"]
["AG112"]
["AG113"]
["AG114"]
["AG115"]
["AG116"]
["AG201"]
["AG202"]
["AG203"]
["AG204"]
["AG205"]
["AG206"]
["AG207"]
["AG208"]
["AG209"]
["AG210"]
["AG211"]
["AG212"]
["AG213"]
["AG214"]
["AG215"]
["AG216"]
["AG301"]
["AG302"]
["AG303"]
["AG304"]
["AG305"]
["AG306"]
["AG307"]
["AG308"]
["AG309"]
["AG310"]
["AG311"]
["AG312"]
["AG313"]
["AG314"]
["AG315"]
["AG316"]
["AG401"]
["AG402"]
["AG403"]
["AG404"]
["AG405"]
["AG406"]
["AG407"]
["AG408"]
["AG409"]
["AG410"]
["AG411"]
["AG412"]
["AG413"]
["AG414"]
["AG415"]
["AG416"]
["AG501"]
["AG502"]
["AG503"]
["AG504"]
["AG505"]
["AG506"]
["AG507"]
["AG508"]
["AG509"]
["AG510"]
["AG511"]
["AG512"]
["AG513"]
["AG514"]
["AG515"]
["AG516"]
["AG601"]
["AG602"]
["AG603"]
["AG604"]
["AG605"]
["AG606"]
["AG607"]
["AG608"]
["AG609"]
["AG610"]
["AG611"]
["AG612"]
["AG613"]
["AG614"]
["AG615"]
["AG616"]
["AG701"]
["AG702"]
["AG703"]
["AG704"]
["AG705"]
["AG706"]
["AG707"]
["AG708"]
["AG709"]
["AG710"]
["AG711"]
["AG712"]
["AG713"]
["AG714"]
["AG715"]
["AG716"]
["AG801"]
["AG802"]
["AG803"]
["AG804"]
["AG805"]
["AG806"]
["AG807"]
["AG808"]
["AG809"]
["AG810"]
["AG811"]
["AG812"]
["AG813"]
["AG814"]
["AG815"]
["AG816"]
["AG901"]
["AG902"]
["AG903"]
["AG904"]
["AG905"]
["AG906"]
["AG907"]
["AG908"]
["AG909"]
["AG910"]
["AG911"]
["AG912"]
["AG913"]
["AG914"]
["AG915"]
["AG916"]
["AH001"]
["AH002"]
["AH003"]
["AH004"]
["AH005"]
["AH006"]
["AH007"]
["AH008"]
["AH009"]
["AH010"]
["AH011"]
["AH012"]
["AH013"]
["AH014"]
["AH015"]
["AH016"]
["AH101"]
["AH102"]
["AH103"]
["AH104"]
["AH105"]
["AH106"]
["AH107"]
["AH108"]
["AH109"]
["AH110"]
["AH111"]
["AH112"]
["AH113"]
["AH114"]
["AH115"]
["AH116"]
["AH201"]
["AH202"]
["AH203"]
["AH204"]
["AH205"]
["AH206"]
["AH207"]
["AH208"]
["AH209"]
["AH210"]
["AH211"]
["AH212"]
["AH213"]
["AH214"]
["AH215"]
["AH216"]
["AH301"]
["AH302"]
["AH303"]
["AH304"]
["AH305"]
["AH306"]
["AH307"]
["AH308"]
["AH309"]
["AH310"]
["AH311"]
["AH312"]
["AH313"]
["AH314"]
["AH315"]
["AH316"]
["AH401"]
["AH402"]
["AH403"]
["AH404"]
["AH405"]
["AH406"]
["AH407"]
["AH408"]
["AH409"]
["AH410"]
["AH411"]
["AH412"]
["AH413"]
["AH414"]
["AH415"]
["AH416"]
["AH501"]
["AH502"]
["AH503"]
["AH504"]
["AH505"]
["AH506"]
["AH507"]
["AH508"]
["AH509"]
["AH510"]
["AH511"]
["AH512"]
["AH513"]
["AH514"]
["AH515"]
["AH516"]
["AH601"]
["AH602"]
["AH603"]
["AH604"]
["AH605"]
["AH606"]
["AH607"]
["AH608"]
["AH609"]
["AH610"]
["AH611"]
["AH612"]
["AH613"]
["AH614"]
["AH615"]
["AH616"]
["AH701"]
["AH702"]
["AH703"]
["AH704"]
["AH705"]
["AH706"]
["AH707"]
["AH708"]
["AH709"]
["AH710"]
["AH711"]
["AH712"]
["AH713"]
["AH714"]
["AH715"]
["AH716"]
["AH801"]
["AH802"]
["AH803"]
["AH804"]
["AH805"]
["AH806"]
["AH807"]
["AH808"]
["AH809"]
["AH810"]
["AH811"]
["AH812"]
["AH813"]
["AH814"]
["AH815"]
["AH816"]
["AH901"]
["AH902"]
["AH903"]
["AH904"]
["AH905"]
["AH906"]
["AH907"]
["AH908"]
["AH909"]
["AH910"]
["AH911"]
["AH912"]
["AH913"]
["AH914"]
["AH915"]
["AH916"]
["AI001"]
["AI002"]
["AI003"]
["AI004"]
["AI005"]
["AI006"]
["AI007"]
["AI008"]
["AI009"]
["AI010"]
["AI011"]
["AI012"]
["AI013"]
["AI014"]
["AI015"]
["AI016"]
["AI101"]
["AI102"]
["AI103"]
["AI104"]
["AI105"]
["AI106"]
["AI107"]
["AI108"]
["AI109"]
["AI110"]
["AI111"]
["AI112"]
["AI113"]
["AI114"]
["AI115"]
["AI116"]
["AI201"]
["AI202"]
["AI203"]
["AI204"]
["AI205"]
["AI206"]
["AI207"]
["AI208"]
["AI209"]
["AI210"]
["AI211"]
["AI212"]
["AI213"]
["AI214"]
["AI215"]
["AI216"]
["AI301"]
["AI302"]
["AI303"]
["AI304"]
["AI305"]
["AI306"]
["AI307"]
["AI308"]
["AI309"]
["AI310"]
["AI311"]
["AI312"]
["AI313"]
["AI314"]
["AI315"]
["AI316"]
["AI401"]
["AI402"]
["AI403"]
["AI404"]
["AI405"]
["AI406"]
["AI407"]
["AI408"]
["AI409"]
["AI410"]
["AI411"]
["AI412"]
["AI413"]
["AI414"]
["AI415"]
["AI416"]
["AI501"]
["AI502"]
["AI503"]
["AI504"]
["AI505"]
["AI506"]
["AI507"]
["AI508"]
["AI509"]
["AI510"]
["AI511"]
["AI512"]
["AI513"]
["AI514"]
["AI515"]
["AI516"]
["AI601"]
["AI602"]
["AI603"]
["AI604"]
["AI605"]
["AI606"]
["AI607"]
["AI608"]
["AI609"]
["AI610"]
["AI611"]
["AI612"]
["AI613"]
["AI614"]
["AI615"]
["AI616"]
["AI701"]
["AI702"]
["AI703"]
["AI704"]
["AI705"]
["AI706"]
["AI707"]
["AI708"]
["AI709"]
["AI710"]
["AI711"]
["AI712"]
["AI713"]
["AI714"]
["AI715"]
["AI716"]
["AI801"]
["AI802"]
["AI803"]
["AI804"]
["AI805"]
["AI806"]
["AI807"]
["AI808"]
["AI809"]
["AI810"]
["AI811"]
["AI812"]
["AI813"]
["AI814"]
["AI815"]
["AI816"]
["AI901"]
["AI902"]
["AI903"]
["AI904"]
["AI905"]
["AI906"]
["AI907"]
["AI908"]
["AI909"]
["AI910"]
["AI911"]
["AI912"]
["AI913"]
["AI914"]
["AI915"]
["AI916"]
["AJ001"]
["AJ002"]
["AJ003"]
["AJ004"]
["AJ005"]
["AJ006"]
["AJ007"]
["AJ008"]
["AJ009"]
["AJ010"]
["AJ011"]
["AJ012"]
["AJ013"]
["AJ014"]
["AJ015"]
["AJ016"]
["AJ101"]
["AJ102"]
["AJ103"]
["AJ104"]
["AJ105"]
["AJ106"]
["AJ107"]
["AJ108"]
["AJ109"]
["AJ110"]
["AJ111"]
["AJ112"]
["AJ113"]
["AJ114"]
["AJ115"]
["AJ116"]
["AJ201"]
["AJ202"]
["AJ203"]
["AJ204"]
["AJ205"]
["AJ206"]
["AJ207"]
["AJ208"]
["AJ209"]
["AJ210"]
["AJ211"]
["AJ212"]
["AJ213"]
["AJ214"]
["AJ215"]
["AJ216"]
["AJ301"]
["AJ302"]
["AJ303"]
["AJ304"]
["AJ305"]
["AJ306"]
["AJ307"]
["AJ308"]
["AJ309"]
["AJ310"]
["AJ311"]
["AJ312"]
["AJ313"]
["AJ314"]
["AJ315"]
["AJ316"]
["AJ401"]
["AJ402"]
["AJ403"]
["AJ404"]
["AJ405"]
["AJ406"]
["AJ407"]
["AJ408"]
["AJ409"]
["AJ410"]
["AJ411"]
["AJ412"]
["AJ413"]
["AJ414"]
["AJ415"]
["AJ416"]
["AJ501"]
["AJ502"]
["AJ503"]
["AJ504"]
["AJ505"]
["AJ506"]
["AJ507"]
["AJ508"]
["AJ509"]
["AJ510"]
["AJ511"]
["AJ512"]
["AJ513"]
["AJ514"]
["AJ515"]
["AJ516"]
["AJ601"]
["AJ602"]
["AJ603"]
["AJ604"]
["AJ605"]
["AJ606"]
["AJ607"]
["AJ608"]
["AJ609"]
["AJ610"]
["AJ611"]
["AJ612"]
["AJ613"]
["AJ614"]
["AJ615"]
["AJ616"]
["AJ701"]
["AJ702"]
["AJ703"]
["AJ704"]
["AJ705"]
["AJ706"]
["AJ707"]
["AJ708"]
["AJ709"]
["AJ710"]
["AJ711"]
["AJ712"]
["AJ713"]
["AJ714"]
["AJ715"]
["AJ716"]
["AJ801"]
["AJ802"]
["AJ803"]
["AJ804"]
["AJ805"]
["AJ806"]
["AJ807"]
["AJ808"]
["AJ809"]
["AJ810"]
["AJ811"]
["AJ812"]
["AJ813"]
["AJ814"]
["AJ815"]
["AJ816"]
["AJ901"]
["AJ902"]
["AJ903"]
["AJ904"]
["AJ905"]
["AJ906"]
["AJ907"]
["AJ908"]
["AJ909"]
["AJ910"]
["AJ911"]
["AJ912"]
["AJ913"]
["AJ914"]
["AJ915"]
["AJ916"]
["AK001"]
["AK002"]
["AK003"]
["AK004"]
["AK005"]
["AK006"]
["AK007"]
["AK008"]
["AK009"]
["AK010"]
["AK011"]
["AK012"]
["AK013"]
["AK014"]
["AK015"]
["AK016"]
["AK101"]
["AK102"]
["AK103"]
["AK104"]
["AK105"]
["AK106"]
["AK107"]
["AK108"]
["AK109"]
["AK110"]
["AK111"]
["AK112"]
["AK113"]
["AK114"]
["AK115"]
["AK116"]
["AK201"]
["AK202"]
["AK203"]
["AK204"]
["AK205"]
["AK206"]
["AK207"]
["AK208"]
["AK209"]
["AK210"]
["AK211"]
["AK212"]
["AK213"]
["AK214"]
["AK215"]
["AK216"]
["AK301"]
["AK302"]
["AK303"]
["AK304"]
["AK305"]
["AK306"]
["AK307"]
["AK308"]
["AK309"]
["AK310"]
["AK311"]
["AK312"]
["AK313"]
["AK314"]
["AK315"]
["AK316"]
["AK401"]
["AK402"]
["AK403"]
["AK404"]
["AK405"]
["AK406"]
["AK407"]
["AK408"]
["AK409"]
["AK410"]
["AK411"]
["AK412"]
["AK413"]
["AK414"]
["AK415"]
["AK416"]
["AK501"]
["AK502"]
["AK503"]
["AK504"]
["AK505"]
["AK506"]
["AK507"]
["AK508"]
["AK509"]
["AK510"]
["AK511"]
["AK512"]
["AK513"]
["AK514"]
["AK515"]
["AK516"]
["AK601"]
["AK602"]
["AK603"]
["AK604"]
["AK605"]
["AK606"]
["AK607"]
["AK608"]
["AK609"]
["AK610"]
["AK611"]
["AK612"]
["AK613"]
["AK614"]
["AK615"]
["AK616"]
["AK701"]
["AK702"]
["AK703"]
["AK704"]
["AK705"]
["AK706"]
["AK707"]
["AK708"]
["AK709"]
["AK710"]
["AK711"]
["AK712"]
["AK713"]
["AK714"]
["AK715"]
["AK716"]
["AK801"]
["AK802"]
["AK803"]
["AK804"]
["AK805"]
["AK806"]
["AK807"]
["AK808"]
["AK809"]
["AK810"]
["AK811"]
["AK812"]
["AK813"]
["AK814"]
["AK815"]
["AK816"]
["AK901"]
["AK902"]
["AK903"]
["AK904"]
["AK905"]
["AK906"]
["AK907"]
["AK908"]
["AK909"]
["AK910"]
["AK911"]
["AK912"]
["AK913"]
["AK914"]
["AK915"]
["AK916"]
["AL001"]
["AL002"]
["AL003"]
["AL004"]
["AL005"]
["AL006"]
["AL007"]
["AL008"]
["AL009"]
["AL010"]
["AL011"]
["AL012"]
["AL013"]
["AL014"]
["AL015"]
["AL016"]
["AL101"]
["AL102"]
["AL103"]
["AL104"]
["AL105"]
["AL106"]
["AL107"]
["AL108"]
["AL109"]
["AL110"]
["AL111"]
["AL112"]
["AL113"]
["AL114"]
["AL115"]
["AL116"]
["AL201"]
["AL202"]
["AL203"]
["AL204"]
["AL205"]
["AL206"]
["AL207"]
["AL208"]
["AL209"]
["AL210"]
["AL211"]
["AL212"]
["AL213"]
["AL214"]
["AL215"]
["AL216"]
["AL301"]
["AL302"]
["AL303"]
["AL304"]
["AL305"]
["AL306"]
["AL307"]
["AL308"]
["AL309"]
["AL310"]
["AL311"]
["AL312"]
["AL313"]
["AL314"]
["AL315"]
["AL316"]
["AL401"]
["AL402"]
["AL403"]
["AL404"]
["AL405"]
["AL406"]
["AL407"]
["AL408"]
["AL409"]
["AL410"]
["AL411"]
["AL412"]
["AL413"]
["AL414"]
["AL415"]
["AL416"]
["AL501"]
["AL502"]
["AL503"]
["AL504"]
["AL505"]
["AL506"]
["AL507"]
["AL508"]
["AL509"]
["AL510"]
["AL511"]
["AL512"]
["AL513"]
["AL514"]
["AL515"]
["AL516"]
["AL601"]
["AL602"]
["AL603"]
["AL604"]
["AL605"]
["AL606"]
["AL607"]
["AL608"]
["AL609"]
["AL610"]
["AL611"]
["AL612"]
["AL613"]
["AL614"]
["AL615"]
["AL616"]
["AL701"]
["AL702"]
["AL703"]
["AL704"]
["AL705"]
["AL706"]
["AL707"]
["AL708"]
["AL709"]
["AL710"]
["AL711"]
["AL712"]
["AL713"]
["AL714"]
["AL715"]
["AL716"]
["AL801"]
["AL802"]
["AL803"]
["AL804"]
["AL805"]
["AL806"]
["AL807"]
["AL808"]
["AL809"]
["AL810"]
["AL811"]
["AL812"]
["AL813"]
["AL814"]
["AL815"]
["AL816"]
["AL901"]
["AL902"]
["AL903"]
["AL904"]
["AL905"]
["AL906"]
["AL907"]
["AL908"]
["AL909"]
["AL910"]
["AL911"]
["AL912"]
["AL913"]
["AL914"]
["AL915"]
["AL916"]
["AM001"]
["AM002"]
["AM003"]
["AM004"]
["AM005"]
["AM006"]
["AM007"]
["AM008"]
["AM009"]
["AM010"]
["AM011"]
["AM012"]
["AM013"]
["AM014"]
["AM015"]
["AM016"]
["AM101"]
["AM102"]
["AM103"]
["AM104"]
["AM105"]
["AM106"]
["AM107"]
["AM108"]
["AM109"]
["AM110"]
["AM111"]
["AM112"]
["AM113"]
["AM114"]
["AM115"]
["AM116"]
["AM201"]
["AM202"]
["AM203"]
["AM204"]
["AM205"]
["AM206"]
["AM207"]
["AM208"]
["AM209"]
["AM210"]
["AM211"]
["AM212"]
["AM213"]
["AM214"]
["AM215"]
["AM216"]
["AM301"]
["AM302"]
["AM303"]
["AM304"]
["AM305"]
["AM306"]
["AM307"]
["AM308"]
["AM309"]
["AM310"]
["AM311"]
["AM312"]
["AM313"]
["AM314"]
["AM315"]
["AM316"]
["AM401"]
["AM402"]
["AM403"]
["AM404"]
["AM405"]
["AM406"]
["AM407"]
["AM408"]
["AM409"]
["AM410"]
["AM411"]
["AM412"]
["AM413"]
["AM414"]
["AM415"]
["AM416"]
["AM501"]
["AM502"]
["AM503"]
["AM504"]
["AM505"]
["AM506"]
["AM507"]
["AM508"]
["AM509"]
["AM510"]
["AM511"]
["AM512"]
["AM513"]
["AM514"]
["AM515"]
["AM516"]
["AM601"]
["AM602"]
["AM603"]
["AM604"]
["AM605"]
["AM606"]
["AM607"]
["AM608"]
["AM609"]
["AM610"]
["AM611"]
["AM612"]
["AM613"]
["AM614"]
["AM615"]
["AM616"]
["AM701"]
["AM702"]
["AM703"]
["AM704"]
["AM705"]
["AM706"]
["AM707"]
["AM708"]
["AM709"]
["AM710"]
["AM711"]
["AM712"]
["AM713"]
["AM714"]
["AM715"]
["AM716"]
["AM801"]
["AM802"]
["AM803"]
["AM804"]
["AM805"]
["AM806"]
["AM807"]
["AM808"]
["AM809"]
["AM810"]
["AM811"]
["AM812"]
["AM813"]
["AM814"]
["AM815"]
["AM816"]
["AM901"]
["AM902"]
["AM903"]
["AM904"]
["AM905"]
["AM906"]
["AM907"]
["AM908"]
["AM909"]
["AM910"]
["AM911"]
["AM912"]
["AM913"]
["AM914"]
["AM915"]
["AM916"]
["AN001"]
["AN002"]
["AN003"]
["AN004"]
["AN005"]
["AN006"]
["AN007"]
["AN008"]
["AN009"]
["AN010"]
["AN011"]
["AN012"]
["AN013"]
["AN014"]
["AN015"]
["AN016"]
["AN101"]
["AN102"]
["AN103"]
["AN104"]
["AN105"]
["AN106"]
["AN107"]
["AN108"]
["AN109"]
["AN110"]
["AN111"]
["AN112"]
["AN113"]
["AN114"]
["AN115"]
["AN116"]
["AN201"]
["AN202"]
["AN203"]
["AN204"]
["AN205"]
["AN206"]
["AN207"]
["AN208"]
["AN209"]
["AN210"]
["AN211"]
["AN212"]
["AN213"]
["AN214"]
["AN215"]
["AN216"]
["AN301"]
["AN302"]
["AN303"]
["AN304"]
["AN305"]
["AN306"]
["AN307"]
["AN308"]
["AN309"]
["AN310"]
["AN311"]
["AN312"]
["AN313"]
["AN314"]
["AN315"]
["AN316"]
["AN401"]
["AN402"]
["AN403"]
["AN404"]
["AN405"]
["AN406"]
["AN407"]
["AN408"]
["AN409"]
["AN410"]
["AN411"]
["AN412"]
["AN413"]
["AN414"]
["AN415"]
["AN416"]
["AN501"]
["AN502"]
["AN503"]
["AN504"]
["AN505"]
["AN506"]
["AN507"]
["AN508"]
["AN509"]
["AN510"]
["AN511"]
["AN512"]
["AN513"]
["AN514"]
["AN515"]
["AN516"]
["AN601"]
["AN602"]
["AN603"]
["AN604"]
["AN605"]
["AN606"]
["AN607"]
["AN608"]
["AN609"]
["AN610"]
["AN611"]
["AN612"]
["AN613"]
["AN614"]
["AN615"]
["AN616"]
["AN701"]
["AN702"]
["AN703"]
["AN704"]
["AN705"]
["AN706"]
["AN707"]
["AN708"]
["AN709"]
["AN710"]
["AN711"]
["AN712"]
["AN713"]
["AN714"]
["AN715"]
["AN716"]
["AN801"]
["AN802"]
["AN803"]
["AN804"]
["AN805"]
["AN806"]
["AN807"]
["AN808"]
["AN809"]
["AN810"]
["AN811"]
["AN812"]
["AN813"]
["AN814"]
["AN815"]
["AN816"]
["AN901"]
["AN902"]
["AN903"]
["AN904"]
["AN905"]
["AN906"]
["AN907"]
["AN908"]
["AN909"]
["AN910"]
["AN911"]
["AN912"]
["AN913"]
["AN914"]
["AN915"]
["AN916"]
["AO001"]
["AO002"]
["AO003"]
["AO004"]
["AO005"]
["AO006"]
["AO007"]
["AO008"]
["AO009"]
["AO010"]
["AO011"]
["AO012"]
["AO013"]
["AO014"]
["AO015"]
["AO016"]
["AO101"]
["AO102"]
["AO103"]
["AO104"]
["AO105"]
["AO106"]
["AO107"]
["AO108"]
["AO109"]
["AO110"]
["AO111"]
["AO112"]
["AO113"]
["AO114"]
["AO115"]
["AO116"]
["AO201"]
["AO202"]
["AO203"]
["AO204"]
["AO205"]
["AO206"]
["AO207"]
["AO208"]
["AO209"]
["AO210"]
["AO211"]
["AO212"]
["AO213"]
["AO214"]
["AO215"]
["AO216"]
["AO301"]
["AO302"]
["AO303"]
["AO304"]
["AO305"]
["AO306"]
["AO307"]
["AO308"]
["AO309"]
["AO310"]
["AO311"]
["AO312"]
["AO313"]
["AO314"]
["AO315"]
["AO316"]
["AO401"]
["AO402"]
["AO403"]
["AO404"]
["AO405"]
["AO406"]
["AO407"]
["AO408"]
["AO409"]
["AO410"]
["AO411"]
["AO412"]
["AO413"]
["AO414"]
["AO415"]
["AO416"]
["AO501"]
["AO502"]
["AO503"]
["AO504"]
["AO505"]
["AO506"]
["AO507"]
["AO508"]
["AO509"]
["AO510"]
["AO511"]
["AO512"]
["AO513"]
["AO514"]
["AO515"]
["AO516"]
["AO601"]
["AO602"]
["AO603"]
["AO604"]
["AO605"]
["AO606"]
["AO607"]
["AO608"]
["AO609"]
["AO610"]
["AO611"]
["AO612"]
["AO613"]
["AO614"]
["AO615"]
["AO616"]
["AO701"]
["AO702"]
["AO703"]
["AO704"]
["AO705"]
["AO706"]
["AO707"]
["AO708"]
["AO709"]
["AO710"]
["AO711"]
["AO712"]
["AO713"]
["AO714"]
["AO715"]
["AO716"]
["AO801"]
["AO802"]
["AO803"]
["AO804"]
["AO805"]
["AO806"]
["AO807"]
["AO808"]
["AO809"]
["AO810"]
["AO811"]
["AO812"]
["AO813"]
["AO814"]
["AO815"]
["AO816"]
["AO901"]
["AO902"]
["AO903"]
["AO904"]
["AO905"]
["AO906"]
["AO907"]
["AO908"]
["AO909"]
["AO910"]
["AO911"]
["AO912"]
["AO913"]
["AO914"]
["AO915"]
["AO916"]
["AP001"]
["AP002"]
["AP003"]
["AP004"]
["AP005"]
["AP006"]
["AP007"]
["AP008"]
["AP009"]
["AP010"]
["AP011"]
["AP012"]
["AP013"]
["AP014"]
["AP015"]
["AP016"]
["AP101"]
["AP102"]
["AP103"]
["AP104"]
["AP105"]
["AP106"]
["AP107"]
["AP108"]
["AP109"]
["AP110"]
["AP111"]
["AP112"]
["AP113"]
["AP114"]
["AP115"]
["AP116"]
["AP201"]
["AP202"]
["AP203"]
["AP204"]
["AP205"]
["AP206"]
["AP207"]
["AP208"]
["AP209"]
["AP210"]
["AP211"]
["AP212"]
["AP213"]
["AP214"]
["AP215"]
["AP216"]
["AP301"]
["AP302"]
["AP303"]
["AP304"]
["AP305"]
["AP306"]
["AP307"]
["AP308"]
["AP309"]
["AP310"]
["AP311"]
["AP312"]
["AP313"]
["AP314"]
["AP315"]
["AP316"]
["AP401"]
["AP402"]
["AP403"]
["AP404"]
["AP405"]
["AP406"]
["AP407"]
["AP408"]
["AP409"]
["AP410"]
["AP411"]
["AP412"]
["AP413"]
["AP414"]
["AP415"]
["AP416"]
["AP501"]
["AP502"]
["AP503"]
["AP504"]
["AP505"]
["AP506"]
["AP507"]
["AP508"]
["AP509"]
["AP510"]
["AP511"]
["AP512"]
["AP513"]
["AP514"]
["AP515"]
["AP516"]
["AP601"]
["AP602"]
["AP603"]
["AP604"]
["AP605"]
["AP606"]
["AP607"]
["AP608"]
["AP609"]
["AP610"]
["AP611"]
["AP612"]
["AP613"]
["AP614"]
["AP615"]
["AP616"]
["AP701"]
["AP702"]
["AP703"]
["AP704"]
["AP705"]
["AP706"]
["AP707"]
["AP708"]
["AP709"]
["AP710"]
["AP711"]
["AP712"]
["AP713"]
["AP714"]
["AP715"]
["AP716"]
["AP801"]
["AP802"]
["AP803"]
["AP804"]
["AP805"]
["AP806"]
["AP807"]
["AP808"]
["AP809"]
["AP810"]
["AP811"]
["AP812"]
["AP813"]
["AP814"]
["AP815"]
["AP816"]
["AP901"]
["AP902"]
["AP903"]
["AP904"]
["AP905"]
["AP906"]
["AP907"]
["AP908"]
["AP909"]
["AP910"]
["AP911"]
["AP912"]
["AP913"]
["AP914"]
["AP915"]
["AP916"]
["AQ001"]
["AQ002"]
["AQ003"]
["AQ004"]
["AQ005"]
["AQ006"]
["AQ007"]
["AQ008"]
["AQ009"]
["AQ010"]
["AQ011"]
["AQ012"]
["AQ013"]
["AQ014"]
["AQ015"]
["AQ016"]
["AQ101"]
["AQ102"]
["AQ103"]
["AQ104"]
["AQ105"]
["AQ106"]
["AQ107"]
["AQ108"]
["AQ109"]
["AQ110"]
["AQ111"]
["AQ112"]
["AQ113"]
["AQ114"]
["AQ115"]
["AQ116"]
["AQ201"]
["AQ202"]
["AQ203"]
["AQ204"]
["AQ205"]
["AQ206"]
["AQ207"]
["AQ208"]
["AQ209"]
["AQ210"]
["AQ211"]
["AQ212"]
["AQ213"]
["AQ214"]
["AQ215"]
["AQ216"]
["AQ301"]
["AQ302"]
["AQ303"]
["AQ304"]
["AQ305"]
["AQ306"]
["AQ307"]
["AQ308"]
["AQ309"]
["AQ310"]
["AQ311"]
["AQ312"]
["AQ313"]
["AQ314"]
["AQ315"]
["AQ316"]
["AQ401"]
["AQ402"]
["AQ403"]
["AQ404"]
["AQ405"]
["AQ406"]
["AQ407"]
["AQ408"]
["AQ409"]
["AQ410"]
["AQ411"]
["AQ412"]
["AQ413"]
["AQ414"]
["AQ415"]
["AQ416"]
["AQ501"]
["AQ502"]
["AQ503"]
["AQ504"]
["AQ505"]
["AQ506"]
["AQ507"]
["AQ508"]
["AQ509"]
["AQ510"]
["AQ511"]
["AQ512"]
["AQ513"]
["AQ514"]
["AQ515"]
["AQ516"]
["AQ601"]
["AQ602"]
["AQ603"]
["AQ604"]
["AQ605"]
["AQ606"]
["AQ607"]
["AQ608"]
["AQ609"]
["AQ610"]
["AQ611"]
["AQ612"]
["AQ613"]
["AQ614"]
["AQ615"]
["AQ616"]
["AQ701"]
["AQ702"]
["AQ703"]
["AQ704"]
["AQ705"]
["AQ706"]
["AQ707"]
["AQ708"]
["AQ709"]
["AQ710"]
["AQ711"]
["AQ712"]
["AQ713"]
["AQ714"]
["AQ715"]
["AQ716"]
["AQ801"]
["AQ802"]
["AQ803"]
["AQ804"]
["AQ805"]
["AQ806"]
["AQ807"]
["AQ808"]
["AQ809"]
["AQ810"]
["AQ811"]
["AQ812"]
["AQ813"]
["AQ814"]
["AQ815"]
["AQ816"]
["AQ901"]
["AQ902"]
["AQ903"]
["AQ904"]
["AQ905"]
["AQ906"]
["AQ907"]
["AQ908"]
["AQ909"]
["AQ910"]
["AQ911"]
["AQ912"]
["AQ913"]
["AQ914"]
["AQ915"]
["AQ916"]
["AR001"]
["AR002"]
["AR003"]
["AR004"]
["AR005"]
["AR006"]
["AR007"]
["AR008"]
["AR009"]
["AR010"]
["AR011"]
["AR012"]
["AR013"]
["AR014"]
["AR015"]
["AR016"]
["AR101"]
["AR102"]
["AR103"]
["AR104"]
["AR105"]
["AR106"]
["AR107"]
["AR108"]
["AR109"]
["AR110"]
["AR111"]
["AR112"]
["AR113"]
["AR114"]
["AR115"]
["AR116"]
["AR201"]
["AR202"]
["AR203"]
["AR204"]
["AR205"]
["AR206"]
["AR207"]
["AR208"]
["AR209"]
["AR210"]
["AR211"]
["AR212"]
["AR213"]
["AR214"]
["AR215"]
["AR216"]
["AR301"]
["AR302"]
["AR303"]
["AR304"]
["AR305"]
["AR306"]
["AR307"]
["AR308"]
["AR309"]
["AR310"]
["AR311"]
["AR312"]
["AR313"]
["AR314"]
["AR315"]
["AR316"]
["AR401"]
["AR402"]
["AR403"]
["AR404"]
["AR405"]
["AR406"]
["AR407"]
["AR408"]
["AR409"]
["AR410"]
["AR411"]
["AR412"]
["AR413"]
["AR414"]
["AR415"]
["AR416"]
["AR501"]
["AR502"]
["AR503"]
["AR504"]
["AR505"]
["AR506"]
["AR507"]
["AR508"]
["AR509"]
["AR510"]
["AR511"]
["AR512"]
["AR513"]
["AR514"]
["AR515"]
["AR516"]
["AR601"]
["AR602"]
["AR603"]
["AR604"]
["AR605"]
["AR606"]
["AR607"]
["AR608"]
["AR609"]
["AR610"]
["AR611"]
["AR612"]
["AR613"]
["AR614"]
["AR615"]
["AR616"]
["AR701"]
["AR702"]
["AR703"]
["AR704"]
["AR705"]
["AR706"]
["AR707"]
["AR708"]
["AR709"]
["AR710"]
["AR711"]
["AR712"]
["AR713"]
["AR714"]
["AR715"]
["AR716"]
["AR801"]
["AR802"]
["AR803"]
["AR804"]
["AR805"]
["AR806"]
["AR807"]
["AR808"]
["AR809"]
["AR810"]
["AR811"]
["AR812"]
["AR813"]
["AR814"]
["AR815"]
["AR816"]
["AR901"]
["AR902"]
["AR903"]
["AR904"]
["AR905"]
["AR906"]
["AR907"]
["AR908"]
["AR909"]
["AR910"]
["AR911"]
["AR912"]
["AR913"]
["AR914"]
["AR915"]
["AR916"]
["AS001"]
["AS002"]
["AS003"]
["AS004"]
["AS005"]
["AS006"]
["AS007"]
["AS008"]
["AS009"]
["AS010"]
["AS011"]
["AS012"]
["AS013"]
["AS014"]
["AS015"]
["AS016"]
["AS101"]
["AS102"]
["AS103"]
["AS104"]
["AS105"]
["AS106"]
["AS107"]
["AS108"]
["AS109"]
["AS110"]
["AS111"]
["AS112"]
["AS113"]
["AS114"]
["AS115"]
["AS116"]
["AS201"]
["AS202"]
["AS203"]
["AS204"]
["AS205"]
["AS206"]
["AS207"]
["AS208"]
["AS209"]
["AS210"]
["AS211"]
["AS212"]
["AS213"]
["AS214"]
["AS215"]
["AS216"]
["AS301"]
["AS302"]
["AS303"]
["AS304"]
["AS305"]
["AS306"]
["AS307"]
["AS308"]
["AS309"]
["AS310"]
["AS311"]
["AS312"]
["AS313"]
["AS314"]
["AS315"]
["AS316"]
["AS401"]
["AS402"]
["AS403"]
["AS404"]
["AS405"]
["AS406"]
["AS407"]
["AS408"]
["AS409"]
["AS410"]
["AS411"]
["AS412"]
["AS413"]
["AS414"]
["AS415"]
["AS416"]
["AS501"]
["AS502"]
["AS503"]
["AS504"]
["AS505"]
["AS506"]
["AS507"]
["AS508"]
["AS509"]
["AS510"]
["AS511"]
["AS512"]
["AS513"]
["AS514"]
["AS515"]
["AS516"]
["AS601"]
["AS602"]
["AS603"]
["AS604"]
["AS605"]
["AS606"]
["AS607"]
["AS608"]
["AS609"]
["AS610"]
["AS611"]
["AS612"]
["AS613"]
["AS614"]
["AS615"]
["AS616"]
["AS701"]
["AS702"]
["AS703"]
["AS704"]
["AS705"]
["AS706"]
["AS707"]
["AS708"]
["AS709"]
["AS710"]
["AS711"]
["AS712"]
["AS713"]
["AS714"]
["AS715"]
["AS716"]
["AS801"]
["AS802"]
["AS803"]
["AS804"]
["AS805"]
["AS806"]
["AS807"]
["AS808"]
["AS809"]
["AS810"]
["AS811"]
["AS812"]
["AS813"]
["AS814"]
["AS815"]
["AS816"]
["AS901"]
["AS902"]
["AS903"]
["AS904"]
["AS905"]
["AS906"]
["AS907"]
["AS908"]
["AS909"]
["AS910"]
["AS911"]
["AS912"]
["AS913"]
["AS914"]
["AS915"]
["AS916"]
["AT001"]
["AT002"]
["AT003"]
["AT004"]
["AT005"]
["AT006"]
["AT007"]
["AT008"]
["AT009"]
["AT010"]
["AT011"]
["AT012"]
["AT013"]
["AT014"]
["AT015"]
["AT016"]
["AT101"]
["AT102"]
["AT103"]
["AT104"]
["AT105"]
["AT106"]
["AT107"]
["AT108"]
["AT109"]
["AT110"]
["AT111"]
["AT112"]
["AT113"]
["AT114"]
["AT115"]
["AT116"]
["AT201"]
["AT202"]
["AT203"]
["AT204"]
["AT205"]
["AT206"]
["AT207"]
["AT208"]
["AT209"]
["AT210"]
["AT211"]
["AT212"]
["AT213"]
["AT214"]
["AT215"]
["AT216"]
["AT301"]
["AT302"]
["AT303"]
["AT304"]
["AT305"]
["AT306"]
["AT307"]
["AT308"]
["AT309"]
["AT310"]
["AT311"]
["AT312"]
["AT313"]
["AT314"]
["AT315"]
["AT316"]
["AT401"]
["AT402"]
["AT403"]
["AT404"]
["AT405"]
["AT406"]
["AT407"]
["AT408"]
["AT409"]
["AT410"]
["AT411"]
["AT412"]
["AT413"]
["AT414"]
["AT415"]
["AT416"]
["AT501"]
["AT502"]
["AT503"]
["AT504"]
["AT505"]
["AT506"]
["AT507"]
["AT508"]
["AT509"]
["AT510"]
["AT511"]
["AT512"]
["AT513"]
["AT514"]
["AT515"]
["AT516"]
["AT601"]
["AT602"]
["AT603"]
["AT604"]
["AT605"]
["AT606"]
["AT607"]
["AT608"]
["AT609"]
["AT610"]
["AT611"]
["AT612"]
["AT613"]
["AT614"]
["AT615"]
["AT616"]
["AT701"]
["AT702"]
["AT703"]
["AT704"]
["AT705"]
["AT706"]
["AT707"]
["AT708"]
["AT709"]
["AT710"]
["AT711"]
["AT712"]
["AT713"]
["AT714"]
["AT715"]
["AT716"]
["AT801"]
["AT802"]
["AT803"]
["AT804"]
["AT805"]
["AT806"]
["AT807"]
["AT808"]
["AT809"]
["AT810"]
["AT811"]
["AT812"]
["AT813"]
["AT814"]
["AT815"]
["AT816"]
["AT901"]
["AT902"]
["AT903"]
["AT904"]
["AT905"]
["AT906"]
["AT907"]
["AT908"]
["AT909"]
["AT910"]
["AT911"]
["AT912"]
["AT913"]
["AT914"]
["AT915"]
["AT916"]
["AU001"]
["AU002"]
["AU003"]
["AU004"]
["AU005"]
["AU006"]
["AU007"]
["AU008"]
["AU009"]
["AU010"]
["AU011"]
["AU012"]
["AU013"]
["AU014"]
["AU015"]
["AU016"]
["AU101"]
["AU102"]
["AU103"]
["AU104"]
["AU105"]
["AU106"]
["AU107"]
["AU108"]
["AU109"]
["AU110"]
["AU111"]
["AU112"]
["AU113"]
["AU114"]
["AU115"]
["AU116"]
["AU201"]
["AU202"]
["AU203"]
["AU204"]
["AU205"]
["AU206"]
["AU207"]
["AU208"]
["AU209"]
["AU210"]
["AU211"]
["AU212"]
["AU213"]
["AU214"]
["AU215"]
["AU216"]
["AU301"]
["AU302"]
["AU303"]
["AU304"]
["AU305"]
["AU306"]
["AU307"]
["AU308"]
["AU309"]
["AU310"]
["AU311"]
["AU312"]
["AU313"]
["AU314"]
["AU315"]
["AU316"]
["AU401"]
["AU402"]
["AU403"]
["AU404"]
["AU405"]
["AU406"]
["AU407"]
["AU408"]
["AU409"]
["AU410"]
["AU411"]
["AU412"]
["AU413"]
["AU414"]
["AU415"]
["AU416"]
["AU501"]
["AU502"]
["AU503"]
["AU504"]
["AU505"]
["AU506"]
["AU507"]
["AU508"]
["AU509"]
["AU510"]
["AU511"]
["AU512"]
["AU513"]
["AU514"]
["AU515"]
["AU516"]
["AU601"]
["AU602"]
["AU603"]
["AU604"]
["AU605"]
["AU606"]
["AU607"]
["AU608"]
["AU609"]
["AU610"]
["AU611"]
["AU612"]
["AU613"]
["AU614"]
["AU615"]
["AU616"]
["AU701"]
["AU702"]
["AU703"]
["AU704"]
["AU705"]
["AU706"]
["AU707"]
["AU708"]
["AU709"]
["AU710"]
["AU711"]
["AU712"]
["AU713"]
["AU714"]
["AU715"]
["AU716"]
["AU801"]
["AU802"]
["AU803"]
["AU804"]
["AU805"]
["AU806"]
["AU807"]
["AU808"]
["AU809"]
["AU810"]
["AU811"]
["AU812"]
["AU813"]
["AU814"]
["AU815"]
["AU816"]
["AU901"]
["AU902"]
["AU903"]
["AU904"]
["AU905"]
["AU906"]
["AU907"]
["AU908"]
["AU909"]
["AU910"]
["AU911"]
["AU912"]
["AU913"]
["AU914"]
["AU915"]
["AU916"]
["AV001"]
["AV002"]
["AV003"]
["AV004"]
["AV005"]
["AV006"]
["AV007"]
["AV008"]
["AV009"]
["AV010"]
["AV011"]
["AV012"]
["AV013"]
["AV014"]
["AV015"]
["AV016"]
["AV101"]
["AV102"]
["AV103"]
["AV104"]
["AV105"]
["AV106"]
["AV107"]
["AV108"]
["AV109"]
["AV110"]
["AV111"]
["AV112"]
["AV113"]
["AV114"]
["AV115"]
["AV116"]
["AV201"]
["AV202"]
["AV203"]
["AV204"]
["AV205"]
["AV206"]
["AV207"]
["AV208"]
["AV209"]
["AV210"]
["AV211"]
["AV212"]
["AV213"]
["AV214"]
["AV215"]
["AV216"]
["AV301"]
["AV302"]
["AV303"]
["AV304"]
["AV305"]
["AV306"]
["AV307"]
["AV308"]
["AV309"]
["AV310"]
["AV311"]
["AV312"]
["AV313"]
["AV314"]
["AV315"]
["AV316"]
["AV401"]
["AV402"]
["AV403"]
["AV404"]
["AV405"]
["AV406"]
["AV407"]
["AV408"]
["AV409"]
["AV410"]
["AV411"]
["AV412"]
["AV413"]
["AV414"]
["AV415"]
["AV416"]
["AV501"]
["AV502"]
["AV503"]
["AV504"]
["AV505"]
["AV506"]
["AV507"]
["AV508"]
["AV509"]
["AV510"]
["AV511"]
["AV512"]
["AV513"]
["AV514"]
["AV515"]
["AV516"]
["AV601"]
["AV602"]
["AV603"]
["AV604"]
["AV605"]
["AV606"]
["AV607"]
["AV608"]
["AV609"]
["AV610"]
["AV611"]
["AV612"]
["AV613"]
["AV614"]
["AV615"]
["AV616"]
["AV701"]
["AV702"]
["AV703"]
["AV704"]
["AV705"]
["AV706"]
["AV707"]
["AV708"]
["AV709"]
["AV710"]
["AV711"]
["AV712"]
["AV713"]
["AV714"]
["AV715"]
["AV716"]
["AV801"]
["AV802"]
["AV803"]
["AV804"]
["AV805"]
["AV806"]
["AV807"]
["AV808"]
["AV809"]
["AV810"]
["AV811"]
["AV812"]
["AV813"]
["AV814"]
["AV815"]
["AV816"]
["AV901"]
["AV902"]
["AV903"]
["AV904"]
["AV905"]
["AV906"]
["AV907"]
["AV908"]
["AV909"]
["AV910"]
["AV911"]
["AV912"]
["AV913"]
["AV914"]
["AV915"]
["AV916"]
["AW001"]
["AW002"]
["AW003"]
["AW004"]
["AW005"]
["AW006"]
["AW007"]
["AW008"]
["AW009"]
["AW010"]
["AW011"]
["AW012"]
["AW013"]
["AW014"]
["AW015"]
["AW016"]
["AW101"]
["AW102"]
["AW103"]
["AW104"]
["AW105"]
["AW106"]
["AW107"]
["AW108"]
["AW109"]
["AW110"]
["AW111"]
["AW112"]
["AW113"]
["AW114"]
["AW115"]
["AW116"]
["AW201"]
["AW202"]
["AW203"]
["AW204"]
["AW205"]
["AW206"]
["AW207"]
["AW208"]
["AW209"]
["AW210"]
["AW211"]
["AW212"]
["AW213"]
["AW214"]
["AW215"]
["AW216"]
["AW301"]
["AW302"]
["AW303"]
["AW304"]
["AW305"]
["AW306"]
["AW307"]
["AW308"]
["AW309"]
["AW310"]
["AW311"]
["AW312"]
["AW313"]
["AW314"]
["AW315"]
["AW316"]
["AW401"]
["AW402"]
["AW403"]
["AW404"]
["AW405"]
["AW406"]
["AW407"]
["AW408"]
["AW409"]
["AW410"]
["AW411"]
["AW412"]
["AW413"]
["AW414"]
["AW415"]
["AW416"]
["AW501"]
["AW502"]
["AW503"]
["AW504"]
["AW505"]
["AW506"]
["AW507"]
["AW508"]
["AW509"]
["AW510"]
["AW511"]
["AW512"]
["AW513"]
["AW514"]
["AW515"]
["AW516"]
["AW601"]
["AW602"]
["AW603"]
["AW604"]
["AW605"]
["AW606"]
["AW607"]
["AW608"]
["AW609"]
["AW610"]
["AW611"]
["AW612"]
["AW613"]
["AW614"]
["AW615"]
["AW616"]
["AW701"]
["AW702"]
["AW703"]
["AW704"]
["AW705"]
["AW706"]
["AW707"]
["AW708"]
["AW709"]
["AW710"]
["AW711"]
["AW712"]
["AW713"]
["AW714"]
["AW715"]
["AW716"]
["AW801"]
["AW802"]
["AW803"]
["AW804"]
["AW805"]
["AW806"]
["AW807"]
["AW808"]
["AW809"]
["AW810"]
["AW811"]
["AW812"]
["AW813"]
["AW814"]
["AW815"]
["AW816"]
["AW901"]
["AW902"]
["AW903"]
["AW904"]
["AW905"]
["AW906"]
["AW907"]
["AW908"]
["AW909"]
["AW910"]
["AW911"]
["AW912"]
["AW913"]
["AW914"]
["AW915"]
["AW916"]
["AX001"]
["AX002"]
["AX003"]
["AX004"]
["AX005"]
["AX006"]
["AX007"]
["AX008"]
["AX009"]
["AX010"]
["AX011"]
["AX012"]
["AX013"]
["AX014"]
["AX015"]
["AX016"]
["AX101"]
["AX102"]
["AX103"]
["AX104"]
["AX105"]
["AX106"]
["AX107"]
["AX108"]
["AX109"]
["AX110"]
["AX111"]
["AX112"]
["AX113"]
["AX114"]
["AX115"]
["AX116"]
["AX201"]
["AX202"]
["AX203"]
["AX204"]
["AX205"]
["AX206"]
["AX207"]
["AX208"]
["AX209"]
["AX210"]
["AX211"]
["AX212"]
["AX213"]
["AX214"]
["AX215"]
["AX216"]
["AX301"]
["AX302"]
["AX303"]
["AX304"]
["AX305"]
["AX306"]
["AX307"]
["AX308"]
["AX309"]
["AX310"]
["AX311"]
["AX312"]
["AX313"]
["AX314"]
["AX315"]
["AX316"]
["AX401"]
["AX402"]
["AX403"]
["AX404"]
["AX405"]
["AX406"]
["AX407"]
["AX408"]
["AX409"]
["AX410"]
["AX411"]
["AX412"]
["AX413"]
["AX414"]
["AX415"]
["AX416"]
["AX501"]
["AX502"]
["AX503"]
["AX504"]
["AX505"]
["AX506"]
["AX507"]
["AX508"]
["AX509"]
["AX510"]
["AX511"]
["AX512"]
["AX513"]
["AX514"]
["AX515"]
["AX516"]
["AX601"]
["AX602"]
["AX603"]
["AX604"]
["AX605"]
["AX606"]
["AX607"]
["AX608"]
["AX609"]
["AX610"]
["AX611"]
["AX612"]
["AX613"]
["AX614"]
["AX615"]
["AX616"]
["AX701"]
["AX702"]
["AX703"]
["AX704"]
["AX705"]
["AX706"]
["AX707"]
["AX708"]
["AX709"]
["AX710"]
["AX711"]
["AX712"]
["AX713"]
["AX714"]
["AX715"]
["AX716"]
["AX801"]
["AX802"]
["AX803"]
["AX804"]
["AX805"]
["AX806"]
["AX807"]
["AX808"]
["AX809"]
["AX810"]
["AX811"]
["AX812"]
["AX813"]
["AX814"]
["AX815"]
["AX816"]
["AX901"]
["AX902"]
["AX903"]
["AX904"]
["AX905"]
["AX906"]
["AX907"]
["AX908"]
["AX909"]
["AX910"]
["AX911"]
["AX912"]
["AX913"]
["AX914"]
["AX915"]
["AX916"]
["AY001"]
["AY002"]
["AY003"]
["AY004"]
["AY005"]
["AY006"]
["AY007"]
["AY008"]
["AY009"]
["AY010"]
["AY011"]
["AY012"]
["AY013"]
["AY014"]
["AY015"]
["AY016"]
["AY101"]
["AY102"]
["AY103"]
["AY104"]
["AY105"]
["AY106"]
["AY107"]
["AY108"]
["AY109"]
["AY110"]
["AY111"]
["AY112"]
["AY113"]
["AY114"]
["AY115"]
["AY116"]
["AY201"]
["AY202"]
["AY203"]
["AY204"]
["AY205"]
["AY206"]
["AY207"]
["AY208"]
["AY209"]
["AY210"]
["AY211"]
["AY212"]
["AY213"]
["AY214"]
["AY215"]
["AY216"]
["AY301"]
["AY302"]
["AY303"]
["AY304"]
["AY305"]
["AY306"]
["AY307"]
["AY308"]
["AY309"]
["AY310"]
["AY311"]
["AY312"]
["AY313"]
["AY314"]
["AY315"]
["AY316"]
["AY401"]
["AY402"]
["AY403"]
["AY404"]
["AY405"]
["AY406"]
["AY407"]
["AY408"]
["AY409"]
["AY410"]
["AY411"]
["AY412"]
["AY413"]
["AY414"]
["AY415"]
["AY416"]
["AY501"]
["AY502"]
["AY503"]
["AY504"]
["AY505"]
["AY506"]
["AY507"]
["AY508"]
["AY509"]
["AY510"]
["AY511"]
["AY512"]
["AY513"]
["AY514"]
["AY515"]
["AY516"]
["AY601"]
["AY602"]
["AY603"]
["AY604"]
["AY605"]
["AY606"]
["AY607"]
["AY608"]
["AY609"]
["AY610"]
["AY611"]
["AY612"]
["AY613"]
["AY614"]
["AY615"]
["AY616"]
["AY701"]
["AY702"]
["AY703"]
["AY704"]
["AY705"]
["AY706"]
["AY707"]
["AY708"]
["AY709"]
["AY710"]
["AY711"]
["AY712"]
["AY713"]
["AY714"]
["AY715"]
["AY716"]
["AY801"]
["AY802"]
["AY803"]
["AY804"]
["AY805"]
["AY806"]
["AY807"]
["AY808"]
["AY809"]
["AY810"]
["AY811"]
["AY812"]
["AY813"]
["AY814"]
["AY815"]
["AY816"]
["AY901"]
["AY902"]
["AY903"]
["AY904"]
["AY905"]
["AY906"]
["AY907"]
["AY908"]
["AY909"]
["AY910"]
["AY911"]
["AY912"]
["AY913"]
["AY914"]
["AY915"]
["AY916"]
["BA001"]
["BA002"]
["BA003"]
["BA004"]
["BA005"]
["BA006"]
["BA007"]
["BA008"]
["BA009"]
["BA010"]
["BA011"]
["BA012"]
["BA013"]
["BA014"]
["BA015"]
["BA016"]
["BA101"]
["BA102"]
["BA103"]
["BA104"]
["BA105"]
["BA106"]
["BA107"]
["BA108"]
["BA109"]
["BA110"]
["BA111"]
["BA112"]
["BA113"]
["BA114"]
["BA115"]
["BA116"]
["BA201"]
["BA202"]
["BA203"]
["BA204"]
["BA205"]
["BA206"]
["BA207"]
["BA208"]
["BA209"]
["BA210"]
["BA211"]
["BA212"]
["BA213"]
["BA214"]
["BA215"]
["BA216"]
["BA301"]
["BA302"]
["BA303"]
["BA304"]
["BA305"]
["BA306"]
["BA307"]
["BA308"]
["BA309"]
["BA310"]
["BA311"]
["BA312"]
["BA313"]
["BA314"]
["BA315"]
["BA316"]
["BA401"]
["BA402"]
["BA403"]
["BA404"]
["BA405"]
["BA406"]
["BA407"]
["BA408"]
["BA409"]
["BA410"]
["BA411"]
["BA412"]
["BA413"]
["BA414"]
["BA415"]
["BA416"]
["BA501"]
["BA502"]
["BA503"]
["BA504"]
["BA505"]
["BA506"]
["BA507"]
["BA508"]
["BA509"]
["BA510"]
["BA511"]
["BA512"]
["BA513"]
["BA514"]
["BA515"]
["BA516"]
["BA601"]
["BA602"]
["BA603"]
["BA604"]
["BA605"]
["BA606"]
["BA607"]
["BA608"]
["BA609"]
["BA610"]
["BA611"]
["BA612"]
["BA613"]
["BA614"]
["BA615"]
["BA616"]
["BA701"]
["BA702"]
["BA703"]
["BA704"]
["BA705"]
["BA706"]
["BA707"]
["BA708"]
["BA709"]
["BA710"]
["BA711"]
["BA712"]
["BA713"]
["BA714"]
["BA715"]
["BA716"]
["BA801"]
["BA802"]
["BA803"]
["BA804"]
["BA805"]
["BA806"]
["BA807"]
["BA808"]
["BA809"]
["BA810"]
["BA811"]
["BA812"]
["BA813"]
["BA814"]
["BA815"]
["BA816"]
["BA901"]
["BA902"]
["BA903"]
["BA904"]
["BA905"]
["BA906"]
["BA907"]
["BA908"]
["BA909"]
["BA910"]
["BA911"]
["BA912"]
["BA913"]
["BA914"]
["BA915"]
["BA916"]
["BB001"]
["BB002"]
["BB003"]
["BB004"]
["BB005"]
["BB006"]
["BB007"]
["BB008"]
["BB009"]
["BB010"]
["BB011"]
["BB012"]
["BB013"]
["BB014"]
["BB015"]
["BB016"]
["BB101"]
["BB102"]
["BB103"]
["BB104"]
["BB105"]
["BB106"]
["BB107"]
["BB108"]
["BB109"]
["BB110"]
["BB111"]
["BB112"]
["BB113"]
["BB114"]
["BB115"]
["BB116"]
["BB201"]
["BB202"]
["BB203"]
["BB204"]
["BB205"]
["BB206"]
["BB207"]
["BB208"]
["BB209"]
["BB210"]
["BB211"]
["BB212"]
["BB213"]
["BB214"]
["BB215"]
["BB216"]
["BB301"]
["BB302"]
["BB303"]
["BB304"]
["BB305"]
["BB306"]
["BB307"]
["BB308"]
["BB309"]
["BB310"]
["BB311"]
["BB312"]
["BB313"]
["BB314"]
["BB315"]
["BB316"]
["BB401"]
["BB402"]
["BB403"]
["BB404"]
["BB405"]
["BB406"]
["BB407"]
["BB408"]
["BB409"]
["BB410"]
["BB411"]
["BB412"]
["BB413"]
["BB414"]
["BB415"]
["BB416"]
["BB501"]
["BB502"]
["BB503"]
["BB504"]
["BB505"]
["BB506"]
["BB507"]
["BB508"]
["BB509"]
["BB510"]
["BB511"]
["BB512"]
["BB513"]
["BB514"]
["BB515"]
["BB516"]
["BB601"]
["BB602"]
["BB603"]
["BB604"]
["BB605"]
["BB606"]
["BB607"]
["BB608"]
["BB609"]
["BB610"]
["BB611"]
["BB612"]
["BB613"]
["BB614"]
["BB615"]
["BB616"]
["BB701"]
["BB702"]
["BB703"]
["BB704"]
["BB705"]
["BB706"]
["BB707"]
["BB708"]
["BB709"]
["BB710"]
["BB711"]
["BB712"]
["BB713"]
["BB714"]
["BB715"]
["BB716"]
["BB801"]
["BB802"]
["BB803"]
["BB804"]
["BB805"]
["BB806"]
["BB807"]
["BB808"]
["BB809"]
["BB810"]
["BB811"]
["BB812"]
["BB813"]
["BB814"]
["BB815"]
["BB816"]
["BB901"]
["BB902"]
["BB903"]
["BB904"]
["BB905"]
["BB906"]
["BB907"]
["BB908"]
["BB909"]
["BB910"]
["BB911"]
["BB912"]
["BB913"]
["BB914"]
["BB915"]
["BB916"]
["BC001"]
["BC002"]
["BC003"]
["BC004"]
["BC005"]
["BC006"]
["BC007"]
["BC008"]
["BC009"]
["BC010"]
["BC011"]
["BC012"]
["BC013"]
["BC014"]
["BC015"]
["BC016"]
["BC101"]
["BC102"]
["BC103"]
["BC104"]
["BC105"]
["BC106"]
["BC107"]
["BC108"]
["BC109"]
["BC110"]
["BC111"]
["BC112"]
["BC113"]
["BC114"]
["BC115"]
["BC116"]
["BC201"]
["BC202"]
["BC203"]
["BC204"]
["BC205"]
["BC206"]
["BC207"]
["BC208"]
["BC209"]
["BC210"]
["BC211"]
["BC212"]
["BC213"]
["BC214"]
["BC215"]
["BC216"]
["BC301"]
["BC302"]
["BC303"]
["BC304"]
["BC305"]
["BC306"]
["BC307"]
["BC308"]
["BC309"]
["BC310"]
["BC311"]
["BC312"]
["BC313"]
["BC314"]
["BC315"]
["BC316"]
["BC401"]
["BC402"]
["BC403"]
["BC404"]
["BC405"]
["BC406"]
["BC407"]
["BC408"]
["BC409"]
["BC410"]
["BC411"]
["BC412"]
["BC413"]
["BC414"]
["BC415"]
["BC416"]
["BC501"]
["BC502"]
["BC503"]
["BC504"]
["BC505"]
["BC506"]
["BC507"]
["BC508"]
["BC509"]
["BC510"]
["BC511"]
["BC512"]
["BC513"]
["BC514"]
["BC515"]
["BC516"]
["BC601"]
["BC602"]
["BC603"]
["BC604"]
["BC605"]
["BC606"]
["BC607"]
["BC608"]
["BC609"]
["BC610"]
["BC611"]
["BC612"]
["BC613"]
["BC614"]
["BC615"]
["BC616"]
["BC701"]
["BC702"]
["BC703"]
["BC704"]
["BC705"]
["BC706"]
["BC707"]
["BC708"]
["BC709"]
["BC710"]
["BC711"]
["BC712"]
["BC713"]
["BC714"]
["BC715"]
["BC716"]
["BC801"]
["BC802"]
["BC803"]
["BC804"]
["BC805"]
["BC806"]
["BC807"]
["BC808"]
["BC809"]
["BC810"]
["BC811"]
["BC812"]
["BC813"]
["BC814"]
["BC815"]
["BC816"]
["BC901"]
["BC902"]
["BC903"]
["BC904"]
["BC905"]
["BC906"]
["BC907"]
["BC908"]
["BC909"]
["BC910"]
["BC911"]
["BC912"]
["BC913"]
["BC914"]
["BC915"]
["BC916"]
["BD001"]
["BD002"]
["BD003"]
["BD004"]
["BD005"]
["BD006"]
["BD007"]
["BD008"]
["BD009"]
["BD010"]
["BD011"]
["BD012"]
["BD013"]
["BD014"]
["BD015"]
["BD016"]
["BD101"]
["BD102"]
["BD103"]
["BD104"]
["BD105"]
["BD106"]
["BD107"]
["BD108"]
["BD109"]
["BD110"]
["BD111"]
["BD112"]
["BD113"]
["BD114"]
["BD115"]
["BD116"]
["BD201"]
["BD202"]
["BD203"]
["BD204"]
["BD205"]
["BD206"]
["BD207"]
["BD208"]
["BD209"]
["BD210"]
["BD211"]
["BD212"]
["BD213"]
["BD214"]
["BD215"]
["BD216"]
["BD301"]
["BD302"]
["BD303"]
["BD304"]
["BD305"]
["BD306"]
["BD307"]
["BD308"]
["BD309"]
["BD310"]
["BD311"]
["BD312"]
["BD313"]
["BD314"]
["BD315"]
["BD316"]
["BD401"]
["BD402"]
["BD403"]
["BD404"]
["BD405"]
["BD406"]
["BD407"]
["BD408"]
["BD409"]
["BD410"]
["BD411"]
["BD412"]
["BD413"]
["BD414"]
["BD415"]
["BD416"]
["BD501"]
["BD502"]
["BD503"]
["BD504"]
["BD505"]
["BD506"]
["BD507"]
["BD508"]
["BD509"]
["BD510"]
["BD511"]
["BD512"]
["BD513"]
["BD514"]
["BD515"]
["BD516"]
["BD601"]
["BD602"]
["BD603"]
["BD604"]
["BD605"]
["BD606"]
["BD607"]
["BD608"]
["BD609"]
["BD610"]
["BD611"]
["BD612"]
["BD613"]
["BD614"]
["BD615"]
["BD616"]
["BD701"]
["BD702"]
["BD703"]
["BD704"]
["BD705"]
["BD706"]
["BD707"]
["BD708"]
["BD709"]
["BD710"]
["BD711"]
["BD712"]
["BD713"]
["BD714"]
["BD715"]
["BD716"]
["BD801"]
["BD802"]
["BD803"]
["BD804"]
["BD805"]
["BD806"]
["BD807"]
["BD808"]
["BD809"]
["BD810"]
["BD811"]
["BD812"]
["BD813"]
["BD814"]
["BD815"]
["BD816"]
["BD901"]
["BD902"]
["BD903"]
["BD904"]
["BD905"]
["BD906"]
["BD907"]
["BD908"]
["BD909"]
["BD910"]
["BD911"]
["BD912"]
["BD913"]
["BD914"]
["BD915"]
["BD916"]
["BE001"]
["BE002"]
["BE003"]
["BE004"]
["BE005"]
["BE006"]
["BE007"]
["BE008"]
["BE009"]
["BE010"]
["BE011"]
["BE012"]
["BE013"]
["BE014"]
["BE015"]
["BE016"]
["BE101"]
["BE102"]
["BE103"]
["BE104"]
["BE105"]
["BE106"]
["BE107"]
["BE108"]
["BE109"]
["BE110"]
["BE111"]
["BE112"]
["BE113"]
["BE114"]
["BE115"]
["BE116"]
["BE201"]
["BE202"]
["BE203"]
["BE204"]
["BE205"]
["BE206"]
["BE207"]
["BE208"]
["BE209"]
["BE210"]
["BE211"]
["BE212"]
["BE213"]
["BE214"]
["BE215"]
["BE216"]
["BE301"]
["BE302"]
["BE303"]
["BE304"]
["BE305"]
["BE306"]
["BE307"]
["BE308"]
["BE309"]
["BE310"]
["BE311"]
["BE312"]
["BE313"]
["BE314"]
["BE315"]
["BE316"]
["BE401"]
["BE402"]
["BE403"]
["BE404"]
["BE405"]
["BE406"]
["BE407"]
["BE408"]
["BE409"]
["BE410"]
["BE411"]
["BE412"]
["BE413"]
["BE414"]
["BE415"]
["BE416"]
["BE501"]
["BE502"]
["BE503"]
["BE504"]
["BE505"]
["BE506"]
["BE507"]
["BE508"]
["BE509"]
["BE510"]
["BE511"]
["BE512"]
["BE513"]
["BE514"]
["BE515"]
["BE516"]
["BE601"]
["BE602"]
["BE603"]
["BE604"]
["BE605"]
["BE606"]
["BE607"]
["BE608"]
["BE609"]
["BE610"]
["BE611"]
["BE612"]
["BE613"]
["BE614"]
["BE615"]
["BE616"]
["BE701"]
["BE702"]
["BE703"]
["BE704"]
["BE705"]
["BE706"]
["BE707"]
["BE708"]
["BE709"]
["BE710"]
["BE711"]
["BE712"]
["BE713"]
["BE714"]
["BE715"]
["BE716"]
["BE801"]
["BE802"]
["BE803"]
["BE804"]
["BE805"]
["BE806"]
["BE807"]
["BE808"]
["BE809"]
["BE810"]
["BE811"]
["BE812"]
["BE813"]
["BE814"]
["BE815"]
["BE816"]
["BE901"]
["BE902"]
["BE903"]
["BE904"]
["BE905"]
["BE906"]
["BE907"]
["BE908"]
["BE909"]
["BE910"]
["BE911"]
["BE912"]
["BE913"]
["BE914"]
["BE915"]
["BE916"]
["BF001"]
["BF002"]
["BF003"]
["BF004"]
["BF005"]
["BF006"]
["BF007"]
["BF008"]
["BF009"]
["BF010"]
["BF011"]
["BF012"]
["BF013"]
["BF014"]
["BF015"]
["BF016"]
["BF101"]
["BF102"]
["BF103"]
["BF104"]
["BF105"]
["BF106"]
["BF107"]
["BF108"]
["BF109"]
["BF110"]
["BF111"]
["BF112"]
["BF113"]
["BF114"]
["BF115"]
["BF116"]
["BF201"]
["BF202"]
["BF203"]
["BF204"]
["BF205"]
["BF206"]
["BF207"]
["BF208"]
["BF209"]
["BF210"]
["BF211"]
["BF212"]
["BF213"]
["BF214"]
["BF215"]
["BF216"]
["BF301"]
["BF302"]
["BF303"]
["BF304"]
["BF305"]
["BF306"]
["BF307"]
["BF308"]
["BF309"]
["BF310"]
["BF311"]
["BF312"]
["BF313"]
["BF314"]
["BF315"]
["BF316"]
["BF401"]
["BF402"]
["BF403"]
["BF404"]
["BF405"]
["BF406"]
["BF407"]
["BF408"]
["BF409"]
["BF410"]
["BF411"]
["BF412"]
["BF413"]
["BF414"]
["BF415"]
["BF416"]
["BF501"]
["BF502"]
["BF503"]
["BF504"]
["BF505"]
["BF506"]
["BF507"]
["BF508"]
["BF509"]
["BF510"]
["BF511"]
["BF512"]
["BF513"]
["BF514"]
["BF515"]
["BF516"]
["BF601"]
["BF602"]
["BF603"]
["BF604"]
["BF605"]
["BF606"]
["BF607"]
["BF608"]
["BF609"]
["BF610"]
["BF611"]
["BF612"]
["BF613"]
["BF614"]
["BF615"]
["BF616"]
["BF701"]
["BF702"]
["BF703"]
["BF704"]
["BF705"]
["BF706"]
["BF707"]
["BF708"]
["BF709"]
["BF710"]
["BF711"]
["BF712"]
["BF713"]
["BF714"]
["BF715"]
["BF716"]
["BF801"]
["BF802"]
["BF803"]
["BF804"]
["BF805"]
["BF806"]
["BF807"]
["BF808"]
["BF809"]
["BF810"]
["BF811"]
["BF812"]
["BF813"]
["BF814"]
["BF815"]
["BF816"]
["BF901"]
["BF902"]
["BF903"]
["BF904"]
["BF905"]
["BF906"]
["BF907"]
["BF908"]
["BF909"]
["BF910"]
["BF911"]
["BF912"]
["BF913"]
["BF914"]
["BF915"]
["BF916"]
["BG001"]
["BG002"]
["BG003"]
["BG004"]
["BG005"]
["BG006"]
["BG007"]
["BG008"]
["BG009"]
["BG010"]
["BG011"]
["BG012"]
["BG013"]
["BG014"]
["BG015"]
["BG016"]
["BG101"]
["BG102"]
["BG103"]
["BG104"]
["BG105"]
["BG106"]
["BG107"]
["BG108"]
["BG109"]
["BG110"]
["BG111"]
["BG112"]
["BG113"]
["BG114"]
["BG115"]
["BG116"]
["BG201"]
["BG202"]
["BG203"]
["BG204"]
["BG205"]
["BG206"]
["BG207"]
["BG208"]
["BG209"]
["BG210"]
["BG211"]
["BG212"]
["BG213"]
["BG214"]
["BG215"]
["BG216"]
["BG301"]
["BG302"]
["BG303"]
["BG304"]
["BG305"]
["BG306"]
["BG307"]
["BG308"]
["BG309"]
["BG310"]
["BG311"]
["BG312"]
["BG313"]
["BG314"]
["BG315"]
["BG316"]
["BG401"]
["BG402"]
["BG403"]
["BG404"]
["BG405"]
["BG406"]
["BG407"]
["BG408"]
["BG409"]
["BG410"]
["BG411"]
["BG412"]
["BG413"]
["BG414"]
["BG415"]
["BG416"]
["BG501"]
["BG502"]
["BG503"]
["BG504"]
["BG505"]
["BG506"]
["BG507"]
["BG508"]
["BG509"]
["BG510"]
["BG511"]
["BG512"]
["BG513"]
["BG514"]
["BG515"]
["BG516"]
["BG601"]
["BG602"]
["BG603"]
["BG604"]
["BG605"]
["BG606"]
["BG607"]
["BG608"]
["BG609"]
["BG610"]
["BG611"]
["BG612"]
["BG613"]
["BG614"]
["BG615"]
["BG616"]
["BG701"]
["BG702"]
["BG703"]
["BG704"]
["BG705"]
["BG706"]
["BG707"]
["BG708"]
["BG709"]
["BG710"]
["BG711"]
["BG712"]
["BG713"]
["BG714"]
["BG715"]
["BG716"]
["BG801"]
["BG802"]
["BG803"]
["BG804"]
["BG805"]
["BG806"]
["BG807"]
["BG808"]
["BG809"]
["BG810"]
["BG811"]
["BG812"]
["BG813"]
["BG814"]
["BG815"]
["BG816"]
["BG901"]
["BG902"]
["BG903"]
["BG904"]
["BG905"]
["BG906"]
["BG907"]
["BG908"]
["BG909"]
["BG910"]
["BG911"]
["BG912"]
["BG913"]
["BG914"]
["BG915"]
["BG916"]
["BH001"]
["BH002"]
["BH003"]
["BH004"]
["BH005"]
["BH006"]
["BH007"]
["BH008"]
["BH009"]
["BH010"]
["BH011"]
["BH012"]
["BH013"]
["BH014"]
["BH015"]
["BH016"]
["BH101"]
["BH102"]
["BH103"]
["BH104"]
["BH105"]
["BH106"]
["BH107"]
["BH108"]
["BH109"]
["BH110"]
["BH111"]
["BH112"]
["BH113"]
["BH114"]
["BH115"]
["BH116"]
["BH201"]
["BH202"]
["BH203"]
["BH204"]
["BH205"]
["BH206"]
["BH207"]
["BH208"]
["BH209"]
["BH210"]
["BH211"]
["BH212"]
["BH213"]
["BH214"]
["BH215"]
["BH216"]
["BH301"]
["BH302"]
["BH303"]
["BH304"]
["BH305"]
["BH306"]
["BH307"]
["BH308"]
["BH309"]
["BH310"]
["BH311"]
["BH312"]
["BH313"]
["BH314"]
["BH315"]
["BH316"]
["BH401"]
["BH402"]
["BH403"]
["BH404"]
["BH405"]
["BH406"]
["BH407"]
["BH408"]
["BH409"]
["BH410"]
["BH411"]
["BH412"]
["BH413"]
["BH414"]
["BH415"]
["BH416"]
["BH501"]
["BH502"]
["BH503"]
["BH504"]
["BH505"]
["BH506"]
["BH507"]
["BH508"]
["BH509"]
["BH510"]
["BH511"]
["BH512"]
["BH513"]
["BH514"]
["BH515"]
["BH516"]
["BH601"]
["BH602"]
["BH603"]
["BH604"]
["BH605"]
["BH606"]
["BH607"]
["BH608"]
["BH609"]
["BH610"]
["BH611"]
["BH612"]
["BH613"]
["BH614"]
["BH615"]
["BH616"]
["BH701"]
["BH702"]
["BH703"]
["BH704"]
["BH705"]
["BH706"]
["BH707"]
["BH708"]
["BH709"]
["BH710"]
["BH711"]
["BH712"]
["BH713"]
["BH714"]
["BH715"]
["BH716"]
["BH801"]
["BH802"]
["BH803"]
["BH804"]
["BH805"]
["BH806"]
["BH807"]
["BH808"]
["BH809"]
["BH810"]
["BH811"]
["BH812"]
["BH813"]
["BH814"]
["BH815"]
["BH816"]
["BH901"]
["BH902"]
["BH903"]
["BH904"]
["BH905"]
["BH906"]
["BH907"]
["BH908"]
["BH909"]
["BH910"]
["BH911"]
["BH912"]
["BH913"]
["BH914"]
["BH915"]
["BH916"]
["BI001"]
["BI002"]
["BI003"]
["BI004"]
["BI005"]
["BI006"]
["BI007"]
["BI008"]
["BI009"]
["BI010"]
["BI011"]
["BI012"]
["BI013"]
["BI014"]
["BI015"]
["BI016"]
["BI101"]
["BI102"]
["BI103"]
["BI104"]
["BI105"]
["BI106"]
["BI107"]
["BI108"]
["BI109"]
["BI110"]
["BI111"]
["BI112"]
["BI113"]
["BI114"]
["BI115"]
["BI116"]
["BI201"]
["BI202"]
["BI203"]
["BI204"]
["BI205"]
["BI206"]
["BI207"]
["BI208"]
["BI209"]
["BI210"]
["BI211"]
["BI212"]
["BI213"]
["BI214"]
["BI215"]
["BI216"]
["BI301"]
["BI302"]
["BI303"]
["BI304"]
["BI305"]
["BI306"]
["BI307"]
["BI308"]
["BI309"]
["BI310"]
["BI311"]
["BI312"]
["BI313"]
["BI314"]
["BI315"]
["BI316"]
["BI401"]
["BI402"]
["BI403"]
["BI404"]
["BI405"]
["BI406"]
["BI407"]
["BI408"]
["BI409"]
["BI410"]
["BI411"]
["BI412"]
["BI413"]
["BI414"]
["BI415"]
["BI416"]
["BI501"]
["BI502"]
["BI503"]
["BI504"]
["BI505"]
["BI506"]
["BI507"]
["BI508"]
["BI509"]
["BI510"]
["BI511"]
["BI512"]
["BI513"]
["BI514"]
["BI515"]
["BI516"]
["BI601"]
["BI602"]
["BI603"]
["BI604"]
["BI605"]
["BI606"]
["BI607"]
["BI608"]
["BI609"]
["BI610"]
["BI611"]
["BI612"]
["BI613"]
["BI614"]
["BI615"]
["BI616"]
["BI701"]
["BI702"]
["BI703"]
["BI704"]
["BI705"]
["BI706"]
["BI707"]
["BI708"]
["BI709"]
["BI710"]
["BI711"]
["BI712"]
["BI713"]
["BI714"]
["BI715"]
["BI716"]
["BI801"]
["BI802"]
["BI803"]
["BI804"]
["BI805"]
["BI806"]
["BI807"]
["BI808"]
["BI809"]
["BI810"]
["BI811"]
["BI812"]
["BI813"]
["BI814"]
["BI815"]
["BI816"]
["BI901"]
["BI902"]
["BI903"]
["BI904"]
["BI905"]
["BI906"]
["BI907"]
["BI908"]
["BI909"]
["BI910"]
["BI911"]
["BI912"]
["BI913"]
["BI914"]
["BI915"]
["BI916"]
["BJ001"]
["BJ002"]
["BJ003"]
["BJ004"]
["BJ005"]
["BJ006"]
["BJ007"]
["BJ008"]
["BJ009"]
["BJ010"]
["BJ011"]
["BJ012"]
["BJ013"]
["BJ014"]
["BJ015"]
["BJ016"]
["BJ101"]
["BJ102"]
["BJ103"]
["BJ104"]
["BJ105"]
["BJ106"]
["BJ107"]
["BJ108"]
["BJ109"]
["BJ110"]
["BJ111"]
["BJ112"]
["BJ113"]
["BJ114"]
["BJ115"]
["BJ116"]
["BJ201"]
["BJ202"]
["BJ203"]
["BJ204"]
["BJ205"]
["BJ206"]
["BJ207"]
["BJ208"]
["BJ209"]
["BJ210"]
["BJ211"]
["BJ212"]
["BJ213"]
["BJ214"]
["BJ215"]
["BJ216"]
["BJ301"]
["BJ302"]
["BJ303"]
["BJ304"]
["BJ305"]
["BJ306"]
["BJ307"]
["BJ308"]
["BJ309"]
["BJ310"]
["BJ311"]
["BJ312"]
["BJ313"]
["BJ314"]
["BJ315"]
["BJ316"]
["BJ401"]
["BJ402"]
["BJ403"]
["BJ404"]
["BJ405"]
["BJ406"]
["BJ407"]
["BJ408"]
["BJ409"]
["BJ410"]
["BJ411"]
["BJ412"]
["BJ413"]
["BJ414"]
["BJ415"]
["BJ416"]
["BJ501"]
["BJ502"]
["BJ503"]
["BJ504"]
["BJ505"]
["BJ506"]
["BJ507"]
["BJ508"]
["BJ509"]
["BJ510"]
["BJ511"]
["BJ512"]
["BJ513"]
["BJ514"]
["BJ515"]
["BJ516"]
["BJ601"]
["BJ602"]
["BJ603"]
["BJ604"]
["BJ605"]
["BJ606"]
["BJ607"]
["BJ608"]
["BJ609"]
["BJ610"]
["BJ611"]
["BJ612"]
["BJ613"]
["BJ614"]
["BJ615"]
["BJ616"]
["BJ701"]
["BJ702"]
["BJ703"]
["BJ704"]
["BJ705"]
["BJ706"]
["BJ707"]
["BJ708"]
["BJ709"]
["BJ710"]
["BJ711"]
["BJ712"]
["BJ713"]
["BJ714"]
["BJ715"]
["BJ716"]
["BJ801"]
["BJ802"]
["BJ803"]
["BJ804"]
["BJ805"]
["BJ806"]
["BJ807"]
["BJ808"]
["BJ809"]
["BJ810"]
["BJ811"]
["BJ812"]
["BJ813"]
["BJ814"]
["BJ815"]
["BJ816"]
["BJ901"]
["BJ902"]
["BJ903"]
["BJ904"]
["BJ905"]
["BJ906"]
["BJ907"]
["BJ908"]
["BJ909"]
["BJ910"]
["BJ911"]
["BJ912"]
["BJ913"]
["BJ914"]
["BJ915"]
["BJ916"]
["BK001"]
["BK002"]
["BK003"]
["BK004"]
["BK005"]
["BK006"]
["BK007"]
["BK008"]
["BK009"]
["BK010"]
["BK011"]
["BK012"]
["BK013"]
["BK014"]
["BK015"]
["BK016"]
["BK101"]
["BK102"]
["BK103"]
["BK104"]
["BK105"]
["BK106"]
["BK107"]
["BK108"]
["BK109"]
["BK110"]
["BK111"]
["BK112"]
["BK113"]
["BK114"]
["BK115"]
["BK116"]
["BK201"]
["BK202"]
["BK203"]
["BK204"]
["BK205"]
["BK206"]
["BK207"]
["BK208"]
["BK209"]
["BK210"]
["BK211"]
["BK212"]
["BK213"]
["BK214"]
["BK215"]
["BK216"]
["BK301"]
["BK302"]
["BK303"]
["BK304"]
["BK305"]
["BK306"]
["BK307"]
["BK308"]
["BK309"]
["BK310"]
["BK311"]
["BK312"]
["BK313"]
["BK314"]
["BK315"]
["BK316"]
["BK401"]
["BK402"]
["BK403"]
["BK404"]
["BK405"]
["BK406"]
["BK407"]
["BK408"]
["BK409"]
["BK410"]
["BK411"]
["BK412"]
["BK413"]
["BK414"]
["BK415"]
["BK416"]
["BK501"]
["BK502"]
["BK503"]
["BK504"]
["BK505"]
["BK506"]
["BK507"]
["BK508"]
["BK509"]
["BK510"]
["BK511"]
["BK512"]
["BK513"]
["BK514"]
["BK515"]
["BK516"]
["BK601"]
["BK602"]
["BK603"]
["BK604"]
["BK605"]
["BK606"]
["BK607"]
["BK608"]
["BK609"]
["BK610"]
["BK611"]
["BK612"]
["BK613"]
["BK614"]
["BK615"]
["BK616"]
["BK701"]
["BK702"]
["BK703"]
["BK704"]
["BK705"]
["BK706"]
["BK707"]
["BK708"]
["BK709"]
["BK710"]
["BK711"]
["BK712"]
["BK713"]
["BK714"]
["BK715"]
["BK716"]
["BK801"]
["BK802"]
["BK803"]
["BK804"]
["BK805"]
["BK806"]
["BK807"]
["BK808"]
["BK809"]
["BK810"]
["BK811"]
["BK812"]
["BK813"]
["BK814"]
["BK815"]
["BK816"]
["BK901"]
["BK902"]
["BK903"]
["BK904"]
["BK905"]
["BK906"]
["BK907"]
["BK908"]
["BK909"]
["BK910"]
["BK911"]
["BK912"]
["BK913"]
["BK914"]
["BK915"]
["BK916"]
["BL001"]
["BL002"]
["BL003"]
["BL004"]
["BL005"]
["BL006"]
["BL007"]
["BL008"]
["BL009"]
["BL010"]
["BL011"]
["BL012"]
["BL013"]
["BL014"]
["BL015"]
["BL016"]
["BL101"]
["BL102"]
["BL103"]
["BL104"]
["BL105"]
["BL106"]
["BL107"]
["BL108"]
["BL109"]
["BL110"]
["BL111"]
["BL112"]
["BL113"]
["BL114"]
["BL115"]
["BL116"]
["BL201"]
["BL202"]
["BL203"]
["BL204"]
["BL205"]
["BL206"]
["BL207"]
["BL208"]
["BL209"]
["BL210"]
["BL211"]
["BL212"]
["BL213"]
["BL214"]
["BL215"]
["BL216"]
["BL301"]
["BL302"]
["BL303"]
["BL304"]
["BL305"]
["BL306"]
["BL307"]
["BL308"]
["BL309"]
["BL310"]
["BL311"]
["BL312"]
["BL313"]
["BL314"]
["BL315"]
["BL316"]
["BL401"]
["BL402"]
["BL403"]
["BL404"]
["BL405"]
["BL406"]
["BL407"]
["BL408"]
["BL409"]
["BL410"]
["BL411"]
["BL412"]
["BL413"]
["BL414"]
["BL415"]
["BL416"]
["BL501"]
["BL502"]
["BL503"]
["BL504"]
["BL505"]
["BL506"]
["BL507"]
["BL508"]
["BL509"]
["BL510"]
["BL511"]
["BL512"]
["BL513"]
["BL514"]
["BL515"]
["BL516"]
["BL601"]
["BL602"]
["BL603"]
["BL604"]
["BL605"]
["BL606"]
["BL607"]
["BL608"]
["BL609"]
["BL610"]
["BL611"]
["BL612"]
["BL613"]
["BL614"]
["BL615"]
["BL616"]
["BL701"]
["BL702"]
["BL703"]
["BL704"]
["BL705"]
["BL706"]
["BL707"]
["BL708"]
["BL709"]
["BL710"]
["BL711"]
["BL712"]
["BL713"]
["BL714"]
["BL715"]
["BL716"]
["BL801"]
["BL802"]
["BL803"]
["BL804"]
["BL805"]
["BL806"]
["BL807"]
["BL808"]
["BL809"]
["BL810"]
["BL811"]
["BL812"]
["BL813"]
["BL814"]
["BL815"]
["BL816"]
["BL901"]
["BL902"]
["BL903"]
["BL904"]
["BL905"]
["BL906"]
["BL907"]
["BL908"]
["BL909"]
["BL910"]
["BL911"]
["BL912"]
["BL913"]
["BL914"]
["BL915"]
["BL916"]
["BM001"]
["BM002"]
["BM003"]
["BM004"]
["BM005"]
["BM006"]
["BM007"]
["BM008"]
["BM009"]
["BM010"]
["BM011"]
["BM012"]
["BM013"]
["BM014"]
["BM015"]
["BM016"]
["BM101"]
["BM102"]
["BM103"]
["BM104"]
["BM105"]
["BM106"]
["BM107"]
["BM108"]
["BM109"]
["BM110"]
["BM111"]
["BM112"]
["BM113"]
["BM114"]
["BM115"]
["BM116"]
["BM201"]
["BM202"]
["BM203"]
["BM204"]
["BM205"]
["BM206"]
["BM207"]
["BM208"]
["BM209"]
["BM210"]
["BM211"]
["BM212"]
["BM213"]
["BM214"]
["BM215"]
["BM216"]
["BM301"]
["BM302"]
["BM303"]
["BM304"]
["BM305"]
["BM306"]
["BM307"]
["BM308"]
["BM309"]
["BM310"]
["BM311"]
["BM312"]
["BM313"]
["BM314"]
["BM315"]
["BM316"]
["BM401"]
["BM402"]
["BM403"]
["BM404"]
["BM405"]
["BM406"]
["BM407"]
["BM408"]
["BM409"]
["BM410"]
["BM411"]
["BM412"]
["BM413"]
["BM414"]
["BM415"]
["BM416"]
["BM501"]
["BM502"]
["BM503"]
["BM504"]
["BM505"]
["BM506"]
["BM507"]
["BM508"]
["BM509"]
["BM510"]
["BM511"]
["BM512"]
["BM513"]
["BM514"]
["BM515"]
["BM516"]
["BM601"]
["BM602"]
["BM603"]
["BM604"]
["BM605"]
["BM606"]
["BM607"]
["BM608"]
["BM609"]
["BM610"]
["BM611"]
["BM612"]
["BM613"]
["BM614"]
["BM615"]
["BM616"]
["BM701"]
["BM702"]
["BM703"]
["BM704"]
["BM705"]
["BM706"]
["BM707"]
["BM708"]
["BM709"]
["BM710"]
["BM711"]
["BM712"]
["BM713"]
["BM714"]
["BM715"]
["BM716"]
["BM801"]
["BM802"]
["BM803"]
["BM804"]
["BM805"]
["BM806"]
["BM807"]
["BM808"]
["BM809"]
["BM810"]
["BM811"]
["BM812"]
["BM813"]
["BM814"]
["BM815"]
["BM816"]
["BM901"]
["BM902"]
["BM903"]
["BM904"]
["BM905"]
["BM906"]
["BM907"]
["BM908"]
["BM909"]
["BM910"]
["BM911"]
["BM912"]
["BM913"]
["BM914"]
["BM915"]
["BM916"]
["BN001"]
["BN002"]
["BN003"]
["BN004"]
["BN005"]
["BN006"]
["BN007"]
["BN008"]
["BN009"]
["BN010"]
["BN011"]
["BN012"]
["BN013"]
["BN014"]
["BN015"]
["BN016"]
["BN101"]
["BN102"]
["BN103"]
["BN104"]
["BN105"]
["BN106"]
["BN107"]
["BN108"]
["BN109"]
["BN110"]
["BN111"]
["BN112"]
["BN113"]
["BN114"]
["BN115"]
["BN116"]
["BN201"]
["BN202"]
["BN203"]
["BN204"]
["BN205"]
["BN206"]
["BN207"]
["BN208"]
["BN209"]
["BN210"]
["BN211"]
["BN212"]
["BN213"]
["BN214"]
["BN215"]
["BN216"]
["BN301"]
["BN302"]
["BN303"]
["BN304"]
["BN305"]
["BN306"]
["BN307"]
["BN308"]
["BN309"]
["BN310"]
["BN311"]
["BN312"]
["BN313"]
["BN314"]
["BN315"]
["BN316"]
["BN401"]
["BN402"]
["BN403"]
["BN404"]
["BN405"]
["BN406"]
["BN407"]
["BN408"]
["BN409"]
["BN410"]
["BN411"]
["BN412"]
["BN413"]
["BN414"]
["BN415"]
["BN416"]
["BN501"]
["BN502"]
["BN503"]
["BN504"]
["BN505"]
["BN506"]
["BN507"]
["BN508"]
["BN509"]
["BN510"]
["BN511"]
["BN512"]
["BN513"]
["BN514"]
["BN515"]
["BN516"]
["BN601"]
["BN602"]
["BN603"]
["BN604"]
["BN605"]
["BN606"]
["BN607"]
["BN608"]
["BN609"]
["BN610"]
["BN611"]
["BN612"]
["BN613"]
["BN614"]
["BN615"]
["BN616"]
["BN701"]
["BN702"]
["BN703"]
["BN704"]
["BN705"]
["BN706"]
["BN707"]
["BN708"]
["BN709"]
["BN710"]
["BN711"]
["BN712"]
["BN713"]
["BN714"]
["BN715"]
["BN716"]
["BN801"]
["BN802"]
["BN803"]
["BN804"]
["BN805"]
["BN806"]
["BN807"]
["BN808"]
["BN809"]
["BN810"]
["BN811"]
["BN812"]
["BN813"]
["BN814"]
["BN815"]
["BN816"]
["BN901"]
["BN902"]
["BN903"]
["BN904"]
["BN905"]
["BN906"]
["BN907"]
["BN908"]
["BN909"]
["BN910"]
["BN911"]
["BN912"]
["BN913"]
["BN914"]
["BN915"]
["BN916"]
["BO001"]
["BO002"]
["BO003"]
["BO004"]
["BO005"]
["BO006"]
["BO007"]
["BO008"]
["BO009"]
["BO010"]
["BO011"]
["BO012"]
["BO013"]
["BO014"]
["BO015"]
["BO016"]
["BO101"]
["BO102"]
["BO103"]
["BO104"]
["BO105"]
["BO106"]
["BO107"]
["BO108"]
["BO109"]
["BO110"]
["BO111"]
["BO112"]
["BO113"]
["BO114"]
["BO115"]
["BO116"]
["BO201"]
["BO202"]
["BO203"]
["BO204"]
["BO205"]
["BO206"]
["BO207"]
["BO208"]
["BO209"]
["BO210"]
["BO211"]
["BO212"]
["BO213"]
["BO214"]
["BO215"]
["BO216"]
["BO301"]
["BO302"]
["BO303"]
["BO304"]
["BO305"]
["BO306"]
["BO307"]
["BO308"]
["BO309"]
["BO310"]
["BO311"]
["BO312"]
["BO313"]
["BO314"]
["BO315"]
["BO316"]
["BO401"]
["BO402"]
["BO403"]
["BO404"]
["BO405"]
["BO406"]
["BO407"]
["BO408"]
["BO409"]
["BO410"]
["BO411"]
["BO412"]
["BO413"]
["BO414"]
["BO415"]
["BO416"]
["BO501"]
["BO502"]
["BO503"]
["BO504"]
["BO505"]
["BO506"]
["BO507"]
["BO508"]
["BO509"]
["BO510"]
["BO511"]
["BO512"]
["BO513"]
["BO514"]
["BO515"]
["BO516"]
["BO601"]
["BO602"]
["BO603"]
["BO604"]
["BO605"]
["BO606"]
["BO607"]
["BO608"]
["BO609"]
["BO610"]
["BO611"]
["BO612"]
["BO613"]
["BO614"]
["BO615"]
["BO616"]
["BO701"]
["BO702"]
["BO703"]
["BO704"]
["BO705"]
["BO706"]
["BO707"]
["BO708"]
["BO709"]
["BO710"]
["BO711"]
["BO712"]
["BO713"]
["BO714"]
["BO715"]
["BO716"]
["BO801"]
["BO802"]
["BO803"]
["BO804"]
["BO805"]
["BO806"]
["BO807"]
["BO808"]
["BO809"]
["BO810"]
["BO811"]
["BO812"]
["BO813"]
["BO814"]
["BO815"]
["BO816"]
["BO901"]
["BO902"]
["BO903"]
["BO904"]
["BO905"]
["BO906"]
["BO907"]
["BO908"]
["BO909"]
["BO910"]
["BO911"]
["BO912"]
["BO913"]
["BO914"]
["BO915"]
["BO916"]
["BP001"]
["BP002"]
["BP003"]
["BP004"]
["BP005"]
["BP006"]
["BP007"]
["BP008"]
["BP009"]
["BP010"]
["BP011"]
["BP012"]
["BP013"]
["BP014"]
["BP015"]
["BP016"]
["BP101"]
["BP102"]
["BP103"]
["BP104"]
["BP105"]
["BP106"]
["BP107"]
["BP108"]
["BP109"]
["BP110"]
["BP111"]
["BP112"]
["BP113"]
["BP114"]
["BP115"]
["BP116"]
["BP201"]
["BP202"]
["BP203"]
["BP204"]
["BP205"]
["BP206"]
["BP207"]
["BP208"]
["BP209"]
["BP210"]
["BP211"]
["BP212"]
["BP213"]
["BP214"]
["BP215"]
["BP216"]
["BP301"]
["BP302"]
["BP303"]
["BP304"]
["BP305"]
["BP306"]
["BP307"]
["BP308"]
["BP309"]
["BP310"]
["BP311"]
["BP312"]
["BP313"]
["BP314"]
["BP315"]
["BP316"]
["BP401"]
["BP402"]
["BP403"]
["BP404"]
["BP405"]
["BP406"]
["BP407"]
["BP408"]
["BP409"]
["BP410"]
["BP411"]
["BP412"]
["BP413"]
["BP414"]
["BP415"]
["BP416"]
["BP501"]
["BP502"]
["BP503"]
["BP504"]
["BP505"]
["BP506"]
["BP507"]
["BP508"]
["BP509"]
["BP510"]
["BP511"]
["BP512"]
["BP513"]
["BP514"]
["BP515"]
["BP516"]
["BP601"]
["BP602"]
["BP603"]
["BP604"]
["BP605"]
["BP606"]
["BP607"]
["BP608"]
["BP609"]
["BP610"]
["BP611"]
["BP612"]
["BP613"]
["BP614"]
["BP615"]
["BP616"]
["BP701"]
["BP702"]
["BP703"]
["BP704"]
["BP705"]
["BP706"]
["BP707"]
["BP708"]
["BP709"]
["BP710"]
["BP711"]
["BP712"]
["BP713"]
["BP714"]
["BP715"]
["BP716"]
["BP801"]
["BP802"]
["BP803"]
["BP804"]
["BP805"]
["BP806"]
["BP807"]
["BP808"]
["BP809"]
["BP810"]
["BP811"]
["BP812"]
["BP813"]
["BP814"]
["BP815"]
["BP816"]
["BP901"]
["BP902"]
["BP903"]
["BP904"]
["BP905"]
["BP906"]
["BP907"]
["BP908"]
["BP909"]
["BP910"]
["BP911"]
["BP912"]
["BP913"]
["BP914"]
["BP915"]
["BP916"]
["BQ001"]
["BQ002"]
["BQ003"]
["BQ004"]
["BQ005"]
["BQ006"]
["BQ007"]
["BQ008"]
["BQ009"]
["BQ010"]
["BQ011"]
["BQ012"]
["BQ013"]
["BQ014"]
["BQ015"]
["BQ016"]
["BQ101"]
["BQ102"]
["BQ103"]
["BQ104"]
["BQ105"]
["BQ106"]
["BQ107"]
["BQ108"]
["BQ109"]
["BQ110"]
["BQ111"]
["BQ112"]
["BQ113"]
["BQ114"]
["BQ115"]
["BQ116"]
["BQ201"]
["BQ202"]
["BQ203"]
["BQ204"]
["BQ205"]
["BQ206"]
["BQ207"]
["BQ208"]
["BQ209"]
["BQ210"]
["BQ211"]
["BQ212"]
["BQ213"]
["BQ214"]
["BQ215"]
["BQ216"]
["BQ301"]
["BQ302"]
["BQ303"]
["BQ304"]
["BQ305"]
["BQ306"]
["BQ307"]
["BQ308"]
["BQ309"]
["BQ310"]
["BQ311"]
["BQ312"]
["BQ313"]
["BQ314"]
["BQ315"]
["BQ316"]
["BQ401"]
["BQ402"]
["BQ403"]
["BQ404"]
["BQ405"]
["BQ406"]
["BQ407"]
["BQ408"]
["BQ409"]
["BQ410"]
["BQ411"]
["BQ412"]
["BQ413"]
["BQ414"]
["BQ415"]
["BQ416"]
["BQ501"]
["BQ502"]
["BQ503"]
["BQ504"]
["BQ505"]
["BQ506"]
["BQ507"]
["BQ508"]
["BQ509"]
["BQ510"]
["BQ511"]
["BQ512"]
["BQ513"]
["BQ514"]
["BQ515"]
["BQ516"]
["BQ601"]
["BQ602"]
["BQ603"]
["BQ604"]
["BQ605"]
["BQ606"]
["BQ607"]
["BQ608"]
["BQ609"]
["BQ610"]
["BQ611"]
["BQ612"]
["BQ613"]
["BQ614"]
["BQ615"]
["BQ616"]
["BQ701"]
["BQ702"]
["BQ703"]
["BQ704"]
["BQ705"]
["BQ706"]
["BQ707"]
["BQ708"]
["BQ709"]
["BQ710"]
["BQ711"]
["BQ712"]
["BQ713"]
["BQ714"]
["BQ715"]
["BQ716"]
["BQ801"]
["BQ802"]
["BQ803"]
["BQ804"]
["BQ805"]
["BQ806"]
["BQ807"]
["BQ808"]
["BQ809"]
["BQ810"]
["BQ811"]
["BQ812"]
["BQ813"]
["BQ814"]
["BQ815"]
["BQ816"]
["BQ901"]
["BQ902"]
["BQ903"]
["BQ904"]
["BQ905"]
["BQ906"]
["BQ907"]
["BQ908"]
["BQ909"]
["BQ910"]
["BQ911"]
["BQ912"]
["BQ913"]
["BQ914"]
["BQ915"]
["BQ916"]
["BR001"]
["BR002"]
["BR003"]
["BR004"]
["BR005"]
["BR006"]
["BR007"]
["BR008"]
["BR009"]
["BR010"]
["BR011"]
["BR012"]
["BR013"]
["BR014"]
["BR015"]
["BR016"]
["BR101"]
["BR102"]
["BR103"]
["BR104"]
["BR105"]
["BR106"]
["BR107"]
["BR108"]
["BR109"]
["BR110"]
["BR111"]
["BR112"]
["BR113"]
["BR114"]
["BR115"]
["BR116"]
["BR201"]
["BR202"]
["BR203"]
["BR204"]
["BR205"]
["BR206"]
["BR207"]
["BR208"]
["BR209"]
["BR210"]
["BR211"]
["BR212"]
["BR213"]
["BR214"]
["BR215"]
["BR216"]
["BR301"]
["BR302"]
["BR303"]
["BR304"]
["BR305"]
["BR306"]
["BR307"]
["BR308"]
["BR309"]
["BR310"]
["BR311"]
["BR312"]
["BR313"]
["BR314"]
["BR315"]
["BR316"]
["BR401"]
["BR402"]
["BR403"]
["BR404"]
["BR405"]
["BR406"]
["BR407"]
["BR408"]
["BR409"]
["BR410"]
["BR411"]
["BR412"]
["BR413"]
["BR414"]
["BR415"]
["BR416"]
["BR501"]
["BR502"]
["BR503"]
["BR504"]
["BR505"]
["BR506"]
["BR507"]
["BR508"]
["BR509"]
["BR510"]
["BR511"]
["BR512"]
["BR513"]
["BR514"]
["BR515"]
["BR516"]
["BR601"]
["BR602"]
["BR603"]
["BR604"]
["BR605"]
["BR606"]
["BR607"]
["BR608"]
["BR609"]
["BR610"]
["BR611"]
["BR612"]
["BR613"]
["BR614"]
["BR615"]
["BR616"]
["BR701"]
["BR702"]
["BR703"]
["BR704"]
["BR705"]
["BR706"]
["BR707"]
["BR708"]
["BR709"]
["BR710"]
["BR711"]
["BR712"]
["BR713"]
["BR714"]
["BR715"]
["BR716"]
["BR801"]
["BR802"]
["BR803"]
["BR804"]
["BR805"]
["BR806"]
["BR807"]
["BR808"]
["BR809"]
["BR810"]
["BR811"]
["BR812"]
["BR813"]
["BR814"]
["BR815"]
["BR816"]
["BR901"]
["BR902"]
["BR903"]
["BR904"]
["BR905"]
["BR906"]
["BR907"]
["BR908"]
["BR909"]
["BR910"]
["BR911"]
["BR912"]
["BR913"]
["BR914"]
["BR915"]
["BR916"]
["BS001"]
["BS002"]
["BS003"]
["BS004"]
["BS005"]
["BS006"]
["BS007"]
["BS008"]
["BS009"]
["BS010"]
["BS011"]
["BS012"]
["BS013"]
["BS014"]
["BS015"]
["BS016"]
["BS101"]
["BS102"]
["BS103"]
["BS104"]
["BS105"]
["BS106"]
["BS107"]
["BS108"]
["BS109"]
["BS110"]
["BS111"]
["BS112"]
["BS113"]
["BS114"]
["BS115"]
["BS116"]
["BS201"]
["BS202"]
["BS203"]
["BS204"]
["BS205"]
["BS206"]
["BS207"]
["BS208"]
["BS209"]
["BS210"]
["BS211"]
["BS212"]
["BS213"]
["BS214"]
["BS215"]
["BS216"]
["BS301"]
["BS302"]
["BS303"]
["BS304"]
["BS305"]
["BS306"]
["BS307"]
["BS308"]
["BS309"]
["BS310"]
["BS311"]
["BS312"]
["BS313"]
["BS314"]
["BS315"]
["BS316"]
["BS401"]
["BS402"]
["BS403"]
["BS404"]
["BS405"]
["BS406"]
["BS407"]
["BS408"]
["BS409"]
["BS410"]
["BS411"]
["BS412"]
["BS413"]
["BS414"]
["BS415"]
["BS416"]
["BS501"]
["BS502"]
["BS503"]
["BS504"]
["BS505"]
["BS506"]
["BS507"]
["BS508"]
["BS509"]
["BS510"]
["BS511"]
["BS512"]
["BS513"]
["BS514"]
["BS515"]
["BS516"]
["BS601"]
["BS602"]
["BS603"]
["BS604"]
["BS605"]
["BS606"]
["BS607"]
["BS608"]
["BS609"]
["BS610"]
["BS611"]
["BS612"]
["BS613"]
["BS614"]
["BS615"]
["BS616"]
["BS701"]
["BS702"]
["BS703"]
["BS704"]
["BS705"]
["BS706"]
["BS707"]
["BS708"]
["BS709"]
["BS710"]
["BS711"]
["BS712"]
["BS713"]
["BS714"]
["BS715"]
["BS716"]
["BS801"]
["BS802"]
["BS803"]
["BS804"]
["BS805"]
["BS806"]
["BS807"]
["BS808"]
["BS809"]
["BS810"]
["BS811"]
["BS812"]
["BS813"]
["BS814"]
["BS815"]
["BS816"]
["BS901"]
["BS902"]
["BS903"]
["BS904"]
["BS905"]
["BS906"]
["BS907"]
["BS908"]
["BS909"]
["BS910"]
["BS911"]
["BS912"]
["BS913"]
["BS914"]
["BS915"]
["BS916"]
["BT001"]
["BT002"]
["BT003"]
["BT004"]
["BT005"]
["BT006"]
["BT007"]
["BT008"]
["BT009"]
["BT010"]
["BT011"]
["BT012"]
["BT013"]
["BT014"]
["BT015"]
["BT016"]
["BT101"]
["BT102"]
["BT103"]
["BT104"]
["BT105"]
["BT106"]
["BT107"]
["BT108"]
["BT109"]
["BT110"]
["BT111"]
["BT112"]
["BT113"]
["BT114"]
["BT115"]
["BT116"]
["BT201"]
["BT202"]
["BT203"]
["BT204"]
["BT205"]
["BT206"]
["BT207"]
["BT208"]
["BT209"]
["BT210"]
["BT211"]
["BT212"]
["BT213"]
["BT214"]
["BT215"]
["BT216"]
["BT301"]
["BT302"]
["BT303"]
["BT304"]
["BT305"]
["BT306"]
["BT307"]
["BT308"]
["BT309"]
["BT310"]
["BT311"]
["BT312"]
["BT313"]
["BT314"]
["BT315"]
["BT316"]
["BT401"]
["BT402"]
["BT403"]
["BT404"]
["BT405"]
["BT406"]
["BT407"]
["BT408"]
["BT409"]
["BT410"]
["BT411"]
["BT412"]
["BT413"]
["BT414"]
["BT415"]
["BT416"]
["BT501"]
["BT502"]
["BT503"]
["BT504"]
["BT505"]
["BT506"]
["BT507"]
["BT508"]
["BT509"]
["BT510"]
["BT511"]
["BT512"]
["BT513"]
["BT514"]
["BT515"]
["BT516"]
["BT601"]
["BT602"]
["BT603"]
["BT604"]
["BT605"]
["BT606"]
["BT607"]
["BT608"]
["BT609"]
["BT610"]
["BT611"]
["BT612"]
["BT613"]
["BT614"]
["BT615"]
["BT616"]
["BT701"]
["BT702"]
["BT703"]
["BT704"]
["BT705"]
["BT706"]
["BT707"]
["BT708"]
["BT709"]
["BT710"]
["BT711"]
["BT712"]
["BT713"]
["BT714"]
["BT715"]
["BT716"]
["BT801"]
["BT802"]
["BT803"]
["BT804"]
["BT805"]
["BT806"]
["BT807"]
["BT808"]
["BT809"]
["BT810"]
["BT811"]
["BT812"]
["BT813"]
["BT814"]
["BT815"]
["BT816"]
["BT901"]
["BT902"]
["BT903"]
["BT904"]
["BT905"]
["BT906"]
["BT907"]
["BT908"]
["BT909"]
["BT910"]
["BT911"]
["BT912"]
["BT913"]
["BT914"]
["BT915"]
["BT916"]
["BU001"]
["BU002"]
["BU003"]
["BU004"]
["BU005"]
["BU006"]
["BU007"]
["BU008"]
["BU009"]
["BU010"]
["BU011"]
["BU012"]
["BU013"]
["BU014"]
["BU015"]
["BU016"]
["BU101"]
["BU102"]
["BU103"]
["BU104"]
["BU105"]
["BU106"]
["BU107"]
["BU108"]
["BU109"]
["BU110"]
["BU111"]
["BU112"]
["BU113"]
["BU114"]
["BU115"]
["BU116"]
["BU201"]
["BU202"]
["BU203"]
["BU204"]
["BU205"]
["BU206"]
["BU207"]
["BU208"]
["BU209"]
["BU210"]
["BU211"]
["BU212"]
["BU213"]
["BU214"]
["BU215"]
["BU216"]
["BU301"]
["BU302"]
["BU303"]
["BU304"]
["BU305"]
["BU306"]
["BU307"]
["BU308"]
["BU309"]
["BU310"]
["BU311"]
["BU312"]
["BU313"]
["BU314"]
["BU315"]
["BU316"]
["BU401"]
["BU402"]
["BU403"]
["BU404"]
["BU405"]
["BU406"]
["BU407"]
["BU408"]
["BU409"]
["BU410"]
["BU411"]
["BU412"]
["BU413"]
["BU414"]
["BU415"]
["BU416"]
["BU501"]
["BU502"]
["BU503"]
["BU504"]
["BU505"]
["BU506"]
["BU507"]
["BU508"]
["BU509"]
["BU510"]
["BU511"]
["BU512"]
["BU513"]
["BU514"]
["BU515"]
["BU516"]
["BU601"]
["BU602"]
["BU603"]
["BU604"]
["BU605"]
["BU606"]
["BU607"]
["BU608"]
["BU609"]
["BU610"]
["BU611"]
["BU612"]
["BU613"]
["BU614"]
["BU615"]
["BU616"]
["BU701"]
["BU702"]
["BU703"]
["BU704"]
["BU705"]
["BU706"]
["BU707"]
["BU708"]
["BU709"]
["BU710"]
["BU711"]
["BU712"]
["BU713"]
["BU714"]
["BU715"]
["BU716"]
["BU801"]
["BU802"]
["BU803"]
["BU804"]
["BU805"]
["BU806"]
["BU807"]
["BU808"]
["BU809"]
["BU810"]
["BU811"]
["BU812"]
["BU813"]
["BU814"]
["BU815"]
["BU816"]
["BU901"]
["BU902"]
["BU903"]
["BU904"]
["BU905"]
["BU906"]
["BU907"]
["BU908"]
["BU909"]
["BU910"]
["BU911"]
["BU912"]
["BU913"]
["BU914"]
["BU915"]
["BU916"]
["BV001"]
["BV002"]
["BV003"]
["BV004"]
["BV005"]
["BV006"]
["BV007"]
["BV008"]
["BV009"]
["BV010"]
["BV011"]
["BV012"]
["BV013"]
["BV014"]
["BV015"]
["BV016"]
["BV101"]
["BV102"]
["BV103"]
["BV104"]
["BV105"]
["BV106"]
["BV107"]
["BV108"]
["BV109"]
["BV110"]
["BV111"]
["BV112"]
["BV113"]
["BV114"]
["BV115"]
["BV116"]
["BV201"]
["BV202"]
["BV203"]
["BV204"]
["BV205"]
["BV206"]
["BV207"]
["BV208"]
["BV209"]
["BV210"]
["BV211"]
["BV212"]
["BV213"]
["BV214"]
["BV215"]
["BV216"]
["BV301"]
["BV302"]
["BV303"]
["BV304"]
["BV305"]
["BV306"]
["BV307"]
["BV308"]
["BV309"]
["BV310"]
["BV311"]
["BV312"]
["BV313"]
["BV314"]
["BV315"]
["BV316"]
["BV401"]
["BV402"]
["BV403"]
["BV404"]
["BV405"]
["BV406"]
["BV407"]
["BV408"]
["BV409"]
["BV410"]
["BV411"]
["BV412"]
["BV413"]
["BV414"]
["BV415"]
["BV416"]
["BV501"]
["BV502"]
["BV503"]
["BV504"]
["BV505"]
["BV506"]
["BV507"]
["BV508"]
["BV509"]
["BV510"]
["BV511"]
["BV512"]
["BV513"]
["BV514"]
["BV515"]
["BV516"]
["BV601"]
["BV602"]
["BV603"]
["BV604"]
["BV605"]
["BV606"]
["BV607"]
["BV608"]
["BV609"]
["BV610"]
["BV611"]
["BV612"]
["BV613"]
["BV614"]
["BV615"]
["BV616"]
["BV701"]
["BV702"]
["BV703"]
["BV704"]
["BV705"]
["BV706"]
["BV707"]
["BV708"]
["BV709"]
["BV710"]
["BV711"]
["BV712"]
["BV713"]
["BV714"]
["BV715"]
["BV716"]
["BV801"]
["BV802"]
["BV803"]
["BV804"]
["BV805"]
["BV806"]
["BV807"]
["BV808"]
["BV809"]
["BV810"]
["BV811"]
["BV812"]
["BV813"]
["BV814"]
["BV815"]
["BV816"]
["BV901"]
["BV902"]
["BV903"]
["BV904"]
["BV905"]
["BV906"]
["BV907"]
["BV908"]
["BV909"]
["BV910"]
["BV911"]
["BV912"]
["BV913"]
["BV914"]
["BV915"]
["BV916"]
["BW001"]
["BW002"]
["BW003"]
["BW004"]
["BW005"]
["BW006"]
["BW007"]
["BW008"]
["BW009"]
["BW010"]
["BW011"]
["BW012"]
["BW013"]
["BW014"]
["BW015"]
["BW016"]
["BW101"]
["BW102"]
["BW103"]
["BW104"]
["BW105"]
["BW106"]
["BW107"]
["BW108"]
["BW109"]
["BW110"]
["BW111"]
["BW112"]
["BW113"]
["BW114"]
["BW115"]
["BW116"]
["BW201"]
["BW202"]
["BW203"]
["BW204"]
["BW205"]
["BW206"]
["BW207"]
["BW208"]
["BW209"]
["BW210"]
["BW211"]
["BW212"]
["BW213"]
["BW214"]
["BW215"]
["BW216"]
["BW301"]
["BW302"]
["BW303"]
["BW304"]
["BW305"]
["BW306"]
["BW307"]
["BW308"]
["BW309"]
["BW310"]
["BW311"]
["BW312"]
["BW313"]
["BW314"]
["BW315"]
["BW316"]
["BW401"]
["BW402"]
["BW403"]
["BW404"]
["BW405"]
["BW406"]
["BW407"]
["BW408"]
["BW409"]
["BW410"]
["BW411"]
["BW412"]
["BW413"]
["BW414"]
["BW415"]
["BW416"]
["BW501"]
["BW502"]
["BW503"]
["BW504"]
["BW505"]
["BW506"]
["BW507"]
["BW508"]
["BW509"]
["BW510"]
["BW511"]
["BW512"]
["BW513"]
["BW514"]
["BW515"]
["BW516"]
["BW601"]
["BW602"]
["BW603"]
["BW604"]
["BW605"]
["BW606"]
["BW607"]
["BW608"]
["BW609"]
["BW610"]
["BW611"]
["BW612"]
["BW613"]
["BW614"]
["BW615"]
["BW616"]
["BW701"]
["BW702"]
["BW703"]
["BW704"]
["BW705"]
["BW706"]
["BW707"]
["BW708"]
["BW709"]
["BW710"]
["BW711"]
["BW712"]
["BW713"]
["BW714"]
["BW715"]
["BW716"]
["BW801"]
["BW802"]
["BW803"]
["BW804"]
["BW805"]
["BW806"]
["BW807"]
["BW808"]
["BW809"]
["BW810"]
["BW811"]
["BW812"]
["BW813"]
["BW814"]
["BW815"]
["BW816"]
["BW901"]
["BW902"]
["BW903"]
["BW904"]
["BW905"]
["BW906"]
["BW907"]
["BW908"]
["BW909"]
["BW910"]
["BW911"]
["BW912"]
["BW913"]
["BW914"]
["BW915"]
["BW916"]
["BX001"]
["BX002"]
["BX003"]
["BX004"]
["BX005"]
["BX006"]
["BX007"]
["BX008"]
["BX009"]
["BX010"]
["BX011"]
["BX012"]
["BX013"]
["BX014"]
["BX015"]
["BX016"]
["BX101"]
["BX102"]
["BX103"]
["BX104"]
["BX105"]
["BX106"]
["BX107"]
["BX108"]
["BX109"]
["BX110"]
["BX111"]
["BX112"]
["BX113"]
["BX114"]
["BX115"]
["BX116"]
["BX201"]
["BX202"]
["BX203"]
["BX204"]
["BX205"]
["BX206"]
["BX207"]
["BX208"]
["BX209"]
["BX210"]
["BX211"]
["BX212"]
["BX213"]
["BX214"]
["BX215"]
["BX216"]
["BX301"]
["BX302"]
["BX303"]
["BX304"]
["BX305"]
["BX306"]
["BX307"]
["BX308"]
["BX309"]
["BX310"]
["BX311"]
["BX312"]
["BX313"]
["BX314"]
["BX315"]
["BX316"]
["BX401"]
["BX402"]
["BX403"]
["BX404"]
["BX405"]
["BX406"]
["BX407"]
["BX408"]
["BX409"]
["BX410"]
["BX411"]
["BX412"]
["BX413"]
["BX414"]
["BX415"]
["BX416"]
["BX501"]
["BX502"]
["BX503"]
["BX504"]
["BX505"]
["BX506"]
["BX507"]
["BX508"]
["BX509"]
["BX510"]
["BX511"]
["BX512"]
["BX513"]
["BX514"]
["BX515"]
["BX516"]
["BX601"]
["BX602"]
["BX603"]
["BX604"]
["BX605"]
["BX606"]
["BX607"]
["BX608"]
["BX609"]
["BX610"]
["BX611"]
["BX612"]
["BX613"]
["BX614"]
["BX615"]
["BX616"]
["BX701"]
["BX702"]
["BX703"]
["BX704"]
["BX705"]
["BX706"]
["BX707"]
["BX708"]
["BX709"]
["BX710"]
["BX711"]
["BX712"]
["BX713"]
["BX714"]
["BX715"]
["BX716"]
["BX801"]
["BX802"]
["BX803"]
["BX804"]
["BX805"]
["BX806"]
["BX807"]
["BX808"]
["BX809"]
["BX810"]
["BX811"]
["BX812"]
["BX813"]
["BX814"]
["BX815"]
["BX816"]
["BX901"]
["BX902"]
["BX903"]
["BX904"]
["BX905"]
["BX906"]
["BX907"]
["BX908"]
["BX909"]
["BX910"]
["BX911"]
["BX912"]
["BX913"]
["BX914"]
["BX915"]
["BX916"]
["BY001"]
["BY002"]
["BY003"]
["BY004"]
["BY005"]
["BY006"]
["BY007"]
["BY008"]
["BY009"]
["BY010"]
["BY011"]
["BY012"]
["BY013"]
["BY014"]
["BY015"]
["BY016"]
["BY101"]
["BY102"]
["BY103"]
["BY104"]
["BY105"]
["BY106"]
["BY107"]
["BY108"]
["BY109"]
["BY110"]
["BY111"]
["BY112"]
["BY113"]
["BY114"]
["BY115"]
["BY116"]
["BY201"]
["BY202"]
["BY203"]
["BY204"]
["BY205"]
["BY206"]
["BY207"]
["BY208"]
["BY209"]
["BY210"]
["BY211"]
["BY212"]
["BY213"]
["BY214"]
["BY215"]
["BY216"]
["BY301"]
["BY302"]
["BY303"]
["BY304"]
["BY305"]
["BY306"]
["BY307"]
["BY308"]
["BY309"]
["BY310"]
["BY311"]
["BY312"]
["BY313"]
["BY314"]
["BY315"]
["BY316"]
["BY401"]
["BY402"]
["BY403"]
["BY404"]
["BY405"]
["BY406"]
["BY407"]
["BY408"]
["BY409"]
["BY410"]
["BY411"]
["BY412"]
["BY413"]
["BY414"]
["BY415"]
["BY416"]
["BY501"]
["BY502"]
["BY503"]
["BY504"]
["BY505"]
["BY506"]
["BY507"]
["BY508"]
["BY509"]
["BY510"]
["BY511"]
["BY512"]
["BY513"]
["BY514"]
["BY515"]
["BY516"]
["BY601"]
["BY602"]
["BY603"]
["BY604"]
["BY605"]
["BY606"]
["BY607"]
["BY608"]
["BY609"]
["BY610"]
["BY611"]
["BY612"]
["BY613"]
["BY614"]
["BY615"]
["BY616"]
["BY701"]
["BY702"]
["BY703"]
["BY704"]
["BY705"]
["BY706"]
["BY707"]
["BY708"]
["BY709"]
["BY710"]
["BY711"]
["BY712"]
["BY713"]
["BY714"]
["BY715"]
["BY716"]
["BY801"]
["BY802"]
["BY803"]
["BY804"]
["BY805"]
["BY806"]
["BY807"]
["BY808"]
["BY809"]
["BY810"]
["BY811"]
["BY812"]
["BY813"]
["BY814"]
["BY815"]
["BY816"]
["BY901"]
["BY902"]
["BY903"]
["BY904"]
["BY905"]
["BY906"]
["BY907"]
["BY908"]
["BY909"]
["BY910"]
["BY911"]
["BY912"]
["BY913"]
["BY914"]
["BY915"]
["BY916"]
["CA001"]
["CA002"]
["CA003"]
["CA004"]
["CA005"]
["CA006"]
["CA007"]
["CA008"]
["CA009"]
["CA010"]
["CA011"]
["CA012"]
["CA013"]
["CA014"]
["CA015"]
["CA016"]
["CA101"]
["CA102"]
["CA103"]
["CA104"]
["CA105"]
["CA106"]
["CA107"]
["CA108"]
["CA109"]
["CA110"]
["CA111"]
["CA112"]
["CA113"]
["CA114"]
["CA115"]
["CA116"]
["CA201"]
["CA202"]
["CA203"]
["CA204"]
["CA205"]
["CA206"]
["CA207"]
["CA208"]
["CA209"]
["CA210"]
["CA211"]
["CA212"]
["CA213"]
["CA214"]
["CA215"]
["CA216"]
["CA301"]
["CA302"]
["CA303"]
["CA304"]
["CA305"]
["CA306"]
["CA307"]
["CA308"]
["CA309"]
["CA310"]
["CA311"]
["CA312"]
["CA313"]
["CA314"]
["CA315"]
["CA316"]
["CA401"]
["CA402"]
["CA403"]
["CA404"]
["CA405"]
["CA406"]
["CA407"]
["CA408"]
["CA409"]
["CA410"]
["CA411"]
["CA412"]
["CA413"]
["CA414"]
["CA415"]
["CA416"]
["CA501"]
["CA502"]
["CA503"]
["CA504"]
["CA505"]
["CA506"]
["CA507"]
["CA508"]
["CA509"]
["CA510"]
["CA511"]
["CA512"]
["CA513"]
["CA514"]
["CA515"]
["CA516"]
["CA601"]
["CA602"]
["CA603"]
["CA604"]
["CA605"]
["CA606"]
["CA607"]
["CA608"]
["CA609"]
["CA610"]
["CA611"]
["CA612"]
["CA613"]
["CA614"]
["CA615"]
["CA616"]
["CA701"]
["CA702"]
["CA703"]
["CA704"]
["CA705"]
["CA706"]
["CA707"]
["CA708"]
["CA709"]
["CA710"]
["CA711"]
["CA712"]
["CA713"]
["CA714"]
["CA715"]
["CA716"]
["CA801"]
["CA802"]
["CA803"]
["CA804"]
["CA805"]
["CA806"]
["CA807"]
["CA808"]
["CA809"]
["CA810"]
["CA811"]
["CA812"]
["CA813"]
["CA814"]
["CA815"]
["CA816"]
["CA901"]
["CA902"]
["CA903"]
["CA904"]
["CA905"]
["CA906"]
["CA907"]
["CA908"]
["CA909"]
["CA910"]
["CA911"]
["CA912"]
["CA913"]
["CA914"]
["CA915"]
["CA916"]
["CB001"]
["CB002"]
["CB003"]
["CB004"]
["CB005"]
["CB006"]
["CB007"]
["CB008"]
["CB009"]
["CB010"]
["CB011"]
["CB012"]
["CB013"]
["CB014"]
["CB015"]
["CB016"]
["CB101"]
["CB102"]
["CB103"]
["CB104"]
["CB105"]
["CB106"]
["CB107"]
["CB108"]
["CB109"]
["CB110"]
["CB111"]
["CB112"]
["CB113"]
["CB114"]
["CB115"]
["CB116"]
["CB201"]
["CB202"]
["CB203"]
["CB204"]
["CB205"]
["CB206"]
["CB207"]
["CB208"]
["CB209"]
["CB210"]
["CB211"]
["CB212"]
["CB213"]
["CB214"]
["CB215"]
["CB216"]
["CB301"]
["CB302"]
["CB303"]
["CB304"]
["CB305"]
["CB306"]
["CB307"]
["CB308"]
["CB309"]
["CB310"]
["CB311"]
["CB312"]
["CB313"]
["CB314"]
["CB315"]
["CB316"]
["CB401"]
["CB402"]
["CB403"]
["CB404"]
["CB405"]
["CB406"]
["CB407"]
["CB408"]
["CB409"]
["CB410"]
["CB411"]
["CB412"]
["CB413"]
["CB414"]
["CB415"]
["CB416"]
["CB501"]
["CB502"]
["CB503"]
["CB504"]
["CB505"]
["CB506"]
["CB507"]
["CB508"]
["CB509"]
["CB510"]
["CB511"]
["CB512"]
["CB513"]
["CB514"]
["CB515"]
["CB516"]
["CB601"]
["CB602"]
["CB603"]
["CB604"]
["CB605"]
["CB606"]
["CB607"]
["CB608"]
["CB609"]
["CB610"]
["CB611"]
["CB612"]
["CB613"]
["CB614"]
["CB615"]
["CB616"]
["CB701"]
["CB702"]
["CB703"]
["CB704"]
["CB705"]
["CB706"]
["CB707"]
["CB708"]
["CB709"]
["CB710"]
["CB711"]
["CB712"]
["CB713"]
["CB714"]
["CB715"]
["CB716"]
["CB801"]
["CB802"]
["CB803"]
["CB804"]
["CB805"]
["CB806"]
["CB807"]
["CB808"]
["CB809"]
["CB810"]
["CB811"]
["CB812"]
["CB813"]
["CB814"]
["CB815"]
["CB816"]
["CB901"]
["CB902"]
["CB903"]
["CB904"]
["CB905"]
["CB906"]
["CB907"]
["CB908"]
["CB909"]
["CB910"]
["CB911"]
["CB912"]
["CB913"]
["CB914"]
["CB915"]
["CB916"]
["CC001"]
["CC002"]
["CC003"]
["CC004"]
["CC005"]
["CC006"]
["CC007"]
["CC008"]
["CC009"]
["CC010"]
["CC011"]
["CC012"]
["CC013"]
["CC014"]
["CC015"]
["CC016"]
["CC101"]
["CC102"]
["CC103"]
["CC104"]
["CC105"]
["CC106"]
["CC107"]
["CC108"]
["CC109"]
["CC110"]
["CC111"]
["CC112"]
["CC113"]
["CC114"]
["CC115"]
["CC116"]
["CC201"]
["CC202"]
["CC203"]
["CC204"]
["CC205"]
["CC206"]
["CC207"]
["CC208"]
["CC209"]
["CC210"]
["CC211"]
["CC212"]
["CC213"]
["CC214"]
["CC215"]
["CC216"]
["CC301"]
["CC302"]
["CC303"]
["CC304"]
["CC305"]
["CC306"]
["CC307"]
["CC308"]
["CC309"]
["CC310"]
["CC311"]
["CC312"]
["CC313"]
["CC314"]
["CC315"]
["CC316"]
["CC401"]
["CC402"]
["CC403"]
["CC404"]
["CC405"]
["CC406"]
["CC407"]
["CC408"]
["CC409"]
["CC410"]
["CC411"]
["CC412"]
["CC413"]
["CC414"]
["CC415"]
["CC416"]
["CC501"]
["CC502"]
["CC503"]
["CC504"]
["CC505"]
["CC506"]
["CC507"]
["CC508"]
["CC509"]
["CC510"]
["CC511"]
["CC512"]
["CC513"]
["CC514"]
["CC515"]
["CC516"]
["CC601"]
["CC602"]
["CC603"]
["CC604"]
["CC605"]
["CC606"]
["CC607"]
["CC608"]
["CC609"]
["CC610"]
["CC611"]
["CC612"]
["CC613"]
["CC614"]
["CC615"]
["CC616"]
["CC701"]
["CC702"]
["CC703"]
["CC704"]
["CC705"]
["CC706"]
["CC707"]
["CC708"]
["CC709"]
["CC710"]
["CC711"]
["CC712"]
["CC713"]
["CC714"]
["CC715"]
["CC716"]
["CC801"]
["CC802"]
["CC803"]
["CC804"]
["CC805"]
["CC806"]
["CC807"]
["CC808"]
["CC809"]
["CC810"]
["CC811"]
["CC812"]
["CC813"]
["CC814"]
["CC815"]
["CC816"]
["CC901"]
["CC902"]
["CC903"]
["CC904"]
["CC905"]
["CC906"]
["CC907"]
["CC908"]
["CC909"]
["CC910"]
["CC911"]
["CC912"]
["CC913"]
["CC914"]
["CC915"]
["CC916"]
["CD001"]
["CD002"]
["CD003"]
["CD004"]
["CD005"]
["CD006"]
["CD007"]
["CD008"]
["CD009"]
["CD010"]
["CD011"]
["CD012"]
["CD013"]
["CD014"]
["CD015"]
["CD016"]
["CD101"]
["CD102"]
["CD103"]
["CD104"]
["CD105"]
["CD106"]
["CD107"]
["CD108"]
["CD109"]
["CD110"]
["CD111"]
["CD112"]
["CD113"]
["CD114"]
["CD115"]
["CD116"]
["CD201"]
["CD202"]
["CD203"]
["CD204"]
["CD205"]
["CD206"]
["CD207"]
["CD208"]
["CD209"]
["CD210"]
["CD211"]
["CD212"]
["CD213"]
["CD214"]
["CD215"]
["CD216"]
["CD301"]
["CD302"]
["CD303"]
["CD304"]
["CD305"]
["CD306"]
["CD307"]
["CD308"]
["CD309"]
["CD310"]
["CD311"]
["CD312"]
["CD313"]
["CD314"]
["CD315"]
["CD316"]
["CD401"]
["CD402"]
["CD403"]
["CD404"]
["CD405"]
["CD406"]
["CD407"]
["CD408"]
["CD409"]
["CD410"]
["CD411"]
["CD412"]
["CD413"]
["CD414"]
["CD415"]
["CD416"]
["CD501"]
["CD502"]
["CD503"]
["CD504"]
["CD505"]
["CD506"]
["CD507"]
["CD508"]
["CD509"]
["CD510"]
["CD511"]
["CD512"]
["CD513"]
["CD514"]
["CD515"]
["CD516"]
["CD601"]
["CD602"]
["CD603"]
["CD604"]
["CD605"]
["CD606"]
["CD607"]
["CD608"]
["CD609"]
["CD610"]
["CD611"]
["CD612"]
["CD613"]
["CD614"]
["CD615"]
["CD616"]
["CD701"]
["CD702"]
["CD703"]
["CD704"]
["CD705"]
["CD706"]
["CD707"]
["CD708"]
["CD709"]
["CD710"]
["CD711"]
["CD712"]
["CD713"]
["CD714"]
["CD715"]
["CD716"]
["CD801"]
["CD802"]
["CD803"]
["CD804"]
["CD805"]
["CD806"]
["CD807"]
["CD808"]
["CD809"]
["CD810"]
["CD811"]
["CD812"]
["CD813"]
["CD814"]
["CD815"]
["CD816"]
["CD901"]
["CD902"]
["CD903"]
["CD904"]
["CD905"]
["CD906"]
["CD907"]
["CD908"]
["CD909"]
["CD910"]
["CD911"]
["CD912"]
["CD913"]
["CD914"]
["CD915"]
["CD916"]
["CE001"]
["CE002"]
["CE003"]
["CE004"]
["CE005"]
["CE006"]
["CE007"]
["CE008"]
["CE009"]
["CE010"]
["CE011"]
["CE012"]
["CE013"]
["CE014"]
["CE015"]
["CE016"]
["CE101"]
["CE102"]
["CE103"]
["CE104"]
["CE105"]
["CE106"]
["CE107"]
["CE108"]
["CE109"]
["CE110"]
["CE111"]
["CE112"]
["CE113"]
["CE114"]
["CE115"]
["CE116"]
["CE201"]
["CE202"]
["CE203"]
["CE204"]
["CE205"]
["CE206"]
["CE207"]
["CE208"]
["CE209"]
["CE210"]
["CE211"]
["CE212"]
["CE213"]
["CE214"]
["CE215"]
["CE216"]
["CE301"]
["CE302"]
["CE303"]
["CE304"]
["CE305"]
["CE306"]
["CE307"]
["CE308"]
["CE309"]
["CE310"]
["CE311"]
["CE312"]
["CE313"]
["CE314"]
["CE315"]
["CE316"]
["CE401"]
["CE402"]
["CE403"]
["CE404"]
["CE405"]
["CE406"]
["CE407"]
["CE408"]
["CE409"]
["CE410"]
["CE411"]
["CE412"]
["CE413"]
["CE414"]
["CE415"]
["CE416"]
["CE501"]
["CE502"]
["CE503"]
["CE504"]
["CE505"]
["CE506"]
["CE507"]
["CE508"]
["CE509"]
["CE510"]
["CE511"]
["CE512"]
["CE513"]
["CE514"]
["CE515"]
["CE516"]
["CE601"]
["CE602"]
["CE603"]
["CE604"]
["CE605"]
["CE606"]
["CE607"]
["CE608"]
["CE609"]
["CE610"]
["CE611"]
["CE612"]
["CE613"]
["CE614"]
["CE615"]
["CE616"]
["CE701"]
["CE702"]
["CE703"]
["CE704"]
["CE705"]
["CE706"]
["CE707"]
["CE708"]
["CE709"]
["CE710"]
["CE711"]
["CE712"]
["CE713"]
["CE714"]
["CE715"]
["CE716"]
["CE801"]
["CE802"]
["CE803"]
["CE804"]
["CE805"]
["CE806"]
["CE807"]
["CE808"]
["CE809"]
["CE810"]
["CE811"]
["CE812"]
["CE813"]
["CE814"]
["CE815"]
["CE816"]
["CE901"]
["CE902"]
["CE903"]
["CE904"]
["CE905"]
["CE906"]
["CE907"]
["CE908"]
["CE909"]
["CE910"]
["CE911"]
["CE912"]
["CE913"]
["CE914"]
["CE915"]
["CE916"]
["CF001"]
["CF002"]
["CF003"]
["CF004"]
["CF005"]
["CF006"]
["CF007"]
["CF008"]
["CF009"]
["CF010"]
["CF011"]
["CF012"]
["CF013"]
["CF014"]
["CF015"]
["CF016"]
["CF101"]
["CF102"]
["CF103"]
["CF104"]
["CF105"]
["CF106"]
["CF107"]
["CF108"]
["CF109"]
["CF110"]
["CF111"]
["CF112"]
["CF113"]
["CF114"]
["CF115"]
["CF116"]
["CF201"]
["CF202"]
["CF203"]
["CF204"]
["CF205"]
["CF206"]
["CF207"]
["CF208"]
["CF209"]
["CF210"]
["CF211"]
["CF212"]
["CF213"]
["CF214"]
["CF215"]
["CF216"]
["CF301"]
["CF302"]
["CF303"]
["CF304"]
["CF305"]
["CF306"]
["CF307"]
["CF308"]
["CF309"]
["CF310"]
["CF311"]
["CF312"]
["CF313"]
["CF314"]
["CF315"]
["CF316"]
["CF401"]
["CF402"]
["CF403"]
["CF404"]
["CF405"]
["CF406"]
["CF407"]
["CF408"]
["CF409"]
["CF410"]
["CF411"]
["CF412"]
["CF413"]
["CF414"]
["CF415"]
["CF416"]
["CF501"]
["CF502"]
["CF503"]
["CF504"]
["CF505"]
["CF506"]
["CF507"]
["CF508"]
["CF509"]
["CF510"]
["CF511"]
["CF512"]
["CF513"]
["CF514"]
["CF515"]
["CF516"]
["CF601"]
["CF602"]
["CF603"]
["CF604"]
["CF605"]
["CF606"]
["CF607"]
["CF608"]
["CF609"]
["CF610"]
["CF611"]
["CF612"]
["CF613"]
["CF614"]
["CF615"]
["CF616"]
["CF701"]
["CF702"]
["CF703"]
["CF704"]
["CF705"]
["CF706"]
["CF707"]
["CF708"]
["CF709"]
["CF710"]
["CF711"]
["CF712"]
["CF713"]
["CF714"]
["CF715"]
["CF716"]
["CF801"]
["CF802"]
["CF803"]
["CF804"]
["CF805"]
["CF806"]
["CF807"]
["CF808"]
["CF809"]
["CF810"]
["CF811"]
["CF812"]
["CF813"]
["CF814"]
["CF815"]
["CF816"]
["CF901"]
["CF902"]
["CF903"]
["CF904"]
["CF905"]
["CF906"]
["CF907"]
["CF908"]
["CF909"]
["CF910"]
["CF911"]
["CF912"]
["CF913"]
["CF914"]
["CF915"]
["CF916"]
["CG001"]
["CG002"]
["CG003"]
["CG004"]
["CG005"]
["CG006"]
["CG007"]
["CG008"]
["CG009"]
["CG010"]
["CG011"]
["CG012"]
["CG013"]
["CG014"]
["CG015"]
["CG016"]
["CG101"]
["CG102"]
["CG103"]
["CG104"]
["CG105"]
["CG106"]
["CG107"]
["CG108"]
["CG109"]
["CG110"]
["CG111"]
["CG112"]
["CG113"]
["CG114"]
["CG115"]
["CG116"]
["CG201"]
["CG202"]
["CG203"]
["CG204"]
["CG205"]
["CG206"]
["CG207"]
["CG208"]
["CG209"]
["CG210"]
["CG211"]
["CG212"]
["CG213"]
["CG214"]
["CG215"]
["CG216"]
["CG301"]
["CG302"]
["CG303"]
["CG304"]
["CG305"]
["CG306"]
["CG307"]
["CG308"]
["CG309"]
["CG310"]
["CG311"]
["CG312"]
["CG313"]
["CG314"]
["CG315"]
["CG316"]
["CG401"]
["CG402"]
["CG403"]
["CG404"]
["CG405"]
["CG406"]
["CG407"]
["CG408"]
["CG409"]
["CG410"]
["CG411"]
["CG412"]
["CG413"]
["CG414"]
["CG415"]
["CG416"]
["CG501"]
["CG502"]
["CG503"]
["CG504"]
["CG505"]
["CG506"]
["CG507"]
["CG508"]
["CG509"]
["CG510"]
["CG511"]
["CG512"]
["CG513"]
["CG514"]
["CG515"]
["CG516"]
["CG601"]
["CG602"]
["CG603"]
["CG604"]
["CG605"]
["CG606"]
["CG607"]
["CG608"]
["CG609"]
["CG610"]
["CG611"]
["CG612"]
["CG613"]
["CG614"]
["CG615"]
["CG616"]
["CG701"]
["CG702"]
["CG703"]
["CG704"]
["CG705"]
["CG706"]
["CG707"]
["CG708"]
["CG709"]
["CG710"]
["CG711"]
["CG712"]
["CG713"]
["CG714"]
["CG715"]
["CG716"]
["CG801"]
["CG802"]
["CG803"]
["CG804"]
["CG805"]
["CG806"]
["CG807"]
["CG808"]
["CG809"]
["CG810"]
["CG811"]
["CG812"]
["CG813"]
["CG814"]
["CG815"]
["CG816"]
["CG901"]
["CG902"]
["CG903"]
["CG904"]
["CG905"]
["CG906"]
["CG907"]
["CG908"]
["CG909"]
["CG910"]
["CG911"]
["CG912"]
["CG913"]
["CG914"]
["CG915"]
["CG916"]
["CH001"]
["CH002"]
["CH003"]
["CH004"]
["CH005"]
["CH006"]
["CH007"]
["CH008"]
["CH009"]
["CH010"]
["CH011"]
["CH012"]
["CH013"]
["CH014"]
["CH015"]
["CH016"]
["CH101"]
["CH102"]
["CH103"]
["CH104"]
["CH105"]
["CH106"]
["CH107"]
["CH108"]
["CH109"]
["CH110"]
["CH111"]
["CH112"]
["CH113"]
["CH114"]
["CH115"]
["CH116"]
["CH201"]
["CH202"]
["CH203"]
["CH204"]
["CH205"]
["CH206"]
["CH207"]
["CH208"]
["CH209"]
["CH210"]
["CH211"]
["CH212"]
["CH213"]
["CH214"]
["CH215"]
["CH216"]
["CH301"]
["CH302"]
["CH303"]
["CH304"]
["CH305"]
["CH306"]
["CH307"]
["CH308"]
["CH309"]
["CH310"]
["CH311"]
["CH312"]
["CH313"]
["CH314"]
["CH315"]
["CH316"]
["CH401"]
["CH402"]
["CH403"]
["CH404"]
["CH405"]
["CH406"]
["CH407"]
["CH408"]
["CH409"]
["CH410"]
["CH411"]
["CH412"]
["CH413"]
["CH414"]
["CH415"]
["CH416"]
["CH501"]
["CH502"]
["CH503"]
["CH504"]
["CH505"]
["CH506"]
["CH507"]
["CH508"]
["CH509"]
["CH510"]
["CH511"]
["CH512"]
["CH513"]
["CH514"]
["CH515"]
["CH516"]
["CH601"]
["CH602"]
["CH603"]
["CH604"]
["CH605"]
["CH606"]
["CH607"]
["CH608"]
["CH609"]
["CH610"]
["CH611"]
["CH612"]
["CH613"]
["CH614"]
["CH615"]
["CH616"]
["CH701"]
["CH702"]
["CH703"]
["CH704"]
["CH705"]
["CH706"]
["CH707"]
["CH708"]
["CH709"]
["CH710"]
["CH711"]
["CH712"]
["CH713"]
["CH714"]
["CH715"]
["CH716"]
["CH801"]
["CH802"]
["CH803"]
["CH804"]
["CH805"]
["CH806"]
["CH807"]
["CH808"]
["CH809"]
["CH810"]
["CH811"]
["CH812"]
["CH813"]
["CH814"]
["CH815"]
["CH816"]
["CH901"]
["CH902"]
["CH903"]
["CH904"]
["CH905"]
["CH906"]
["CH907"]
["CH908"]
["CH909"]
["CH910"]
["CH911"]
["CH912"]
["CH913"]
["CH914"]
["CH915"]
["CH916"]
["CI001"]
["CI002"]
["CI003"]
["CI004"]
["CI005"]
["CI006"]
["CI007"]
["CI008"]
["CI009"]
["CI010"]
["CI011"]
["CI012"]
["CI013"]
["CI014"]
["CI015"]
["CI016"]
["CI101"]
["CI102"]
["CI103"]
["CI104"]
["CI105"]
["CI106"]
["CI107"]
["CI108"]
["CI109"]
["CI110"]
["CI111"]
["CI112"]
["CI113"]
["CI114"]
["CI115"]
["CI116"]
["CI201"]
["CI202"]
["CI203"]
["CI204"]
["CI205"]
["CI206"]
["CI207"]
["CI208"]
["CI209"]
["CI210"]
["CI211"]
["CI212"]
["CI213"]
["CI214"]
["CI215"]
["CI216"]
["CI301"]
["CI302"]
["CI303"]
["CI304"]
["CI305"]
["CI306"]
["CI307"]
["CI308"]
["CI309"]
["CI310"]
["CI311"]
["CI312"]
["CI313"]
["CI314"]
["CI315"]
["CI316"]
["CI401"]
["CI402"]
["CI403"]
["CI404"]
["CI405"]
["CI406"]
["CI407"]
["CI408"]
["CI409"]
["CI410"]
["CI411"]
["CI412"]
["CI413"]
["CI414"]
["CI415"]
["CI416"]
["CI501"]
["CI502"]
["CI503"]
["CI504"]
["CI505"]
["CI506"]
["CI507"]
["CI508"]
["CI509"]
["CI510"]
["CI511"]
["CI512"]
["CI513"]
["CI514"]
["CI515"]
["CI516"]
["CI601"]
["CI602"]
["CI603"]
["CI604"]
["CI605"]
["CI606"]
["CI607"]
["CI608"]
["CI609"]
["CI610"]
["CI611"]
["CI612"]
["CI613"]
["CI614"]
["CI615"]
["CI616"]
["CI701"]
["CI702"]
["CI703"]
["CI704"]
["CI705"]
["CI706"]
["CI707"]
["CI708"]
["CI709"]
["CI710"]
["CI711"]
["CI712"]
["CI713"]
["CI714"]
["CI715"]
["CI716"]
["CI801"]
["CI802"]
["CI803"]
["CI804"]
["CI805"]
["CI806"]
["CI807"]
["CI808"]
["CI809"]
["CI810"]
["CI811"]
["CI812"]
["CI813"]
["CI814"]
["CI815"]
["CI816"]
["CI901"]
["CI902"]
["CI903"]
["CI904"]
["CI905"]
["CI906"]
["CI907"]
["CI908"]
["CI909"]
["CI910"]
["CI911"]
["CI912"]
["CI913"]
["CI914"]
["CI915"]
["CI916"]
["CJ001"]
["CJ002"]
["CJ003"]
["CJ004"]
["CJ005"]
["CJ006"]
["CJ007"]
["CJ008"]
["CJ009"]
["CJ010"]
["CJ011"]
["CJ012"]
["CJ013"]
["CJ014"]
["CJ015"]
["CJ016"]
["CJ101"]
["CJ102"]
["CJ103"]
["CJ104"]
["CJ105"]
["CJ106"]
["CJ107"]
["CJ108"]
["CJ109"]
["CJ110"]
["CJ111"]
["CJ112"]
["CJ113"]
["CJ114"]
["CJ115"]
["CJ116"]
["CJ201"]
["CJ202"]
["CJ203"]
["CJ204"]
["CJ205"]
["CJ206"]
["CJ207"]
["CJ208"]
["CJ209"]
["CJ210"]
["CJ211"]
["CJ212"]
["CJ213"]
["CJ214"]
["CJ215"]
["CJ216"]
["CJ301"]
["CJ302"]
["CJ303"]
["CJ304"]
["CJ305"]
["CJ306"]
["CJ307"]
["CJ308"]
["CJ309"]
["CJ310"]
["CJ311"]
["CJ312"]
["CJ313"]
["CJ314"]
["CJ315"]
["CJ316"]
["CJ401"]
["CJ402"]
["CJ403"]
["CJ404"]
["CJ405"]
["CJ406"]
["CJ407"]
["CJ408"]
["CJ409"]
["CJ410"]
["CJ411"]
["CJ412"]
["CJ413"]
["CJ414"]
["CJ415"]
["CJ416"]
["CJ501"]
["CJ502"]
["CJ503"]
["CJ504"]
["CJ505"]
["CJ506"]
["CJ507"]
["CJ508"]
["CJ509"]
["CJ510"]
["CJ511"]
["CJ512"]
["CJ513"]
["CJ514"]
["CJ515"]
["CJ516"]
["CJ601"]
["CJ602"]
["CJ603"]
["CJ604"]
["CJ605"]
["CJ606"]
["CJ607"]
["CJ608"]
["CJ609"]
["CJ610"]
["CJ611"]
["CJ612"]
["CJ613"]
["CJ614"]
["CJ615"]
["CJ616"]
["CJ701"]
["CJ702"]
["CJ703"]
["CJ704"]
["CJ705"]
["CJ706"]
["CJ707"]
["CJ708"]
["CJ709"]
["CJ710"]
["CJ711"]
["CJ712"]
["CJ713"]
["CJ714"]
["CJ715"]
["CJ716"]
["CJ801"]
["CJ802"]
["CJ803"]
["CJ804"]
["CJ805"]
["CJ806"]
["CJ807"]
["CJ808"]
["CJ809"]
["CJ810"]
["CJ811"]
["CJ812"]
["CJ813"]
["CJ814"]
["CJ815"]
["CJ816"]
["CJ901"]
["CJ902"]
["CJ903"]
["CJ904"]
["CJ905"]
["CJ906"]
["CJ907"]
["CJ908"]
["CJ909"]
["CJ910"]
["CJ911"]
["CJ912"]
["CJ913"]
["CJ914"]
["CJ915"]
["CJ916"]
["CK001"]
["CK002"]
["CK003"]
["CK004"]
["CK005"]
["CK006"]
["CK007"]
["CK008"]
["CK009"]
["CK010"]
["CK011"]
["CK012"]
["CK013"]
["CK014"]
["CK015"]
["CK016"]
["CK101"]
["CK102"]
["CK103"]
["CK104"]
["CK105"]
["CK106"]
["CK107"]
["CK108"]
["CK109"]
["CK110"]
["CK111"]
["CK112"]
["CK113"]
["CK114"]
["CK115"]
["CK116"]
["CK201"]
["CK202"]
["CK203"]
["CK204"]
["CK205"]
["CK206"]
["CK207"]
["CK208"]
["CK209"]
["CK210"]
["CK211"]
["CK212"]
["CK213"]
["CK214"]
["CK215"]
["CK216"]
["CK301"]
["CK302"]
["CK303"]
["CK304"]
["CK305"]
["CK306"]
["CK307"]
["CK308"]
["CK309"]
["CK310"]
["CK311"]
["CK312"]
["CK313"]
["CK314"]
["CK315"]
["CK316"]
["CK401"]
["CK402"]
["CK403"]
["CK404"]
["CK405"]
["CK406"]
["CK407"]
["CK408"]
["CK409"]
["CK410"]
["CK411"]
["CK412"]
["CK413"]
["CK414"]
["CK415"]
["CK416"]
["CK501"]
["CK502"]
["CK503"]
["CK504"]
["CK505"]
["CK506"]
["CK507"]
["CK508"]
["CK509"]
["CK510"]
["CK511"]
["CK512"]
["CK513"]
["CK514"]
["CK515"]
["CK516"]
["CK601"]
["CK602"]
["CK603"]
["CK604"]
["CK605"]
["CK606"]
["CK607"]
["CK608"]
["CK609"]
["CK610"]
["CK611"]
["CK612"]
["CK613"]
["CK614"]
["CK615"]
["CK616"]
["CK701"]
["CK702"]
["CK703"]
["CK704"]
["CK705"]
["CK706"]
["CK707"]
["CK708"]
["CK709"]
["CK710"]
["CK711"]
["CK712"]
["CK713"]
["CK714"]
["CK715"]
["CK716"]
["CK801"]
["CK802"]
["CK803"]
["CK804"]
["CK805"]
["CK806"]
["CK807"]
["CK808"]
["CK809"]
["CK810"]
["CK811"]
["CK812"]
["CK813"]
["CK814"]
["CK815"]
["CK816"]
["CK901"]
["CK902"]
["CK903"]
["CK904"]
["CK905"]
["CK906"]
["CK907"]
["CK908"]
["CK909"]
["CK910"]
["CK911"]
["CK912"]
["CK913"]
["CK914"]
["CK915"]
["CK916"]
["CL001"]
["CL002"]
["CL003"]
["CL004"]
["CL005"]
["CL006"]
["CL007"]
["CL008"]
["CL009"]
["CL010"]
["CL011"]
["CL012"]
["CL013"]
["CL014"]
["CL015"]
["CL016"]
["CL101"]
["CL102"]
["CL103"]
["CL104"]
["CL105"]
["CL106"]
["CL107"]
["CL108"]
["CL109"]
["CL110"]
["CL111"]
["CL112"]
["CL113"]
["CL114"]
["CL115"]
["CL116"]
["CL201"]
["CL202"]
["CL203"]
["CL204"]
["CL205"]
["CL206"]
["CL207"]
["CL208"]
["CL209"]
["CL210"]
["CL211"]
["CL212"]
["CL213"]
["CL214"]
["CL215"]
["CL216"]
["CL301"]
["CL302"]
["CL303"]
["CL304"]
["CL305"]
["CL306"]
["CL307"]
["CL308"]
["CL309"]
["CL310"]
["CL311"]
["CL312"]
["CL313"]
["CL314"]
["CL315"]
["CL316"]
["CL401"]
["CL402"]
["CL403"]
["CL404"]
["CL405"]
["CL406"]
["CL407"]
["CL408"]
["CL409"]
["CL410"]
["CL411"]
["CL412"]
["CL413"]
["CL414"]
["CL415"]
["CL416"]
["CL501"]
["CL502"]
["CL503"]
["CL504"]
["CL505"]
["CL506"]
["CL507"]
["CL508"]
["CL509"]
["CL510"]
["CL511"]
["CL512"]
["CL513"]
["CL514"]
["CL515"]
["CL516"]
["CL601"]
["CL602"]
["CL603"]
["CL604"]
["CL605"]
["CL606"]
["CL607"]
["CL608"]
["CL609"]
["CL610"]
["CL611"]
["CL612"]
["CL613"]
["CL614"]
["CL615"]
["CL616"]
["CL701"]
["CL702"]
["CL703"]
["CL704"]
["CL705"]
["CL706"]
["CL707"]
["CL708"]
["CL709"]
["CL710"]
["CL711"]
["CL712"]
["CL713"]
["CL714"]
["CL715"]
["CL716"]
["CL801"]
["CL802"]
["CL803"]
["CL804"]
["CL805"]
["CL806"]
["CL807"]
["CL808"]
["CL809"]
["CL810"]
["CL811"]
["CL812"]
["CL813"]
["CL814"]
["CL815"]
["CL816"]
["CL901"]
["CL902"]
["CL903"]
["CL904"]
["CL905"]
["CL906"]
["CL907"]
["CL908"]
["CL909"]
["CL910"]
["CL911"]
["CL912"]
["CL913"]
["CL914"]
["CL915"]
["CL916"]
["CM001"]
["CM002"]
["CM003"]
["CM004"]
["CM005"]
["CM006"]
["CM007"]
["CM008"]
["CM009"]
["CM010"]
["CM011"]
["CM012"]
["CM013"]
["CM014"]
["CM015"]
["CM016"]
["CM101"]
["CM102"]
["CM103"]
["CM104"]
["CM105"]
["CM106"]
["CM107"]
["CM108"]
["CM109"]
["CM110"]
["CM111"]
["CM112"]
["CM113"]
["CM114"]
["CM115"]
["CM116"]
["CM201"]
["CM202"]
["CM203"]
["CM204"]
["CM205"]
["CM206"]
["CM207"]
["CM208"]
["CM209"]
["CM210"]
["CM211"]
["CM212"]
["CM213"]
["CM214"]
["CM215"]
["CM216"]
["CM301"]
["CM302"]
["CM303"]
["CM304"]
["CM305"]
["CM306"]
["CM307"]
["CM308"]
["CM309"]
["CM310"]
["CM311"]
["CM312"]
["CM313"]
["CM314"]
["CM315"]
["CM316"]
["CM401"]
["CM402"]
["CM403"]
["CM404"]
["CM405"]
["CM406"]
["CM407"]
["CM408"]
["CM409"]
["CM410"]
["CM411"]
["CM412"]
["CM413"]
["CM414"]
["CM415"]
["CM416"]
["CM501"]
["CM502"]
["CM503"]
["CM504"]
["CM505"]
["CM506"]
["CM507"]
["CM508"]
["CM509"]
["CM510"]
["CM511"]
["CM512"]
["CM513"]
["CM514"]
["CM515"]
["CM516"]
["CM601"]
["CM602"]
["CM603"]
["CM604"]
["CM605"]
["CM606"]
["CM607"]
["CM608"]
["CM609"]
["CM610"]
["CM611"]
["CM612"]
["CM613"]
["CM614"]
["CM615"]
["CM616"]
["CM701"]
["CM702"]
["CM703"]
["CM704"]
["CM705"]
["CM706"]
["CM707"]
["CM708"]
["CM709"]
["CM710"]
["CM711"]
["CM712"]
["CM713"]
["CM714"]
["CM715"]
["CM716"]
["CM801"]
["CM802"]
["CM803"]
["CM804"]
["CM805"]
["CM806"]
["CM807"]
["CM808"]
["CM809"]
["CM810"]
["CM811"]
["CM812"]
["CM813"]
["CM814"]
["CM815"]
["CM816"]
["CM901"]
["CM902"]
["CM903"]
["CM904"]
["CM905"]
["CM906"]
["CM907"]
["CM908"]
["CM909"]
["CM910"]
["CM911"]
["CM912"]
["CM913"]
["CM914"]
["CM915"]
["CM916"]
["CN001"]
["CN002"]
["CN003"]
["CN004"]
["CN005"]
["CN006"]
["CN007"]
["CN008"]
["CN009"]
["CN010"]
["CN011"]
["CN012"]
["CN013"]
["CN014"]
["CN015"]
["CN016"]
["CN101"]
["CN102"]
["CN103"]
["CN104"]
["CN105"]
["CN106"]
["CN107"]
["CN108"]
["CN109"]
["CN110"]
["CN111"]
["CN112"]
["CN113"]
["CN114"]
["CN115"]
["CN116"]
["CN201"]
["CN202"]
["CN203"]
["CN204"]
["CN205"]
["CN206"]
["CN207"]
["CN208"]
["CN209"]
["CN210"]
["CN211"]
["CN212"]
["CN213"]
["CN214"]
["CN215"]
["CN216"]
["CN301"]
["CN302"]
["CN303"]
["CN304"]
["CN305"]
["CN306"]
["CN307"]
["CN308"]
["CN309"]
["CN310"]
["CN311"]
["CN312"]
["CN313"]
["CN314"]
["CN315"]
["CN316"]
["CN401"]
["CN402"]
["CN403"]
["CN404"]
["CN405"]
["CN406"]
["CN407"]
["CN408"]
["CN409"]
["CN410"]
["CN411"]
["CN412"]
["CN413"]
["CN414"]
["CN415"]
["CN416"]
["CN501"]
["CN502"]
["CN503"]
["CN504"]
["CN505"]
["CN506"]
["CN507"]
["CN508"]
["CN509"]
["CN510"]
["CN511"]
["CN512"]
["CN513"]
["CN514"]
["CN515"]
["CN516"]
["CN601"]
["CN602"]
["CN603"]
["CN604"]
["CN605"]
["CN606"]
["CN607"]
["CN608"]
["CN609"]
["CN610"]
["CN611"]
["CN612"]
["CN613"]
["CN614"]
["CN615"]
["CN616"]
["CN701"]
["CN702"]
["CN703"]
["CN704"]
["CN705"]
["CN706"]
["CN707"]
["CN708"]
["CN709"]
["CN710"]
["CN711"]
["CN712"]
["CN713"]
["CN714"]
["CN715"]
["CN716"]
["CN801"]
["CN802"]
["CN803"]
["CN804"]
["CN805"]
["CN806"]
["CN807"]
["CN808"]
["CN809"]
["CN810"]
["CN811"]
["CN812"]
["CN813"]
["CN814"]
["CN815"]
["CN816"]
["CN901"]
["CN902"]
["CN903"]
["CN904"]
["CN905"]
["CN906"]
["CN907"]
["CN908"]
["CN909"]
["CN910"]
["CN911"]
["CN912"]
["CN913"]
["CN914"]
["CN915"]
["CN916"]
["CO001"]
["CO002"]
["CO003"]
["CO004"]
["CO005"]
["CO006"]
["CO007"]
["CO008"]
["CO009"]
["CO010"]
["CO011"]
["CO012"]
["CO013"]
["CO014"]
["CO015"]
["CO016"]
["CO101"]
["CO102"]
["CO103"]
["CO104"]
["CO105"]
["CO106"]
["CO107"]
["CO108"]
["CO109"]
["CO110"]
["CO111"]
["CO112"]
["CO113"]
["CO114"]
["CO115"]
["CO116"]
["CO201"]
["CO202"]
["CO203"]
["CO204"]
["CO205"]
["CO206"]
["CO207"]
["CO208"]
["CO209"]
["CO210"]
["CO211"]
["CO212"]
["CO213"]
["CO214"]
["CO215"]
["CO216"]
["CO301"]
["CO302"]
["CO303"]
["CO304"]
["CO305"]
["CO306"]
["CO307"]
["CO308"]
["CO309"]
["CO310"]
["CO311"]
["CO312"]
["CO313"]
["CO314"]
["CO315"]
["CO316"]
["CO401"]
["CO402"]
["CO403"]
["CO404"]
["CO405"]
["CO406"]
["CO407"]
["CO408"]
["CO409"]
["CO410"]
["CO411"]
["CO412"]
["CO413"]
["CO414"]
["CO415"]
["CO416"]
["CO501"]
["CO502"]
["CO503"]
["CO504"]
["CO505"]
["CO506"]
["CO507"]
["CO508"]
["CO509"]
["CO510"]
["CO511"]
["CO512"]
["CO513"]
["CO514"]
["CO515"]
["CO516"]
["CO601"]
["CO602"]
["CO603"]
["CO604"]
["CO605"]
["CO606"]
["CO607"]
["CO608"]
["CO609"]
["CO610"]
["CO611"]
["CO612"]
["CO613"]
["CO614"]
["CO615"]
["CO616"]
["CO701"]
["CO702"]
["CO703"]
["CO704"]
["CO705"]
["CO706"]
["CO707"]
["CO708"]
["CO709"]
["CO710"]
["CO711"]
["CO712"]
["CO713"]
["CO714"]
["CO715"]
["CO716"]
["CO801"]
["CO802"]
["CO803"]
["CO804"]
["CO805"]
["CO806"]
["CO807"]
["CO808"]
["CO809"]
["CO810"]
["CO811"]
["CO812"]
["CO813"]
["CO814"]
["CO815"]
["CO816"]
["CO901"]
["CO902"]
["CO903"]
["CO904"]
["CO905"]
["CO906"]
["CO907"]
["CO908"]
["CO909"]
["CO910"]
["CO911"]
["CO912"]
["CO913"]
["CO914"]
["CO915"]
["CO916"]
["CP001"]
["CP002"]
["CP003"]
["CP004"]
["CP005"]
["CP006"]
["CP007"]
["CP008"]
["CP009"]
["CP010"]
["CP011"]
["CP012"]
["CP013"]
["CP014"]
["CP015"]
["CP016"]
["CP101"]
["CP102"]
["CP103"]
["CP104"]
["CP105"]
["CP106"]
["CP107"]
["CP108"]
["CP109"]
["CP110"]
["CP111"]
["CP112"]
["CP113"]
["CP114"]
["CP115"]
["CP116"]
["CP201"]
["CP202"]
["CP203"]
["CP204"]
["CP205"]
["CP206"]
["CP207"]
["CP208"]
["CP209"]
["CP210"]
["CP211"]
["CP212"]
["CP213"]
["CP214"]
["CP215"]
["CP216"]
["CP301"]
["CP302"]
["CP303"]
["CP304"]
["CP305"]
["CP306"]
["CP307"]
["CP308"]
["CP309"]
["CP310"]
["CP311"]
["CP312"]
["CP313"]
["CP314"]
["CP315"]
["CP316"]
["CP401"]
["CP402"]
["CP403"]
["CP404"]
["CP405"]
["CP406"]
["CP407"]
["CP408"]
["CP409"]
["CP410"]
["CP411"]
["CP412"]
["CP413"]
["CP414"]
["CP415"]
["CP416"]
["CP501"]
["CP502"]
["CP503"]
["CP504"]
["CP505"]
["CP506"]
["CP507"]
["CP508"]
["CP509"]
["CP510"]
["CP511"]
["CP512"]
["CP513"]
["CP514"]
["CP515"]
["CP516"]
["CP601"]
["CP602"]
["CP603"]
["CP604"]
["CP605"]
["CP606"]
["CP607"]
["CP608"]
["CP609"]
["CP610"]
["CP611"]
["CP612"]
["CP613"]
["CP614"]
["CP615"]
["CP616"]
["CP701"]
["CP702"]
["CP703"]
["CP704"]
["CP705"]
["CP706"]
["CP707"]
["CP708"]
["CP709"]
["CP710"]
["CP711"]
["CP712"]
["CP713"]
["CP714"]
["CP715"]
["CP716"]
["CP801"]
["CP802"]
["CP803"]
["CP804"]
["CP805"]
["CP806"]
["CP807"]
["CP808"]
["CP809"]
["CP810"]
["CP811"]
["CP812"]
["CP813"]
["CP814"]
["CP815"]
["CP816"]
["CP901"]
["CP902"]
["CP903"]
["CP904"]
["CP905"]
["CP906"]
["CP907"]
["CP908"]
["CP909"]
["CP910"]
["CP911"]
["CP912"]
["CP913"]
["CP914"]
["CP915"]
["CP916"]
["CQ001"]
["CQ002"]
["CQ003"]
["CQ004"]
["CQ005"]
["CQ006"]
["CQ007"]
["CQ008"]
["CQ009"]
["CQ010"]
["CQ011"]
["CQ012"]
["CQ013"]
["CQ014"]
["CQ015"]
["CQ016"]
["CQ101"]
["CQ102"]
["CQ103"]
["CQ104"]
["CQ105"]
["CQ106"]
["CQ107"]
["CQ108"]
["CQ109"]
["CQ110"]
["CQ111"]
["CQ112"]
["CQ113"]
["CQ114"]
["CQ115"]
["CQ116"]
["CQ201"]
["CQ202"]
["CQ203"]
["CQ204"]
["CQ205"]
["CQ206"]
["CQ207"]
["CQ208"]
["CQ209"]
["CQ210"]
["CQ211"]
["CQ212"]
["CQ213"]
["CQ214"]
["CQ215"]
["CQ216"]
["CQ301"]
["CQ302"]
["CQ303"]
["CQ304"]
["CQ305"]
["CQ306"]
["CQ307"]
["CQ308"]
["CQ309"]
["CQ310"]
["CQ311"]
["CQ312"]
["CQ313"]
["CQ314"]
["CQ315"]
["CQ316"]
["CQ401"]
["CQ402"]
["CQ403"]
["CQ404"]
["CQ405"]
["CQ406"]
["CQ407"]
["CQ408"]
["CQ409"]
["CQ410"]
["CQ411"]
["CQ412"]
["CQ413"]
["CQ414"]
["CQ415"]
["CQ416"]
["CQ501"]
["CQ502"]
["CQ503"]
["CQ504"]
["CQ505"]
["CQ506"]
["CQ507"]
["CQ508"]
["CQ509"]
["CQ510"]
["CQ511"]
["CQ512"]
["CQ513"]
["CQ514"]
["CQ515"]
["CQ516"]
["CQ601"]
["CQ602"]
["CQ603"]
["CQ604"]
["CQ605"]
["CQ606"]
["CQ607"]
["CQ608"]
["CQ609"]
["CQ610"]
["CQ611"]
["CQ612"]
["CQ613"]
["CQ614"]
["CQ615"]
["CQ616"]
["CQ701"]
["CQ702"]
["CQ703"]
["CQ704"]
["CQ705"]
["CQ706"]
["CQ707"]
["CQ708"]
["CQ709"]
["CQ710"]
["CQ711"]
["CQ712"]
["CQ713"]
["CQ714"]
["CQ715"]
["CQ716"]
["CQ801"]
["CQ802"]
["CQ803"]
["CQ804"]
["CQ805"]
["CQ806"]
["CQ807"]
["CQ808"]
["CQ809"]
["CQ810"]
["CQ811"]
["CQ812"]
["CQ813"]
["CQ814"]
["CQ815"]
["CQ816"]
["CQ901"]
["CQ902"]
["CQ903"]
["CQ904"]
["CQ905"]
["CQ906"]
["CQ907"]
["CQ908"]
["CQ909"]
["CQ910"]
["CQ911"]
["CQ912"]
["CQ913"]
["CQ914"]
["CQ915"]
["CQ916"]
["CR001"]
["CR002"]
["CR003"]
["CR004"]
["CR005"]
["CR006"]
["CR007"]
["CR008"]
["CR009"]
["CR010"]
["CR011"]
["CR012"]
["CR013"]
["CR014"]
["CR015"]
["CR016"]
["CR101"]
["CR102"]
["CR103"]
["CR104"]
["CR105"]
["CR106"]
["CR107"]
["CR108"]
["CR109"]
["CR110"]
["CR111"]
["CR112"]
["CR113"]
["CR114"]
["CR115"]
["CR116"]
["CR201"]
["CR202"]
["CR203"]
["CR204"]
["CR205"]
["CR206"]
["CR207"]
["CR208"]
["CR209"]
["CR210"]
["CR211"]
["CR212"]
["CR213"]
["CR214"]
["CR215"]
["CR216"]
["CR301"]
["CR302"]
["CR303"]
["CR304"]
["CR305"]
["CR306"]
["CR307"]
["CR308"]
["CR309"]
["CR310"]
["CR311"]
["CR312"]
["CR313"]
["CR314"]
["CR315"]
["CR316"]
["CR401"]
["CR402"]
["CR403"]
["CR404"]
["CR405"]
["CR406"]
["CR407"]
["CR408"]
["CR409"]
["CR410"]
["CR411"]
["CR412"]
["CR413"]
["CR414"]
["CR415"]
["CR416"]
["CR501"]
["CR502"]
["CR503"]
["CR504"]
["CR505"]
["CR506"]
["CR507"]
["CR508"]
["CR509"]
["CR510"]
["CR511"]
["CR512"]
["CR513"]
["CR514"]
["CR515"]
["CR516"]
["CR601"]
["CR602"]
["CR603"]
["CR604"]
["CR605"]
["CR606"]
["CR607"]
["CR608"]
["CR609"]
["CR610"]
["CR611"]
["CR612"]
["CR613"]
["CR614"]
["CR615"]
["CR616"]
["CR701"]
["CR702"]
["CR703"]
["CR704"]
["CR705"]
["CR706"]
["CR707"]
["CR708"]
["CR709"]
["CR710"]
["CR711"]
["CR712"]
["CR713"]
["CR714"]
["CR715"]
["CR716"]
["CR801"]
["CR802"]
["CR803"]
["CR804"]
["CR805"]
["CR806"]
["CR807"]
["CR808"]
["CR809"]
["CR810"]
["CR811"]
["CR812"]
["CR813"]
["CR814"]
["CR815"]
["CR816"]
["CR901"]
["CR902"]
["CR903"]
["CR904"]
["CR905"]
["CR906"]
["CR907"]
["CR908"]
["CR909"]
["CR910"]
["CR911"]
["CR912"]
["CR913"]
["CR914"]
["CR915"]
["CR916"]
["CS001"]
["CS002"]
["CS003"]
["CS004"]
["CS005"]
["CS006"]
["CS007"]
["CS008"]
["CS009"]
["CS010"]
["CS011"]
["CS012"]
["CS013"]
["CS014"]
["CS015"]
["CS016"]
["CS101"]
["CS102"]
["CS103"]
["CS104"]
["CS105"]
["CS106"]
["CS107"]
["CS108"]
["CS109"]
["CS110"]
["CS111"]
["CS112"]
["CS113"]
["CS114"]
["CS115"]
["CS116"]
["CS201"]
["CS202"]
["CS203"]
["CS204"]
["CS205"]
["CS206"]
["CS207"]
["CS208"]
["CS209"]
["CS210"]
["CS211"]
["CS212"]
["CS213"]
["CS214"]
["CS215"]
["CS216"]
["CS301"]
["CS302"]
["CS303"]
["CS304"]
["CS305"]
["CS306"]
["CS307"]
["CS308"]
["CS309"]
["CS310"]
["CS311"]
["CS312"]
["CS313"]
["CS314"]
["CS315"]
["CS316"]
["CS401"]
["CS402"]
["CS403"]
["CS404"]
["CS405"]
["CS406"]
["CS407"]
["CS408"]
["CS409"]
["CS410"]
["CS411"]
["CS412"]
["CS413"]
["CS414"]
["CS415"]
["CS416"]
["CS501"]
["CS502"]
["CS503"]
["CS504"]
["CS505"]
["CS506"]
["CS507"]
["CS508"]
["CS509"]
["CS510"]
["CS511"]
["CS512"]
["CS513"]
["CS514"]
["CS515"]
["CS516"]
["CS601"]
["CS602"]
["CS603"]
["CS604"]
["CS605"]
["CS606"]
["CS607"]
["CS608"]
["CS609"]
["CS610"]
["CS611"]
["CS612"]
["CS613"]
["CS614"]
["CS615"]
["CS616"]
["CS701"]
["CS702"]
["CS703"]
["CS704"]
["CS705"]
["CS706"]
["CS707"]
["CS708"]
["CS709"]
["CS710"]
["CS711"]
["CS712"]
["CS713"]
["CS714"]
["CS715"]
["CS716"]
["CS801"]
["CS802"]
["CS803"]
["CS804"]
["CS805"]
["CS806"]
["CS807"]
["CS808"]
["CS809"]
["CS810"]
["CS811"]
["CS812"]
["CS813"]
["CS814"]
["CS815"]
["CS816"]
["CS901"]
["CS902"]
["CS903"]
["CS904"]
["CS905"]
["CS906"]
["CS907"]
["CS908"]
["CS909"]
["CS910"]
["CS911"]
["CS912"]
["CS913"]
["CS914"]
["CS915"]
["CS916"]
["CT001"]
["CT002"]
["CT003"]
["CT004"]
["CT005"]
["CT006"]
["CT007"]
["CT008"]
["CT009"]
["CT010"]
["CT011"]
["CT012"]
["CT013"]
["CT014"]
["CT015"]
["CT016"]
["CT101"]
["CT102"]
["CT103"]
["CT104"]
["CT105"]
["CT106"]
["CT107"]
["CT108"]
["CT109"]
["CT110"]
["CT111"]
["CT112"]
["CT113"]
["CT114"]
["CT115"]
["CT116"]
["CT201"]
["CT202"]
["CT203"]
["CT204"]
["CT205"]
["CT206"]
["CT207"]
["CT208"]
["CT209"]
["CT210"]
["CT211"]
["CT212"]
["CT213"]
["CT214"]
["CT215"]
["CT216"]
["CT301"]
["CT302"]
["CT303"]
["CT304"]
["CT305"]
["CT306"]
["CT307"]
["CT308"]
["CT309"]
["CT310"]
["CT311"]
["CT312"]
["CT313"]
["CT314"]
["CT315"]
["CT316"]
["CT401"]
["CT402"]
["CT403"]
["CT404"]
["CT405"]
["CT406"]
["CT407"]
["CT408"]
["CT409"]
["CT410"]
["CT411"]
["CT412"]
["CT413"]
["CT414"]
["CT415"]
["CT416"]
["CT501"]
["CT502"]
["CT503"]
["CT504"]
["CT505"]
["CT506"]
["CT507"]
["CT508"]
["CT509"]
["CT510"]
["CT511"]
["CT512"]
["CT513"]
["CT514"]
["CT515"]
["CT516"]
["CT601"]
["CT602"]
["CT603"]
["CT604"]
["CT605"]
["CT606"]
["CT607"]
["CT608"]
["CT609"]
["CT610"]
["CT611"]
["CT612"]
["CT613"]
["CT614"]
["CT615"]
["CT616"]
["CT701"]
["CT702"]
["CT703"]
["CT704"]
["CT705"]
["CT706"]
["CT707"]
["CT708"]
["CT709"]
["CT710"]
["CT711"]
["CT712"]
["CT713"]
["CT714"]
["CT715"]
["CT716"]
["CT801"]
["CT802"]
["CT803"]
["CT804"]
["CT805"]
["CT806"]
["CT807"]
["CT808"]
["CT809"]
["CT810"]
["CT811"]
["CT812"]
["CT813"]
["CT814"]
["CT815"]
["CT816"]
["CT901"]
["CT902"]
["CT903"]
["CT904"]
["CT905"]
["CT906"]
["CT907"]
["CT908"]
["CT909"]
["CT910"]
["CT911"]
["CT912"]
["CT913"]
["CT914"]
["CT915"]
["CT916"]
["CU001"]
["CU002"]
["CU003"]
["CU004"]
["CU005"]
["CU006"]
["CU007"]
["CU008"]
["CU009"]
["CU010"]
["CU011"]
["CU012"]
["CU013"]
["CU014"]
["CU015"]
["CU016"]
["CU101"]
["CU102"]
["CU103"]
["CU104"]
["CU105"]
["CU106"]
["CU107"]
["CU108"]
["CU109"]
["CU110"]
["CU111"]
["CU112"]
["CU113"]
["CU114"]
["CU115"]
["CU116"]
["CU201"]
["CU202"]
["CU203"]
["CU204"]
["CU205"]
["CU206"]
["CU207"]
["CU208"]
["CU209"]
["CU210"]
["CU211"]
["CU212"]
["CU213"]
["CU214"]
["CU215"]
["CU216"]
["CU301"]
["CU302"]
["CU303"]
["CU304"]
["CU305"]
["CU306"]
["CU307"]
["CU308"]
["CU309"]
["CU310"]
["CU311"]
["CU312"]
["CU313"]
["CU314"]
["CU315"]
["CU316"]
["CU401"]
["CU402"]
["CU403"]
["CU404"]
["CU405"]
["CU406"]
["CU407"]
["CU408"]
["CU409"]
["CU410"]
["CU411"]
["CU412"]
["CU413"]
["CU414"]
["CU415"]
["CU416"]
["CU501"]
["CU502"]
["CU503"]
["CU504"]
["CU505"]
["CU506"]
["CU507"]
["CU508"]
["CU509"]
["CU510"]
["CU511"]
["CU512"]
["CU513"]
["CU514"]
["CU515"]
["CU516"]
["CU601"]
["CU602"]
["CU603"]
["CU604"]
["CU605"]
["CU606"]
["CU607"]
["CU608"]
["CU609"]
["CU610"]
["CU611"]
["CU612"]
["CU613"]
["CU614"]
["CU615"]
["CU616"]
["CU701"]
["CU702"]
["CU703"]
["CU704"]
["CU705"]
["CU706"]
["CU707"]
["CU708"]
["CU709"]
["CU710"]
["CU711"]
["CU712"]
["CU713"]
["CU714"]
["CU715"]
["CU716"]
["CU801"]
["CU802"]
["CU803"]
["CU804"]
["CU805"]
["CU806"]
["CU807"]
["CU808"]
["CU809"]
["CU810"]
["CU811"]
["CU812"]
["CU813"]
["CU814"]
["CU815"]
["CU816"]
["CU901"]
["CU902"]
["CU903"]
["CU904"]
["CU905"]
["CU906"]
["CU907"]
["CU908"]
["CU909"]
["CU910"]
["CU911"]
["CU912"]
["CU913"]
["CU914"]
["CU915"]
["CU916"]
["CV001"]
["CV002"]
["CV003"]
["CV004"]
["CV005"]
["CV006"]
["CV007"]
["CV008"]
["CV009"]
["CV010"]
["CV011"]
["CV012"]
["CV013"]
["CV014"]
["CV015"]
["CV016"]
["CV101"]
["CV102"]
["CV103"]
["CV104"]
["CV105"]
["CV106"]
["CV107"]
["CV108"]
["CV109"]
["CV110"]
["CV111"]
["CV112"]
["CV113"]
["CV114"]
["CV115"]
["CV116"]
["CV201"]
["CV202"]
["CV203"]
["CV204"]
["CV205"]
["CV206"]
["CV207"]
["CV208"]
["CV209"]
["CV210"]
["CV211"]
["CV212"]
["CV213"]
["CV214"]
["CV215"]
["CV216"]
["CV301"]
["CV302"]
["CV303"]
["CV304"]
["CV305"]
["CV306"]
["CV307"]
["CV308"]
["CV309"]
["CV310"]
["CV311"]
["CV312"]
["CV313"]
["CV314"]
["CV315"]
["CV316"]
["CV401"]
["CV402"]
["CV403"]
["CV404"]
["CV405"]
["CV406"]
["CV407"]
["CV408"]
["CV409"]
["CV410"]
["CV411"]
["CV412"]
["CV413"]
["CV414"]
["CV415"]
["CV416"]
["CV501"]
["CV502"]
["CV503"]
["CV504"]
["CV505"]
["CV506"]
["CV507"]
["CV508"]
["CV509"]
["CV510"]
["CV511"]
["CV512"]
["CV513"]
["CV514"]
["CV515"]
["CV516"]
["CV601"]
["CV602"]
["CV603"]
["CV604"]
["CV605"]
["CV606"]
["CV607"]
["CV608"]
["CV609"]
["CV610"]
["CV611"]
["CV612"]
["CV613"]
["CV614"]
["CV615"]
["CV616"]
["CV701"]
["CV702"]
["CV703"]
["CV704"]
["CV705"]
["CV706"]
["CV707"]
["CV708"]
["CV709"]
["CV710"]
["CV711"]
["CV712"]
["CV713"]
["CV714"]
["CV715"]
["CV716"]
["CV801"]
["CV802"]
["CV803"]
["CV804"]
["CV805"]
["CV806"]
["CV807"]
["CV808"]
["CV809"]
["CV810"]
["CV811"]
["CV812"]
["CV813"]
["CV814"]
["CV815"]
["CV816"]
["CV901"]
["CV902"]
["CV903"]
["CV904"]
["CV905"]
["CV906"]
["CV907"]
["CV908"]
["CV909"]
["CV910"]
["CV911"]
["CV912"]
["CV913"]
["CV914"]
["CV915"]
["CV916"]
["CW001"]
["CW002"]
["CW003"]
["CW004"]
["CW005"]
["CW006"]
["CW007"]
["CW008"]
["CW009"]
["CW010"]
["CW011"]
["CW012"]
["CW013"]
["CW014"]
["CW015"]
["CW016"]
["CW101"]
["CW102"]
["CW103"]
["CW104"]
["CW105"]
["CW106"]
["CW107"]
["CW108"]
["CW109"]
["CW110"]
["CW111"]
["CW112"]
["CW113"]
["CW114"]
["CW115"]
["CW116"]
["CW201"]
["CW202"]
["CW203"]
["CW204"]
["CW205"]
["CW206"]
["CW207"]
["CW208"]
["CW209"]
["CW210"]
["CW211"]
["CW212"]
["CW213"]
["CW214"]
["CW215"]
["CW216"]
["CW301"]
["CW302"]
["CW303"]
["CW304"]
["CW305"]
["CW306"]
["CW307"]
["CW308"]
["CW309"]
["CW310"]
["CW311"]
["CW312"]
["CW313"]
["CW314"]
["CW315"]
["CW316"]
["CW401"]
["CW402"]
["CW403"]
["CW404"]
["CW405"]
["CW406"]
["CW407"]
["CW408"]
["CW409"]
["CW410"]
["CW411"]
["CW412"]
["CW413"]
["CW414"]
["CW415"]
["CW416"]
["CW501"]
["CW502"]
["CW503"]
["CW504"]
["CW505"]
["CW506"]
["CW507"]
["CW508"]
["CW509"]
["CW510"]
["CW511"]
["CW512"]
["CW513"]
["CW514"]
["CW515"]
["CW516"]
["CW601"]
["CW602"]
["CW603"]
["CW604"]
["CW605"]
["CW606"]
["CW607"]
["CW608"]
["CW609"]
["CW610"]
["CW611"]
["CW612"]
["CW613"]
["CW614"]
["CW615"]
["CW616"]
["CW701"]
["CW702"]
["CW703"]
["CW704"]
["CW705"]
["CW706"]
["CW707"]
["CW708"]
["CW709"]
["CW710"]
["CW711"]
["CW712"]
["CW713"]
["CW714"]
["CW715"]
["CW716"]
["CW801"]
["CW802"]
["CW803"]
["CW804"]
["CW805"]
["CW806"]
["CW807"]
["CW808"]
["CW809"]
["CW810"]
["CW811"]
["CW812"]
["CW813"]
["CW814"]
["CW815"]
["CW816"]
["CW901"]
["CW902"]
["CW903"]
["CW904"]
["CW905"]
["CW906"]
["CW907"]
["CW908"]
["CW909"]
["CW910"]
["CW911"]
["CW912"]
["CW913"]
["CW914"]
["CW915"]
["CW916"]
["CX001"]
["CX002"]
["CX003"]
["CX004"]
["CX005"]
["CX006"]
["CX007"]
["CX008"]
["CX009"]
["CX010"]
["CX011"]
["CX012"]
["CX013"]
["CX014"]
["CX015"]
["CX016"]
["CX101"]
["CX102"]
["CX103"]
["CX104"]
["CX105"]
["CX106"]
["CX107"]
["CX108"]
["CX109"]
["CX110"]
["CX111"]
["CX112"]
["CX113"]
["CX114"]
["CX115"]
["CX116"]
["CX201"]
["CX202"]
["CX203"]
["CX204"]
["CX205"]
["CX206"]
["CX207"]
["CX208"]
["CX209"]
["CX210"]
["CX211"]
["CX212"]
["CX213"]
["CX214"]
["CX215"]
["CX216"]
["CX301"]
["CX302"]
["CX303"]
["CX304"]
["CX305"]
["CX306"]
["CX307"]
["CX308"]
["CX309"]
["CX310"]
["CX311"]
["CX312"]
["CX313"]
["CX314"]
["CX315"]
["CX316"]
["CX401"]
["CX402"]
["CX403"]
["CX404"]
["CX405"]
["CX406"]
["CX407"]
["CX408"]
["CX409"]
["CX410"]
["CX411"]
["CX412"]
["CX413"]
["CX414"]
["CX415"]
["CX416"]
["CX501"]
["CX502"]
["CX503"]
["CX504"]
["CX505"]
["CX506"]
["CX507"]
["CX508"]
["CX509"]
["CX510"]
["CX511"]
["CX512"]
["CX513"]
["CX514"]
["CX515"]
["CX516"]
["CX601"]
["CX602"]
["CX603"]
["CX604"]
["CX605"]
["CX606"]
["CX607"]
["CX608"]
["CX609"]
["CX610"]
["CX611"]
["CX612"]
["CX613"]
["CX614"]
["CX615"]
["CX616"]
["CX701"]
["CX702"]
["CX703"]
["CX704"]
["CX705"]
["CX706"]
["CX707"]
["CX708"]
["CX709"]
["CX710"]
["CX711"]
["CX712"]
["CX713"]
["CX714"]
["CX715"]
["CX716"]
["CX801"]
["CX802"]
["CX803"]
["CX804"]
["CX805"]
["CX806"]
["CX807"]
["CX808"]
["CX809"]
["CX810"]
["CX811"]
["CX812"]
["CX813"]
["CX814"]
["CX815"]
["CX816"]
["CX901"]
["CX902"]
["CX903"]
["CX904"]
["CX905"]
["CX906"]
["CX907"]
["CX908"]
["CX909"]
["CX910"]
["CX911"]
["CX912"]
["CX913"]
["CX914"]
["CX915"]
["CX916"]
["CY001"]
["CY002"]
["CY003"]
["CY004"]
["CY005"]
["CY006"]
["CY007"]
["CY008"]
["CY009"]
["CY010"]
["CY011"]
["CY012"]
["CY013"]
["CY014"]
["CY015"]
["CY016"]
["CY101"]
["CY102"]
["CY103"]
["CY104"]
["CY105"]
["CY106"]
["CY107"]
["CY108"]
["CY109"]
["CY110"]
["CY111"]
["CY112"]
["CY113"]
["CY114"]
["CY115"]
["CY116"]
["CY201"]
["CY202"]
["CY203"]
["CY204"]
["CY205"]
["CY206"]
["CY207"]
["CY208"]
["CY209"]
["CY210"]
["CY211"]
["CY212"]
["CY213"]
["CY214"]
["CY215"]
["CY216"]
["CY301"]
["CY302"]
["CY303"]
["CY304"]
["CY305"]
["CY306"]
["CY307"]
["CY308"]
["CY309"]
["CY310"]
["CY311"]
["CY312"]
["CY313"]
["CY314"]
["CY315"]
["CY316"]
["CY401"]
["CY402"]
["CY403"]
["CY404"]
["CY405"]
["CY406"]
["CY407"]
["CY408"]
["CY409"]
["CY410"]
["CY411"]
["CY412"]
["CY413"]
["CY414"]
["CY415"]
["CY416"]
["CY501"]
["CY502"]
["CY503"]
["CY504"]
["CY505"]
["CY506"]
["CY507"]
["CY508"]
["CY509"]
["CY510"]
["CY511"]
["CY512"]
["CY513"]
["CY514"]
["CY515"]
["CY516"]
["CY601"]
["CY602"]
["CY603"]
["CY604"]
["CY605"]
["CY606"]
["CY607"]
["CY608"]
["CY609"]
["CY610"]
["CY611"]
["CY612"]
["CY613"]
["CY614"]
["CY615"]
["CY616"]
["CY701"]
["CY702"]
["CY703"]
["CY704"]
["CY705"]
["CY706"]
["CY707"]
["CY708"]
["CY709"]
["CY710"]
["CY711"]
["CY712"]
["CY713"]
["CY714"]
["CY715"]
["CY716"]
["CY801"]
["CY802"]
["CY803"]
["CY804"]
["CY805"]
["CY806"]
["CY807"]
["CY808"]
["CY809"]
["CY810"]
["CY811"]
["CY812"]
["CY813"]
["CY814"]
["CY815"]
["CY816"]
["CY901"]
["CY902"]
["CY903"]
["CY904"]
["CY905"]
["CY906"]
["CY907"]
["CY908"]
["CY909"]
["CY910"]
["CY911"]
["CY912"]
["CY913"]
["CY914"]
["CY915"]
["CY916"]
["DA001"]
["DA002"]
["DA003"]
["DA004"]
["DA005"]
["DA006"]
["DA007"]
["DA008"]
["DA009"]
["DA010"]
["DA011"]
["DA012"]
["DA013"]
["DA014"]
["DA015"]
["DA016"]
["DA101"]
["DA102"]
["DA103"]
["DA104"]
["DA105"]
["DA106"]
["DA107"]
["DA108"]
["DA109"]
["DA110"]
["DA111"]
["DA112"]
["DA113"]
["DA114"]
["DA115"]
["DA116"]
["DA201"]
["DA202"]
["DA203"]
["DA204"]
["DA205"]
["DA206"]
["DA207"]
["DA208"]
["DA209"]
["DA210"]
["DA211"]
["DA212"]
["DA213"]
["DA214"]
["DA215"]
["DA216"]
["DA301"]
["DA302"]
["DA303"]
["DA304"]
["DA305"]
["DA306"]
["DA307"]
["DA308"]
["DA309"]
["DA310"]
["DA311"]
["DA312"]
["DA313"]
["DA314"]
["DA315"]
["DA316"]
["DA401"]
["DA402"]
["DA403"]
["DA404"]
["DA405"]
["DA406"]
["DA407"]
["DA408"]
["DA409"]
["DA410"]
["DA411"]
["DA412"]
["DA413"]
["DA414"]
["DA415"]
["DA416"]
["DA501"]
["DA502"]
["DA503"]
["DA504"]
["DA505"]
["DA506"]
["DA507"]
["DA508"]
["DA509"]
["DA510"]
["DA511"]
["DA512"]
["DA513"]
["DA514"]
["DA515"]
["DA516"]
["DA601"]
["DA602"]
["DA603"]
["DA604"]
["DA605"]
["DA606"]
["DA607"]
["DA608"]
["DA609"]
["DA610"]
["DA611"]
["DA612"]
["DA613"]
["DA614"]
["DA615"]
["DA616"]
["DA701"]
["DA702"]
["DA703"]
["DA704"]
["DA705"]
["DA706"]
["DA707"]
["DA708"]
["DA709"]
["DA710"]
["DA711"]
["DA712"]
["DA713"]
["DA714"]
["DA715"]
["DA716"]
["DA801"]
["DA802"]
["DA803"]
["DA804"]
["DA805"]
["DA806"]
["DA807"]
["DA808"]
["DA809"]
["DA810"]
["DA811"]
["DA812"]
["DA813"]
["DA814"]
["DA815"]
["DA816"]
["DA901"]
["DA902"]
["DA903"]
["DA904"]
["DA905"]
["DA906"]
["DA907"]
["DA908"]
["DA909"]
["DA910"]
["DA911"]
["DA912"]
["DA913"]
["DA914"]
["DA915"]
["DA916"]
["DB001"]
["DB002"]
["DB003"]
["DB004"]
["DB005"]
["DB006"]
["DB007"]
["DB008"]
["DB009"]
["DB010"]
["DB011"]
["DB012"]
["DB013"]
["DB014"]
["DB015"]
["DB016"]
["DB101"]
["DB102"]
["DB103"]
["DB104"]
["DB105"]
["DB106"]
["DB107"]
["DB108"]
["DB109"]
["DB110"]
["DB111"]
["DB112"]
["DB113"]
["DB114"]
["DB115"]
["DB116"]
["DB201"]
["DB202"]
["DB203"]
["DB204"]
["DB205"]
["DB206"]
["DB207"]
["DB208"]
["DB209"]
["DB210"]
["DB211"]
["DB212"]
["DB213"]
["DB214"]
["DB215"]
["DB216"]
["DB301"]
["DB302"]
["DB303"]
["DB304"]
["DB305"]
["DB306"]
["DB307"]
["DB308"]
["DB309"]
["DB310"]
["DB311"]
["DB312"]
["DB313"]
["DB314"]
["DB315"]
["DB316"]
["DB401"]
["DB402"]
["DB403"]
["DB404"]
["DB405"]
["DB406"]
["DB407"]
["DB408"]
["DB409"]
["DB410"]
["DB411"]
["DB412"]
["DB413"]
["DB414"]
["DB415"]
["DB416"]
["DB501"]
["DB502"]
["DB503"]
["DB504"]
["DB505"]
["DB506"]
["DB507"]
["DB508"]
["DB509"]
["DB510"]
["DB511"]
["DB512"]
["DB513"]
["DB514"]
["DB515"]
["DB516"]
["DB601"]
["DB602"]
["DB603"]
["DB604"]
["DB605"]
["DB606"]
["DB607"]
["DB608"]
["DB609"]
["DB610"]
["DB611"]
["DB612"]
["DB613"]
["DB614"]
["DB615"]
["DB616"]
["DB701"]
["DB702"]
["DB703"]
["DB704"]
["DB705"]
["DB706"]
["DB707"]
["DB708"]
["DB709"]
["DB710"]
["DB711"]
["DB712"]
["DB713"]
["DB714"]
["DB715"]
["DB716"]
["DB801"]
["DB802"]
["DB803"]
["DB804"]
["DB805"]
["DB806"]
["DB807"]
["DB808"]
["DB809"]
["DB810"]
["DB811"]
["DB812"]
["DB813"]
["DB814"]
["DB815"]
["DB816"]
["DB901"]
["DB902"]
["DB903"]
["DB904"]
["DB905"]
["DB906"]
["DB907"]
["DB908"]
["DB909"]
["DB910"]
["DB911"]
["DB912"]
["DB913"]
["DB914"]
["DB915"]
["DB916"]
["DC001"]
["DC002"]
["DC003"]
["DC004"]
["DC005"]
["DC006"]
["DC007"]
["DC008"]
["DC009"]
["DC010"]
["DC011"]
["DC012"]
["DC013"]
["DC014"]
["DC015"]
["DC016"]
["DC101"]
["DC102"]
["DC103"]
["DC104"]
["DC105"]
["DC106"]
["DC107"]
["DC108"]
["DC109"]
["DC110"]
["DC111"]
["DC112"]
["DC113"]
["DC114"]
["DC115"]
["DC116"]
["DC201"]
["DC202"]
["DC203"]
["DC204"]
["DC205"]
["DC206"]
["DC207"]
["DC208"]
["DC209"]
["DC210"]
["DC211"]
["DC212"]
["DC213"]
["DC214"]
["DC215"]
["DC216"]
["DC301"]
["DC302"]
["DC303"]
["DC304"]
["DC305"]
["DC306"]
["DC307"]
["DC308"]
["DC309"]
["DC310"]
["DC311"]
["DC312"]
["DC313"]
["DC314"]
["DC315"]
["DC316"]
["DC401"]
["DC402"]
["DC403"]
["DC404"]
["DC405"]
["DC406"]
["DC407"]
["DC408"]
["DC409"]
["DC410"]
["DC411"]
["DC412"]
["DC413"]
["DC414"]
["DC415"]
["DC416"]
["DC501"]
["DC502"]
["DC503"]
["DC504"]
["DC505"]
["DC506"]
["DC507"]
["DC508"]
["DC509"]
["DC510"]
["DC511"]
["DC512"]
["DC513"]
["DC514"]
["DC515"]
["DC516"]
["DC601"]
["DC602"]
["DC603"]
["DC604"]
["DC605"]
["DC606"]
["DC607"]
["DC608"]
["DC609"]
["DC610"]
["DC611"]
["DC612"]
["DC613"]
["DC614"]
["DC615"]
["DC616"]
["DC701"]
["DC702"]
["DC703"]
["DC704"]
["DC705"]
["DC706"]
["DC707"]
["DC708"]
["DC709"]
["DC710"]
["DC711"]
["DC712"]
["DC713"]
["DC714"]
["DC715"]
["DC716"]
["DC801"]
["DC802"]
["DC803"]
["DC804"]
["DC805"]
["DC806"]
["DC807"]
["DC808"]
["DC809"]
["DC810"]
["DC811"]
["DC812"]
["DC813"]
["DC814"]
["DC815"]
["DC816"]
["DC901"]
["DC902"]
["DC903"]
["DC904"]
["DC905"]
["DC906"]
["DC907"]
["DC908"]
["DC909"]
["DC910"]
["DC911"]
["DC912"]
["DC913"]
["DC914"]
["DC915"]
["DC916"]
["DD001"]
["DD002"]
["DD003"]
["DD004"]
["DD005"]
["DD006"]
["DD007"]
["DD008"]
["DD009"]
["DD010"]
["DD011"]
["DD012"]
["DD013"]
["DD014"]
["DD015"]
["DD016"]
["DD101"]
["DD102"]
["DD103"]
["DD104"]
["DD105"]
["DD106"]
["DD107"]
["DD108"]
["DD109"]
["DD110"]
["DD111"]
["DD112"]
["DD113"]
["DD114"]
["DD115"]
["DD116"]
["DD201"]
["DD202"]
["DD203"]
["DD204"]
["DD205"]
["DD206"]
["DD207"]
["DD208"]
["DD209"]
["DD210"]
["DD211"]
["DD212"]
["DD213"]
["DD214"]
["DD215"]
["DD216"]
["DD301"]
["DD302"]
["DD303"]
["DD304"]
["DD305"]
["DD306"]
["DD307"]
["DD308"]
["DD309"]
["DD310"]
["DD311"]
["DD312"]
["DD313"]
["DD314"]
["DD315"]
["DD316"]
["DD401"]
["DD402"]
["DD403"]
["DD404"]
["DD405"]
["DD406"]
["DD407"]
["DD408"]
["DD409"]
["DD410"]
["DD411"]
["DD412"]
["DD413"]
["DD414"]
["DD415"]
["DD416"]
["DD501"]
["DD502"]
["DD503"]
["DD504"]
["DD505"]
["DD506"]
["DD507"]
["DD508"]
["DD509"]
["DD510"]
["DD511"]
["DD512"]
["DD513"]
["DD514"]
["DD515"]
["DD516"]
["DD601"]
["DD602"]
["DD603"]
["DD604"]
["DD605"]
["DD606"]
["DD607"]
["DD608"]
["DD609"]
["DD610"]
["DD611"]
["DD612"]
["DD613"]
["DD614"]
["DD615"]
["DD616"]
["DD701"]
["DD702"]
["DD703"]
["DD704"]
["DD705"]
["DD706"]
["DD707"]
["DD708"]
["DD709"]
["DD710"]
["DD711"]
["DD712"]
["DD713"]
["DD714"]
["DD715"]
["DD716"]
["DD801"]
["DD802"]
["DD803"]
["DD804"]
["DD805"]
["DD806"]
["DD807"]
["DD808"]
["DD809"]
["DD810"]
["DD811"]
["DD812"]
["DD813"]
["DD814"]
["DD815"]
["DD816"]
["DD901"]
["DD902"]
["DD903"]
["DD904"]
["DD905"]
["DD906"]
["DD907"]
["DD908"]
["DD909"]
["DD910"]
["DD911"]
["DD912"]
["DD913"]
["DD914"]
["DD915"]
["DD916"]
["DE001"]
["DE002"]
["DE003"]
["DE004"]
["DE005"]
["DE006"]
["DE007"]
["DE008"]
["DE009"]
["DE010"]
["DE011"]
["DE012"]
["DE013"]
["DE014"]
["DE015"]
["DE016"]
["DE101"]
["DE102"]
["DE103"]
["DE104"]
["DE105"]
["DE106"]
["DE107"]
["DE108"]
["DE109"]
["DE110"]
["DE111"]
["DE112"]
["DE113"]
["DE114"]
["DE115"]
["DE116"]
["DE201"]
["DE202"]
["DE203"]
["DE204"]
["DE205"]
["DE206"]
["DE207"]
["DE208"]
["DE209"]
["DE210"]
["DE211"]
["DE212"]
["DE213"]
["DE214"]
["DE215"]
["DE216"]
["DE301"]
["DE302"]
["DE303"]
["DE304"]
["DE305"]
["DE306"]
["DE307"]
["DE308"]
["DE309"]
["DE310"]
["DE311"]
["DE312"]
["DE313"]
["DE314"]
["DE315"]
["DE316"]
["DE401"]
["DE402"]
["DE403"]
["DE404"]
["DE405"]
["DE406"]
["DE407"]
["DE408"]
["DE409"]
["DE410"]
["DE411"]
["DE412"]
["DE413"]
["DE414"]
["DE415"]
["DE416"]
["DE501"]
["DE502"]
["DE503"]
["DE504"]
["DE505"]
["DE506"]
["DE507"]
["DE508"]
["DE509"]
["DE510"]
["DE511"]
["DE512"]
["DE513"]
["DE514"]
["DE515"]
["DE516"]
["DE601"]
["DE602"]
["DE603"]
["DE604"]
["DE605"]
["DE606"]
["DE607"]
["DE608"]
["DE609"]
["DE610"]
["DE611"]
["DE612"]
["DE613"]
["DE614"]
["DE615"]
["DE616"]
["DE701"]
["DE702"]
["DE703"]
["DE704"]
["DE705"]
["DE706"]
["DE707"]
["DE708"]
["DE709"]
["DE710"]
["DE711"]
["DE712"]
["DE713"]
["DE714"]
["DE715"]
["DE716"]
["DE801"]
["DE802"]
["DE803"]
["DE804"]
["DE805"]
["DE806"]
["DE807"]
["DE808"]
["DE809"]
["DE810"]
["DE811"]
["DE812"]
["DE813"]
["DE814"]
["DE815"]
["DE816"]
["DE901"]
["DE902"]
["DE903"]
["DE904"]
["DE905"]
["DE906"]
["DE907"]
["DE908"]
["DE909"]
["DE910"]
["DE911"]
["DE912"]
["DE913"]
["DE914"]
["DE915"]
["DE916"]
["DF001"]
["DF002"]
["DF003"]
["DF004"]
["DF005"]
["DF006"]
["DF007"]
["DF008"]
["DF009"]
["DF010"]
["DF011"]
["DF012"]
["DF013"]
["DF014"]
["DF015"]
["DF016"]
["DF101"]
["DF102"]
["DF103"]
["DF104"]
["DF105"]
["DF106"]
["DF107"]
["DF108"]
["DF109"]
["DF110"]
["DF111"]
["DF112"]
["DF113"]
["DF114"]
["DF115"]
["DF116"]
["DF201"]
["DF202"]
["DF203"]
["DF204"]
["DF205"]
["DF206"]
["DF207"]
["DF208"]
["DF209"]
["DF210"]
["DF211"]
["DF212"]
["DF213"]
["DF214"]
["DF215"]
["DF216"]
["DF301"]
["DF302"]
["DF303"]
["DF304"]
["DF305"]
["DF306"]
["DF307"]
["DF308"]
["DF309"]
["DF310"]
["DF311"]
["DF312"]
["DF313"]
["DF314"]
["DF315"]
["DF316"]
["DF401"]
["DF402"]
["DF403"]
["DF404"]
["DF405"]
["DF406"]
["DF407"]
["DF408"]
["DF409"]
["DF410"]
["DF411"]
["DF412"]
["DF413"]
["DF414"]
["DF415"]
["DF416"]
["DF501"]
["DF502"]
["DF503"]
["DF504"]
["DF505"]
["DF506"]
["DF507"]
["DF508"]
["DF509"]
["DF510"]
["DF511"]
["DF512"]
["DF513"]
["DF514"]
["DF515"]
["DF516"]
["DF601"]
["DF602"]
["DF603"]
["DF604"]
["DF605"]
["DF606"]
["DF607"]
["DF608"]
["DF609"]
["DF610"]
["DF611"]
["DF612"]
["DF613"]
["DF614"]
["DF615"]
["DF616"]
["DF701"]
["DF702"]
["DF703"]
["DF704"]
["DF705"]
["DF706"]
["DF707"]
["DF708"]
["DF709"]
["DF710"]
["DF711"]
["DF712"]
["DF713"]
["DF714"]
["DF715"]
["DF716"]
["DF801"]
["DF802"]
["DF803"]
["DF804"]
["DF805"]
["DF806"]
["DF807"]
["DF808"]
["DF809"]
["DF810"]
["DF811"]
["DF812"]
["DF813"]
["DF814"]
["DF815"]
["DF816"]
["DF901"]
["DF902"]
["DF903"]
["DF904"]
["DF905"]
["DF906"]
["DF907"]
["DF908"]
["DF909"]
["DF910"]
["DF911"]
["DF912"]
["DF913"]
["DF914"]
["DF915"]
["DF916"]
["DG001"]
["DG002"]
["DG003"]
["DG004"]
["DG005"]
["DG006"]
["DG007"]
["DG008"]
["DG009"]
["DG010"]
["DG011"]
["DG012"]
["DG013"]
["DG014"]
["DG015"]
["DG016"]
["DG101"]
["DG102"]
["DG103"]
["DG104"]
["DG105"]
["DG106"]
["DG107"]
["DG108"]
["DG109"]
["DG110"]
["DG111"]
["DG112"]
["DG113"]
["DG114"]
["DG115"]
["DG116"]
["DG201"]
["DG202"]
["DG203"]
["DG204"]
["DG205"]
["DG206"]
["DG207"]
["DG208"]
["DG209"]
["DG210"]
["DG211"]
["DG212"]
["DG213"]
["DG214"]
["DG215"]
["DG216"]
["DG301"]
["DG302"]
["DG303"]
["DG304"]
["DG305"]
["DG306"]
["DG307"]
["DG308"]
["DG309"]
["DG310"]
["DG311"]
["DG312"]
["DG313"]
["DG314"]
["DG315"]
["DG316"]
["DG401"]
["DG402"]
["DG403"]
["DG404"]
["DG405"]
["DG406"]
["DG407"]
["DG408"]
["DG409"]
["DG410"]
["DG411"]
["DG412"]
["DG413"]
["DG414"]
["DG415"]
["DG416"]
["DG501"]
["DG502"]
["DG503"]
["DG504"]
["DG505"]
["DG506"]
["DG507"]
["DG508"]
["DG509"]
["DG510"]
["DG511"]
["DG512"]
["DG513"]
["DG514"]
["DG515"]
["DG516"]
["DG601"]
["DG602"]
["DG603"]
["DG604"]
["DG605"]
["DG606"]
["DG607"]
["DG608"]
["DG609"]
["DG610"]
["DG611"]
["DG612"]
["DG613"]
["DG614"]
["DG615"]
["DG616"]
["DG701"]
["DG702"]
["DG703"]
["DG704"]
["DG705"]
["DG706"]
["DG707"]
["DG708"]
["DG709"]
["DG710"]
["DG711"]
["DG712"]
["DG713"]
["DG714"]
["DG715"]
["DG716"]
["DG801"]
["DG802"]
["DG803"]
["DG804"]
["DG805"]
["DG806"]
["DG807"]
["DG808"]
["DG809"]
["DG810"]
["DG811"]
["DG812"]
["DG813"]
["DG814"]
["DG815"]
["DG816"]
["DG901"]
["DG902"]
["DG903"]
["DG904"]
["DG905"]
["DG906"]
["DG907"]
["DG908"]
["DG909"]
["DG910"]
["DG911"]
["DG912"]
["DG913"]
["DG914"]
["DG915"]
["DG916"]
["DH001"]
["DH002"]
["DH003"]
["DH004"]
["DH005"]
["DH006"]
["DH007"]
["DH008"]
["DH009"]
["DH010"]
["DH011"]
["DH012"]
["DH013"]
["DH014"]
["DH015"]
["DH016"]
["DH101"]
["DH102"]
["DH103"]
["DH104"]
["DH105"]
["DH106"]
["DH107"]
["DH108"]
["DH109"]
["DH110"]
["DH111"]
["DH112"]
["DH113"]
["DH114"]
["DH115"]
["DH116"]
["DH201"]
["DH202"]
["DH203"]
["DH204"]
["DH205"]
["DH206"]
["DH207"]
["DH208"]
["DH209"]
["DH210"]
["DH211"]
["DH212"]
["DH213"]
["DH214"]
["DH215"]
["DH216"]
["DH301"]
["DH302"]
["DH303"]
["DH304"]
["DH305"]
["DH306"]
["DH307"]
["DH308"]
["DH309"]
["DH310"]
["DH311"]
["DH312"]
["DH313"]
["DH314"]
["DH315"]
["DH316"]
["DH401"]
["DH402"]
["DH403"]
["DH404"]
["DH405"]
["DH406"]
["DH407"]
["DH408"]
["DH409"]
["DH410"]
["DH411"]
["DH412"]
["DH413"]
["DH414"]
["DH415"]
["DH416"]
["DH501"]
["DH502"]
["DH503"]
["DH504"]
["DH505"]
["DH506"]
["DH507"]
["DH508"]
["DH509"]
["DH510"]
["DH511"]
["DH512"]
["DH513"]
["DH514"]
["DH515"]
["DH516"]
["DH601"]
["DH602"]
["DH603"]
["DH604"]
["DH605"]
["DH606"]
["DH607"]
["DH608"]
["DH609"]
["DH610"]
["DH611"]
["DH612"]
["DH613"]
["DH614"]
["DH615"]
["DH616"]
["DH701"]
["DH702"]
["DH703"]
["DH704"]
["DH705"]
["DH706"]
["DH707"]
["DH708"]
["DH709"]
["DH710"]
["DH711"]
["DH712"]
["DH713"]
["DH714"]
["DH715"]
["DH716"]
["DH801"]
["DH802"]
["DH803"]
["DH804"]
["DH805"]
["DH806"]
["DH807"]
["DH808"]
["DH809"]
["DH810"]
["DH811"]
["DH812"]
["DH813"]
["DH814"]
["DH815"]
["DH816"]
["DH901"]
["DH902"]
["DH903"]
["DH904"]
["DH905"]
["DH906"]
["DH907"]
["DH908"]
["DH909"]
["DH910"]
["DH911"]
["DH912"]
["DH913"]
["DH914"]
["DH915"]
["DH916"]
["DI001"]
["DI002"]
["DI003"]
["DI004"]
["DI005"]
["DI006"]
["DI007"]
["DI008"]
["DI009"]
["DI010"]
["DI011"]
["DI012"]
["DI013"]
["DI014"]
["DI015"]
["DI016"]
["DI101"]
["DI102"]
["DI103"]
["DI104"]
["DI105"]
["DI106"]
["DI107"]
["DI108"]
["DI109"]
["DI110"]
["DI111"]
["DI112"]
["DI113"]
["DI114"]
["DI115"]
["DI116"]
["DI201"]
["DI202"]
["DI203"]
["DI204"]
["DI205"]
["DI206"]
["DI207"]
["DI208"]
["DI209"]
["DI210"]
["DI211"]
["DI212"]
["DI213"]
["DI214"]
["DI215"]
["DI216"]
["DI301"]
["DI302"]
["DI303"]
["DI304"]
["DI305"]
["DI306"]
["DI307"]
["DI308"]
["DI309"]
["DI310"]
["DI311"]
["DI312"]
["DI313"]
["DI314"]
["DI315"]
["DI316"]
["DI401"]
["DI402"]
["DI403"]
["DI404"]
["DI405"]
["DI406"]
["DI407"]
["DI408"]
["DI409"]
["DI410"]
["DI411"]
["DI412"]
["DI413"]
["DI414"]
["DI415"]
["DI416"]
["DI501"]
["DI502"]
["DI503"]
["DI504"]
["DI505"]
["DI506"]
["DI507"]
["DI508"]
["DI509"]
["DI510"]
["DI511"]
["DI512"]
["DI513"]
["DI514"]
["DI515"]
["DI516"]
["DI601"]
["DI602"]
["DI603"]
["DI604"]
["DI605"]
["DI606"]
["DI607"]
["DI608"]
["DI609"]
["DI610"]
["DI611"]
["DI612"]
["DI613"]
["DI614"]
["DI615"]
["DI616"]
["DI701"]
["DI702"]
["DI703"]
["DI704"]
["DI705"]
["DI706"]
["DI707"]
["DI708"]
["DI709"]
["DI710"]
["DI711"]
["DI712"]
["DI713"]
["DI714"]
["DI715"]
["DI716"]
["DI801"]
["DI802"]
["DI803"]
["DI804"]
["DI805"]
["DI806"]
["DI807"]
["DI808"]
["DI809"]
["DI810"]
["DI811"]
["DI812"]
["DI813"]
["DI814"]
["DI815"]
["DI816"]
["DI901"]
["DI902"]
["DI903"]
["DI904"]
["DI905"]
["DI906"]
["DI907"]
["DI908"]
["DI909"]
["DI910"]
["DI911"]
["DI912"]
["DI913"]
["DI914"]
["DI915"]
["DI916"]
["DJ001"]
["DJ002"]
["DJ003"]
["DJ004"]
["DJ005"]
["DJ006"]
["DJ007"]
["DJ008"]
["DJ009"]
["DJ010"]
["DJ011"]
["DJ012"]
["DJ013"]
["DJ014"]
["DJ015"]
["DJ016"]
["DJ101"]
["DJ102"]
["DJ103"]
["DJ104"]
["DJ105"]
["DJ106"]
["DJ107"]
["DJ108"]
["DJ109"]
["DJ110"]
["DJ111"]
["DJ112"]
["DJ113"]
["DJ114"]
["DJ115"]
["DJ116"]
["DJ201"]
["DJ202"]
["DJ203"]
["DJ204"]
["DJ205"]
["DJ206"]
["DJ207"]
["DJ208"]
["DJ209"]
["DJ210"]
["DJ211"]
["DJ212"]
["DJ213"]
["DJ214"]
["DJ215"]
["DJ216"]
["DJ301"]
["DJ302"]
["DJ303"]
["DJ304"]
["DJ305"]
["DJ306"]
["DJ307"]
["DJ308"]
["DJ309"]
["DJ310"]
["DJ311"]
["DJ312"]
["DJ313"]
["DJ314"]
["DJ315"]
["DJ316"]
["DJ401"]
["DJ402"]
["DJ403"]
["DJ404"]
["DJ405"]
["DJ406"]
["DJ407"]
["DJ408"]
["DJ409"]
["DJ410"]
["DJ411"]
["DJ412"]
["DJ413"]
["DJ414"]
["DJ415"]
["DJ416"]
["DJ501"]
["DJ502"]
["DJ503"]
["DJ504"]
["DJ505"]
["DJ506"]
["DJ507"]
["DJ508"]
["DJ509"]
["DJ510"]
["DJ511"]
["DJ512"]
["DJ513"]
["DJ514"]
["DJ515"]
["DJ516"]
["DJ601"]
["DJ602"]
["DJ603"]
["DJ604"]
["DJ605"]
["DJ606"]
["DJ607"]
["DJ608"]
["DJ609"]
["DJ610"]
["DJ611"]
["DJ612"]
["DJ613"]
["DJ614"]
["DJ615"]
["DJ616"]
["DJ701"]
["DJ702"]
["DJ703"]
["DJ704"]
["DJ705"]
["DJ706"]
["DJ707"]
["DJ708"]
["DJ709"]
["DJ710"]
["DJ711"]
["DJ712"]
["DJ713"]
["DJ714"]
["DJ715"]
["DJ716"]
["DJ801"]
["DJ802"]
["DJ803"]
["DJ804"]
["DJ805"]
["DJ806"]
["DJ807"]
["DJ808"]
["DJ809"]
["DJ810"]
["DJ811"]
["DJ812"]
["DJ813"]
["DJ814"]
["DJ815"]
["DJ816"]
["DJ901"]
["DJ902"]
["DJ903"]
["DJ904"]
["DJ905"]
["DJ906"]
["DJ907"]
["DJ908"]
["DJ909"]
["DJ910"]
["DJ911"]
["DJ912"]
["DJ913"]
["DJ914"]
["DJ915"]
["DJ916"]
["DK001"]
["DK002"]
["DK003"]
["DK004"]
["DK005"]
["DK006"]
["DK007"]
["DK008"]
["DK009"]
["DK010"]
["DK011"]
["DK012"]
["DK013"]
["DK014"]
["DK015"]
["DK016"]
["DK101"]
["DK102"]
["DK103"]
["DK104"]
["DK105"]
["DK106"]
["DK107"]
["DK108"]
["DK109"]
["DK110"]
["DK111"]
["DK112"]
["DK113"]
["DK114"]
["DK115"]
["DK116"]
["DK201"]
["DK202"]
["DK203"]
["DK204"]
["DK205"]
["DK206"]
["DK207"]
["DK208"]
["DK209"]
["DK210"]
["DK211"]
["DK212"]
["DK213"]
["DK214"]
["DK215"]
["DK216"]
["DK301"]
["DK302"]
["DK303"]
["DK304"]
["DK305"]
["DK306"]
["DK307"]
["DK308"]
["DK309"]
["DK310"]
["DK311"]
["DK312"]
["DK313"]
["DK314"]
["DK315"]
["DK316"]
["DK401"]
["DK402"]
["DK403"]
["DK404"]
["DK405"]
["DK406"]
["DK407"]
["DK408"]
["DK409"]
["DK410"]
["DK411"]
["DK412"]
["DK413"]
["DK414"]
["DK415"]
["DK416"]
["DK501"]
["DK502"]
["DK503"]
["DK504"]
["DK505"]
["DK506"]
["DK507"]
["DK508"]
["DK509"]
["DK510"]
["DK511"]
["DK512"]
["DK513"]
["DK514"]
["DK515"]
["DK516"]
["DK601"]
["DK602"]
["DK603"]
["DK604"]
["DK605"]
["DK606"]
["DK607"]
["DK608"]
["DK609"]
["DK610"]
["DK611"]
["DK612"]
["DK613"]
["DK614"]
["DK615"]
["DK616"]
["DK701"]
["DK702"]
["DK703"]
["DK704"]
["DK705"]
["DK706"]
["DK707"]
["DK708"]
["DK709"]
["DK710"]
["DK711"]
["DK712"]
["DK713"]
["DK714"]
["DK715"]
["DK716"]
["DK801"]
["DK802"]
["DK803"]
["DK804"]
["DK805"]
["DK806"]
["DK807"]
["DK808"]
["DK809"]
["DK810"]
["DK811"]
["DK812"]
["DK813"]
["DK814"]
["DK815"]
["DK816"]
["DK901"]
["DK902"]
["DK903"]
["DK904"]
["DK905"]
["DK906"]
["DK907"]
["DK908"]
["DK909"]
["DK910"]
["DK911"]
["DK912"]
["DK913"]
["DK914"]
["DK915"]
["DK916"]
["DL001"]
["DL002"]
["DL003"]
["DL004"]
["DL005"]
["DL006"]
["DL007"]
["DL008"]
["DL009"]
["DL010"]
["DL011"]
["DL012"]
["DL013"]
["DL014"]
["DL015"]
["DL016"]
["DL101"]
["DL102"]
["DL103"]
["DL104"]
["DL105"]
["DL106"]
["DL107"]
["DL108"]
["DL109"]
["DL110"]
["DL111"]
["DL112"]
["DL113"]
["DL114"]
["DL115"]
["DL116"]
["DL201"]
["DL202"]
["DL203"]
["DL204"]
["DL205"]
["DL206"]
["DL207"]
["DL208"]
["DL209"]
["DL210"]
["DL211"]
["DL212"]
["DL213"]
["DL214"]
["DL215"]
["DL216"]
["DL301"]
["DL302"]
["DL303"]
["DL304"]
["DL305"]
["DL306"]
["DL307"]
["DL308"]
["DL309"]
["DL310"]
["DL311"]
["DL312"]
["DL313"]
["DL314"]
["DL315"]
["DL316"]
["DL401"]
["DL402"]
["DL403"]
["DL404"]
["DL405"]
["DL406"]
["DL407"]
["DL408"]
["DL409"]
["DL410"]
["DL411"]
["DL412"]
["DL413"]
["DL414"]
["DL415"]
["DL416"]
["DL501"]
["DL502"]
["DL503"]
["DL504"]
["DL505"]
["DL506"]
["DL507"]
["DL508"]
["DL509"]
["DL510"]
["DL511"]
["DL512"]
["DL513"]
["DL514"]
["DL515"]
["DL516"]
["DL601"]
["DL602"]
["DL603"]
["DL604"]
["DL605"]
["DL606"]
["DL607"]
["DL608"]
["DL609"]
["DL610"]
["DL611"]
["DL612"]
["DL613"]
["DL614"]
["DL615"]
["DL616"]
["DL701"]
["DL702"]
["DL703"]
["DL704"]
["DL705"]
["DL706"]
["DL707"]
["DL708"]
["DL709"]
["DL710"]
["DL711"]
["DL712"]
["DL713"]
["DL714"]
["DL715"]
["DL716"]
["DL801"]
["DL802"]
["DL803"]
["DL804"]
["DL805"]
["DL806"]
["DL807"]
["DL808"]
["DL809"]
["DL810"]
["DL811"]
["DL812"]
["DL813"]
["DL814"]
["DL815"]
["DL816"]
["DL901"]
["DL902"]
["DL903"]
["DL904"]
["DL905"]
["DL906"]
["DL907"]
["DL908"]
["DL909"]
["DL910"]
["DL911"]
["DL912"]
["DL913"]
["DL914"]
["DL915"]
["DL916"]
["DM001"]
["DM002"]
["DM003"]
["DM004"]
["DM005"]
["DM006"]
["DM007"]
["DM008"]
["DM009"]
["DM010"]
["DM011"]
["DM012"]
["DM013"]
["DM014"]
["DM015"]
["DM016"]
["DM101"]
["DM102"]
["DM103"]
["DM104"]
["DM105"]
["DM106"]
["DM107"]
["DM108"]
["DM109"]
["DM110"]
["DM111"]
["DM112"]
["DM113"]
["DM114"]
["DM115"]
["DM116"]
["DM201"]
["DM202"]
["DM203"]
["DM204"]
["DM205"]
["DM206"]
["DM207"]
["DM208"]
["DM209"]
["DM210"]
["DM211"]
["DM212"]
["DM213"]
["DM214"]
["DM215"]
["DM216"]
["DM301"]
["DM302"]
["DM303"]
["DM304"]
["DM305"]
["DM306"]
["DM307"]
["DM308"]
["DM309"]
["DM310"]
["DM311"]
["DM312"]
["DM313"]
["DM314"]
["DM315"]
["DM316"]
["DM401"]
["DM402"]
["DM403"]
["DM404"]
["DM405"]
["DM406"]
["DM407"]
["DM408"]
["DM409"]
["DM410"]
["DM411"]
["DM412"]
["DM413"]
["DM414"]
["DM415"]
["DM416"]
["DM501"]
["DM502"]
["DM503"]
["DM504"]
["DM505"]
["DM506"]
["DM507"]
["DM508"]
["DM509"]
["DM510"]
["DM511"]
["DM512"]
["DM513"]
["DM514"]
["DM515"]
["DM516"]
["DM601"]
["DM602"]
["DM603"]
["DM604"]
["DM605"]
["DM606"]
["DM607"]
["DM608"]
["DM609"]
["DM610"]
["DM611"]
["DM612"]
["DM613"]
["DM614"]
["DM615"]
["DM616"]
["DM701"]
["DM702"]
["DM703"]
["DM704"]
["DM705"]
["DM706"]
["DM707"]
["DM708"]
["DM709"]
["DM710"]
["DM711"]
["DM712"]
["DM713"]
["DM714"]
["DM715"]
["DM716"]
["DM801"]
["DM802"]
["DM803"]
["DM804"]
["DM805"]
["DM806"]
["DM807"]
["DM808"]
["DM809"]
["DM810"]
["DM811"]
["DM812"]
["DM813"]
["DM814"]
["DM815"]
["DM816"]
["DM901"]
["DM902"]
["DM903"]
["DM904"]
["DM905"]
["DM906"]
["DM907"]
["DM908"]
["DM909"]
["DM910"]
["DM911"]
["DM912"]
["DM913"]
["DM914"]
["DM915"]
["DM916"]
["DN001"]
["DN002"]
["DN003"]
["DN004"]
["DN005"]
["DN006"]
["DN007"]
["DN008"]
["DN009"]
["DN010"]
["DN011"]
["DN012"]
["DN013"]
["DN014"]
["DN015"]
["DN016"]
["DN101"]
["DN102"]
["DN103"]
["DN104"]
["DN105"]
["DN106"]
["DN107"]
["DN108"]
["DN109"]
["DN110"]
["DN111"]
["DN112"]
["DN113"]
["DN114"]
["DN115"]
["DN116"]
["DN201"]
["DN202"]
["DN203"]
["DN204"]
["DN205"]
["DN206"]
["DN207"]
["DN208"]
["DN209"]
["DN210"]
["DN211"]
["DN212"]
["DN213"]
["DN214"]
["DN215"]
["DN216"]
["DN301"]
["DN302"]
["DN303"]
["DN304"]
["DN305"]
["DN306"]
["DN307"]
["DN308"]
["DN309"]
["DN310"]
["DN311"]
["DN312"]
["DN313"]
["DN314"]
["DN315"]
["DN316"]
["DN401"]
["DN402"]
["DN403"]
["DN404"]
["DN405"]
["DN406"]
["DN407"]
["DN408"]
["DN409"]
["DN410"]
["DN411"]
["DN412"]
["DN413"]
["DN414"]
["DN415"]
["DN416"]
["DN501"]
["DN502"]
["DN503"]
["DN504"]
["DN505"]
["DN506"]
["DN507"]
["DN508"]
["DN509"]
["DN510"]
["DN511"]
["DN512"]
["DN513"]
["DN514"]
["DN515"]
["DN516"]
["DN601"]
["DN602"]
["DN603"]
["DN604"]
["DN605"]
["DN606"]
["DN607"]
["DN608"]
["DN609"]
["DN610"]
["DN611"]
["DN612"]
["DN613"]
["DN614"]
["DN615"]
["DN616"]
["DN701"]
["DN702"]
["DN703"]
["DN704"]
["DN705"]
["DN706"]
["DN707"]
["DN708"]
["DN709"]
["DN710"]
["DN711"]
["DN712"]
["DN713"]
["DN714"]
["DN715"]
["DN716"]
["DN801"]
["DN802"]
["DN803"]
["DN804"]
["DN805"]
["DN806"]
["DN807"]
["DN808"]
["DN809"]
["DN810"]
["DN811"]
["DN812"]
["DN813"]
["DN814"]
["DN815"]
["DN816"]
["DN901"]
["DN902"]
["DN903"]
["DN904"]
["DN905"]
["DN906"]
["DN907"]
["DN908"]
["DN909"]
["DN910"]
["DN911"]
["DN912"]
["DN913"]
["DN914"]
["DN915"]
["DN916"]
["DO001"]
["DO002"]
["DO003"]
["DO004"]
["DO005"]
["DO006"]
["DO007"]
["DO008"]
["DO009"]
["DO010"]
["DO011"]
["DO012"]
["DO013"]
["DO014"]
["DO015"]
["DO016"]
["DO101"]
["DO102"]
["DO103"]
["DO104"]
["DO105"]
["DO106"]
["DO107"]
["DO108"]
["DO109"]
["DO110"]
["DO111"]
["DO112"]
["DO113"]
["DO114"]
["DO115"]
["DO116"]
["DO201"]
["DO202"]
["DO203"]
["DO204"]
["DO205"]
["DO206"]
["DO207"]
["DO208"]
["DO209"]
["DO210"]
["DO211"]
["DO212"]
["DO213"]
["DO214"]
["DO215"]
["DO216"]
["DO301"]
["DO302"]
["DO303"]
["DO304"]
["DO305"]
["DO306"]
["DO307"]
["DO308"]
["DO309"]
["DO310"]
["DO311"]
["DO312"]
["DO313"]
["DO314"]
["DO315"]
["DO316"]
["DO401"]
["DO402"]
["DO403"]
["DO404"]
["DO405"]
["DO406"]
["DO407"]
["DO408"]
["DO409"]
["DO410"]
["DO411"]
["DO412"]
["DO413"]
["DO414"]
["DO415"]
["DO416"]
["DO501"]
["DO502"]
["DO503"]
["DO504"]
["DO505"]
["DO506"]
["DO507"]
["DO508"]
["DO509"]
["DO510"]
["DO511"]
["DO512"]
["DO513"]
["DO514"]
["DO515"]
["DO516"]
["DO601"]
["DO602"]
["DO603"]
["DO604"]
["DO605"]
["DO606"]
["DO607"]
["DO608"]
["DO609"]
["DO610"]
["DO611"]
["DO612"]
["DO613"]
["DO614"]
["DO615"]
["DO616"]
["DO701"]
["DO702"]
["DO703"]
["DO704"]
["DO705"]
["DO706"]
["DO707"]
["DO708"]
["DO709"]
["DO710"]
["DO711"]
["DO712"]
["DO713"]
["DO714"]
["DO715"]
["DO716"]
["DO801"]
["DO802"]
["DO803"]
["DO804"]
["DO805"]
["DO806"]
["DO807"]
["DO808"]
["DO809"]
["DO810"]
["DO811"]
["DO812"]
["DO813"]
["DO814"]
["DO815"]
["DO816"]
["DO901"]
["DO902"]
["DO903"]
["DO904"]
["DO905"]
["DO906"]
["DO907"]
["DO908"]
["DO909"]
["DO910"]
["DO911"]
["DO912"]
["DO913"]
["DO914"]
["DO915"]
["DO916"]
["DP001"]
["DP002"]
["DP003"]
["DP004"]
["DP005"]
["DP006"]
["DP007"]
["DP008"]
["DP009"]
["DP010"]
["DP011"]
["DP012"]
["DP013"]
["DP014"]
["DP015"]
["DP016"]
["DP101"]
["DP102"]
["DP103"]
["DP104"]
["DP105"]
["DP106"]
["DP107"]
["DP108"]
["DP109"]
["DP110"]
["DP111"]
["DP112"]
["DP113"]
["DP114"]
["DP115"]
["DP116"]
["DP201"]
["DP202"]
["DP203"]
["DP204"]
["DP205"]
["DP206"]
["DP207"]
["DP208"]
["DP209"]
["DP210"]
["DP211"]
["DP212"]
["DP213"]
["DP214"]
["DP215"]
["DP216"]
["DP301"]
["DP302"]
["DP303"]
["DP304"]
["DP305"]
["DP306"]
["DP307"]
["DP308"]
["DP309"]
["DP310"]
["DP311"]
["DP312"]
["DP313"]
["DP314"]
["DP315"]
["DP316"]
["DP401"]
["DP402"]
["DP403"]
["DP404"]
["DP405"]
["DP406"]
["DP407"]
["DP408"]
["DP409"]
["DP410"]
["DP411"]
["DP412"]
["DP413"]
["DP414"]
["DP415"]
["DP416"]
["DP501"]
["DP502"]
["DP503"]
["DP504"]
["DP505"]
["DP506"]
["DP507"]
["DP508"]
["DP509"]
["DP510"]
["DP511"]
["DP512"]
["DP513"]
["DP514"]
["DP515"]
["DP516"]
["DP601"]
["DP602"]
["DP603"]
["DP604"]
["DP605"]
["DP606"]
["DP607"]
["DP608"]
["DP609"]
["DP610"]
["DP611"]
["DP612"]
["DP613"]
["DP614"]
["DP615"]
["DP616"]
["DP701"]
["DP702"]
["DP703"]
["DP704"]
["DP705"]
["DP706"]
["DP707"]
["DP708"]
["DP709"]
["DP710"]
["DP711"]
["DP712"]
["DP713"]
["DP714"]
["DP715"]
["DP716"]
["DP801"]
["DP802"]
["DP803"]
["DP804"]
["DP805"]
["DP806"]
["DP807"]
["DP808"]
["DP809"]
["DP810"]
["DP811"]
["DP812"]
["DP813"]
["DP814"]
["DP815"]
["DP816"]
["DP901"]
["DP902"]
["DP903"]
["DP904"]
["DP905"]
["DP906"]
["DP907"]
["DP908"]
["DP909"]
["DP910"]
["DP911"]
["DP912"]
["DP913"]
["DP914"]
["DP915"]
["DP916"]
["DQ001"]
["DQ002"]
["DQ003"]
["DQ004"]
["DQ005"]
["DQ006"]
["DQ007"]
["DQ008"]
["DQ009"]
["DQ010"]
["DQ011"]
["DQ012"]
["DQ013"]
["DQ014"]
["DQ015"]
["DQ016"]
["DQ101"]
["DQ102"]
["DQ103"]
["DQ104"]
["DQ105"]
["DQ106"]
["DQ107"]
["DQ108"]
["DQ109"]
["DQ110"]
["DQ111"]
["DQ112"]
["DQ113"]
["DQ114"]
["DQ115"]
["DQ116"]
["DQ201"]
["DQ202"]
["DQ203"]
["DQ204"]
["DQ205"]
["DQ206"]
["DQ207"]
["DQ208"]
["DQ209"]
["DQ210"]
["DQ211"]
["DQ212"]
["DQ213"]
["DQ214"]
["DQ215"]
["DQ216"]
["DQ301"]
["DQ302"]
["DQ303"]
["DQ304"]
["DQ305"]
["DQ306"]
["DQ307"]
["DQ308"]
["DQ309"]
["DQ310"]
["DQ311"]
["DQ312"]
["DQ313"]
["DQ314"]
["DQ315"]
["DQ316"]
["DQ401"]
["DQ402"]
["DQ403"]
["DQ404"]
["DQ405"]
["DQ406"]
["DQ407"]
["DQ408"]
["DQ409"]
["DQ410"]
["DQ411"]
["DQ412"]
["DQ413"]
["DQ414"]
["DQ415"]
["DQ416"]
["DQ501"]
["DQ502"]
["DQ503"]
["DQ504"]
["DQ505"]
["DQ506"]
["DQ507"]
["DQ508"]
["DQ509"]
["DQ510"]
["DQ511"]
["DQ512"]
["DQ513"]
["DQ514"]
["DQ515"]
["DQ516"]
["DQ601"]
["DQ602"]
["DQ603"]
["DQ604"]
["DQ605"]
["DQ606"]
["DQ607"]
["DQ608"]
["DQ609"]
["DQ610"]
["DQ611"]
["DQ612"]
["DQ613"]
["DQ614"]
["DQ615"]
["DQ616"]
["DQ701"]
["DQ702"]
["DQ703"]
["DQ704"]
["DQ705"]
["DQ706"]
["DQ707"]
["DQ708"]
["DQ709"]
["DQ710"]
["DQ711"]
["DQ712"]
["DQ713"]
["DQ714"]
["DQ715"]
["DQ716"]
["DQ801"]
["DQ802"]
["DQ803"]
["DQ804"]
["DQ805"]
["DQ806"]
["DQ807"]
["DQ808"]
["DQ809"]
["DQ810"]
["DQ811"]
["DQ812"]
["DQ813"]
["DQ814"]
["DQ815"]
["DQ816"]
["DQ901"]
["DQ902"]
["DQ903"]
["DQ904"]
["DQ905"]
["DQ906"]
["DQ907"]
["DQ908"]
["DQ909"]
["DQ910"]
["DQ911"]
["DQ912"]
["DQ913"]
["DQ914"]
["DQ915"]
["DQ916"]
["DR001"]
["DR002"]
["DR003"]
["DR004"]
["DR005"]
["DR006"]
["DR007"]
["DR008"]
["DR009"]
["DR010"]
["DR011"]
["DR012"]
["DR013"]
["DR014"]
["DR015"]
["DR016"]
["DR101"]
["DR102"]
["DR103"]
["DR104"]
["DR105"]
["DR106"]
["DR107"]
["DR108"]
["DR109"]
["DR110"]
["DR111"]
["DR112"]
["DR113"]
["DR114"]
["DR115"]
["DR116"]
["DR201"]
["DR202"]
["DR203"]
["DR204"]
["DR205"]
["DR206"]
["DR207"]
["DR208"]
["DR209"]
["DR210"]
["DR211"]
["DR212"]
["DR213"]
["DR214"]
["DR215"]
["DR216"]
["DR301"]
["DR302"]
["DR303"]
["DR304"]
["DR305"]
["DR306"]
["DR307"]
["DR308"]
["DR309"]
["DR310"]
["DR311"]
["DR312"]
["DR313"]
["DR314"]
["DR315"]
["DR316"]
["DR401"]
["DR402"]
["DR403"]
["DR404"]
["DR405"]
["DR406"]
["DR407"]
["DR408"]
["DR409"]
["DR410"]
["DR411"]
["DR412"]
["DR413"]
["DR414"]
["DR415"]
["DR416"]
["DR501"]
["DR502"]
["DR503"]
["DR504"]
["DR505"]
["DR506"]
["DR507"]
["DR508"]
["DR509"]
["DR510"]
["DR511"]
["DR512"]
["DR513"]
["DR514"]
["DR515"]
["DR516"]
["DR601"]
["DR602"]
["DR603"]
["DR604"]
["DR605"]
["DR606"]
["DR607"]
["DR608"]
["DR609"]
["DR610"]
["DR611"]
["DR612"]
["DR613"]
["DR614"]
["DR615"]
["DR616"]
["DR701"]
["DR702"]
["DR703"]
["DR704"]
["DR705"]
["DR706"]
["DR707"]
["DR708"]
["DR709"]
["DR710"]
["DR711"]
["DR712"]
["DR713"]
["DR714"]
["DR715"]
["DR716"]
["DR801"]
["DR802"]
["DR803"]
["DR804"]
["DR805"]
["DR806"]
["DR807"]
["DR808"]
["DR809"]
["DR810"]
["DR811"]
["DR812"]
["DR813"]
["DR814"]
["DR815"]
["DR816"]
["DR901"]
["DR902"]
["DR903"]
["DR904"]
["DR905"]
["DR906"]
["DR907"]
["DR908"]
["DR909"]
["DR910"]
["DR911"]
["DR912"]
["DR913"]
["DR914"]
["DR915"]
["DR916"]
["DS001"]
["DS002"]
["DS003"]
["DS004"]
["DS005"]
["DS006"]
["DS007"]
["DS008"]
["DS009"]
["DS010"]
["DS011"]
["DS012"]
["DS013"]
["DS014"]
["DS015"]
["DS016"]
["DS101"]
["DS102"]
["DS103"]
["DS104"]
["DS105"]
["DS106"]
["DS107"]
["DS108"]
["DS109"]
["DS110"]
["DS111"]
["DS112"]
["DS113"]
["DS114"]
["DS115"]
["DS116"]
["DS201"]
["DS202"]
["DS203"]
["DS204"]
["DS205"]
["DS206"]
["DS207"]
["DS208"]
["DS209"]
["DS210"]
["DS211"]
["DS212"]
["DS213"]
["DS214"]
["DS215"]
["DS216"]
["DS301"]
["DS302"]
["DS303"]
["DS304"]
["DS305"]
["DS306"]
["DS307"]
["DS308"]
["DS309"]
["DS310"]
["DS311"]
["DS312"]
["DS313"]
["DS314"]
["DS315"]
["DS316"]
["DS401"]
["DS402"]
["DS403"]
["DS404"]
["DS405"]
["DS406"]
["DS407"]
["DS408"]
["DS409"]
["DS410"]
["DS411"]
["DS412"]
["DS413"]
["DS414"]
["DS415"]
["DS416"]
["DS501"]
["DS502"]
["DS503"]
["DS504"]
["DS505"]
["DS506"]
["DS507"]
["DS508"]
["DS509"]
["DS510"]
["DS511"]
["DS512"]
["DS513"]
["DS514"]
["DS515"]
["DS516"]
["DS601"]
["DS602"]
["DS603"]
["DS604"]
["DS605"]
["DS606"]
["DS607"]
["DS608"]
["DS609"]
["DS610"]
["DS611"]
["DS612"]
["DS613"]
["DS614"]
["DS615"]
["DS616"]
["DS701"]
["DS702"]
["DS703"]
["DS704"]
["DS705"]
["DS706"]
["DS707"]
["DS708"]
["DS709"]
["DS710"]
["DS711"]
["DS712"]
["DS713"]
["DS714"]
["DS715"]
["DS716"]
["DS801"]
["DS802"]
["DS803"]
["DS804"]
["DS805"]
["DS806"]
["DS807"]
["DS808"]
["DS809"]
["DS810"]
["DS811"]
["DS812"]
["DS813"]
["DS814"]
["DS815"]
["DS816"]
["DS901"]
["DS902"]
["DS903"]
["DS904"]
["DS905"]
["DS906"]
["DS907"]
["DS908"]
["DS909"]
["DS910"]
["DS911"]
["DS912"]
["DS913"]
["DS914"]
["DS915"]
["DS916"]
["DT001"]
["DT002"]
["DT003"]
["DT004"]
["DT005"]
["DT006"]
["DT007"]
["DT008"]
["DT009"]
["DT010"]
["DT011"]
["DT012"]
["DT013"]
["DT014"]
["DT015"]
["DT016"]
["DT101"]
["DT102"]
["DT103"]
["DT104"]
["DT105"]
["DT106"]
["DT107"]
["DT108"]
["DT109"]
["DT110"]
["DT111"]
["DT112"]
["DT113"]
["DT114"]
["DT115"]
["DT116"]
["DT201"]
["DT202"]
["DT203"]
["DT204"]
["DT205"]
["DT206"]
["DT207"]
["DT208"]
["DT209"]
["DT210"]
["DT211"]
["DT212"]
["DT213"]
["DT214"]
["DT215"]
["DT216"]
["DT301"]
["DT302"]
["DT303"]
["DT304"]
["DT305"]
["DT306"]
["DT307"]
["DT308"]
["DT309"]
["DT310"]
["DT311"]
["DT312"]
["DT313"]
["DT314"]
["DT315"]
["DT316"]
["DT401"]
["DT402"]
["DT403"]
["DT404"]
["DT405"]
["DT406"]
["DT407"]
["DT408"]
["DT409"]
["DT410"]
["DT411"]
["DT412"]
["DT413"]
["DT414"]
["DT415"]
["DT416"]
["DT501"]
["DT502"]
["DT503"]
["DT504"]
["DT505"]
["DT506"]
["DT507"]
["DT508"]
["DT509"]
["DT510"]
["DT511"]
["DT512"]
["DT513"]
["DT514"]
["DT515"]
["DT516"]
["DT601"]
["DT602"]
["DT603"]
["DT604"]
["DT605"]
["DT606"]
["DT607"]
["DT608"]
["DT609"]
["DT610"]
["DT611"]
["DT612"]
["DT613"]
["DT614"]
["DT615"]
["DT616"]
["DT701"]
["DT702"]
["DT703"]
["DT704"]
["DT705"]
["DT706"]
["DT707"]
["DT708"]
["DT709"]
["DT710"]
["DT711"]
["DT712"]
["DT713"]
["DT714"]
["DT715"]
["DT716"]
["DT801"]
["DT802"]
["DT803"]
["DT804"]
["DT805"]
["DT806"]
["DT807"]
["DT808"]
["DT809"]
["DT810"]
["DT811"]
["DT812"]
["DT813"]
["DT814"]
["DT815"]
["DT816"]
["DT901"]
["DT902"]
["DT903"]
["DT904"]
["DT905"]
["DT906"]
["DT907"]
["DT908"]
["DT909"]
["DT910"]
["DT911"]
["DT912"]
["DT913"]
["DT914"]
["DT915"]
["DT916"]
["DU001"]
["DU002"]
["DU003"]
["DU004"]
["DU005"]
["DU006"]
["DU007"]
["DU008"]
["DU009"]
["DU010"]
["DU011"]
["DU012"]
["DU013"]
["DU014"]
["DU015"]
["DU016"]
["DU101"]
["DU102"]
["DU103"]
["DU104"]
["DU105"]
["DU106"]
["DU107"]
["DU108"]
["DU109"]
["DU110"]
["DU111"]
["DU112"]
["DU113"]
["DU114"]
["DU115"]
["DU116"]
["DU201"]
["DU202"]
["DU203"]
["DU204"]
["DU205"]
["DU206"]
["DU207"]
["DU208"]
["DU209"]
["DU210"]
["DU211"]
["DU212"]
["DU213"]
["DU214"]
["DU215"]
["DU216"]
["DU301"]
["DU302"]
["DU303"]
["DU304"]
["DU305"]
["DU306"]
["DU307"]
["DU308"]
["DU309"]
["DU310"]
["DU311"]
["DU312"]
["DU313"]
["DU314"]
["DU315"]
["DU316"]
["DU401"]
["DU402"]
["DU403"]
["DU404"]
["DU405"]
["DU406"]
["DU407"]
["DU408"]
["DU409"]
["DU410"]
["DU411"]
["DU412"]
["DU413"]
["DU414"]
["DU415"]
["DU416"]
["DU501"]
["DU502"]
["DU503"]
["DU504"]
["DU505"]
["DU506"]
["DU507"]
["DU508"]
["DU509"]
["DU510"]
["DU511"]
["DU512"]
["DU513"]
["DU514"]
["DU515"]
["DU516"]
["DU601"]
["DU602"]
["DU603"]
["DU604"]
["DU605"]
["DU606"]
["DU607"]
["DU608"]
["DU609"]
["DU610"]
["DU611"]
["DU612"]
["DU613"]
["DU614"]
["DU615"]
["DU616"]
["DU701"]
["DU702"]
["DU703"]
["DU704"]
["DU705"]
["DU706"]
["DU707"]
["DU708"]
["DU709"]
["DU710"]
["DU711"]
["DU712"]
["DU713"]
["DU714"]
["DU715"]
["DU716"]
["DU801"]
["DU802"]
["DU803"]
["DU804"]
["DU805"]
["DU806"]
["DU807"]
["DU808"]
["DU809"]
["DU810"]
["DU811"]
["DU812"]
["DU813"]
["DU814"]
["DU815"]
["DU816"]
["DU901"]
["DU902"]
["DU903"]
["DU904"]
["DU905"]
["DU906"]
["DU907"]
["DU908"]
["DU909"]
["DU910"]
["DU911"]
["DU912"]
["DU913"]
["DU914"]
["DU915"]
["DU916"]
["DV001"]
["DV002"]
["DV003"]
["DV004"]
["DV005"]
["DV006"]
["DV007"]
["DV008"]
["DV009"]
["DV010"]
["DV011"]
["DV012"]
["DV013"]
["DV014"]
["DV015"]
["DV016"]
["DV101"]
["DV102"]
["DV103"]
["DV104"]
["DV105"]
["DV106"]
["DV107"]
["DV108"]
["DV109"]
["DV110"]
["DV111"]
["DV112"]
["DV113"]
["DV114"]
["DV115"]
["DV116"]
["DV201"]
["DV202"]
["DV203"]
["DV204"]
["DV205"]
["DV206"]
["DV207"]
["DV208"]
["DV209"]
["DV210"]
["DV211"]
["DV212"]
["DV213"]
["DV214"]
["DV215"]
["DV216"]
["DV301"]
["DV302"]
["DV303"]
["DV304"]
["DV305"]
["DV306"]
["DV307"]
["DV308"]
["DV309"]
["DV310"]
["DV311"]
["DV312"]
["DV313"]
["DV314"]
["DV315"]
["DV316"]
["DV401"]
["DV402"]
["DV403"]
["DV404"]
["DV405"]
["DV406"]
["DV407"]
["DV408"]
["DV409"]
["DV410"]
["DV411"]
["DV412"]
["DV413"]
["DV414"]
["DV415"]
["DV416"]
["DV501"]
["DV502"]
["DV503"]
["DV504"]
["DV505"]
["DV506"]
["DV507"]
["DV508"]
["DV509"]
["DV510"]
["DV511"]
["DV512"]
["DV513"]
["DV514"]
["DV515"]
["DV516"]
["DV601"]
["DV602"]
["DV603"]
["DV604"]
["DV605"]
["DV606"]
["DV607"]
["DV608"]
["DV609"]
["DV610"]
["DV611"]
["DV612"]
["DV613"]
["DV614"]
["DV615"]
["DV616"]
["DV701"]
["DV702"]
["DV703"]
["DV704"]
["DV705"]
["DV706"]
["DV707"]
["DV708"]
["DV709"]
["DV710"]
["DV711"]
["DV712"]
["DV713"]
["DV714"]
["DV715"]
["DV716"]
["DV801"]
["DV802"]
["DV803"]
["DV804"]
["DV805"]
["DV806"]
["DV807"]
["DV808"]
["DV809"]
["DV810"]
["DV811"]
["DV812"]
["DV813"]
["DV814"]
["DV815"]
["DV816"]
["DV901"]
["DV902"]
["DV903"]
["DV904"]
["DV905"]
["DV906"]
["DV907"]
["DV908"]
["DV909"]
["DV910"]
["DV911"]
["DV912"]
["DV913"]
["DV914"]
["DV915"]
["DV916"]
["DW001"]
["DW002"]
["DW003"]
["DW004"]
["DW005"]
["DW006"]
["DW007"]
["DW008"]
["DW009"]
["DW010"]
["DW011"]
["DW012"]
["DW013"]
["DW014"]
["DW015"]
["DW016"]
["DW101"]
["DW102"]
["DW103"]
["DW104"]
["DW105"]
["DW106"]
["DW107"]
["DW108"]
["DW109"]
["DW110"]
["DW111"]
["DW112"]
["DW113"]
["DW114"]
["DW115"]
["DW116"]
["DW201"]
["DW202"]
["DW203"]
["DW204"]
["DW205"]
["DW206"]
["DW207"]
["DW208"]
["DW209"]
["DW210"]
["DW211"]
["DW212"]
["DW213"]
["DW214"]
["DW215"]
["DW216"]
["DW301"]
["DW302"]
["DW303"]
["DW304"]
["DW305"]
["DW306"]
["DW307"]
["DW308"]
["DW309"]
["DW310"]
["DW311"]
["DW312"]
["DW313"]
["DW314"]
["DW315"]
["DW316"]
["DW401"]
["DW402"]
["DW403"]
["DW404"]
["DW405"]
["DW406"]
["DW407"]
["DW408"]
["DW409"]
["DW410"]
["DW411"]
["DW412"]
["DW413"]
["DW414"]
["DW415"]
["DW416"]
["DW501"]
["DW502"]
["DW503"]
["DW504"]
["DW505"]
["DW506"]
["DW507"]
["DW508"]
["DW509"]
["DW510"]
["DW511"]
["DW512"]
["DW513"]
["DW514"]
["DW515"]
["DW516"]
["DW601"]
["DW602"]
["DW603"]
["DW604"]
["DW605"]
["DW606"]
["DW607"]
["DW608"]
["DW609"]
["DW610"]
["DW611"]
["DW612"]
["DW613"]
["DW614"]
["DW615"]
["DW616"]
["DW701"]
["DW702"]
["DW703"]
["DW704"]
["DW705"]
["DW706"]
["DW707"]
["DW708"]
["DW709"]
["DW710"]
["DW711"]
["DW712"]
["DW713"]
["DW714"]
["DW715"]
["DW716"]
["DW801"]
["DW802"]
["DW803"]
["DW804"]
["DW805"]
["DW806"]
["DW807"]
["DW808"]
["DW809"]
["DW810"]
["DW811"]
["DW812"]
["DW813"]
["DW814"]
["DW815"]
["DW816"]
["DW901"]
["DW902"]
["DW903"]
["DW904"]
["DW905"]
["DW906"]
["DW907"]
["DW908"]
["DW909"]
["DW910"]
["DW911"]
["DW912"]
["DW913"]
["DW914"]
["DW915"]
["DW916"]
["DX001"]
["DX002"]
["DX003"]
["DX004"]
["DX005"]
["DX006"]
["DX007"]
["DX008"]
["DX009"]
["DX010"]
["DX011"]
["DX012"]
["DX013"]
["DX014"]
["DX015"]
["DX016"]
["DX101"]
["DX102"]
["DX103"]
["DX104"]
["DX105"]
["DX106"]
["DX107"]
["DX108"]
["DX109"]
["DX110"]
["DX111"]
["DX112"]
["DX113"]
["DX114"]
["DX115"]
["DX116"]
["DX201"]
["DX202"]
["DX203"]
["DX204"]
["DX205"]
["DX206"]
["DX207"]
["DX208"]
["DX209"]
["DX210"]
["DX211"]
["DX212"]
["DX213"]
["DX214"]
["DX215"]
["DX216"]
["DX301"]
["DX302"]
["DX303"]
["DX304"]
["DX305"]
["DX306"]
["DX307"]
["DX308"]
["DX309"]
["DX310"]
["DX311"]
["DX312"]
["DX313"]
["DX314"]
["DX315"]
["DX316"]
["DX401"]
["DX402"]
["DX403"]
["DX404"]
["DX405"]
["DX406"]
["DX407"]
["DX408"]
["DX409"]
["DX410"]
["DX411"]
["DX412"]
["DX413"]
["DX414"]
["DX415"]
["DX416"]
["DX501"]
["DX502"]
["DX503"]
["DX504"]
["DX505"]
["DX506"]
["DX507"]
["DX508"]
["DX509"]
["DX510"]
["DX511"]
["DX512"]
["DX513"]
["DX514"]
["DX515"]
["DX516"]
["DX601"]
["DX602"]
["DX603"]
["DX604"]
["DX605"]
["DX606"]
["DX607"]
["DX608"]
["DX609"]
["DX610"]
["DX611"]
["DX612"]
["DX613"]
["DX614"]
["DX615"]
["DX616"]
["DX701"]
["DX702"]
["DX703"]
["DX704"]
["DX705"]
["DX706"]
["DX707"]
["DX708"]
["DX709"]
["DX710"]
["DX711"]
["DX712"]
["DX713"]
["DX714"]
["DX715"]
["DX716"]
["DX801"]
["DX802"]
["DX803"]
["DX804"]
["DX805"]
["DX806"]
["DX807"]
["DX808"]
["DX809"]
["DX810"]
["DX811"]
["DX812"]
["DX813"]
["DX814"]
["DX815"]
["DX816"]
["DX901"]
["DX902"]
["DX903"]
["DX904"]
["DX905"]
["DX906"]
["DX907"]
["DX908"]
["DX909"]
["DX910"]
["DX911"]
["DX912"]
["DX913"]
["DX914"]
["DX915"]
["DX916"]
["DY001"]
["DY002"]
["DY003"]
["DY004"]
["DY005"]
["DY006"]
["DY007"]
["DY008"]
["DY009"]
["DY010"]
["DY011"]
["DY012"]
["DY013"]
["DY014"]
["DY015"]
["DY016"]
["DY101"]
["DY102"]
["DY103"]
["DY104"]
["DY105"]
["DY106"]
["DY107"]
["DY108"]
["DY109"]
["DY110"]
["DY111"]
["DY112"]
["DY113"]
["DY114"]
["DY115"]
["DY116"]
["DY201"]
["DY202"]
["DY203"]
["DY204"]
["DY205"]
["DY206"]
["DY207"]
["DY208"]
["DY209"]
["DY210"]
["DY211"]
["DY212"]
["DY213"]
["DY214"]
["DY215"]
["DY216"]
["DY301"]
["DY302"]
["DY303"]
["DY304"]
["DY305"]
["DY306"]
["DY307"]
["DY308"]
["DY309"]
["DY310"]
["DY311"]
["DY312"]
["DY313"]
["DY314"]
["DY315"]
["DY316"]
["DY401"]
["DY402"]
["DY403"]
["DY404"]
["DY405"]
["DY406"]
["DY407"]
["DY408"]
["DY409"]
["DY410"]
["DY411"]
["DY412"]
["DY413"]
["DY414"]
["DY415"]
["DY416"]
["DY501"]
["DY502"]
["DY503"]
["DY504"]
["DY505"]
["DY506"]
["DY507"]
["DY508"]
["DY509"]
["DY510"]
["DY511"]
["DY512"]
["DY513"]
["DY514"]
["DY515"]
["DY516"]
["DY601"]
["DY602"]
["DY603"]
["DY604"]
["DY605"]
["DY606"]
["DY607"]
["DY608"]
["DY609"]
["DY610"]
["DY611"]
["DY612"]
["DY613"]
["DY614"]
["DY615"]
["DY616"]
["DY701"]
["DY702"]
["DY703"]
["DY704"]
["DY705"]
["DY706"]
["DY707"]
["DY708"]
["DY709"]
["DY710"]
["DY711"]
["DY712"]
["DY713"]
["DY714"]
["DY715"]
["DY716"]
["DY801"]
["DY802"]
["DY803"]
["DY804"]
["DY805"]
["DY806"]
["DY807"]
["DY808"]
["DY809"]
["DY810"]
["DY811"]
["DY812"]
["DY813"]
["DY814"]
["DY815"]
["DY816"]
["DY901"]
["DY902"]
["DY903"]
["DY904"]
["DY905"]
["DY906"]
["DY907"]
["DY908"]
["DY909"]
["DY910"]
["DY911"]
["DY912"]
["DY913"]
["DY914"]
["DY915"]
["DY916"]

{"sheet":"Wk Input","index":2,"n_rows":22,"n_cols":65,"rows_kept":22,"cut":false,"hidden":false,"merged":[[0,7,2,7],[0,0,0,1],[1,0,1,1],[0,8,2,8],[0,6,2,6]]}
["Tarikh Hari Ini",null,null,null,null,null,"Jenis","Wk Mula","Wk Dead Line","Minggu Ini",0,"Wk 29-Dis","Wk 5-Jan","Wk 12-Jan","Wk 19-Jan","Wk 26-Jan","Wk 2-Feb","Wk 9-Feb","Wk 16-Feb","Wk 23-Feb","Wk 1-Mac","Wk 8-Mac","Wk 15-Mac","Wk 22-Mac","Wk 29-Mac","Wk 5-Apr","Wk 12-Apr","Wk 19-Apr","Wk 26-Apr","Wk 3-Mei","Wk 10-Mei","Wk 17-Mei","Wk 24-Mei","Wk 31-Mei","Wk 7-Jun","Wk 14-Jun","Wk 21-Jun","Wk 28-Jun","Wk 5-Jul","Wk 12-Jul","Wk 19-Jul","Wk 26-Jul","Wk 2-Ogo","Wk 9-Ogo","Wk 16-Ogo","Wk 23-Ogo","Wk 30-Ogo","Wk 6-Sep","Wk 13-Sep","Wk 20-Sep","Wk 27-Sep","Wk 4-Okt","Wk 11-Okt","Wk 18-Okt","Wk 25-Okt","Wk 1-Nov","Wk 8-Nov","Wk 15-Nov","Wk 22-Nov","Wk 29-Nov","Wk 6-Dis","Wk 13-Dis","Wk 20-Dis",null,"$L$5"]
[{"$f":"TODAY()","v":"2020-12-31"},null,"         Deskripsi Spesifik KPI","%\nWajaran","Metoda Ukuran","SMART Sasaran",null,null,null,{"$f":"IF(OR(LEFT(J1,1)=\"M\",LEFT(J1,1)=\"T\"),WEEKNUM(A2)+((YEAR(A2)-A4)*52)-K1,J1)","v":53},{"$f":"IF(J2>52,\"BK\",HLOOKUP(J2,L2:BK3,2,FALSE))","v":"BK"},1,2,3,4,5,6,7,8,9,10,11,12,13,14,15,16,17,18,19,20,21,22,23,24,25,26,27,28,29,30,31,32,33,34,35,36,37,38,39,40,41,42,43,44,45,46,47,48,49,50,51,52,null,{"$f":"RIGHT(LEFT(BM1,3),2)","v":"L$"}]
[null,null,null,null,null,null,null,null,null,null,{"$f":"IF(J2>52,\"BK\",HLOOKUP(J2-1,L2:BK3,2,FALSE))","v":"BK"},"L","M","N","O","P","Q","R","S","T","U","V","W","X","Y","Z","AA","AB","AC","AD","AE","AF","AG","AH","AI","AJ","AK","AL","AM","AN","AO","AP","AQ","AR","AS","AT","AU","AV","AW","AX","AY","AZ","BA","BB","BC","BD","BE","BF","BG","BH","BI","BJ","BK",null,{"$f":"IF(RIGHT(BM2,1)=\"$\",LEFT(BM2,1),BM2)","v":"L"}]
[{"$f":"KPICreate!A4","v":2020},"ID KPI",{"$f":"CONCATENATE(Home!H6,\": \",Home!H10)","v":"ADAM NAUFAL HASMADI: PEN. KETUA PEMASARAN DAN PERKHIDMATAN"},null,null,null,null,null,"   Minggu Pilihan >>",null,{"$f":"IF(A21=0,\"K\",HLOOKUP(A21,L2:BK3,2,FALSE))","v":"BK"},1,2,3,4,5,6,7,8,9,10,11,12,13,14,15,16,17,18,19,20,21,22,23,24,25,26,27,28,29,30,31,32,33,34,35,36,37,38,39,40,41,42,43,44,45,46,47,48,49,50,51,52,null,{"$f":"HLOOKUP(BM3,$L$3:$BK$4,2,FALSE)","v":1}]
[null,{"$f":"KPICreate!B5","v":"DM101"},{"$f":"IF(KPICreate!C5=\"\",\"N/A\",KPICreate!C5)","v":"WK01 Mencapai sasaran pendapatan korporat yang meningkat bagi Sektor Perumahan (RM Juta)"},{"$f":"KPICreate!D6","v":22.727272727272727},{"$f":"IF(KPICreate!E5=\"\",\"\",KPICreate!E5)","v":"Number"},{"$f":"IF(KPICreate!F5=\"\",\"\",KPICreate!F5)","v":38.5},{"$f":"IF(KPICreate!G5=\"\",\"A\",KPICreate!G5)","v":"A"},{"$f":"IF(KPICreate!H5=\"\",\"\",KPICreate!H5)","v":1},{"$f":"IF(KPICreate!I5=\"\",\"\",KPICreate!I5)","v":52},null,null,null,"","","","","","","",1.74,"",2.65,"","","",5.18,"","","","","","","","",7.09,"","",null,"","","","","","","",9.27,"","","","","","","","",15.6,"","",18.97,"","","",""]
[null,{"$f":"KPICreate!B7","v":"DM102"},{"$f":"IF(KPICreate!C7=\"\",\"N/A\",KPICreate!C7)","v":"BP03 Mengekalkan pembayaran pulang deposit pelanggan sewaan dalam tempoh yang optimum (Bil Hari)"},{"$f":"KPICreate!D8","v":13.636363636363637},{"$f":"IF(KPICreate!E7=\"\",\"\",KPICreate!E7)","v":"MaxLimit"},{"$f":"IF(KPICreate!F7=\"\",\"\",KPICreate!F7)","v":14},{"$f":"IF(KPICreate!G7=\"\",\"A\",KPICreate!G7)","v":"M"},{"$f":"IF(KPICreate!H7=\"\",\"\",KPICreate!H7)","v":1},{"$f":"IF(KPICreate!I7=\"\",\"\",KPICreate!I7)","v":52},null,null,"","","",null,14,"","",null,14,"","","",null,15,"","",null,16,"","","",null,15,"","",null,15,"","","",14,null,"","",null,16,"","","",15,"","","",16,"","","",null,15,"","",14]
[null,{"$f":"KPICreate!B9","v":"DM103"},{"$f":"IF(KPICreate!C9=\"\",\"N/A\",KPICreate!C9)","v":"BP49 Mengekalkan Penghantaran shipment Pelanggan menepati sasaran"},{"$f":"KPICreate!D10","v":13.636363636363637},{"$f":"IF(KPICreate!E9=\"\",\"\",KPICreate!E9)","v":"Percentage"},{"$f":"IF(KPICreate!F9=\"\",\"\",KPICreate!F9)","v":95},{"$f":"IF(KPICreate!G9=\"\",\"A\",KPICreate!G9)","v":"M"},{"$f":"IF(KPICreate!H9=\"\",\"\",KPICreate!H9)","v":1},{"$f":"IF(KPICreate!I9=\"\",\"\",KPICreate!I9)","v":52},null,null,100,100,95,85,100,80,100,100,100,85,100,100,80,100,100,100,100,95,100,95,100,100,95,100,100,100,100,95,95,100,100,85,100,100,80,100,100,95,100,100,100,85,95,100,100,100,100,100,85,100,100,100]
[null,{"$f":"KPICreate!B11","v":"DM104"},{"$f":"IF(KPICreate!C11=\"\",\"N/A\",KPICreate!C11)","v":"BP19 Mencapai penyempurnaan survei kajian penyelidikan 5 Klien-Produk"},{"$f":"KPICreate!D12","v":18.181818181818183},{"$f":"IF(KPICreate!E11=\"\",\"\",KPICreate!E11)","v":"Percentage"},{"$f":"IF(KPICreate!F11=\"\",\"\",KPICreate!F11)","v":90},{"$f":"IF(KPICreate!G11=\"\",\"A\",KPICreate!G11)","v":"A"},{"$f":"IF(KPICreate!H11=\"\",\"\",KPICreate!H11)","v":1},{"$f":"IF(KPICreate!I11=\"\",\"\",KPICreate!I11)","v":44},null,null,null,null,null,null,null,null,null,null,null,1.31578947368421,null,2.6315789473684199,null,3.9473684210526301,5.2631578947368398,7.8947368421052602,null,10.526315789473699,null,15.789473684210501,17.105263157894701,null,19.7368421052632,null,25,28.947368421052602,null,36.842105263157897,null,44.7368421052632,48.684210526315802,null,56.578947368420998,null,64.473684210526301,68.421052631579002,null,72.368421052631604,null,80.263157894736906,84.210526315789494,null,null,null,null,null,96.052631578947398,null,100]
[null,{"$f":"KPICreate!B13","v":"DM105"},{"$f":"IF(KPICreate!C13=\"\",\"N/A\",KPICreate!C13)","v":"OR04 Mengekalkan penyempurnaan kerja-kerja adhoc pemasaran dan perkhidmatan seperti yang diperlukan oleh Jabatan"},{"$f":"KPICreate!D14","v":13.636363636363637},{"$f":"IF(KPICreate!E13=\"\",\"\",KPICreate!E13)","v":"Percentage"},{"$f":"IF(KPICreate!F13=\"\",\"\",KPICreate!F13)","v":95},{"$f":"IF(KPICreate!G13=\"\",\"A\",KPICreate!G13)","v":"M"},{"$f":"IF(KPICreate!H13=\"\",\"\",KPICreate!H13)","v":1},{"$f":"IF(KPICreate!I13=\"\",\"\",KPICreate!I13)","v":52},null,null,null,null,null,96.296296296296305,null,null,100,null,null,null,null,null,96.6666666666667,null,null,null,null,null,null,null,100,null,null,null,93.3333333333333,null,100,null,null,93.3333333333333,null,null,null,null,null,null,null,100,null,null,100,null,null,null,null,100]
[null,{"$f":"KPICreate!B15","v":"DM106"},{"$f":"IF(KPICreate!C15=\"\",\"N/A\",KPICreate!C15)","v":"OR05 Mencapai pensijilan ISO18001:2007 oleh badan pensijilan"},{"$f":"KPICreate!D16","v":18.181818181818183},{"$f":"IF(KPICreate!E15=\"\",\"\",KPICreate!E15)","v":"Yes/No"},{"$f":"IF(KPICreate!F15=\"\",\"\",KPICreate!F15)","v":"Yes"},{"$f":"IF(KPICreate!G15=\"\",\"A\",KPICreate!G15)","v":"A"},{"$f":"IF(KPICreate!H15=\"\",\"\",KPICreate!H15)","v":10},{"$f":"IF(KPICreate!I15=\"\",\"\",KPICreate!I15)","v":45},null,"",null,null,null,null,null,null,null,null,null,null,null,null,null,null,null,null,null,null,null,null,null,null,null,null,null,null,null,null,null,null,null,null,null,null,null,null,null,null,null,null,null,null,null,"Yes"]
[null,{"$f":"KPICreate!B17","v":"DM107"},{"$f":"IF(KPICreate!C17=\"\",\"N/A\",KPICreate!C17)","v":"N/A"},{"$f":"KPICreate!D18","v":0},{"$f":"IF(KPICreate!E17=\"\",\"\",KPICreate!E17)","v":""},{"$f":"IF(KPICreate!F17=\"\",\"\",KPICreate!F17)","v":""},{"$f":"IF(KPICreate!G17=\"\",\"A\",KPICreate!G17)","v":"A"},{"$f":"IF(KPICreate!H17=\"\",\"\",KPICreate!H17)","v":""},{"$f":"IF(KPICreate!I17=\"\",\"\",KPICreate!I17)","v":""},null,"","","","","","","","","","","","","","","","","","","","","","","","","","","","","","","","","","","","","","","","","","","","","","","","","","","",""]
[null,{"$f":"KPICreate!B19","v":"DM108"},{"$f":"IF(KPICreate!C19=\"\",\"N/A\",KPICreate!C19)","v":"N/A"},{"$f":"KPICreate!D20","v":0},{"$f":"IF(KPICreate!E19=\"\",\"\",KPICreate!E19)","v":""},{"$f":"IF(KPICreate!F19=\"\",\"\",KPICreate!F19)","v":""},{"$f":"IF(KPICreate!G19=\"\",\"A\",KPICreate!G19)","v":"A"},{"$f":"IF(KPICreate!H19=\"\",\"\",KPICreate!H19)","v":""},{"$f":"IF(KPICreate!I19=\"\",\"\",KPICreate!I19)","v":""},null,"","","","","","","","","","","","","","","","","","","","","","","","","","","","","","","","","","","","","","","","","","","","","","","","","","","",""]
[null,{"$f":"KPICreate!B21","v":"DM109"},{"$f":"IF(KPICreate!C21=\"\",\"N/A\",KPICreate!C21)","v":"N/A"},{"$f":"KPICreate!D22","v":0},{"$f":"IF(KPICreate!E21=\"\",\"\",KPICreate!E21)","v":""},{"$f":"IF(KPICreate!F21=\"\",\"\",KPICreate!F21)","v":""},{"$f":"IF(KPICreate!G21=\"\",\"A\",KPICreate!G21)","v":"A"},{"$f":"IF(KPICreate!H21=\"\",\"\",KPICreate!H21)","v":""},{"$f":"IF(KPICreate!I21=\"\",\"\",KPICreate!I21)","v":""},null,"","","","","","","","","","","","","","","","","","","","","","","","","","","","","","","","","","","","","","","","","","","","","","","","","","","",""]
[null,{"$f":"KPICreate!B23","v":"DM110"},{"$f":"IF(KPICreate!C23=\"\",\"N/A\",KPICreate!C23)","v":"N/A"},{"$f":"KPICreate!D24","v":0},{"$f":"IF(KPICreate!E23=\"\",\"\",KPICreate!E23)","v":""},{"$f":"IF(KPICreate!F23=\"\",\"\",KPICreate!F23)","v":""},{"$f":"IF(KPICreate!G23=\"\",\"A\",KPICreate!G23)","v":"A"},{"$f":"IF(KPICreate!H23=\"\",\"\",KPICreate!H23)","v":""},{"$f":"IF(KPICreate!I23=\"\",\"\",KPICreate!I23)","v":""},null,"","","","","","","","","","","","","","","","","","","","","","","","","","","","","","","","","","","","","","","","","","","","","","","","","","","",""]
[null,{"$f":"KPICreate!B25","v":"DM111"},{"$f":"IF(KPICreate!C25=\"\",\"N/A\",KPICreate!C25)","v":"N/A"},{"$f":"KPICreate!D26","v":0},{"$f":"IF(KPICreate!E25=\"\",\"\",KPICreate!E25)","v":""},{"$f":"IF(KPICreate!F25=\"\",\"\",KPICreate!F25)","v":""},{"$f":"IF(KPICreate!G25=\"\",\"A\",KPICreate!G25)","v":"A"},{"$f":"IF(KPICreate!H25=\"\",\"\",KPICreate!H25)","v":""},{"$f":"IF(KPICreate!I25=\"\",\"\",KPICreate!I25)","v":""},null,"","","","","","","","","","","","","","","","","","","","","","","","","","","","","","","","","","","","","","","","","","","","","","","","","","","",""]
[null,{"$f":"KPICreate!B27","v":"DM112"},{"$f":"IF(KPICreate!C27=\"\",\"N/A\",KPICreate!C27)","v":"N/A"},{"$f":"KPICreate!D28","v":0},{"$f":"IF(KPICreate!E27=\"\",\"\",KPICreate!E27)","v":""},{"$f":"IF(KPICreate!F27=\"\",\"\",KPICreate!F27)","v":""},{"$f":"IF(KPICreate!G27=\"\",\"A\",KPICreate!G27)","v":"A"},{"$f":"IF(KPICreate!H27=\"\",\"\",KPICreate!H27)","v":""},{"$f":"IF(KPICreate!I27=\"\",\"\",KPICreate!I27)","v":""},null,"","","","","","","","","","","","","","","","","","","","","","","","","","","","","","","","","","","","","","","","","","","","","","","","","","","",""]
[null,{"$f":"KPICreate!B29","v":"DM113"},{"$f":"IF(KPICreate!C29=\"\",\"N/A\",KPICreate!C29)","v":"N/A"},{"$f":"KPICreate!D30","v":0},{"$f":"IF(KPICreate!E29=\"\",\"\",KPICreate!E29)","v":""},{"$f":"IF(KPICreate!F29=\"\",\"\",KPICreate!F29)","v":""},{"$f":"IF(KPICreate!G29=\"\",\"A\",KPICreate!G29)","v":"A"},{"$f":"IF(KPICreate!H29=\"\",\"\",KPICreate!H29)","v":""},{"$f":"IF(KPICreate!I29=\"\",\"\",KPICreate!I29)","v":""},null,"","","","","","","","","","","","","","","","","","","","","","","","","","","","","","","","","","","","","","","","","","","","","","","","","","","",""]
[null,{"$f":"KPICreate!B31","v":"DM114"},{"$f":"IF(KPICreate!C31=\"\",\"N/A\",KPICreate!C31)","v":"N/A"},{"$f":"KPICreate!D32","v":0},{"$f":"IF(KPICreate!E31=\"\",\"\",KPICreate!E31)","v":""},{"$f":"IF(KPICreate!F31=\"\",\"\",KPICreate!F31)","v":""},{"$f":"IF(KPICreate!G31=\"\",\"A\",KPICreate!G31)","v":"A"},{"$f":"IF(KPICreate!H31=\"\",\"\",KPICreate!H31)","v":""},{"$f":"IF(KPICreate!I31=\"\",\"\",KPICreate!I31)","v":""},null,"","","","","","","","","","","","","","","","","","","","","","","","","","","","","","","","","","","","","","","","","","","","","","","","","","","",""]
[null,{"$f":"KPICreate!B33","v":"DM115"},{"$f":"IF(KPICreate!C33=\"\",\"N/A\",KPICreate!C33)","v":"N/A"},{"$f":"KPICreate!D34","v":0},{"$f":"IF(KPICreate!E33=\"\",\"\",KPICreate!E33)","v":""},{"$f":"IF(KPICreate!F33=\"\",\"\",KPICreate!F33)","v":""},{"$f":"IF(KPICreate!G33=\"\",\"A\",KPICreate!G33)","v":"A"},{"$f":"IF(KPICreate!H33=\"\",\"\",KPICreate!H33)","v":""},{"$f":"IF(KPICreate!I33=\"\",\"\",KPICreate!I33)","v":""}]
[null,{"$f":"KPICreate!B35","v":"DM116"},{"$f":"IF(KPICreate!C35=\"\",\"N/A\",KPICreate!C35)","v":"N/A"},{"$f":"KPICreate!D36","v":0},{"$f":"IF(KPICreate!E35=\"\",\"\",KPICreate!E35)","v":""},{"$f":"IF(KPICreate!F35=\"\",\"\",KPICreate!F35)","v":""},{"$f":"IF(KPICreate!G35=\"\",\"A\",KPICreate!G35)","v":"A"},{"$f":"IF(KPICreate!H35=\"\",\"\",KPICreate!H35)","v":""},{"$f":"IF(KPICreate!I35=\"\",\"\",KPICreate!I35)","v":""},null,"","","","","","","","","","","","","","","","","","","","","","","","","","","","","","","","","","","","","","","","","","","","","","","","","","","",""]
[{"$f":"IF(J2+B21<1,0,IF(J2+B21>52,52,J2+B21))","v":52},0,"Wk Input Lock"]
[null,null,"Form design by LEADERSENSE CONSULTING & SYSTEMS SDN BHD © 2017"]

{"sheet":"KPIScore","index":3,"n_rows":29,"n_cols":18,"rows_kept":29,"cut":false,"hidden":false,"merged":[[0,3,0,10],[1,3,1,10],[1,0,2,0],[20,5,20,9]]}
[{"$f":"KPICreate!A4","v":2020},"KPI Score Card",null,{"$f":"CONCATENATE(Home!H6,\": \",Home!H10)","v":"ADAM NAUFAL HASMADI: PEN. KETUA PEMASARAN DAN PERKHIDMATAN"}]
[{"$f":"IFERROR(O21/C22*100,\"N/A\")","v":95.11655302695533},{"$f":"'Wk Input'!A2","v":"2020-12-31"},null,{"$f":"Home!H16","v":"SAMPEL CORPORATION LTD"}]
[null,null,null,null,null,null,null,"Minggu Ini:",{"$f":"'Wk Input'!J2","v":53},null,null,null,null,null,null,null,{"$f":"IF(I3<1,1,IF(I3>52,52,I3))","v":52}]
["ID KPI","Deskripsi Spesifik KPI","% Wajaran","Metoda Ukuran","SMART\nSasaran","Jenis","Wk Mula","Wk Dead Line","Nilai Wk\nKonsol","Skor Wk Konsol","Kenakan Purata?","Skor Larasan (1)","Kenakan Deadline ?","Skor Larasan (2)","KPI Skor diWajar %","Catatan","Ave","DL"]
[{"$f":"'Wk Input'!B5","v":"DM101"},{"$f":"'Wk Input'!C5","v":"WK01 Mencapai sasaran pendapatan korporat yang meningkat bagi Sektor Perumahan (RM Juta)"},{"$f":"'Wk Input'!D5","v":22.727272727272727},{"$f":"'Wk Input'!E5","v":"Number"},{"$f":"'Wk Input'!F5","v":38.5},{"$f":"'Wk Input'!G5","v":"A"},{"$f":"'Wk Input'!H5","v":1},{"$f":"'Wk Input'!I5","v":52},{"$f":"HLOOKUP($Q$3,sample!$BN$2:$DM$37,21,FALSE)","v":38.200000000000003},{"$f":"HLOOKUP($Q$3,sample!$DP$2:$FO$20,4,FALSE)","v":99.220779219999997},null,{"$f":"IF(Q5,HLOOKUP($Q$3,sample!$DP$2:$FO$37,21,FALSE),J5)","v":99.220779219999997},null,{"$f":"IF(R5,HLOOKUP($Q$3,sample!$HT$2:$JS$37,21,FALSE),L5)","v":99.220779219999997},{"$f":"IFERROR(C5*N5*$C$22/($C$21*100),\"\")","v":22.550177095454544},null,false,true]
[{"$f":"'Wk Input'!B6","v":"DM102"},{"$f":"'Wk Input'!C6","v":"BP03 Mengekalkan pembayaran pulang deposit pelanggan sewaan dalam tempoh yang optimum (Bil Hari)"},{"$f":"'Wk Input'!D6","v":13.636363636363637},{"$f":"'Wk Input'!E6","v":"MaxLimit"},{"$f":"'Wk Input'!F6","v":14},{"$f":"'Wk Input'!G6","v":"M"},{"$f":"'Wk Input'!H6","v":1},{"$f":"'Wk Input'!I6","v":52},{"$f":"HLOOKUP($Q$3,sample!$BN$2:$DM$37,22,FALSE)","v":14.92},{"$f":"HLOOKUP($Q$3,sample!$DP$2:$FO$20,5,FALSE)","v":100},null,{"$f":"IF(Q6,HLOOKUP($Q$3,sample!$DP$2:$FO$37,22,FALSE),J6)","v":67.261904759999993},null,{"$f":"IF(R6,HLOOKUP($Q$3,sample!$HT$2:$JS$37,22,FALSE),L6)","v":67.261904759999993},{"$f":"IFERROR(C6*N6*$C$22/($C$21*100),\"\")","v":9.1720779218181807},null,true,false]
[{"$f":"'Wk Input'!B7","v":"DM103"},{"$f":"'Wk Input'!C7","v":"BP49 Mengekalkan Penghantaran shipment Pelanggan menepati sasaran"},{"$f":"'Wk Input'!D7","v":13.636363636363637},{"$f":"'Wk Input'!E7","v":"Percentage"},{"$f":"'Wk Input'!F7","v":95},{"$f":"'Wk Input'!G7","v":"M"},{"$f":"'Wk Input'!H7","v":1},{"$f":"'Wk Input'!I7","v":52},{"$f":"HLOOKUP($Q$3,sample!$BN$2:$DM$37,23,FALSE)","v":96.48},{"$f":"HLOOKUP($Q$3,sample!$DP$2:$FO$20,6,FALSE)","v":100},null,{"$f":"IF(Q7,HLOOKUP($Q$3,sample!$DP$2:$FO$37,23,FALSE),J7)","v":100},null,{"$f":"IF(R7,HLOOKUP($Q$3,sample!$HT$2:$JS$37,23,FALSE),L7)","v":100},13.636363636363635,null,true,false]
[{"$f":"'Wk Input'!B8","v":"DM104"},{"$f":"'Wk Input'!C8","v":"BP19 Mencapai penyempurnaan survei kajian penyelidikan 5 Klien-Produk"},{"$f":"'Wk Input'!D8","v":18.181818181818183},{"$f":"'Wk Input'!E8","v":"Percentage"},{"$f":"'Wk Input'!F8","v":90},{"$f":"'Wk Input'!G8","v":"A"},{"$f":"'Wk Input'!H8","v":1},{"$f":"'Wk Input'!I8","v":44},{"$f":"HLOOKUP($Q$3,sample!$BN$2:$DM$37,24,FALSE)","v":100},{"$f":"HLOOKUP($Q$3,sample!$DP$2:$FO$20,7,FALSE)","v":100},null,{"$f":"IF(Q8,HLOOKUP($Q$3,sample!$DP$2:$FO$37,24,FALSE),J8)","v":100},null,{"$f":"IF(R8,HLOOKUP($Q$3,sample!$HT$2:$JS$37,24,FALSE),L8)","v":98.668639053254438},17.939752555137169,null,false,true]
[{"$f":"'Wk Input'!B9","v":"DM105"},{"$f":"'Wk Input'!C9","v":"OR04 Mengekalkan penyempurnaan kerja-kerja adhoc pemasaran dan perkhidmatan seperti yang diperlukan oleh Jabatan"},{"$f":"'Wk Input'!D9","v":13.636363636363637},{"$f":"'Wk Input'!E9","v":"Percentage"},{"$f":"'Wk Input'!F9","v":95},{"$f":"'Wk Input'!G9","v":"M"},{"$f":"'Wk Input'!H9","v":1},{"$f":"'Wk Input'!I9","v":52},{"$f":"HLOOKUP($Q$3,sample!$BN$2:$DM$37,25,FALSE)","v":97.96},{"$f":"HLOOKUP($Q$3,sample!$DP$2:$FO$20,8,FALSE)","v":""},null,{"$f":"IF(Q9,HLOOKUP($Q$3,sample!$DP$2:$FO$37,25,FALSE),J9)","v":100},null,{"$f":"IF(R9,HLOOKUP($Q$3,sample!$HT$2:$JS$37,25,FALSE),L9)","v":100},13.636363636363635,null,true,false]
[{"$f":"'Wk Input'!B10","v":"DM106"},{"$f":"'Wk Input'!C10","v":"OR05 Mencapai pensijilan ISO18001:2007 oleh badan pensijilan"},{"$f":"'Wk Input'!D10","v":18.181818181818183},{"$f":"'Wk Input'!E10","v":"Yes/No"},{"$f":"'Wk Input'!F10","v":"Yes"},{"$f":"'Wk Input'!G10","v":"A"},{"$f":"'Wk Input'!H10","v":10},{"$f":"'Wk Input'!I10","v":45},{"$f":"HLOOKUP($Q$3,sample!$BN$2:$DM$37,26,FALSE)","v":"Yes"},{"$f":"HLOOKUP($Q$3,sample!$DP$2:$FO$20,9,FALSE)","v":100},null,{"$f":"IF(Q10,HLOOKUP($Q$3,sample!$DP$2:$FO$37,26,FALSE),J10)","v":100},null,{"$f":"IF(R10,HLOOKUP($Q$3,sample!$HT$2:$JS$37,26,FALSE),L10)","v":100},18.18181818181818,null,false,true]
[{"$f":"'Wk Input'!B11","v":"DM107"},{"$f":"'Wk Input'!C11","v":"N/A"},{"$f":"'Wk Input'!D11","v":0},{"$f":"'Wk Input'!E11","v":""},{"$f":"'Wk Input'!F11","v":""},{"$f":"'Wk Input'!G11","v":"A"},{"$f":"'Wk Input'!H11","v":""},{"$f":"'Wk Input'!I11","v":""},{"$f":"HLOOKUP($Q$3,sample!$BN$2:$DM$37,27,FALSE)","v":""},{"$f":"HLOOKUP($Q$3,sample!$DP$2:$FO$20,10,FALSE)","v":""},null,{"$f":"IF(Q11,HLOOKUP($Q$3,sample!$DP$2:$FO$37,27,FALSE),J11)","v":""},null,{"$f":"IF(R11,HLOOKUP($Q$3,sample!$HT$2:$JS$37,27,FALSE),L11)","v":""},"",null,false,false]
[{"$f":"'Wk Input'!B12","v":"DM108"},{"$f":"'Wk Input'!C12","v":"N/A"},{"$f":"'Wk Input'!D12","v":0},{"$f":"'Wk Input'!E12","v":""},{"$f":"'Wk Input'!F12","v":""},{"$f":"'Wk Input'!G12","v":"A"},{"$f":"'Wk Input'!H12","v":""},{"$f":"'Wk Input'!I12","v":""},{"$f":"HLOOKUP($Q$3,sample!$BN$2:$DM$37,28,FALSE)","v":""},{"$f":"HLOOKUP($Q$3,sample!$DP$2:$FO$20,11,FALSE)","v":""},null,{"$f":"IF(Q12,HLOOKUP($Q$3,sample!$DP$2:$FO$37,28,FALSE),J12)","v":""},null,{"$f":"IF(R12,HLOOKUP($Q$3,sample!$HT$2:$JS$37,28,FALSE),L12)","v":""},"",null,false,false]
[{"$f":"'Wk Input'!B13","v":"DM109"},{"$f":"'Wk Input'!C13","v":"N/A"},{"$f":"'Wk Input'!D13","v":0},{"$f":"'Wk Input'!E13","v":""},{"$f":"'Wk Input'!F13","v":""},{"$f":"'Wk Input'!G13","v":"A"},{"$f":"'Wk Input'!H13","v":""},{"$f":"'Wk Input'!I13","v":""},{"$f":"HLOOKUP($Q$3,sample!$BN$2:$DM$37,29,FALSE)","v":""},{"$f":"HLOOKUP($Q$3,sample!$DP$2:$FO$20,12,FALSE)","v":""},null,{"$f":"IF(Q13,HLOOKUP($Q$3,sample!$DP$2:$FO$37,29,FALSE),J13)","v":""},null,{"$f":"IF(R13,HLOOKUP($Q$3,sample!$HT$2:$JS$37,29,FALSE),L13)","v":""},"",null,false,false]
[{"$f":"'Wk Input'!B14","v":"DM110"},{"$f":"'Wk Input'!C14","v":"N/A"},{"$f":"'Wk Input'!D14","v":0},{"$f":"'Wk Input'!E14","v":""},{"$f":"'Wk Input'!F14","v":""},{"$f":"'Wk Input'!G14","v":"A"},{"$f":"'Wk Input'!H14","v":""},{"$f":"'Wk Input'!I14","v":""},{"$f":"HLOOKUP($Q$3,sample!$BN$2:$DM$37,30,FALSE)","v":""},{"$f":"HLOOKUP($Q$3,sample!$DP$2:$FO$20,13,FALSE)","v":""},null,{"$f":"IF(Q14,HLOOKUP($Q$3,sample!$DP$2:$FO$37,30,FALSE),J14)","v":""},null,{"$f":"IF(R14,HLOOKUP($Q$3,sample!$HT$2:$JS$37,30,FALSE),L14)","v":""},"",null,false,false]
[{"$f":"'Wk Input'!B15","v":"DM111"},{"$f":"'Wk Input'!C15","v":"N/A"},{"$f":"'Wk Input'!D15","v":0},{"$f":"'Wk Input'!E15","v":""},{"$f":"'Wk Input'!F15","v":""},{"$f":"'Wk Input'!G15","v":"A"},{"$f":"'Wk Input'!H15","v":""},{"$f":"'Wk Input'!I15","v":""},{"$f":"HLOOKUP($Q$3,sample!$BN$2:$DM$37,31,FALSE)","v":""},{"$f":"HLOOKUP($Q$3,sample!$DP$2:$FO$20,14,FALSE)","v":""},null,{"$f":"IF(Q15,HLOOKUP($Q$3,sample!$DP$2:$FO$37,31,FALSE),J15)","v":""},null,{"$f":"IF(R15,HLOOKUP($Q$3,sample!$HT$2:$JS$37,31,FALSE),L15)","v":""},"",null,false,false]
[{"$f":"'Wk Input'!B16","v":"DM112"},{"$f":"'Wk Input'!C16","v":"N/A"},{"$f":"'Wk Input'!D16","v":0},{"$f":"'Wk Input'!E16","v":""},{"$f":"'Wk Input'!F16","v":""},{"$f":"'Wk Input'!G16","v":"A"},{"$f":"'Wk Input'!H16","v":""},{"$f":"'Wk Input'!I16","v":""},{"$f":"HLOOKUP($Q$3,sample!$BN$2:$DM$37,32,FALSE)","v":""},{"$f":"HLOOKUP($Q$3,sample!$DP$2:$FO$20,15,FALSE)","v":""},null,{"$f":"IF(Q16,HLOOKUP($Q$3,sample!$DP$2:$FO$37,32,FALSE),J16)","v":""},null,{"$f":"IF(R16,HLOOKUP($Q$3,sample!$HT$2:$JS$37,32,FALSE),L16)","v":""},"",null,false,false]
[{"$f":"'Wk Input'!B17","v":"DM113"},{"$f":"'Wk Input'!C17","v":"N/A"},{"$f":"'Wk Input'!D17","v":0},{"$f":"'Wk Input'!E17","v":""},{"$f":"'Wk Input'!F17","v":""},{"$f":"'Wk Input'!G17","v":"A"},{"$f":"'Wk Input'!H17","v":""},{"$f":"'Wk Input'!I17","v":""},{"$f":"HLOOKUP($Q$3,sample!$BN$2:$DM$37,33,FALSE)","v":""},{"$f":"HLOOKUP($Q$3,sample!$DP$2:$FO$20,16,FALSE)","v":""},null,{"$f":"IF(Q17,HLOOKUP($Q$3,sample!$DP$2:$FO$37,33,FALSE),J17)","v":""},null,{"$f":"IF(R17,HLOOKUP($Q$3,sample!$HT$2:$JS$37,33,FALSE),L17)","v":""},"",null,false,false]
[{"$f":"'Wk Input'!B18","v":"DM114"},{"$f":"'Wk Input'!C18","v":"N/A"},{"$f":"'Wk Input'!D18","v":0},{"$f":"'Wk Input'!E18","v":""},{"$f":"'Wk Input'!F18","v":""},{"$f":"'Wk Input'!G18","v":"A"},{"$f":"'Wk Input'!H18","v":""},{"$f":"'Wk Input'!I18","v":""},{"$f":"HLOOKUP($Q$3,sample!$BN$2:$DM$37,34,FALSE)","v":""},{"$f":"HLOOKUP($Q$3,sample!$DP$2:$FO$20,17,FALSE)","v":""},null,{"$f":"IF(Q18,HLOOKUP($Q$3,sample!$DP$2:$FO$37,34,FALSE),J18)","v":""},null,{"$f":"IF(R18,HLOOKUP($Q$3,sample!$HT$2:$JS$37,34,FALSE),L18)","v":""},"",null,false,false]
[{"$f":"'Wk Input'!B19","v":"DM115"},{"$f":"'Wk Input'!C19","v":"N/A"},{"$f":"'Wk Input'!D19","v":0},{"$f":"'Wk Input'!E19","v":""},{"$f":"'Wk Input'!F19","v":""},{"$f":"'Wk Input'!G19","v":"A"},{"$f":"'Wk Input'!H19","v":""},{"$f":"'Wk Input'!I19","v":""},{"$f":"HLOOKUP($Q$3,sample!$BN$2:$DM$37,35,FALSE)","v":""},{"$f":"HLOOKUP($Q$3,sample!$DP$2:$FO$20,18,FALSE)","v":""},null,{"$f":"IF(Q19,HLOOKUP($Q$3,sample!$DP$2:$FO$37,35,FALSE),J19)","v":""},null,{"$f":"IF(R19,HLOOKUP($Q$3,sample!$HT$2:$JS$37,35,FALSE),L19)","v":""},"",null,false,false]
[{"$f":"'Wk Input'!B20","v":"DM116"},{"$f":"'Wk Input'!C20","v":"N/A"},{"$f":"'Wk Input'!D20","v":0},{"$f":"'Wk Input'!E20","v":""},{"$f":"'Wk Input'!F20","v":""},{"$f":"'Wk Input'!G20","v":"A"},{"$f":"'Wk Input'!H20","v":""},{"$f":"'Wk Input'!I20","v":""},{"$f":"HLOOKUP($Q$3,sample!$BN$2:$DM$37,36,FALSE)","v":""},{"$f":"HLOOKUP($Q$3,sample!$DP$2:$FO$20,19,FALSE)","v":""},null,{"$f":"IF(Q20,HLOOKUP($Q$3,sample!$DP$2:$FO$37,36,FALSE),J20)","v":""},null,{"$f":"IF(R20,HLOOKUP($Q$3,sample!$HT$2:$JS$37,36,FALSE),L20)","v":""},"",null,false,false]
[null,"Jumlah Wajaran %",{"$f":"SUM(C5:C20)","v":100.00000000000001},null,"Kalkulasi Terakhir:",{"$f":"NOW()-0.125","v":"2020-12-31T04:30:22.740"},null,null,null,null,null,null,null,"Jumlah Skor KPI diWajar %",{"$f":"SUM(O5:O20)","v":95.11655302695533}]
[null,"Use Base:",100,null,null,null,null,null,null,null,"Lock Semua Skor Bermula dari Minggu:",-1]
[]
[null,"Form design by LEADERSENSE CONSULTING & SYSTEMS SDN BHD © 2017"]
[null,null,null,null,null,null,null,null,null,null,"Lock",{"$f":"IF(I3+L22<1,\"N/A\",IF(I3+L22>52,52,I3+L22))","v":52}]
[null,null,null,null,null,null,null,null,null,null,"L5",{"$f":"CHOOSE(L25,\"L\",\"M\",\"N\",\"O\",\"P\",\"Q\",\"R\",\"S\",\"T\",\"U\",\"V\",\"W\",\"X\",\"Y\",\"Z\",\"AA\",\"AB\",\"AC\",\"AD\",\"AE\",\"AF\",\"AG\",\"AH\",\"AI\",\"AJ\",\"AK\",\"AL\",\"AM\",\"AN\",\"AO\",\"AP\",\"AQ\",\"AR\",\"AS\",\"AT\",\"AU\",\"AV\",\"AW\",\"AX\",\"AY\",\"AZ\",\"BA\",\"BB\",\"BC\",\"BD\",\"BE\",\"BF\",\"BG\",\"BH\",\"BI\",\"BJ\",\"BK\")","v":"BK"}]
[null,null,null,null,null,null,null,null,null,null,"BN5",{"$f":"CHOOSE(L25,\"BN\",\"BO\",\"BP\",\"BQ\",\"BR\",\"BS\",\"BT\",\"BU\",\"BV\",\"BW\",\"BX\",\"BY\",\"BZ\",\"CA\",\"CB\",\"CC\",\"CD\",\"CE\",\"CF\",\"CG\",\"CH\",\"CI\",\"CJ\",\"CK\",\"CL\",\"CM\",\"CN\",\"CO\",\"CP\",\"CQ\",\"CR\",\"CS\",\"CT\",\"CU\",\"CV\",\"CW\",\"CX\",\"CY\",\"CZ\",\"DA\",\"DB\",\"DC\",\"DD\",\"DE\",\"DF\",\"DG\",\"DH\",\"DI\",\"DJ\",\"DK\",\"DL\",\"DM\")","v":"DM"}]
[null,null,null,null,null,null,null,null,null,null,"DP5",{"$f":"CHOOSE(L25,\"DP\",\"DQ\",\"DR\",\"DS\",\"DT\",\"DU\",\"DV\",\"DW\",\"DX\",\"DY\",\"DZ\",\"EA\",\"EB\",\"EC\",\"ED\",\"EE\",\"EF\",\"EG\",\"EH\",\"EI\",\"EJ\",\"EK\",\"EL\",\"EM\",\"EN\",\"EO\",\"EP\",\"EQ\",\"ER\",\"ES\",\"ET\",\"EU\",\"EV\",\"EW\",\"EX\",\"EY\",\"EZ\",\"FA\",\"FB\",\"FC\",\"FD\",\"FE\",\"FF\",\"FG\",\"FH\",\"FI\",\"FJ\",\"FK\",\"FL\",\"FM\",\"FN\",\"FO\")","v":"FO"}]
[null,null,null,null,null,null,null,null,null,null,"FR5",{"$f":"CHOOSE(L25,\"HT\",\"HU\",\"HV\",\"HW\",\"HX\",\"HY\",\"HZ\",\"IA\",\"IB\",\"IC\",\"ID\",\"IE\",\"IF\",\"IG\",\"IH\",\"II\",\"IJ\",\"IK\",\"IL\",\"IM\",\"IN\",\"IO\",\"IP\",\"IQ\",\"IR\",\"IS\",\"IT\",\"IU\",\"IV\",\"IW\",\"IX\",\"IY\",\"IZ\",\"JA\",\"JB\",\"JC\",\"JD\",\"JE\",\"JF\",\"JG\",\"JH\",\"JI\",\"JJ\",\"JK\",\"JL\",\"JM\",\"JN\",\"JO\",\"JP\",\"JQ\",\"JR\",\"JS\")","v":"JS"}]

{"sheet":"MyChart","index":4,"n_rows":42,"n_cols":57,"rows_kept":42,"cut":false,"hidden":false,"merged":[[0,2,1,2],[1,12,1,15],[5,4,6,4],[1,0,1,1]]}
[null,null,"KPI MyChart"]
[{"$f":"KPICreate!A4","v":2020},null,null,null,null,null,null,null,null,null,null,"Minggu Ini:",{"$f":"'Wk Input'!J2","v":53}]
[null,null,{"$f":"Home!H6","v":"ADAM NAUFAL HASMADI"},null,null,{"$f":"IF(F$40='Wk Input'!$J$2,sample!BN47,\"\")","v":""},{"$f":"IF(G$40='Wk Input'!$J$2,sample!BO47,\"\")","v":""},{"$f":"IF(H$40='Wk Input'!$J$2,sample!BP47,\"\")","v":""},{"$f":"IF(I$40='Wk Input'!$J$2,sample!BQ47,\"\")","v":""},{"$f":"IF(J$40='Wk Input'!$J$2,sample!BR47,\"\")","v":""},{"$f":"IF(K$40='Wk Input'!$J$2,sample!BS47,\"\")","v":""},{"$f":"IF(L$40='Wk Input'!$J$2,sample!BT47,\"\")","v":""},{"$f":"IF(M$40='Wk Input'!$J$2,sample!BU47,\"\")","v":""},{"$f":"IF(N$40='Wk Input'!$J$2,sample!BV47,\"\")","v":""},{"$f":"IF(O$40='Wk Input'!$J$2,sample!BW47,\"\")","v":""},{"$f":"IF(P$40='Wk Input'!$J$2,sample!BX47,\"\")","v":""},{"$f":"IF(Q$40='Wk Input'!$J$2,sample!BY47,\"\")","v":""},{"$f":"IF(R$40='Wk Input'!$J$2,sample!BZ47,\"\")","v":""},{"$f":"IF(S$40='Wk Input'!$J$2,sample!CA47,\"\")","v":""},{"$f":"IF(T$40='Wk Input'!$J$2,sample!CB47,\"\")","v":""},{"$f":"IF(U$40='Wk Input'!$J$2,sample!CC47,\"\")","v":""},{"$f":"IF(V$40='Wk Input'!$J$2,sample!CD47,\"\")","v":""},{"$f":"IF(W$40='Wk Input'!$J$2,sample!CE47,\"\")","v":""},{"$f":"IF(X$40='Wk Input'!$J$2,sample!CF47,\"\")","v":""},{"$f":"IF(Y$40='Wk Input'!$J$2,sample!CG47,\"\")","v":""},{"$f":"IF(Z$40='Wk Input'!$J$2,sample!CH47,\"\")","v":""},{"$f":"IF(AA$40='Wk Input'!$J$2,sample!CI47,\"\")","v":""},{"$f":"IF(AB$40='Wk Input'!$J$2,sample!CJ47,\"\")","v":""},{"$f":"IF(AC$40='Wk Input'!$J$2,sample!CK47,\"\")","v":""},{"$f":"IF(AD$40='Wk Input'!$J$2,sample!CL47,\"\")","v":""},{"$f":"IF(AE$40='Wk Input'!$J$2,sample!CM47,\"\")","v":""},{"$f":"IF(AF$40='Wk Input'!$J$2,sample!CN47,\"\")","v":""},{"$f":"IF(AG$40='Wk Input'!$J$2,sample!CO47,\"\")","v":""},{"$f":"IF(AH$40='Wk Input'!$J$2,sample!CP47,\"\")","v":""},{"$f":"IF(AI$40='Wk Input'!$J$2,sample!CQ47,\"\")","v":""},{"$f":"IF(AJ$40='Wk Input'!$J$2,sample!CR47,\"\")","v":""},{"$f":"IF(AK$40='Wk Input'!$J$2,sample!CS47,\"\")","v":""},{"$f":"IF(AL$40='Wk Input'!$J$2,sample!CT47,\"\")","v":""},{"$f":"IF(AM$40='Wk Input'!$J$2,sample!CU47,\"\")","v":""},{"$f":"IF(AN$40='Wk Input'!$J$2,sample!CV47,\"\")","v":""},{"$f":"IF(AO$40='Wk Input'!$J$2,sample!CW47,\"\")","v":""},{"$f":"IF(AP$40='Wk Input'!$J$2,sample!CX47,\"\")","v":""},{"$f":"IF(AQ$40='Wk Input'!$J$2,sample!CY47,\"\")","v":""},{"$f":"IF(AR$40='Wk Input'!$J$2,sample!CZ47,\"\")","v":""},{"$f":"IF(AS$40='Wk Input'!$J$2,sample!DA47,\"\")","v":""},{"$f":"IF(AT$40='Wk Input'!$J$2,sample!DB47,\"\")","v":""},{"$f":"IF(AU$40='Wk Input'!$J$2,sample!DC47,\"\")","v":""},{"$f":"IF(AV$40='Wk Input'!$J$2,sample!DD47,\"\")","v":""},{"$f":"IF(AW$40='Wk Input'!$J$2,sample!DE47,\"\")","v":""},{"$f":"IF(AX$40='Wk Input'!$J$2,sample!DF47,\"\")","v":""},{"$f":"IF(AY$40='Wk Input'!$J$2,sample!DG47,\"\")","v":""},{"$f":"IF(AZ$40='Wk Input'!$J$2,sample!DH47,\"\")","v":""},{"$f":"IF(BA$40='Wk Input'!$J$2,sample!DI47,\"\")","v":""},{"$f":"IF(BB$40='Wk Input'!$J$2,sample!DJ47,\"\")","v":""},{"$f":"IF(BC$40='Wk Input'!$J$2,sample!DK47,\"\")","v":""},{"$f":"IF(BD$40='Wk Input'!$J$2,sample!DL47,\"\")","v":""},{"$f":"IF(BE$40='Wk Input'!$J$2,sample!DM47,\"\")","v":""}]
[null,null,{"$f":"Home!H10","v":"PEN. KETUA PEMASARAN DAN PERKHIDMATAN"},null,null,{"$f":"IF(sample!BN39,sample!BN40,\"\")","v":""},{"$f":"IF(sample!BO39,sample!BO40,\"\")","v":""},{"$f":"IF(sample!BP39,sample!BP40,\"\")","v":8},{"$f":"IF(sample!BQ39,sample!BQ40,\"\")","v":""},{"$f":"IF(sample!BR39,sample!BR40,\"\")","v":""},{"$f":"IF(sample!BS39,sample!BS40,\"\")","v":""},{"$f":"IF(sample!BT39,sample!BT40,\"\")","v":""},{"$f":"IF(sample!BU39,sample!BU40,\"\")","v":""},{"$f":"IF(sample!BV39,sample!BV40,\"\")","v":""},{"$f":"IF(sample!BW39,sample!BW40,\"\")","v":""},{"$f":"IF(sample!BX39,sample!BX40,\"\")","v":""},{"$f":"IF(sample!BY39,sample!BY40,\"\")","v":""},{"$f":"IF(sample!BZ39,sample!BZ40,\"\")","v":""},{"$f":"IF(sample!CA39,sample!CA40,\"\")","v":""},{"$f":"IF(sample!CB39,sample!CB40,\"\")","v":""},{"$f":"IF(sample!CC39,sample!CC40,\"\")","v":""},{"$f":"IF(sample!CD39,sample!CD40,\"\")","v":""},{"$f":"IF(sample!CE39,sample!CE40,\"\")","v":""},{"$f":"IF(sample!CF39,sample!CF40,\"\")","v":""},{"$f":"IF(sample!CG39,sample!CG40,\"\")","v":""},{"$f":"IF(sample!CH39,sample!CH40,\"\")","v":""},{"$f":"IF(sample!CI39,sample!CI40,\"\")","v":""},{"$f":"IF(sample!CJ39,sample!CJ40,\"\")","v":""},{"$f":"IF(sample!CK39,sample!CK40,\"\")","v":""},{"$f":"IF(sample!CL39,sample!CL40,\"\")","v":""},{"$f":"IF(sample!CM39,sample!CM40,\"\")","v":""},{"$f":"IF(sample!CN39,sample!CN40,\"\")","v":""},{"$f":"IF(sample!CO39,sample!CO40,\"\")","v":""},{"$f":"IF(sample!CP39,sample!CP40,\"\")","v":""},{"$f":"IF(sample!CQ39,sample!CQ40,\"\")","v":""},{"$f":"IF(sample!CR39,sample!CR40,\"\")","v":""},{"$f":"IF(sample!CS39,sample!CS40,\"\")","v":""},{"$f":"IF(sample!CT39,sample!CT40,\"\")","v":""},{"$f":"IF(sample!CU39,sample!CU40,\"\")","v":""},{"$f":"IF(sample!CV39,sample!CV40,\"\")","v":""},{"$f":"IF(sample!CW39,sample!CW40,\"\")","v":""},{"$f":"IF(sample!CX39,sample!CX40,\"\")","v":""},{"$f":"IF(sample!CY39,sample!CY40,\"\")","v":""},{"$f":"IF(sample!CZ39,sample!CZ40,\"\")","v":""},{"$f":"IF(sample!DA39,sample!DA40,\"\")","v":""},{"$f":"IF(sample!DB39,sample!DB40,\"\")","v":""},{"$f":"IF(sample!DC39,sample!DC40,\"\")","v":""},{"$f":"IF(sample!DD39,sample!DD40,\"\")","v":2},{"$f":"IF(sample!DE39,sample!DE40,\"\")","v":""},{"$f":"IF(sample!DF39,sample!DF40,\"\")","v":""},{"$f":"IF(sample!DG39,sample!DG40,\"\")","v":""},{"$f":"IF(sample!DH39,sample!DH40,\"\")","v":""},{"$f":"IF(sample!DI39,sample!DI40,\"\")","v":""},{"$f":"IF(sample!DJ39,sample!DJ40,\"\")","v":""},{"$f":"IF(sample!DK39,sample!DK40,\"\")","v":""},{"$f":"IF(sample!DL39,sample!DL40,\"\")","v":""},{"$f":"IF(sample!DM39,sample!DM40,\"\")","v":""}]
[null,null,{"$f":"Home!H16","v":"SAMPEL CORPORATION LTD"},null,null,{"$f":"IF(OR(sample!BN39,sample!BN43),\"P\",\" \")","v":" "},{"$f":"IF(OR(sample!BO39,sample!BO43),\"P\",\" \")","v":" "},{"$f":"IF(OR(sample!BP39,sample!BP43),\"P\",\" \")","v":"P"},{"$f":"IF(OR(sample!BQ39,sample!BQ43),\"P\",\" \")","v":" "},{"$f":"IF(OR(sample!BR39,sample!BR43),\"P\",\" \")","v":" "},{"$f":"IF(OR(sample!BS39,sample!BS43),\"P\",\" \")","v":" "},{"$f":"IF(OR(sample!BT39,sample!BT43),\"P\",\" \")","v":" "},{"$f":"IF(OR(sample!BU39,sample!BU43),\"P\",\" \")","v":" "},{"$f":"IF(OR(sample!BV39,sample!BV43),\"P\",\" \")","v":" "},{"$f":"IF(OR(sample!BW39,sample!BW43),\"P\",\" \")","v":" "},{"$f":"IF(OR(sample!BX39,sample!BX43),\"P\",\" \")","v":" "},{"$f":"IF(OR(sample!BY39,sample!BY43),\"P\",\" \")","v":" "},{"$f":"IF(OR(sample!BZ39,sample!BZ43),\"P\",\" \")","v":" "},{"$f":"IF(OR(sample!CA39,sample!CA43),\"P\",\" \")","v":" "},{"$f":"IF(OR(sample!CB39,sample!CB43),\"P\",\" \")","v":" "},{"$f":"IF(OR(sample!CC39,sample!CC43),\"P\",\" \")","v":" "},{"$f":"IF(OR(sample!CD39,sample!CD43),\"P\",\" \")","v":" "},{"$f":"IF(OR(sample!CE39,sample!CE43),\"P\",\" \")","v":" "},{"$f":"IF(OR(sample!CF39,sample!CF43),\"P\",\" \")","v":" "},{"$f":"IF(OR(sample!CG39,sample!CG43),\"P\",\" \")","v":" "},{"$f":"IF(OR(sample!CH39,sample!CH43),\"P\",\" \")","v":" "},{"$f":"IF(OR(sample!CI39,sample!CI43),\"P\",\" \")","v":" "},{"$f":"IF(OR(sample!CJ39,sample!CJ43),\"P\",\" \")","v":" "},{"$f":"IF(OR(sample!CK39,sample!CK43),\"P\",\" \")","v":" "},{"$f":"IF(OR(sample!CL39,sample!CL43),\"P\",\" \")","v":" "},{"$f":"IF(OR(sample!CM39,sample!CM43),\"P\",\" \")","v":" "},{"$f":"IF(OR(sample!CN39,sample!CN43),\"P\",\" \")","v":" "},{"$f":"IF(OR(sample!CO39,sample!CO43),\"P\",\" \")","v":" "},{"$f":"IF(OR(sample!CP39,sample!CP43),\"P\",\" \")","v":" "},{"$f":"IF(OR(sample!CQ39,sample!CQ43),\"P\",\" \")","v":" "},{"$f":"IF(OR(sample!CR39,sample!CR43),\"P\",\" \")","v":" "},{"$f":"IF(OR(sample!CS39,sample!CS43),\"P\",\" \")","v":" "},{"$f":"IF(OR(sample!CT39,sample!CT43),\"P\",\" \")","v":"P"},{"$f":"IF(OR(sample!CU39,sample!CU43),\"P\",\" \")","v":" "},{"$f":"IF(OR(sample!CV39,sample!CV43),\"P\",\" \")","v":" "},{"$f":"IF(OR(sample!CW39,sample!CW43),\"P\",\" \")","v":" "},{"$f":"IF(OR(sample!CX39,sample!CX43),\"P\",\" \")","v":" "},{"$f":"IF(OR(sample!CY39,sample!CY43),\"P\",\" \")","v":" "},{"$f":"IF(OR(sample!CZ39,sample!CZ43),\"P\",\" \")","v":" "},{"$f":"IF(OR(sample!DA39,sample!DA43),\"P\",\" \")","v":" "},{"$f":"IF(OR(sample!DB39,sample!DB43),\"P\",\" \")","v":" "},{"$f":"IF(OR(sample!DC39,sample!DC43),\"P\",\" \")","v":" "},{"$f":"IF(OR(sample!DD39,sample!DD43),\"P\",\" \")","v":"P"},{"$f":"IF(OR(sample!DE39,sample!DE43),\"P\",\" \")","v":" "},{"$f":"IF(OR(sample!DF39,sample!DF43),\"P\",\" \")","v":" "},{"$f":"IF(OR(sample!DG39,sample!DG43),\"P\",\" \")","v":" "},{"$f":"IF(OR(sample!DH39,sample!DH43),\"P\",\" \")","v":" "},{"$f":"IF(OR(sample!DI39,sample!DI43),\"P\",\" \")","v":" "},{"$f":"IF(OR(sample!DJ39,sample!DJ43),\"P\",\" \")","v":" "},{"$f":"IF(OR(sample!DK39,sample!DK43),\"P\",\" \")","v":" "},{"$f":"IF(OR(sample!DL39,sample!DL43),\"P\",\" \")","v":" "},{"$f":"IF(OR(sample!DM39,sample!DM43),\"P\",\" \")","v":" "}]
[null,null,null,null,"Nilai Wk Konsol",{"$f":"IF(sample!BN43,sample!BN44,\"\")","v":""},{"$f":"IF(sample!BO43,sample!BO44,\"\")","v":""},{"$f":"IF(sample!BP43,sample!BP44,\"\")","v":""},{"$f":"IF(sample!BQ43,sample!BQ44,\"\")","v":""},{"$f":"IF(sample!BR43,sample!BR44,\"\")","v":""},{"$f":"IF(sample!BS43,sample!BS44,\"\")","v":""},{"$f":"IF(sample!BT43,sample!BT44,\"\")","v":""},{"$f":"IF(sample!BU43,sample!BU44,\"\")","v":""},{"$f":"IF(sample!BV43,sample!BV44,\"\")","v":""},{"$f":"IF(sample!BW43,sample!BW44,\"\")","v":""},{"$f":"IF(sample!BX43,sample!BX44,\"\")","v":""},{"$f":"IF(sample!BY43,sample!BY44,\"\")","v":""},{"$f":"IF(sample!BZ43,sample!BZ44,\"\")","v":""},{"$f":"IF(sample!CA43,sample!CA44,\"\")","v":""},{"$f":"IF(sample!CB43,sample!CB44,\"\")","v":""},{"$f":"IF(sample!CC43,sample!CC44,\"\")","v":""},{"$f":"IF(sample!CD43,sample!CD44,\"\")","v":""},{"$f":"IF(sample!CE43,sample!CE44,\"\")","v":""},{"$f":"IF(sample!CF43,sample!CF44,\"\")","v":""},{"$f":"IF(sample!CG43,sample!CG44,\"\")","v":""},{"$f":"IF(sample!CH43,sample!CH44,\"\")","v":""},{"$f":"IF(sample!CI43,sample!CI44,\"\")","v":""},{"$f":"IF(sample!CJ43,sample!CJ44,\"\")","v":""},{"$f":"IF(sample!CK43,sample!CK44,\"\")","v":""},{"$f":"IF(sample!CL43,sample!CL44,\"\")","v":""},{"$f":"IF(sample!CM43,sample!CM44,\"\")","v":""},{"$f":"IF(sample!CN43,sample!CN44,\"\")","v":""},{"$f":"IF(sample!CO43,sample!CO44,\"\")","v":""},{"$f":"IF(sample!CP43,sample!CP44,\"\")","v":""},{"$f":"IF(sample!CQ43,sample!CQ44,\"\")","v":""},{"$f":"IF(sample!CR43,sample!CR44,\"\")","v":""},{"$f":"IF(sample!CS43,sample!CS44,\"\")","v":""},{"$f":"IF(sample!CT43,sample!CT44,\"\")","v":-4},{"$f":"IF(sample!CU43,sample!CU44,\"\")","v":""},{"$f":"IF(sample!CV43,sample!CV44,\"\")","v":""},{"$f":"IF(sample!CW43,sample!CW44,\"\")","v":""},{"$f":"IF(sample!CX43,sample!CX44,\"\")","v":""},{"$f":"IF(sample!CY43,sample!CY44,\"\")","v":""},{"$f":"IF(sample!CZ43,sample!CZ44,\"\")","v":""},{"$f":"IF(sample!DA43,sample!DA44,\"\")","v":""},{"$f":"IF(sample!DB43,sample!DB44,\"\")","v":""},{"$f":"IF(sample!DC43,sample!DC44,\"\")","v":""},{"$f":"IF(sample!DD43,sample!DD44,\"\")","v":""},{"$f":"IF(sample!DE43,sample!DE44,\"\")","v":""},{"$f":"IF(sample!DF43,sample!DF44,\"\")","v":""},{"$f":"IF(sample!DG43,sample!DG44,\"\")","v":""},{"$f":"IF(sample!DH43,sample!DH44,\"\")","v":""},{"$f":"IF(sample!DI43,sample!DI44,\"\")","v":""},{"$f":"IF(sample!DJ43,sample!DJ44,\"\")","v":""},{"$f":"IF(sample!DK43,sample!DK44,\"\")","v":""},{"$f":"IF(sample!DL43,sample!DL44,\"\")","v":""},{"$f":"IF(sample!DM43,sample!DM44,\"\")","v":""}]
[null,"ID KPI","Deskripsi Spesifik KPI","Sasaran"]
[{"$f":"'Wk Input'!I5","v":52},{"$f":"'Wk Input'!B5","v":"DM101"},{"$f":"'Wk Input'!C5","v":"WK01 Mencapai sasaran pendapatan korporat yang meningkat bagi Sektor Perumahan (RM Juta)"},{"$f":"'Wk Input'!F5","v":38.5},{"$f":"KPIScore!I5","v":38.200000000000003},{"$f":"sample!L22","v":0},{"$f":"sample!M22","v":0},{"$f":"sample!N22","v":0},{"$f":"sample!O22","v":6.5454545450000001},{"$f":"sample!P22","v":6.5454545450000001},{"$f":"sample!Q22","v":9.5324675320000001},{"$f":"sample!R22","v":9.5324675320000001},{"$f":"sample!S22","v":9.5324675320000001},{"$f":"sample!T22","v":14.05194805},{"$f":"sample!U22","v":14.05194805},{"$f":"sample!V22","v":16.415584419999998},{"$f":"sample!W22","v":16.415584419999998},{"$f":"sample!X22","v":16.415584419999998},{"$f":"sample!Y22","v":16.415584419999998},{"$f":"sample!Z22","v":22.98701299},{"$f":"sample!AA22","v":22.98701299},{"$f":"sample!AB22","v":22.98701299},{"$f":"sample!AC22","v":26.493506490000001},{"$f":"sample!AD22","v":26.493506490000001},{"$f":"sample!AE22","v":26.493506490000001},{"$f":"sample!AF22","v":26.493506490000001},{"$f":"sample!AG22","v":30.649350649999999},{"$f":"sample!AH22","v":30.649350649999999},{"$f":"sample!AI22","v":35.610389609999999},{"$f":"sample!AJ22","v":35.610389609999999},{"$f":"sample!AK22","v":40.961038960000003},{"$f":"sample!AL22","v":40.961038960000003},{"$f":"sample!AM22","v":40.961038960000003},{"$f":"sample!AN22","v":44.753246750000002},{"$f":"sample!AO22","v":44.753246750000002},{"$f":"sample!AP22","v":48.467532470000002},{"$f":"sample!AQ22","v":48.467532470000002},{"$f":"sample!AR22","v":48.467532470000002},{"$f":"sample!AS22","v":48.467532470000002},{"$f":"sample!AT22","v":54.12987013},{"$f":"sample!AU22","v":54.597402600000002},{"$f":"sample!AV22","v":54.597402600000002},{"$f":"sample!AW22","v":54.597402600000002},{"$f":"sample!AX22","v":54.597402600000002},{"$f":"sample!AY22","v":60.909090910000003},{"$f":"sample!AZ22","v":60.909090910000003},{"$f":"sample!BA22","v":60.909090910000003},{"$f":"sample!BB22","v":60.909090910000003},{"$f":"sample!BC22","v":77.350649349999998},{"$f":"sample!BD22","v":77.350649349999998},{"$f":"sample!BE22","v":77.350649349999998},{"$f":"sample!BF22","v":86.1038961},{"$f":"sample!BG22","v":86.1038961},{"$f":"sample!BH22","v":90.12987013},{"$f":"sample!BI22","v":90.12987013},{"$f":"sample!BJ22","v":90.12987013},{"$f":"sample!BK22","v":99.220779219999997}]
[]
[{"$f":"'Wk Input'!I6","v":52},{"$f":"'Wk Input'!B6","v":"DM102"},{"$f":"'Wk Input'!C6","v":"BP03 Mengekalkan pembayaran pulang deposit pelanggan sewaan dalam tempoh yang optimum (Bil Hari)"},{"$f":"'Wk Input'!F6","v":14},{"$f":"KPIScore!I6","v":14.92},{"$f":"sample!L23","v":""},{"$f":"sample!M23","v":""},{"$f":"sample!N23","v":""},{"$f":"sample!O23","v":""},{"$f":"sample!P23","v":100},{"$f":"sample!Q23","v":""},{"$f":"sample!R23","v":""},{"$f":"sample!S23","v":""},{"$f":"sample!T23","v":100},{"$f":"sample!U23","v":""},{"$f":"sample!V23","v":""},{"$f":"sample!W23","v":""},{"$f":"sample!X23","v":""},{"$f":"sample!Y23","v":64.285714290000001},{"$f":"sample!Z23","v":""},{"$f":"sample!AA23","v":""},{"$f":"sample!AB23","v":""},{"$f":"sample!AC23","v":28.571428569999998},{"$f":"sample!AD23","v":""},{"$f":"sample!AE23","v":""},{"$f":"sample!AF23","v":""},{"$f":"sample!AG23","v":""},{"$f":"sample!AH23","v":64.285714290000001},{"$f":"sample!AI23","v":""},{"$f":"sample!AJ23","v":""},{"$f":"sample!AK23","v":""},{"$f":"sample!AL23","v":64.285714290000001},{"$f":"sample!AM23","v":""},{"$f":"sample!AN23","v":""},{"$f":"sample!AO23","v":""},{"$f":"sample!AP23","v":100},{"$f":"sample!AQ23","v":""},{"$f":"sample!AR23","v":""},{"$f":"sample!AS23","v":""},{"$f":"sample!AT23","v":""},{"$f":"sample!AU23","v":28.571428569999998},{"$f":"sample!AV23","v":""},{"$f":"sample!AW23","v":""},{"$f":"sample!AX23","v":""},{"$f":"sample!AY23","v":64.285714290000001},{"$f":"sample!AZ23","v":""},{"$f":"sample!BA23","v":""},{"$f":"sample!BB23","v":""},{"$f":"sample!BC23","v":28.571428569999998},{"$f":"sample!BD23","v":""},{"$f":"sample!BE23","v":""},{"$f":"sample!BF23","v":""},{"$f":"sample!BG23","v":""},{"$f":"sample!BH23","v":64.285714290000001},{"$f":"sample!BI23","v":""},{"$f":"sample!BJ23","v":""},{"$f":"sample!BK23","v":100}]
[]
[{"$f":"'Wk Input'!I7","v":52},{"$f":"'Wk Input'!B7","v":"DM103"},{"$f":"'Wk Input'!C7","v":"BP49 Mengekalkan Penghantaran shipment Pelanggan menepati sasaran"},{"$f":"'Wk Input'!F7","v":95},{"$f":"KPIScore!I7","v":96.48},{"$f":"sample!L24","v":100},{"$f":"sample!M24","v":100},{"$f":"sample!N24","v":97.894736839999993},{"$f":"sample!O24","v":92.631578950000005},{"$f":"sample!P24","v":100},{"$f":"sample!Q24","v":88.421052630000005},{"$f":"sample!R24","v":100},{"$f":"sample!S24","v":100},{"$f":"sample!T24","v":100},{"$f":"sample!U24","v":91.578947369999995},{"$f":"sample!V24","v":100},{"$f":"sample!W24","v":100},{"$f":"sample!X24","v":86.315789469999999},{"$f":"sample!Y24","v":100},{"$f":"sample!Z24","v":100},{"$f":"sample!AA24","v":100},{"$f":"sample!AB24","v":100},{"$f":"sample!AC24","v":100},{"$f":"sample!AD24","v":100},{"$f":"sample!AE24","v":100},{"$f":"sample!AF24","v":100},{"$f":"sample!AG24","v":96.842105259999997},{"$f":"sample!AH24","v":100},{"$f":"sample!AI24","v":100},{"$f":"sample!AJ24","v":100},{"$f":"sample!AK24","v":100},{"$f":"sample!AL24","v":100},{"$f":"sample!AM24","v":100},{"$f":"sample!AN24","v":100},{"$f":"sample!AO24","v":100},{"$f":"sample!AP24","v":100},{"$f":"sample!AQ24","v":92.631578950000005},{"$f":"sample!AR24","v":100},{"$f":"sample!AS24","v":100},{"$f":"sample!AT24","v":86.315789469999999},{"$f":"sample!AU24","v":100},{"$f":"sample!AV24","v":100},{"$f":"sample!AW24","v":100},{"$f":"sample!AX24","v":100},{"$f":"sample!AY24","v":100},{"$f":"sample!AZ24","v":100},{"$f":"sample!BA24","v":92.631578950000005},{"$f":"sample!BB24","v":100},{"$f":"sample!BC24","v":100},{"$f":"sample!BD24","v":100},{"$f":"sample!BE24","v":100},{"$f":"sample!BF24","v":100},{"$f":"sample!BG24","v":100},{"$f":"sample!BH24","v":92.631578950000005},{"$f":"sample!BI24","v":100},{"$f":"sample!BJ24","v":100},{"$f":"sample!BK24","v":100}]
[]
[{"$f":"'Wk Input'!I8","v":44},{"$f":"'Wk Input'!B8","v":"DM104"},{"$f":"'Wk Input'!C8","v":"BP19 Mencapai penyempurnaan survei kajian penyelidikan 5 Klien-Produk"},{"$f":"'Wk Input'!F8","v":90},{"$f":"KPIScore!I8","v":100},{"$f":"sample!L25","v":0},{"$f":"sample!M25","v":0},{"$f":"sample!N25","v":0},{"$f":"sample!O25","v":0},{"$f":"sample!P25","v":0},{"$f":"sample!Q25","v":0.43859649099999998},{"$f":"sample!R25","v":0.43859649099999998},{"$f":"sample!S25","v":0.87719298199999995},{"$f":"sample!T25","v":0.87719298199999995},{"$f":"sample!U25","v":2.3391812870000002},{"$f":"sample!V25","v":2.7777777779999999},{"$f":"sample!W25","v":4.6783625730000002},{"$f":"sample!X25","v":4.6783625730000002},{"$f":"sample!Y25","v":6.5789473679999997},{"$f":"sample!Z25","v":7.6023391809999996},{"$f":"sample!AA25","v":11.40350877},{"$f":"sample!AB25","v":11.84210526},{"$f":"sample!AC25","v":13.88888889},{"$f":"sample!AD25","v":14.766081870000001},{"$f":"sample!AE25","v":18.85964912},{"$f":"sample!AF25","v":21.637426900000001},{"$f":"sample!AG25","v":22.95321637},{"$f":"sample!AH25","v":25},{"$f":"sample!AI25","v":27.631578950000002},{"$f":"sample!AJ25","v":31.725146200000001},{"$f":"sample!AK25","v":37.426900580000002},{"$f":"sample!AL25","v":38.742690060000001},{"$f":"sample!AM25","v":44.883040940000001},{"$f":"sample!AN25","v":47.514619879999998},{"$f":"sample!AO25","v":53.654970759999998},{"$f":"sample!AP25","v":59.356725150000003},{"$f":"sample!AQ25","v":59.356725150000003},{"$f":"sample!AR25","v":65.497076019999994},{"$f":"sample!AS25","v":65.497076019999994},{"$f":"sample!AT25","v":72.953216370000007},{"$f":"sample!AU25","v":76.023391810000007},{"$f":"sample!AV25","v":77.339181289999999},{"$f":"sample!AW25","v":80.409356729999999},{"$f":"sample!AX25","v":83.040935669999996},{"$f":"sample!AY25","v":89.181286549999996},{"$f":"sample!AZ25","v":92.251461989999996},{"$f":"sample!BA25","v":92.251461989999996},{"$f":"sample!BB25","v":93.567251459999994},{"$f":"sample!BC25","v":93.567251459999994},{"$f":"sample!BD25","v":97.514619879999998},{"$f":"sample!BE25","v":97.514619879999998},{"$f":"sample!BF25","v":100},{"$f":"sample!BG25","v":100},{"$f":"sample!BH25","v":100},{"$f":"sample!BI25","v":100},{"$f":"sample!BJ25","v":100},{"$f":"sample!BK25","v":100}]
[]
[{"$f":"'Wk Input'!I9","v":52},{"$f":"'Wk Input'!B9","v":"DM105"},{"$f":"'Wk Input'!C9","v":"OR04 Mengekalkan penyempurnaan kerja-kerja adhoc pemasaran dan perkhidmatan seperti yang diperlukan oleh Jabatan"},{"$f":"'Wk Input'!F9","v":95},{"$f":"KPIScore!I9","v":97.96},{"$f":"sample!L26","v":""},{"$f":"sample!M26","v":""},{"$f":"sample!N26","v":""},{"$f":"sample!O26","v":100},{"$f":"sample!P26","v":""},{"$f":"sample!Q26","v":""},{"$f":"sample!R26","v":100},{"$f":"sample!S26","v":""},{"$f":"sample!T26","v":""},{"$f":"sample!U26","v":""},{"$f":"sample!V26","v":""},{"$f":"sample!W26","v":""},{"$f":"sample!X26","v":100},{"$f":"sample!Y26","v":""},{"$f":"sample!Z26","v":""},{"$f":"sample!AA26","v":""},{"$f":"sample!AB26","v":""},{"$f":"sample!AC26","v":""},{"$f":"sample!AD26","v":""},{"$f":"sample!AE26","v":""},{"$f":"sample!AF26","v":100},{"$f":"sample!AG26","v":""},{"$f":"sample!AH26","v":""},{"$f":"sample!AI26","v":""},{"$f":"sample!AJ26","v":98.245614040000007},{"$f":"sample!AK26","v":""},{"$f":"sample!AL26","v":100},{"$f":"sample!AM26","v":""},{"$f":"sample!AN26","v":""},{"$f":"sample!AO26","v":98.245614040000007},{"$f":"sample!AP26","v":""},{"$f":"sample!AQ26","v":""},{"$f":"sample!AR26","v":""},{"$f":"sample!AS26","v":""},{"$f":"sample!AT26","v":""},{"$f":"sample!AU26","v":""},{"$f":"sample!AV26","v":""},{"$f":"sample!AW26","v":100},{"$f":"sample!AX26","v":""},{"$f":"sample!AY26","v":""},{"$f":"sample!AZ26","v":100},{"$f":"sample!BA26","v":""},{"$f":"sample!BB26","v":""},{"$f":"sample!BC26","v":""},{"$f":"sample!BD26","v":""},{"$f":"sample!BE26","v":100},{"$f":"sample!BF26","v":""},{"$f":"sample!BG26","v":""},{"$f":"sample!BH26","v":""},{"$f":"sample!BI26","v":""},{"$f":"sample!BJ26","v":""},{"$f":"sample!BK26","v":""}]
[]
[{"$f":"'Wk Input'!I10","v":45},{"$f":"'Wk Input'!B10","v":"DM106"},{"$f":"'Wk Input'!C10","v":"OR05 Mencapai pensijilan ISO18001:2007 oleh badan pensijilan"},{"$f":"'Wk Input'!F10","v":"Yes"},{"$f":"KPIScore!I10","v":"Yes"},{"$f":"sample!L27","v":""},{"$f":"sample!M27","v":""},{"$f":"sample!N27","v":""},{"$f":"sample!O27","v":""},{"$f":"sample!P27","v":""},{"$f":"sample!Q27","v":""},{"$f":"sample!R27","v":""},{"$f":"sample!S27","v":""},{"$f":"sample!T27","v":""},{"$f":"sample!U27","v":0},{"$f":"sample!V27","v":0},{"$f":"sample!W27","v":0},{"$f":"sample!X27","v":0},{"$f":"sample!Y27","v":0},{"$f":"sample!Z27","v":0},{"$f":"sample!AA27","v":0},{"$f":"sample!AB27","v":0},{"$f":"sample!AC27","v":0},{"$f":"sample!AD27","v":0},{"$f":"sample!AE27","v":0},{"$f":"sample!AF27","v":0},{"$f":"sample!AG27","v":0},{"$f":"sample!AH27","v":0},{"$f":"sample!AI27","v":0},{"$f":"sample!AJ27","v":0},{"$f":"sample!AK27","v":0},{"$f":"sample!AL27","v":0},{"$f":"sample!AM27","v":0},{"$f":"sample!AN27","v":0},{"$f":"sample!AO27","v":0},{"$f":"sample!AP27","v":0},{"$f":"sample!AQ27","v":0},{"$f":"sample!AR27","v":0},{"$f":"sample!AS27","v":0},{"$f":"sample!AT27","v":0},{"$f":"sample!AU27","v":0},{"$f":"sample!AV27","v":0},{"$f":"sample!AW27","v":0},{"$f":"sample!AX27","v":0},{"$f":"sample!AY27","v":0},{"$f":"sample!AZ27","v":0},{"$f":"sample!BA27","v":0},{"$f":"sample!BB27","v":0},{"$f":"sample!BC27","v":100},{"$f":"sample!BD27","v":100},{"$f":"sample!BE27","v":100},{"$f":"sample!BF27","v":100},{"$f":"sample!BG27","v":100},{"$f":"sample!BH27","v":100},{"$f":"sample!BI27","v":100},{"$f":"sample!BJ27","v":100},{"$f":"sample!BK27","v":100}]
[]
[{"$f":"'Wk Input'!I11","v":""},{"$f":"'Wk Input'!B11","v":"DM107"},{"$f":"'Wk Input'!C11","v":"N/A"},{"$f":"'Wk Input'!F11","v":""},{"$f":"KPIScore!I11","v":""},{"$f":"sample!L28","v":""},{"$f":"sample!M28","v":""},{"$f":"sample!N28","v":""},{"$f":"sample!O28","v":""},{"$f":"sample!P28","v":""},{"$f":"sample!Q28","v":""},{"$f":"sample!R28","v":""},{"$f":"sample!S28","v":""},{"$f":"sample!T28","v":""},{"$f":"sample!U28","v":""},{"$f":"sample!V28","v":""},{"$f":"sample!W28","v":""},{"$f":"sample!X28","v":""},{"$f":"sample!Y28","v":""},{"$f":"sample!Z28","v":""},{"$f":"sample!AA28","v":""},{"$f":"sample!AB28","v":""},{"$f":"sample!AC28","v":""},{"$f":"sample!AD28","v":""},{"$f":"sample!AE28","v":""},{"$f":"sample!AF28","v":""},{"$f":"sample!AG28","v":""},{"$f":"sample!AH28","v":""},{"$f":"sample!AI28","v":""},{"$f":"sample!AJ28","v":""},{"$f":"sample!AK28","v":""},{"$f":"sample!AL28","v":""},{"$f":"sample!AM28","v":""},{"$f":"sample!AN28","v":""},{"$f":"sample!AO28","v":""},{"$f":"sample!AP28","v":""},{"$f":"sample!AQ28","v":""},{"$f":"sample!AR28","v":""},{"$f":"sample!AS28","v":""},{"$f":"sample!AT28","v":""},{"$f":"sample!AU28","v":""},{"$f":"sample!AV28","v":""},{"$f":"sample!AW28","v":""},{"$f":"sample!AX28","v":""},{"$f":"sample!AY28","v":""},{"$f":"sample!AZ28","v":""},{"$f":"sample!BA28","v":""},{"$f":"sample!BB28","v":""},{"$f":"sample!BC28","v":""},{"$f":"sample!BD28","v":""},{"$f":"sample!BE28","v":""},{"$f":"sample!BF28","v":""},{"$f":"sample!BG28","v":""},{"$f":"sample!BH28","v":""},{"$f":"sample!BI28","v":""},{"$f":"sample!BJ28","v":""},{"$f":"sample!BK28","v":""}]
[]
[{"$f":"'Wk Input'!I12","v":""},{"$f":"'Wk Input'!B12","v":"DM108"},{"$f":"'Wk Input'!C12","v":"N/A"},{"$f":"'Wk Input'!F12","v":""},{"$f":"KPIScore!I12","v":""},{"$f":"sample!L29","v":""},{"$f":"sample!M29","v":""},{"$f":"sample!N29","v":""},{"$f":"sample!O29","v":""},{"$f":"sample!P29","v":""},{"$f":"sample!Q29","v":""},{"$f":"sample!R29","v":""},{"$f":"sample!S29","v":""},{"$f":"sample!T29","v":""},{"$f":"sample!U29","v":""},{"$f":"sample!V29","v":""},{"$f":"sample!W29","v":""},{"$f":"sample!X29","v":""},{"$f":"sample!Y29","v":""},{"$f":"sample!Z29","v":""},{"$f":"sample!AA29","v":""},{"$f":"sample!AB29","v":""},{"$f":"sample!AC29","v":""},{"$f":"sample!AD29","v":""},{"$f":"sample!AE29","v":""},{"$f":"sample!AF29","v":""},{"$f":"sample!AG29","v":""},{"$f":"sample!AH29","v":""},{"$f":"sample!AI29","v":""},{"$f":"sample!AJ29","v":""},{"$f":"sample!AK29","v":""},{"$f":"sample!AL29","v":""},{"$f":"sample!AM29","v":""},{"$f":"sample!AN29","v":""},{"$f":"sample!AO29","v":""},{"$f":"sample!AP29","v":""},{"$f":"sample!AQ29","v":""},{"$f":"sample!AR29","v":""},{"$f":"sample!AS29","v":""},{"$f":"sample!AT29","v":""},{"$f":"sample!AU29","v":""},{"$f":"sample!AV29","v":""},{"$f":"sample!AW29","v":""},{"$f":"sample!AX29","v":""},{"$f":"sample!AY29","v":""},{"$f":"sample!AZ29","v":""},{"$f":"sample!BA29","v":""},{"$f":"sample!BB29","v":""},{"$f":"sample!BC29","v":""},{"$f":"sample!BD29","v":""},{"$f":"sample!BE29","v":""},{"$f":"sample!BF29","v":""},{"$f":"sample!BG29","v":""},{"$f":"sample!BH29","v":""},{"$f":"sample!BI29","v":""},{"$f":"sample!BJ29","v":""},{"$f":"sample!BK29","v":""}]
[]
[{"$f":"'Wk Input'!I13","v":""},{"$f":"'Wk Input'!B13","v":"DM109"},{"$f":"'Wk Input'!C13","v":"N/A"},{"$f":"'Wk Input'!F13","v":""},{"$f":"KPIScore!I13","v":""},{"$f":"sample!L30","v":""},{"$f":"sample!M30","v":""},{"$f":"sample!N30","v":""},{"$f":"sample!O30","v":""},{"$f":"sample!P30","v":""},{"$f":"sample!Q30","v":""},{"$f":"sample!R30","v":""},{"$f":"sample!S30","v":""},{"$f":"sample!T30","v":""},{"$f":"sample!U30","v":""},{"$f":"sample!V30","v":""},{"$f":"sample!W30","v":""},{"$f":"sample!X30","v":""},{"$f":"sample!Y30","v":""},{"$f":"sample!Z30","v":""},{"$f":"sample!AA30","v":""},{"$f":"sample!AB30","v":""},{"$f":"sample!AC30","v":""},{"$f":"sample!AD30","v":""},{"$f":"sample!AE30","v":""},{"$f":"sample!AF30","v":""},{"$f":"sample!AG30","v":""},{"$f":"sample!AH30","v":""},{"$f":"sample!AI30","v":""},{"$f":"sample!AJ30","v":""},{"$f":"sample!AK30","v":""},{"$f":"sample!AL30","v":""},{"$f":"sample!AM30","v":""},{"$f":"sample!AN30","v":""},{"$f":"sample!AO30","v":""},{"$f":"sample!AP30","v":""},{"$f":"sample!AQ30","v":""},{"$f":"sample!AR30","v":""},{"$f":"sample!AS30","v":""},{"$f":"sample!AT30","v":""},{"$f":"sample!AU30","v":""},{"$f":"sample!AV30","v":""},{"$f":"sample!AW30","v":""},{"$f":"sample!AX30","v":""},{"$f":"sample!AY30","v":""},{"$f":"sample!AZ30","v":""},{"$f":"sample!BA30","v":""},{"$f":"sample!BB30","v":""},{"$f":"sample!BC30","v":""},{"$f":"sample!BD30","v":""},{"$f":"sample!BE30","v":""},{"$f":"sample!BF30","v":""},{"$f":"sample!BG30","v":""},{"$f":"sample!BH30","v":""},{"$f":"sample!BI30","v":""},{"$f":"sample!BJ30","v":""},{"$f":"sample!BK30","v":""}]
[]
[{"$f":"'Wk Input'!I14","v":""},{"$f":"'Wk Input'!B14","v":"DM110"},{"$f":"'Wk Input'!C14","v":"N/A"},{"$f":"'Wk Input'!F14","v":""},{"$f":"KPIScore!I14","v":""},{"$f":"sample!L31","v":""},{"$f":"sample!M31","v":""},{"$f":"sample!N31","v":""},{"$f":"sample!O31","v":""},{"$f":"sample!P31","v":""},{"$f":"sample!Q31","v":""},{"$f":"sample!R31","v":""},{"$f":"sample!S31","v":""},{"$f":"sample!T31","v":""},{"$f":"sample!U31","v":""},{"$f":"sample!V31","v":""},{"$f":"sample!W31","v":""},{"$f":"sample!X31","v":""},{"$f":"sample!Y31","v":""},{"$f":"sample!Z31","v":""},{"$f":"sample!AA31","v":""},{"$f":"sample!AB31","v":""},{"$f":"sample!AC31","v":""},{"$f":"sample!AD31","v":""},{"$f":"sample!AE31","v":""},{"$f":"sample!AF31","v":""},{"$f":"sample!AG31","v":""},{"$f":"sample!AH31","v":""},{"$f":"sample!AI31","v":""},{"$f":"sample!AJ31","v":""},{"$f":"sample!AK31","v":""},{"$f":"sample!AL31","v":""},{"$f":"sample!AM31","v":""},{"$f":"sample!AN31","v":""},{"$f":"sample!AO31","v":""},{"$f":"sample!AP31","v":""},{"$f":"sample!AQ31","v":""},{"$f":"sample!AR31","v":""},{"$f":"sample!AS31","v":""},{"$f":"sample!AT31","v":""},{"$f":"sample!AU31","v":""},{"$f":"sample!AV31","v":""},{"$f":"sample!AW31","v":""},{"$f":"sample!AX31","v":""},{"$f":"sample!AY31","v":""},{"$f":"sample!AZ31","v":""},{"$f":"sample!BA31","v":""},{"$f":"sample!BB31","v":""},{"$f":"sample!BC31","v":""},{"$f":"sample!BD31","v":""},{"$f":"sample!BE31","v":""},{"$f":"sample!BF31","v":""},{"$f":"sample!BG31","v":""},{"$f":"sample!BH31","v":""},{"$f":"sample!BI31","v":""},{"$f":"sample!BJ31","v":""},{"$f":"sample!BK31","v":""}]
[]
[{"$f":"'Wk Input'!I15","v":""},{"$f":"'Wk Input'!B15","v":"DM111"},{"$f":"'Wk Input'!C15","v":"N/A"},{"$f":"'Wk Input'!F15","v":""},{"$f":"KPIScore!I15","v":""},{"$f":"sample!L32","v":""},{"$f":"sample!M32","v":""},{"$f":"sample!N32","v":""},{"$f":"sample!O32","v":""},{"$f":"sample!P32","v":""},{"$f":"sample!Q32","v":""},{"$f":"sample!R32","v":""},{"$f":"sample!S32","v":""},{"$f":"sample!T32","v":""},{"$f":"sample!U32","v":""},{"$f":"sample!V32","v":""},{"$f":"sample!W32","v":""},{"$f":"sample!X32","v":""},{"$f":"sample!Y32","v":""},{"$f":"sample!Z32","v":""},{"$f":"sample!AA32","v":""},{"$f":"sample!AB32","v":""},{"$f":"sample!AC32","v":""},{"$f":"sample!AD32","v":""},{"$f":"sample!AE32","v":""},{"$f":"sample!AF32","v":""},{"$f":"sample!AG32","v":""},{"$f":"sample!AH32","v":""},{"$f":"sample!AI32","v":""},{"$f":"sample!AJ32","v":""},{"$f":"sample!AK32","v":""},{"$f":"sample!AL32","v":""},{"$f":"sample!AM32","v":""},{"$f":"sample!AN32","v":""},{"$f":"sample!AO32","v":""},{"$f":"sample!AP32","v":""},{"$f":"sample!AQ32","v":""},{"$f":"sample!AR32","v":""},{"$f":"sample!AS32","v":""},{"$f":"sample!AT32","v":""},{"$f":"sample!AU32","v":""},{"$f":"sample!AV32","v":""},{"$f":"sample!AW32","v":""},{"$f":"sample!AX32","v":""},{"$f":"sample!AY32","v":""},{"$f":"sample!AZ32","v":""},{"$f":"sample!BA32","v":""},{"$f":"sample!BB32","v":""},{"$f":"sample!BC32","v":""},{"$f":"sample!BD32","v":""},{"$f":"sample!BE32","v":""},{"$f":"sample!BF32","v":""},{"$f":"sample!BG32","v":""},{"$f":"sample!BH32","v":""},{"$f":"sample!BI32","v":""},{"$f":"sample!BJ32","v":""},{"$f":"sample!BK32","v":""}]
[]
[{"$f":"'Wk Input'!I16","v":""},{"$f":"'Wk Input'!B16","v":"DM112"},{"$f":"'Wk Input'!C16","v":"N/A"},{"$f":"'Wk Input'!F16","v":""},{"$f":"KPIScore!I16","v":""},{"$f":"sample!L33","v":""},{"$f":"sample!M33","v":""},{"$f":"sample!N33","v":""},{"$f":"sample!O33","v":""},{"$f":"sample!P33","v":""},{"$f":"sample!Q33","v":""},{"$f":"sample!R33","v":""},{"$f":"sample!S33","v":""},{"$f":"sample!T33","v":""},{"$f":"sample!U33","v":""},{"$f":"sample!V33","v":""},{"$f":"sample!W33","v":""},{"$f":"sample!X33","v":""},{"$f":"sample!Y33","v":""},{"$f":"sample!Z33","v":""},{"$f":"sample!AA33","v":""},{"$f":"sample!AB33","v":""},{"$f":"sample!AC33","v":""},{"$f":"sample!AD33","v":""},{"$f":"sample!AE33","v":""},{"$f":"sample!AF33","v":""},{"$f":"sample!AG33","v":""},{"$f":"sample!AH33","v":""},{"$f":"sample!AI33","v":""},{"$f":"sample!AJ33","v":""},{"$f":"sample!AK33","v":""},{"$f":"sample!AL33","v":""},{"$f":"sample!AM33","v":""},{"$f":"sample!AN33","v":""},{"$f":"sample!AO33","v":""},{"$f":"sample!AP33","v":""},{"$f":"sample!AQ33","v":""},{"$f":"sample!AR33","v":""},{"$f":"sample!AS33","v":""},{"$f":"sample!AT33","v":""},{"$f":"sample!AU33","v":""},{"$f":"sample!AV33","v":""},{"$f":"sample!AW33","v":""},{"$f":"sample!AX33","v":""},{"$f":"sample!AY33","v":""},{"$f":"sample!AZ33","v":""},{"$f":"sample!BA33","v":""},{"$f":"sample!BB33","v":""},{"$f":"sample!BC33","v":""},{"$f":"sample!BD33","v":""},{"$f":"sample!BE33","v":""},{"$f":"sample!BF33","v":""},{"$f":"sample!BG33","v":""},{"$f":"sample!BH33","v":""},{"$f":"sample!BI33","v":""},{"$f":"sample!BJ33","v":""},{"$f":"sample!BK33","v":""}]
[]
[{"$f":"'Wk Input'!I17","v":""},{"$f":"'Wk Input'!B17","v":"DM113"},{"$f":"'Wk Input'!C17","v":"N/A"},{"$f":"'Wk Input'!F17","v":""},{"$f":"KPIScore!I17","v":""},{"$f":"sample!L34","v":""},{"$f":"sample!M34","v":""},{"$f":"sample!N34","v":""},{"$f":"sample!O34","v":""},{"$f":"sample!P34","v":""},{"$f":"sample!Q34","v":""},{"$f":"sample!R34","v":""},{"$f":"sample!S34","v":""},{"$f":"sample!T34","v":""},{"$f":"sample!U34","v":""},{"$f":"sample!V34","v":""},{"$f":"sample!W34","v":""},{"$f":"sample!X34","v":""},{"$f":"sample!Y34","v":""},{"$f":"sample!Z34","v":""},{"$f":"sample!AA34","v":""},{"$f":"sample!AB34","v":""},{"$f":"sample!AC34","v":""},{"$f":"sample!AD34","v":""},{"$f":"sample!AE34","v":""},{"$f":"sample!AF34","v":""},{"$f":"sample!AG34","v":""},{"$f":"sample!AH34","v":""},{"$f":"sample!AI34","v":""},{"$f":"sample!AJ34","v":""},{"$f":"sample!AK34","v":""},{"$f":"sample!AL34","v":""},{"$f":"sample!AM34","v":""},{"$f":"sample!AN34","v":""},{"$f":"sample!AO34","v":""},{"$f":"sample!AP34","v":""},{"$f":"sample!AQ34","v":""},{"$f":"sample!AR34","v":""},{"$f":"sample!AS34","v":""},{"$f":"sample!AT34","v":""},{"$f":"sample!AU34","v":""},{"$f":"sample!AV34","v":""},{"$f":"sample!AW34","v":""},{"$f":"sample!AX34","v":""},{"$f":"sample!AY34","v":""},{"$f":"sample!AZ34","v":""},{"$f":"sample!BA34","v":""},{"$f":"sample!BB34","v":""},{"$f":"sample!BC34","v":""},{"$f":"sample!BD34","v":""},{"$f":"sample!BE34","v":""},{"$f":"sample!BF34","v":""},{"$f":"sample!BG34","v":""},{"$f":"sample!BH34","v":""},{"$f":"sample!BI34","v":""},{"$f":"sample!BJ34","v":""},{"$f":"sample!BK34","v":""}]
[]
[{"$f":"'Wk Input'!I18","v":""},{"$f":"'Wk Input'!B18","v":"DM114"},{"$f":"'Wk Input'!C18","v":"N/A"},{"$f":"'Wk Input'!F18","v":""},{"$f":"KPIScore!I18","v":""},{"$f":"sample!L35","v":""},{"$f":"sample!M35","v":""},{"$f":"sample!N35","v":""},{"$f":"sample!O35","v":""},{"$f":"sample!P35","v":""},{"$f":"sample!Q35","v":""},{"$f":"sample!R35","v":""},{"$f":"sample!S35","v":""},{"$f":"sample!T35","v":""},{"$f":"sample!U35","v":""},{"$f":"sample!V35","v":""},{"$f":"sample!W35","v":""},{"$f":"sample!X35","v":""},{"$f":"sample!Y35","v":""},{"$f":"sample!Z35","v":""},{"$f":"sample!AA35","v":""},{"$f":"sample!AB35","v":""},{"$f":"sample!AC35","v":""},{"$f":"sample!AD35","v":""},{"$f":"sample!AE35","v":""},{"$f":"sample!AF35","v":""},{"$f":"sample!AG35","v":""},{"$f":"sample!AH35","v":""},{"$f":"sample!AI35","v":""},{"$f":"sample!AJ35","v":""},{"$f":"sample!AK35","v":""},{"$f":"sample!AL35","v":""},{"$f":"sample!AM35","v":""},{"$f":"sample!AN35","v":""},{"$f":"sample!AO35","v":""},{"$f":"sample!AP35","v":""},{"$f":"sample!AQ35","v":""},{"$f":"sample!AR35","v":""},{"$f":"sample!AS35","v":""},{"$f":"sample!AT35","v":""},{"$f":"sample!AU35","v":""},{"$f":"sample!AV35","v":""},{"$f":"sample!AW35","v":""},{"$f":"sample!AX35","v":""},{"$f":"sample!AY35","v":""},{"$f":"sample!AZ35","v":""},{"$f":"sample!BA35","v":""},{"$f":"sample!BB35","v":""},{"$f":"sample!BC35","v":""},{"$f":"sample!BD35","v":""},{"$f":"sample!BE35","v":""},{"$f":"sample!BF35","v":""},{"$f":"sample!BG35","v":""},{"$f":"sample!BH35","v":""},{"$f":"sample!BI35","v":""},{"$f":"sample!BJ35","v":""},{"$f":"sample!BK35","v":""}]
[]
[{"$f":"'Wk Input'!I19","v":""},{"$f":"'Wk Input'!B19","v":"DM115"},{"$f":"'Wk Input'!C19","v":"N/A"},{"$f":"'Wk Input'!F19","v":""},{"$f":"KPIScore!I19","v":""},{"$f":"sample!L36","v":""},{"$f":"sample!M36","v":""},{"$f":"sample!N36","v":""},{"$f":"sample!O36","v":""},{"$f":"sample!P36","v":""},{"$f":"sample!Q36","v":""},{"$f":"sample!R36","v":""},{"$f":"sample!S36","v":""},{"$f":"sample!T36","v":""},{"$f":"sample!U36","v":""},{"$f":"sample!V36","v":""},{"$f":"sample!W36","v":""},{"$f":"sample!X36","v":""},{"$f":"sample!Y36","v":""},{"$f":"sample!Z36","v":""},{"$f":"sample!AA36","v":""},{"$f":"sample!AB36","v":""},{"$f":"sample!AC36","v":""},{"$f":"sample!AD36","v":""},{"$f":"sample!AE36","v":""},{"$f":"sample!AF36","v":""},{"$f":"sample!AG36","v":""},{"$f":"sample!AH36","v":""},{"$f":"sample!AI36","v":""},{"$f":"sample!AJ36","v":""},{"$f":"sample!AK36","v":""},{"$f":"sample!AL36","v":""},{"$f":"sample!AM36","v":""},{"$f":"sample!AN36","v":""},{"$f":"sample!AO36","v":""},{"$f":"sample!AP36","v":""},{"$f":"sample!AQ36","v":""},{"$f":"sample!AR36","v":""},{"$f":"sample!AS36","v":""},{"$f":"sample!AT36","v":""},{"$f":"sample!AU36","v":""},{"$f":"sample!AV36","v":""},{"$f":"sample!AW36","v":""},{"$f":"sample!AX36","v":""},{"$f":"sample!AY36","v":""},{"$f":"sample!AZ36","v":""},{"$f":"sample!BA36","v":""},{"$f":"sample!BB36","v":""},{"$f":"sample!BC36","v":""},{"$f":"sample!BD36","v":""},{"$f":"sample!BE36","v":""},{"$f":"sample!BF36","v":""},{"$f":"sample!BG36","v":""},{"$f":"sample!BH36","v":""},{"$f":"sample!BI36","v":""},{"$f":"sample!BJ36","v":""},{"$f":"sample!BK36","v":""}]
[]
[{"$f":"'Wk Input'!I20","v":""},{"$f":"'Wk Input'!B20","v":"DM116"},{"$f":"'Wk Input'!C20","v":"N/A"},{"$f":"'Wk Input'!F20","v":""},{"$f":"KPIScore!I20","v":""},{"$f":"sample!L37","v":""},{"$f":"sample!M37","v":""},{"$f":"sample!N37","v":""},{"$f":"sample!O37","v":""},{"$f":"sample!P37","v":""},{"$f":"sample!Q37","v":""},{"$f":"sample!R37","v":""},{"$f":"sample!S37","v":""},{"$f":"sample!T37","v":""},{"$f":"sample!U37","v":""},{"$f":"sample!V37","v":""},{"$f":"sample!W37","v":""},{"$f":"sample!X37","v":""},{"$f":"sample!Y37","v":""},{"$f":"sample!Z37","v":""},{"$f":"sample!AA37","v":""},{"$f":"sample!AB37","v":""},{"$f":"sample!AC37","v":""},{"$f":"sample!AD37","v":""},{"$f":"sample!AE37","v":""},{"$f":"sample!AF37","v":""},{"$f":"sample!AG37","v":""},{"$f":"sample!AH37","v":""},{"$f":"sample!AI37","v":""},{"$f":"sample!AJ37","v":""},{"$f":"sample!AK37","v":""},{"$f":"sample!AL37","v":""},{"$f":"sample!AM37","v":""},{"$f":"sample!AN37","v":""},{"$f":"sample!AO37","v":""},{"$f":"sample!AP37","v":""},{"$f":"sample!AQ37","v":""},{"$f":"sample!AR37","v":""},{"$f":"sample!AS37","v":""},{"$f":"sample!AT37","v":""},{"$f":"sample!AU37","v":""},{"$f":"sample!AV37","v":""},{"$f":"sample!AW37","v":""},{"$f":"sample!AX37","v":""},{"$f":"sample!AY37","v":""},{"$f":"sample!AZ37","v":""},{"$f":"sample!BA37","v":""},{"$f":"sample!BB37","v":""},{"$f":"sample!BC37","v":""},{"$f":"sample!BD37","v":""},{"$f":"sample!BE37","v":""},{"$f":"sample!BF37","v":""},{"$f":"sample!BG37","v":""},{"$f":"sample!BH37","v":""},{"$f":"sample!BI37","v":""},{"$f":"sample!BJ37","v":""},{"$f":"sample!BK37","v":""}]
[]
[null,null,null,null,"Minggu",1,2,3,4,5,6,7,8,9,10,11,12,13,14,15,16,17,18,19,20,21,22,23,24,25,26,27,28,29,30,31,32,33,34,35,36,37,38,39,40,41,42,43,44,45,46,47,48,49,50,51,52]
[]
[null,null,"Form design by LEADERSENSE CONSULTING & SYSTEMS SDN BHD © 2017"]

{"sheet":"MyDashboard","index":5,"n_rows":49,"n_cols":24,"rows_kept":49,"cut":false,"hidden":false,"merged":[[48,6,48,17],[46,3,46,5],[45,3,45,5],[45,21,45,23],[46,21,46,23],[46,18,46,20],[45,18,45,20],[46,15,46,17],[45,15,45,17],[45,12,45,14],[46,12,46,14],[46,9,46,11],[45,9,45,11],[45,6,45,8],[46,6,46,8],[31,20,31,23],[32,8,32,11],[32,12,32,15],[32,16,32,19],[32,20,32,23],[31,8,31,11],[31,12,31,15],[31,16,31,19],[17,20,17,23],[18,8,18,11],[18,12,18,15],[18,16,18,19],[18,20,18,23],[2,9,2,14],[3,9,3,14],[17,8,17,11],[17,12,17,15],[17,16,17,19],[46,0,46,2],[0,0,1,1],[2,1,2,7],[3,1,3,7],[45,0,45,2],[0,2,1,7],[31,0,32,7],[27,0,30,7]]}
[{"$f":"KPICreate!A4","v":2020},null,"KPI MyDashboard"]
[]
[null,{"$f":"Home!H6","v":"ADAM NAUFAL HASMADI"},null,null,null,null,null,null,null,{"$f":"Home!$H$12","v":"PEMASARAN DAN PERKHIDMATAN"}]
[null,{"$f":"Home!H10","v":"PEN. KETUA PEMASARAN DAN PERKHIDMATAN"},null,null,null,null,null,null,null,{"$f":"Home!$H$16","v":"SAMPEL CORPORATION LTD"}]
[null,null,null,null,null,null,null,null,"Minggu Ini:",{"$f":"'Wk Input'!J2","v":53}]
[null,"Speedometer Data",null,"Series Level",null,null,null,null,"Speedometer Data",null,null,"Series Level","Speedometer Data",null,null,"Series Level","Speedometer Data",null,null,"Series Level","Speedometer Data",null,null,"Series Level"]
[null,"Start",0,0,null,null,null,null,"Start",null,0,0,"Start",null,0,0,"Start",null,0,0,"Start",null,0,0]
[null,"Red",20,20,null,null,null,null,"Red",null,20,20,"Red",null,20,20,"Red",null,20,20,"Red",null,20,20]
[null,"Orange",30,50,null,null,null,null,"Orange",null,30,50,"Orange",null,30,50,"Orange",null,30,50,"Orange",null,30,50]
[null,"Yellow",30,80,null,null,null,null,"Yellow",null,30,80,"Yellow",null,30,80,"Yellow",null,30,80,"Yellow",null,30,80]
[null,"Yellow-Green",10,90,null,null,null,null,"Yellow-Green",null,10,90,"Yellow-Green",null,10,90,"Yellow-Green",null,10,90,"Yellow-Green",null,10,90]
[null,"Green",10,100,null,null,null,null,"Green",null,10,100,"Green",null,10,100,"Green",null,10,100,"Green",null,10,100]
[null,"Blank area",100,null,null,null,null,null,"Blank area",null,100,null,"Blank area",null,100,null,"Blank area",null,100,null,"Blank area",null,100]
[null,"Pointer Data",null,null,null,null,null,null,"Pointer Data",null,null,null,"Pointer Data",null,null,null,"Pointer Data",null,null,null,"Pointer Data"]
[null,"KPI Score",{"$f":"KPIScore!O21","v":95.11655302695533},null,null,null,null,null,"KPI Score",null,{"$f":"KPIScore!N5","v":99.220779219999997},null,"KPI Score",null,{"$f":"KPIScore!N6","v":67.261904759999993},null,"KPI Score",null,{"$f":"KPIScore!N7","v":100},null,"KPI Score",null,{"$f":"KPIScore!N8","v":98.668639053254438}]
[null,"Needle size",2,null,null,null,null,null,"Needle size",null,2,null,"Needle size",null,2,null,"Needle size",null,2,null,"Needle size",null,2]
[null,"End",{"$f":"SUM(C7:C13)-SUM(C15:C16)","v":102.88344697304467},null,null,null,null,null,"End",null,{"$f":"SUM(K7:K13)-SUM(K15:K16)","v":98.779220780000003},null,"End",null,{"$f":"SUM(O7:O13)-SUM(O15:O16)","v":130.73809524000001},null,"End",null,{"$f":"SUM(S7:S13)-SUM(S15:S16)","v":98},null,"End",null,{"$f":"SUM(W7:W13)-SUM(W15:W16)","v":99.331360946745562}]
[null,null,null,null,null,null,null,null,{"$f":"KPIScore!B5","v":"WK01 Mencapai sasaran pendapatan korporat yang meningkat bagi Sektor Perumahan (RM Juta)"},null,null,null,{"$f":"KPIScore!B6","v":"BP03 Mengekalkan pembayaran pulang deposit pelanggan sewaan dalam tempoh yang optimum (Bil Hari)"},null,null,null,{"$f":"KPIScore!B7","v":"BP49 Mengekalkan Penghantaran shipment Pelanggan menepati sasaran"},null,null,null,{"$f":"KPIScore!B8","v":"BP19 Mencapai penyempurnaan survei kajian penyelidikan 5 Klien-Produk"}]
[null,null,null,null,null,null,null,null,{"$f":"K15","v":99.220779219999997},null,null,null,{"$f":"O15","v":67.261904759999993},null,null,null,{"$f":"S15","v":100},null,null,null,{"$f":"W15","v":98.668639053254438}]
[null,null,null,null,null,null,null,null,"Speedometer Data",null,null,"Series Level","Speedometer Data",null,null,"Series Level","Speedometer Data",null,null,"Series Level","Speedometer Data",null,null,"Series Level"]
[null,null,null,null,null,null,null,null,"Start",null,0,0,"Start",null,0,0,"Start",null,0,0,"Start",null,0,0]
[null,null,null,null,null,null,null,null,"Red",null,20,20,"Red",null,20,20,"Red",null,20,20,"Red",null,20,20]
[null,null,null,null,null,null,null,null,"Orange",null,30,50,"Orange",null,30,50,"Orange",null,30,50,"Orange",null,30,50]
[null,null,null,null,null,null,null,null,"Yellow",null,30,80,"Yellow",null,30,80,"Yellow",null,30,80,"Yellow",null,30,80]
[null,null,null,null,null,null,null,null,"Yellow-Green",null,10,90,"Yellow-Green",null,10,90,"Yellow-Green",null,10,90,"Yellow-Green",null,10,90]
[null,null,null,null,null,null,null,null,"Green",null,10,100,"Green",null,10,100,"Green",null,10,100,"Green",null,10,100]
[null,null,null,null,null,null,null,null,"Blank area",null,100,null,"Blank area",null,100,null,"Blank area",null,100,null,"Blank area",null,100]
[{"$f":"KPIScore!N21","v":"Jumlah Skor KPI diWajar %"},null,null,null,null,null,null,null,"Pointer Data",null,null,null,"Pointer Data",null,null,null,"Pointer Data",null,null,null,"Pointer Data"]
[null,null,null,null,null,null,null,null,"KPI Score",null,{"$f":"KPIScore!N9","v":100},null,"KPI Score",null,{"$f":"KPIScore!N10","v":100},null,"KPI Score",null,{"$f":"KPIScore!N11","v":""},null,"KPI Score",null,{"$f":"KPIScore!N12","v":""}]
[null,null,null,null,null,null,null,null,"Needle size",null,2,null,"Needle size",null,2,null,"Needle size",null,2,null,"Needle size",null,2]
[null,null,null,null,null,null,null,null,"End",null,{"$f":"SUM(K21:K27)-SUM(K29:K30)","v":98},null,"End",null,{"$f":"SUM(O21:O27)-SUM(O29:O30)","v":98},null,"End",null,{"$f":"SUM(S21:S27)-SUM(S29:S30)","v":198},null,"End",null,{"$f":"SUM(W21:W27)-SUM(W29:W30)","v":198}]
[{"$f":"C15","v":95.11655302695533},null,null,null,null,null,null,null,{"$f":"KPIScore!B9","v":"OR04 Mengekalkan penyempurnaan kerja-kerja adhoc pemasaran dan perkhidmatan seperti yang diperlukan oleh Jabatan"},null,null,null,{"$f":"KPIScore!B10","v":"OR05 Mencapai pensijilan ISO18001:2007 oleh badan pensijilan"},null,null,null,{"$f":"KPIScore!B11","v":"N/A"},null,null,null,{"$f":"KPIScore!B12","v":"N/A"}]
[null,null,null,null,null,null,null,null,{"$f":"K29","v":100},null,null,null,{"$f":"O29","v":100},null,null,null,{"$f":"S29","v":""},null,null,null,{"$f":"W29","v":""}]
["Speedometer Data",null,"Series Level","Speedometer Data",null,"Series Level","Speedometer Data",null,"Series Level","Speedometer Data",null,"Series Level","Speedometer Data",null,"Series Level","Speedometer Data",null,"Series Level","Speedometer Data",null,"Series Level","Speedometer Data",null,"Series Level"]
["Start",0,0,"Start",0,0,"Start",0,0,"Start",0,0,"Start",0,0,"Start",0,0,"Start",0,0,"Start",0,0]
["Red",20,20,"Red",20,20,"Red",20,20,"Red",20,20,"Red",20,20,"Red",20,20,"Red",20,20,"Red",20,20]
["Orange",30,50,"Orange",30,50,"Orange",30,50,"Orange",30,50,"Orange",30,50,"Orange",30,50,"Orange",30,50,"Orange",30,50]
["Yellow",30,80,"Yellow",30,80,"Yellow",30,80,"Yellow",30,80,"Yellow",30,80,"Yellow",30,80,"Yellow",30,80,"Yellow",30,80]
["Yellow-Green",10,90,"Yellow-Green",10,90,"Yellow-Green",10,90,"Yellow-Green",10,90,"Yellow-Green",10,90,"Yellow-Green",10,90,"Yellow-Green",10,90,"Yellow-Green",10,90]
["Green",10,100,"Green",10,100,"Green",10,100,"Green",10,100,"Green",10,100,"Green",10,100,"Green",10,100,"Green",10,100]
["Blank area",100,null,"Blank area",100,null,"Blank area",100,null,"Blank area",100,null,"Blank area",100,null,"Blank area",100,null,"Blank area",100,null,"Blank area",100]
["Pointer Data",null,null,"Pointer Data",null,null,"Pointer Data",null,null,"Pointer Data",null,null,"Pointer Data",null,null,"Pointer Data",null,null,"Pointer Data",null,null,"Pointer Data"]
["KPI Score",{"$f":"KPIScore!N13","v":""},null,"KPI Score",{"$f":"KPIScore!N14","v":""},null,"KPI Score",{"$f":"KPIScore!N15","v":""},null,"KPI Score",{"$f":"KPIScore!N16","v":""},null,"KPI Score",{"$f":"KPIScore!N17","v":""},null,"KPI Score",{"$f":"KPIScore!N18","v":""},null,"KPI Score",{"$f":"KPIScore!N19","v":""},null,"KPI Score",{"$f":"KPIScore!N20","v":""}]
["Needle size",2,null,"Needle size",2,null,"Needle size",2,null,"Needle size",2,null,"Needle size",2,null,"Needle size",2,null,"Needle size",2,null,"Needle size",2]
["End",{"$f":"SUM(B35:B41)-SUM(B43:B44)","v":198},null,"End",{"$f":"SUM(E35:E41)-SUM(E43:E44)","v":198},null,"End",{"$f":"SUM(H35:H41)-SUM(H43:H44)","v":198},null,"End",{"$f":"SUM(K35:K41)-SUM(K43:K44)","v":198},null,"End",{"$f":"SUM(N35:N41)-SUM(N43:N44)","v":198},null,"End",{"$f":"SUM(Q35:Q41)-SUM(Q43:Q44)","v":198},null,"End",{"$f":"SUM(T35:T41)-SUM(T43:T44)","v":198},null,"End",{"$f":"SUM(W35:W41)-SUM(W43:W44)","v":198}]
[{"$f":"KPIScore!B13","v":"N/A"},null,null,{"$f":"KPIScore!B14","v":"N/A"},null,null,{"$f":"KPIScore!B15","v":"N/A"},null,null,{"$f":"KPIScore!B16","v":"N/A"},null,null,{"$f":"KPIScore!B17","v":"N/A"},null,null,{"$f":"KPIScore!B18","v":"N/A"},null,null,{"$f":"KPIScore!B19","v":"N/A"},null,null,{"$f":"KPIScore!B20","v":"N/A"}]
[{"$f":"B43","v":""},null,null,{"$f":"E43","v":""},null,null,{"$f":"H43","v":""},null,null,{"$f":"K43","v":""},null,null,{"$f":"N43","v":""},null,null,{"$f":"Q43","v":""},null,null,{"$f":"T43","v":""},null,null,{"$f":"W43","v":""}]
[]
[null,null,null,null,null,null,"Form Design by: Leadersense Consulting & Systems Sdn Bhd @2017"]

{"sheet":"CorpGraphs","index":6,"n_rows":124,"n_cols":142,"rows_kept":124,"cut":false,"hidden":false,"merged":[[0,1,2,4],[0,12,1,13],[0,14,1,23],[2,15,2,22],[5,3,5,8],[5,12,5,17],[5,21,5,26],[1,7,1,8],[1,5,1,6],[0,7,0,8],[0,5,0,6],[29,3,29,8],[29,12,29,17],[29,21,29,26],[53,3,53,8],[53,12,53,17],[53,21,53,26],[123,22,123,25],[77,3,77,8],[77,12,77,17],[77,21,77,26],[101,3,101,8],[101,12,101,17],[101,21,101,26]]}
[null,"Corporate Graphs",null,null,null,null,null,null,null,null,null,"Minggu ini:",{"$f":"KPICreate!A4","v":2020},null,{"$f":"Home!H16","v":"SAMPEL CORPORATION LTD"}]
[null,null,null,null,null,null,null,null,null,null,null,{"$f":"'Wk Input'!J2","v":53},null,null,null,null,null,null,null,null,null,null,null,null,null,null,null,null,null,null,null,null,null,null,null,null,1,2,3,4,5,6,7,8,9,10,11,12,13,14,15,16,17,18,19,20,21,22,23,24,25,26,27,28,29,30,31,32,33,34,35,36,37,38,39,40,41,42,43,44,45,46,47,48,49,50,51,52,null,{"$f":"IF($L$2>52,52,$L$2)","v":52}]
[null,null,null,null,null,null,null,null,null,null,null,null,null,null,null,"MD/CEO kumpulan telah berkongsi geraf2 ini dengan anda:",null,null,null,null,null,null,null,null,null,null,null,null,null,null,null,null,"KPI Ref ID","Description","MType","Sasaran","Wk 1","Wk 2","Wk 3","Wk 4","Wk 5","Wk 6","Wk 7","Wk 8","Wk 9","Wk 10","Wk 11","Wk 12","Wk 13","Wk 14","Wk 15","Wk 16","Wk 17","Wk 18","Wk 19","Wk 20","Wk 21","Wk 22","Wk 23","Wk 24","Wk 25","Wk 26","Wk 27","Wk 28","Wk 29","Wk 30","Wk 31","Wk 32","Wk 33","Wk 34","Wk 35","Wk 36","Wk 37","Wk 38","Wk 39","Wk 40","Wk 41","Wk 42","Wk 43","Wk 44","Wk 45","Wk 46","Wk 47","Wk 48","Wk 49","Wk 50","Wk 51","Wk 52",null,null,1,2,3,4,5,6,7,8,9,10,11,12,13,14,15,16,17,18,19,20,21,22,23,24,25,26,27,28,29,30,31,32,33,34,35,36,37,38,39,40,41,42,43,44,45,46,47,48,49,50,51,52]
[]
[null,"❶","ID KPI:",{"$f":"AG8","v":"AA001"},null,"Nilai Wk:",{"$f":"INDEX($AK8:$CJ8,,$CL$2)","v":""},"Skor %:",{"$f":"INDEX($CM9:$EL9,,$CL$2)","v":98.16400000000003},null,"❷","ID KPI:",{"$f":"AG10","v":"AA005"},null,"Nilai Wk:",{"$f":"INDEX($AK10:$CJ10,,$CL$2)","v":""},"Skor %:",{"$f":"INDEX($CM11:$EL11,,$CL$2)","v":90.658000000000001},null,"❸","ID KPI:",{"$f":"AG12","v":"AA103"},null,"Nilai Wk:",{"$f":"INDEX($AK12:$CJ12,,$CL$2)","v":""},"Skor %:",{"$f":"INDEX($CM13:$EL13,,$CL$2)","v":92.755411255833323}]
[null,null,"Deskripsi KPI:",{"$f":"AH8","v":"WK01 Mencapai sasaran pendapatan korporat yang meningkat (RM Juta)"},null,null,null,null,null,null,null,"Deskripsi KPI:",{"$f":"AH10","v":"WR11 Mencapai Pensijilan Korporat ISO9001:2015"},null,null,null,null,null,null,null,"Deskripsi KPI:",{"$f":"AH12","v":"WP31 Mengekalkan pencapaian Service Level Agreement 5 Klien Tertinggi"}]
[null,null,null,null,null,null,null,null,null,null,null,null,null,null,null,null,null,null,null,null,null,null,null,null,null,null,null,null,null,null,null,false]
[null,null,null,null,null,null,null,null,null,null,null,null,null,null,null,null,null,null,null,null,null,null,null,null,null,null,null,null,null,null,null,"AA001","AA001","WK01 Mencapai sasaran pendapatan korporat yang meningkat (RM Juta)","1A","Nilai Konsol",0,0,0,2.52,4.03,6.3750000000000009,7.875,10.875,10.875,10.875,13.5,18,18.75,18.75,21.000000000000004,21.000000000000004,21.000000000000004,23.25,24.75,25.500000000000004,25.640000000000004,27.460000000000008,27.653000000000006,29.786000000000005,30.211000000000006,32.365000000000009,32.659000000000006,32.859000000000009,35.182000000000002,36.224000000000004,38.566000000000003,39.973000000000006,40.204000000000008,40.949000000000012,43.411000000000008,43.602000000000004,43.959000000000003,44.342000000000006,44.559000000000005,48.266000000000005,49.426000000000002,50.306000000000004,51.159000000000006,58.554000000000009,58.929000000000009,58.95300000000001,63.571000000000012,64.779000000000011,66.912000000000006,"","","",null,"A",0,0,0,3.36,5.373333333333334,8.5000000000000018,10.5,14.5,14.5,14.5,18,24,25,25,28.000000000000004,28.000000000000004,28.000000000000004,31,33,34.000000000000007,34.186666666666675,36.613333333333344,36.870666666666672,39.714666666666673,40.281333333333343,43.153333333333343,43.545333333333339,43.812000000000012,46.909333333333336,48.298666666666669,51.421333333333337,53.297333333333341,53.605333333333341,54.598666666666681,57.881333333333345,58.136000000000003,58.612000000000002,59.122666666666674,59.412000000000006,64.354666666666674,65.901333333333341,67.074666666666673,68.212000000000003,78.072000000000017,78.572000000000017,78.604000000000013,84.761333333333354,86.372000000000014,89.216000000000008,89.588000000000022,91.581333333333347,98.16400000000003]
[null,null,null,null,null,null,null,null,null,null,null,null,null,null,null,null,null,null,null,null,null,null,null,null,null,null,null,null,null,null,null,"AA005",null,null,null,"Sasaran",75,75,75,75,75,75,75,75,75,75,75,75,75,75,75,75,75,75,75,75,75,75,75,75,75,75,75,75,75,75,75,75,75,75,75,75,75,75,75,75,75,75,75,75,75,75,75,75,75,75,75,75,null,null,0,0,0,3.36,5.373333333333334,8.5000000000000018,10.5,14.5,14.5,14.5,18,24,25,25,28.000000000000004,28.000000000000004,28.000000000000004,31,33,34.000000000000007,34.186666666666675,36.613333333333344,36.870666666666672,39.714666666666673,40.281333333333343,43.153333333333343,43.545333333333339,43.812000000000012,46.909333333333336,48.298666666666669,51.421333333333337,53.297333333333341,53.605333333333341,54.598666666666681,57.881333333333345,58.136000000000003,58.612000000000002,59.122666666666674,59.412000000000006,64.354666666666674,65.901333333333341,67.074666666666673,68.212000000000003,78.072000000000017,78.572000000000017,78.604000000000013,84.761333333333354,86.372000000000014,89.216000000000008,89.588000000000022,91.581333333333347,98.16400000000003]
[null,null,null,null,null,null,null,null,null,null,null,null,null,null,null,null,null,null,null,null,null,null,null,null,null,null,null,null,null,null,null,"AA103","AA005","WR11 Mencapai Pensijilan Korporat ISO9001:2015","1A","Nilai Konsol",0,0,0,1.5,1.5,1.5,4.5,6,9,10.5,15.5,17.248999999999999,18.584,18.584,20.251999999999999,21.751999999999999,21.815000000000001,21.815000000000001,24.978999999999999,26.416,26.542000000000002,27.126000000000001,30.5,32,35.5,35.749000000000002,39,39,40.752000000000002,42.003,46,46.9,48.816000000000003,50.414999999999999,52.2,54.2,55.7,58.813000000000002,58.813000000000002,60.813000000000002,70.623999999999995,70.623999999999995,74.292000000000002,74.623999999999995,76.123999999999995,81.331999999999994,81.394999999999996,85.1,86,"","","",null,"A",0,0,0,1.5,1.5,1.5,4.5,6,9,10.5,15.5,17.248999999999999,18.584,18.584,20.251999999999999,21.751999999999999,21.815000000000001,21.815000000000001,24.978999999999999,26.416,26.542000000000002,27.126000000000001,30.5,32,35.5,35.749000000000002,39,39,40.752000000000002,42.003,46,46.9,48.816000000000003,50.414999999999999,52.2,54.2,55.7,58.813000000000002,58.813000000000002,60.813000000000002,70.623999999999995,70.623999999999995,74.292000000000002,74.623999999999995,76.123999999999995,81.331999999999994,81.394999999999996,85.1,86,87.2,88.573999999999998,90.658000000000001]
[null,null,null,null,null,null,null,null,null,null,null,null,null,null,null,null,null,null,null,null,null,null,null,null,null,null,null,null,null,null,null,"AA104",null,null,null,"Sasaran",100,100,100,100,100,100,100,100,100,100,100,100,100,100,100,100,100,100,100,100,100,100,100,100,100,100,100,100,100,100,100,100,100,100,100,100,100,100,100,100,100,100,100,100,100,100,100,100,100,100,100,100,null,null,0,0,0,1.5,1.5,1.5,4.5,6,9,10.5,15.5,17.248999999999999,18.584,18.584,20.251999999999999,21.751999999999999,21.815000000000001,21.815000000000001,24.978999999999999,26.416,26.542000000000002,27.126000000000001,30.5,32,35.5,35.749000000000002,39,39,40.752000000000002,42.003,46,46.9,48.816000000000003,50.414999999999999,52.2,54.2,55.7,58.813000000000002,58.813000000000002,60.813000000000002,70.623999999999995,70.623999999999995,74.292000000000002,74.623999999999995,76.123999999999995,81.331999999999994,81.394999999999996,85.1,86,87.2,88.573999999999998,90.658000000000001]
[null,null,null,null,null,null,null,null,null,null,null,null,null,null,null,null,null,null,null,null,null,null,null,null,null,null,null,null,null,null,null,"AA202","AA103","WP31 Mengekalkan pencapaian Service Level Agreement 5 Klien Tertinggi","1M","Nilai Konsol","","","","",94,"","","",89.5,"","","","",95.5,"","","",92,"","","","",54,"","","",90,"","","",92.5,"","","","",91.5,"","","",93.5,"","","",95.5,"","","","",98.5,"","","",null,"M",null,null,null,null,94,null,null,null,91.75,null,null,null,null,93,null,null,null,92.75,null,null,null,null,92.9,null,null,null,92.3,null,null,null,92.357142859999996,null,null,null,null,92.196428569999995,null,null,null,92.333333330000002,null,null,null,92.666666669999998,null,null,null,null,93.20909091,null,null,93.602272729999996]
[null,null,null,null,null,null,null,null,null,null,null,null,null,null,null,null,null,null,null,null,null,null,null,null,null,null,null,null,null,null,null,"",null,null,null,"Sasaran",100,100,100,100,100,100,100,100,100,100,100,100,100,100,100,100,100,100,100,100,100,100,100,100,100,100,100,100,100,100,100,100,100,100,100,100,100,100,100,100,100,100,100,100,100,100,100,100,100,100,100,100,null,null,"","","","",94,94,94,94,92.875,92.875,92.875,92.875,92.875,92.916666666666671,92.916666666666671,92.916666666666671,92.916666666666671,92.875,92.875,92.875,92.875,92.875,92.88,92.88,92.88,92.88,92.783333333333317,92.783333333333317,92.783333333333317,92.783333333333317,92.722448979999982,92.722448979999982,92.722448979999982,92.722448979999982,92.722448979999982,92.656696428749981,92.656696428749981,92.656696428749981,92.656696428749981,92.62076719555553,92.62076719555553,92.62076719555553,92.62076719555553,92.625357142999988,92.625357142999988,92.625357142999988,92.625357142999988,92.625357142999988,92.67842384909089,92.67842384909089,92.67842384909089,92.755411255833323]
[null,null,null,null,null,null,null,null,null,null,null,null,null,null,null,null,null,null,null,null,null,null,null,null,null,null,null,null,null,null,null,"BD003"]
[null,null,null,null,null,null,null,null,null,null,null,null,null,null,null,null,null,null,null,null,null,null,null,null,null,null,null,null,null,null,null,"BH004"]
[null,null,null,null,null,null,null,null,null,null,null,null,null,null,null,null,null,null,null,null,null,null,null,null,null,null,null,null,null,null,null,"BM303"]
[null,null,null,null,null,null,null,null,null,null,null,null,null,null,null,null,null,null,null,null,null,null,null,null,null,null,null,null,null,null,null,"BE304"]
[null,null,null,null,null,null,null,null,null,null,null,null,null,null,null,null,null,null,null,null,null,null,null,null,null,null,null,null,null,null,null,"BE203"]
[null,null,null,null,null,null,null,null,null,null,null,null,null,null,null,null,null,null,null,null,null,null,null,null,null,null,null,null,null,null,null,""]
[null,null,null,null,null,null,null,null,null,null,null,null,null,null,null,null,null,null,null,null,null,null,null,null,null,null,null,null,null,null,null,""]
[null,null,null,null,null,null,null,null,null,null,null,null,null,null,null,null,null,null,null,null,null,null,null,null,null,null,null,null,null,null,null,""]
[null,null,null,null,null,null,null,null,null,null,null,null,null,null,null,null,null,null,null,null,null,null,null,null,null,null,null,null,null,null,null,""]
[null,null,null,null,null,null,null,null,null,null,null,null,null,null,null,null,null,null,null,null,null,null,null,null,null,null,null,null,null,null,null,false]
[]
[]
[]
[]
[]
[null,"❹","ID KPI:",{"$f":"AG32","v":"AA104"},null,"Nilai Wk:",{"$f":"INDEX($AK32:$CJ32,,$CL$2)","v":""},"Skor %:",{"$f":"INDEX($CM33:$EL33,,$CL$2)","v":69.140625},null,"❺","ID KPI:",{"$f":"AG34","v":"AA202"},null,"Nilai Wk:",{"$f":"INDEX($AK34:$CJ34,,$CL$2)","v":""},"Skor %:",{"$f":"INDEX($CM35:$EL35,,$CL$2)","v":100},null,"❻","ID KPI:",{"$f":"AG36","v":""},null,"Nilai Wk:",{"$f":"INDEX($AK36:$CJ36,,$CL$2)","v":""},"Skor %:",{"$f":"INDEX($CM37:$EL37,,$CL$2)","v":""}]
[null,null,"Deskripsi KPI:",{"$f":"AH32","v":"WM18 Mencapai penyempurnaan program Pelan Penggantian Anggota"},null,null,null,null,null,null,null,"Deskripsi KPI:",{"$f":"AH34","v":"WM31 Mencapai pelaksanaan program Kompetensi Teknologi untuk Kecemerlangan anggota "},null,null,null,null,null,null,null,"Deskripsi KPI:",{"$f":"AH36","v":""}]
[]
[null,null,null,null,null,null,null,null,null,null,null,null,null,null,null,null,null,null,null,null,null,null,null,null,null,null,null,null,null,null,null,null,"AA104","WM18 Mencapai penyempurnaan program Pelan Penggantian Anggota","1A","Nilai Konsol",0,1.875,2,2.8125,3,4,4,4.6875,5,7,7,7.5,10.628500000000001,11.9375,15.941000000000001,15.941000000000001,15.941000000000001,17.5,17.5,18.25,20,20,23,23,23,24.065999999999999,26.625,26.625,26.625,27.1875,28.125,31.125,31.125,31.875,35.125,39.5,39.5,39.5,41.875,42.8125,44.5625,44.5625,49.0625,49.0625,50.9375,50.9375,50.9375,50.9375,50.9375,"","","",null,"A",0,2.34375,2.5,3.515625,3.75,5,5,5.859375,6.25,8.75,8.75,9.375,13.285625,14.921875,19.92625,19.92625,19.92625,21.875,21.875,22.8125,25,25,28.75,28.75,28.75,30.0825,33.28125,33.28125,33.28125,33.984375,35.15625,38.90625,38.90625,39.84375,43.90625,49.375,49.375,49.375,52.34375,53.515625,55.703125,55.703125,61.328125,61.328125,63.671875,63.671875,63.671875,63.671875,63.671875,66.953125,66.953125,69.140625]
[null,null,null,null,null,null,null,null,null,null,null,null,null,null,null,null,null,null,null,null,null,null,null,null,null,null,null,null,null,null,null,null,null,null,null,"Sasaran",80,80,80,80,80,80,80,80,80,80,80,80,80,80,80,80,80,80,80,80,80,80,80,80,80,80,80,80,80,80,80,80,80,80,80,80,80,80,80,80,80,80,80,80,80,80,80,80,80,80,80,80,null,null,0,2.34375,2.5,3.515625,3.75,5,5,5.859375,6.25,8.75,8.75,9.375,13.285625,14.921875,19.92625,19.92625,19.92625,21.875,21.875,22.8125,25,25,28.75,28.75,28.75,30.0825,33.28125,33.28125,33.28125,33.984375,35.15625,38.90625,38.90625,39.84375,43.90625,49.375,49.375,49.375,52.34375,53.515625,55.703125,55.703125,61.328125,61.328125,63.671875,63.671875,63.671875,63.671875,63.671875,66.953125,66.953125,69.140625]
[null,null,null,null,null,null,null,null,null,null,null,null,null,null,null,null,null,null,null,null,null,null,null,null,null,null,null,null,null,null,null,null,"AA202","WM31 Mencapai pelaksanaan program Kompetensi Teknologi untuk Kecemerlangan anggota ","1A","Nilai Konsol",0,6,6,6,6,10,10,17.916666670000001,17.916666670000001,17.916666670000001,19.416666670000001,28.25,32.625,32.625,32.625,32.625,35.541666669999998,35.541666669999998,35.541666669999998,35.541666669999998,41.375,41.375,41.375,41.375,41.375,47.271000000000001,47.271000000000001,49.611000000000004,49.611000000000004,49.611000000000004,52.098000000000006,52.098000000000006,52.098000000000006,56.895000000000003,56.895000000000003,59.922000000000004,59.922000000000004,59.922000000000004,64.941000000000003,64.941000000000003,64.941000000000003,68.281999999999996,68.281999999999996,72.86099999999999,72.86099999999999,72.86099999999999,74.916999999999987,74.916999999999987,74.916999999999987,"","","",null,"A",0,7.5,7.5,7.5,7.5,12.5,12.5,22.395833337500001,22.395833337500001,22.395833337500001,24.270833337500001,35.3125,40.78125,40.78125,40.78125,40.78125,44.427083337499994,44.427083337499994,44.427083337499994,44.427083337499994,51.71875,51.71875,51.71875,51.71875,51.71875,59.088749999999997,59.088749999999997,62.013750000000002,62.013750000000002,62.013750000000002,65.122500000000002,65.122500000000002,65.122500000000002,71.118750000000006,71.118750000000006,74.902500000000003,74.902500000000003,74.902500000000003,81.176249999999996,81.176249999999996,81.176249999999996,85.352499999999992,85.352499999999992,91.076249999999987,91.076249999999987,91.076249999999987,93.646249999999981,93.646249999999981,93.646249999999981,97.407499999999985,100,100]
[null,null,null,null,null,null,null,null,null,null,null,null,null,null,null,null,null,null,null,null,null,null,null,null,null,null,null,null,null,null,null,null,null,null,null,"Sasaran",80,80,80,80,80,80,80,80,80,80,80,80,80,80,80,80,80,80,80,80,80,80,80,80,80,80,80,80,80,80,80,80,80,80,80,80,80,80,80,80,80,80,80,80,80,80,80,80,80,80,80,80,null,null,0,7.5,7.5,7.5,7.5,12.5,12.5,22.395833337500001,22.395833337500001,22.395833337500001,24.270833337500001,35.3125,40.78125,40.78125,40.78125,40.78125,44.427083337499994,44.427083337499994,44.427083337499994,44.427083337499994,51.71875,51.71875,51.71875,51.71875,51.71875,59.088749999999997,59.088749999999997,62.013750000000002,62.013750000000002,62.013750000000002,65.122500000000002,65.122500000000002,65.122500000000002,71.118750000000006,71.118750000000006,74.902500000000003,74.902500000000003,74.902500000000003,81.176249999999996,81.176249999999996,81.176249999999996,85.352499999999992,85.352499999999992,91.076249999999987,91.076249999999987,91.076249999999987,93.646249999999981,93.646249999999981,93.646249999999981,97.407499999999985,100,100]
[null,null,null,null,null,null,null,null,null,null,null,null,null,null,null,null,null,null,null,null,null,null,null,null,null,null,null,null,null,null,null,null,"","","","Nilai Konsol","","","","","","","","","","","","","","","","","","","","","","","","","","","","","","","","","","","","","","","","","","","","","","","","","","","","",null,"","","","","","","","","","","","","","","","","","","","","","","","","","","","","","","","","","","","","","","","","","","","","","","","","","","","",""]
[null,null,null,null,null,null,null,null,null,null,null,null,null,null,null,null,null,null,null,null,null,null,null,null,null,null,null,null,null,null,null,null,null,null,null,"Sasaran","","","","","","","","","","","","","","","","","","","","","","","","","","","","","","","","","","","","","","","","","","","","","","","","","","","","",null,null,"","","","","","","","","","","","","","","","","","","","","","","","","","","","","","","","","","","","","","","","","","","","","","","","","","","",""]
[]
[]
[]
[]
[]
[]
[]
[]
[]
[]
[]
[]
[]
[]
[]
[null,"❼","ID KPI:",{"$f":"AG56","v":"BD003"},null,"Nilai Wk:",{"$f":"INDEX($AK56:$CJ56,,$CL$2)","v":""},"Skor %:",{"$f":"INDEX($CM57:$EL57,,$CL$2)","v":86.745999999999995},null,"❽","ID KPI:",{"$f":"AG58","v":"BH004"},null,"Nilai Wk:",{"$f":"INDEX($AK58:$CJ58,,$CL$2)","v":""},"Skor %:",{"$f":"INDEX($CM59:$EL59,,$CL$2)","v":100},null,"❾","ID KPI:",{"$f":"AG60","v":"BM303"},null,"Nilai Wk:",{"$f":"INDEX($AK60:$CJ60,,$CL$2)","v":""},"Skor %:",{"$f":"INDEX($CM61:$EL61,,$CL$2)","v":100}]
[null,null,"Deskripsi KPI:",{"$f":"AH56","v":"BK27 Mencapai penyempurnaan Latihan New Age Marketing"},null,null,null,null,null,null,null,"Deskripsi KPI:",{"$f":"AH58","v":"BR14 Mencapai penyediaan Prosidur Operasi Proses Jualan yang baru – Proses Service Delivery"},null,null,null,null,null,null,null,"Deskripsi KPI:",{"$f":"AH60","v":"BP19 Mencapai penyempurnaan survei kajian penyelidikan 5 Klien-Produk"}]
[]
[null,null,null,null,null,null,null,null,null,null,null,null,null,null,null,null,null,null,null,null,null,null,null,null,null,null,null,null,null,null,null,null,"BD003","BK27 Mencapai penyempurnaan Latihan New Age Marketing","1A","Nilai Konsol",0,0,0,0,0,0,2.8679999999999999,5.399,9.5890000000000004,9.5890000000000004,12.94,13.699,15.843,15.843,18.946999999999999,25.568999999999999,25.568999999999999,26.888999999999999,29.855,34.079000000000001,34.079000000000001,34.079000000000001,36.868000000000002,38.921999999999997,40.142000000000003,40.142000000000003,42.947000000000003,42.947000000000003,44.826999999999998,45.936999999999998,45.936999999999998,45.936999999999998,47.728999999999999,48.927,50.399000000000001,50.399000000000001,52.155999999999999,56.936,58.023000000000003,61.023000000000003,66.048000000000002,66.048000000000002,68.385999999999996,73.254000000000005,77.855000000000004,77.855000000000004,79.653999999999996,80.891999999999996,80.891999999999996,"","","",null,"A",0,0,0,0,0,0,2.8679999999999999,5.399,9.5890000000000004,9.5890000000000004,12.94,13.699,15.843,15.843,18.946999999999999,25.568999999999999,25.568999999999999,26.888999999999999,29.855,34.079000000000001,34.079000000000001,34.079000000000001,36.868000000000002,38.921999999999997,40.142000000000003,40.142000000000003,42.947000000000003,42.947000000000003,44.826999999999998,45.936999999999998,45.936999999999998,45.936999999999998,47.728999999999999,48.927,50.399000000000001,50.399000000000001,52.155999999999999,56.936,58.023000000000003,61.023000000000003,66.048000000000002,66.048000000000002,68.385999999999996,73.254000000000005,77.855000000000004,77.855000000000004,79.653999999999996,80.891999999999996,80.891999999999996,82.391999999999996,84.957999999999998,86.745999999999995]
[null,null,null,null,null,null,null,null,null,null,null,null,null,null,null,null,null,null,null,null,null,null,null,null,null,null,null,null,null,null,null,null,null,null,null,"Sasaran",100,100,100,100,100,100,100,100,100,100,100,100,100,100,100,100,100,100,100,100,100,100,100,100,100,100,100,100,100,100,100,100,100,100,100,100,100,100,100,100,100,100,100,100,100,100,100,100,100,100,100,100,null,null,0,0,0,0,0,0,2.8679999999999999,5.399,9.5890000000000004,9.5890000000000004,12.94,13.699,15.843,15.843,18.946999999999999,25.568999999999999,25.568999999999999,26.888999999999999,29.855,34.079000000000001,34.079000000000001,34.079000000000001,36.868000000000002,38.921999999999997,40.142000000000003,40.142000000000003,42.947000000000003,42.947000000000003,44.826999999999998,45.936999999999998,45.936999999999998,45.936999999999998,47.728999999999999,48.927,50.399000000000001,50.399000000000001,52.155999999999999,56.936,58.023000000000003,61.023000000000003,66.048000000000002,66.048000000000002,68.385999999999996,73.254000000000005,77.855000000000004,77.855000000000004,79.653999999999996,80.891999999999996,80.891999999999996,82.391999999999996,84.957999999999998,86.745999999999995]
[null,null,null,null,null,null,null,null,null,null,null,null,null,null,null,null,null,null,null,null,null,null,null,null,null,null,null,null,null,null,null,null,"BH004","BR14 Mencapai penyediaan Prosidur Operasi Proses Jualan yang baru – Proses Service Delivery","1A","Nilai Konsol",0,0,0,0,6.835,14.859,15.441000000000001,19.036000000000001,24.448,25.434000000000001,25.512999999999998,27.335999999999999,27.688000000000002,28.416,32.584000000000003,39.414000000000001,39.427999999999997,39.462000000000003,43.492000000000004,46.923999999999999,47.716000000000001,48.938000000000002,49.441000000000003,52.558999999999997,54.987000000000002,55.001000000000005,55.52,56.584000000000003,58.671999999999997,59.573999999999998,60.781999999999996,60.795999999999999,61.302,62.564,64.244,65.036000000000001,68.001000000000005,69.795000000000002,70.596000000000004,74.66,81.893000000000001,81.906999999999996,82.959000000000003,86.891000000000005,90.7,91.713999999999999,92.227000000000004,94.528999999999996,96.736999999999995,"","","",null,"A",0,0,0,0,6.835,14.859,15.441000000000001,19.036000000000001,24.448,25.434000000000001,25.512999999999998,27.335999999999999,27.688000000000002,28.416,32.584000000000003,39.414000000000001,39.427999999999997,39.462000000000003,43.492000000000004,46.923999999999999,47.716000000000001,48.938000000000002,49.441000000000003,52.558999999999997,54.987000000000002,55.001000000000005,55.52,56.584000000000003,58.671999999999997,59.573999999999998,60.781999999999996,60.795999999999999,61.302,62.564,64.244,65.036000000000001,68.001000000000005,69.795000000000002,70.596000000000004,74.66,81.893000000000001,81.906999999999996,82.959000000000003,86.891000000000005,90.7,91.713999999999999,92.227000000000004,94.528999999999996,96.736999999999995,100,100,100]
[null,null,null,null,null,null,null,null,null,null,null,null,null,null,null,null,null,null,null,null,null,null,null,null,null,null,null,null,null,null,null,null,null,null,null,"Sasaran",100,100,100,100,100,100,100,100,100,100,100,100,100,100,100,100,100,100,100,100,100,100,100,100,100,100,100,100,100,100,100,100,100,100,100,100,100,100,100,100,100,100,100,100,100,100,100,100,100,100,100,100,null,null,0,0,0,0,6.835,14.859,15.441000000000001,19.036000000000001,24.448,25.434000000000001,25.512999999999998,27.335999999999999,27.688000000000002,28.416,32.584000000000003,39.414000000000001,39.427999999999997,39.462000000000003,43.492000000000004,46.923999999999999,47.716000000000001,48.938000000000002,49.441000000000003,52.558999999999997,54.987000000000002,55.001000000000005,55.52,56.584000000000003,58.671999999999997,59.573999999999998,60.781999999999996,60.795999999999999,61.302,62.564,64.244,65.036000000000001,68.001000000000005,69.795000000000002,70.596000000000004,74.66,81.893000000000001,81.906999999999996,82.959000000000003,86.891000000000005,90.7,91.713999999999999,92.227000000000004,94.528999999999996,96.736999999999995,100,100,100]
[null,null,null,null,null,null,null,null,null,null,null,null,null,null,null,null,null,null,null,null,null,null,null,null,null,null,null,null,null,null,null,null,"BM303","BP19 Mencapai penyempurnaan survei kajian penyelidikan 5 Klien-Produk","1A","Nilai Konsol",0,0,0,0,0,0.39,0.39,0.79,0.79,2.11,2.5,4.21,4.21,5.92,6.84,10.26,10.66,12.5,13.29,16.97,19.47,20.66,22.5,24.87,28.55,33.68,34.869999999999997,40.39,42.76,48.29,53.42,53.42,58.95,58.95,65.66,68.42,69.61,72.37,74.739999999999995,80.260000000000005,83.03,83.03,84.21,84.21,87.76,87.76,97.24,97.24,100,"","","",null,"A",0,0,0,0,0,0.43333333333333335,0.43333333333333335,0.87777777777777777,0.87777777777777777,2.3444444444444441,2.7777777777777777,4.677777777777778,4.677777777777778,6.5777777777777775,7.6,11.4,11.844444444444445,13.888888888888889,14.766666666666666,18.855555555555554,21.633333333333333,22.955555555555556,25,27.633333333333333,31.722222222222221,37.422222222222224,38.74444444444444,44.87777777777778,47.511111111111106,53.655555555555551,59.355555555555554,59.355555555555554,65.5,65.5,72.955555555555549,76.022222222222226,77.344444444444449,80.411111111111111,83.044444444444437,89.177777777777777,92.25555555555556,92.25555555555556,93.566666666666663,93.566666666666663,97.51111111111112,97.51111111111112,100,100,100,100,100,100]
[null,null,null,null,null,null,null,null,null,null,null,null,null,null,null,null,null,null,null,null,null,null,null,null,null,null,null,null,null,null,null,null,null,null,null,"Sasaran",90,90,90,90,90,90,90,90,90,90,90,90,90,90,90,90,90,90,90,90,90,90,90,90,90,90,90,90,90,90,90,90,90,90,90,90,90,90,90,90,90,90,90,90,90,90,90,90,90,90,90,90,null,null,0,0,0,0,0,0.43333333333333335,0.43333333333333335,0.87777777777777777,0.87777777777777777,2.3444444444444441,2.7777777777777777,4.677777777777778,4.677777777777778,6.5777777777777775,7.6,11.4,11.844444444444445,13.888888888888889,14.766666666666666,18.855555555555554,21.633333333333333,22.955555555555556,25,27.633333333333333,31.722222222222221,37.422222222222224,38.74444444444444,44.87777777777778,47.511111111111106,53.655555555555551,59.355555555555554,59.355555555555554,65.5,65.5,72.955555555555549,76.022222222222226,77.344444444444449,80.411111111111111,83.044444444444437,89.177777777777777,92.25555555555556,92.25555555555556,93.566666666666663,93.566666666666663,97.51111111111112,97.51111111111112,100,100,100,100,100,100]
[]
[]
[]
[]
[]
[]
[]
[]
[]
[]
[]
[]
[]
[]
[]
[null,"❿","ID KPI:",{"$f":"AG80","v":"BE304"},null,"Nilai Wk:",{"$f":"INDEX($AK80:$CJ80,,$CL$2)","v":""},"Skor %:",{"$f":"INDEX($CM81:$EL81,,$CL$2)","v":99.434731934731929},null,"⓫","ID KPI:",{"$f":"AG82","v":"BE203"},null,"Nilai Wk:",{"$f":"INDEX($AK82:$CJ82,,$CL$2)","v":""},"Skor %:",{"$f":"INDEX($CM83:$EL83,,$CL$2)","v":88.520833333333329},null,"⓬","ID KPI:",{"$f":"AG84","v":""},null,"Nilai Wk:",{"$f":"INDEX($AK84:$CJ84,,$CL$2)","v":""},"Skor %:",{"$f":"INDEX($CM85:$EL85,,$CL$2)","v":""}]
[null,null,"Deskripsi KPI:",{"$f":"AH80","v":"BR22 Mengekalkan kestabilan dan kesediaan sistem ICT pengguna dalaman"},null,null,null,null,null,null,null,"Deskripsi KPI:",{"$f":"AH82","v":"BP08 Mengekalkan purata pencapaian 4-bintang dalam kepuasan pengguna bulanan "},null,null,null,null,null,null,null,"Deskripsi KPI:",{"$f":"AH84","v":""}]
[]
[null,null,null,null,null,null,null,null,null,null,null,null,null,null,null,null,null,null,null,null,null,null,null,null,null,null,null,null,null,null,null,null,"BE304","BR22 Mengekalkan kestabilan dan kesediaan sistem ICT pengguna dalaman","1M","Nilai Konsol",100,100,97.4,100,100,99.4,100,100,100,100,93.5,100,100,100,100,93.6,100,100,100,100,100,98.9,100,100,100,100,94.5,100,99.4,100,100,100,96.2,100,100,100,100,99.6,100,97.9,100,100,100,100,99.4,93.4,100,100,100,"","","",null,"M",100,100,98.383838383838395,100,100,100,100,100,100,100,94.444444444444443,100,100,100,100,94.545454545454547,100,100,100,100,100,99.89898989898991,100,100,100,100,95.454545454545453,100,100,100,100,100,97.171717171717177,100,100,100,100,100,100,98.8888888888889,100,100,100,100,100,94.343434343434353,100,100,100,100,97.474747474747474,100]
[null,null,null,null,null,null,null,null,null,null,null,null,null,null,null,null,null,null,null,null,null,null,null,null,null,null,null,null,null,null,null,null,null,null,null,"Sasaran",99,99,99,99,99,99,99,99,99,99,99,99,99,99,99,99,99,99,99,99,99,99,99,99,99,99,99,99,99,99,99,99,99,99,99,99,99,99,99,99,99,99,99,99,99,99,99,99,99,99,99,99,null,null,100,100,99.46127946127946,99.595959595959599,99.676767676767682,99.730639730639723,99.769119769119769,99.797979797979792,99.820426487093144,99.838383838383834,99.348025711662061,99.402356902356885,99.448329448329432,99.487734487734471,99.521885521885508,99.210858585858574,99.257278669043359,99.298540965207621,99.335459861775647,99.368686868686865,99.398749398749388,99.421487603305778,99.446640316205517,99.469696969696955,99.490909090909085,99.510489510489506,99.360269360269356,99.38311688311687,99.404388714733528,99.424242424242422,99.442815249266857,99.460227272727266,99.390878481787567,99.408793820558529,99.42568542568543,99.441638608305269,99.456729456729448,99.471026049973418,99.484589484589478,99.469696969696969,99.48263118994825,99.494949494949481,99.506694855532047,99.517906336088132,99.528619528619515,99.415898111550277,99.428325811304532,99.440235690235681,99.451659451659438,99.462626262626259,99.423648247177653,99.434731934731929]
[null,null,null,null,null,null,null,null,null,null,null,null,null,null,null,null,null,null,null,null,null,null,null,null,null,null,null,null,null,null,null,null,"BE203","BP08 Mengekalkan purata pencapaian 4-bintang dalam kepuasan pengguna bulanan ","1M","Nilai Konsol","","","",3.8450000000000002,"","","",3.427,"","","","",3.286,"","","",3.4889999999999999,"","","",3.6819999999999999,"","","","",3.4280000000000004,"","","",3.2879999999999998,"","","",3.593,"","","","",3.5760000000000005,"","","",3.7959999999999998,"","","",3.4989999999999997,"","","","","",null,"M","","","",96.125,"","","",85.674999999999997,"","","","",82.15,"","","",87.224999999999994,"","","",92.05,"","","","",85.7,"","","",82.199999999999989,"","","",89.825000000000003,"","","","",89.4,"","","",94.899999999999991,"","","",87.474999999999994,"","","","",89.524999999999991]
[null,null,null,null,null,null,null,null,null,null,null,null,null,null,null,null,null,null,null,null,null,null,null,null,null,null,null,null,null,null,null,null,null,null,null,"Sasaran",4,4,4,4,4,4,4,4,4,4,4,4,4,4,4,4,4,4,4,4,4,4,4,4,4,4,4,4,4,4,4,4,4,4,4,4,4,4,4,4,4,4,4,4,4,4,4,4,4,4,4,4,null,null,"","","",96.125,96.125,96.125,96.125,90.9,90.9,90.9,90.9,90.9,87.983333333333348,87.983333333333348,87.983333333333348,87.983333333333348,87.793750000000017,87.793750000000017,87.793750000000017,87.793750000000017,88.64500000000001,88.64500000000001,88.64500000000001,88.64500000000001,88.64500000000001,88.154166666666683,88.154166666666683,88.154166666666683,88.154166666666683,87.303571428571431,87.303571428571431,87.303571428571431,87.303571428571431,87.618750000000006,87.618750000000006,87.618750000000006,87.618750000000006,87.618750000000006,87.816666666666663,87.816666666666663,87.816666666666663,87.816666666666663,88.525000000000006,88.525000000000006,88.525000000000006,88.525000000000006,88.429545454545462,88.429545454545462,88.429545454545462,88.429545454545462,88.429545454545462,88.520833333333329]
[null,null,null,null,null,null,null,null,null,null,null,null,null,null,null,null,null,null,null,null,null,null,null,null,null,null,null,null,null,null,null,null,"","","","Nilai Konsol","","","","","","","","","","","","","","","","","","","","","","","","","","","","","","","","","","","","","","","","","","","","","","","","","","","","",null,"","","","","","","","","","","","","","","","","","","","","","","","","","","","","","","","","","","","","","","","","","","","","","","","","","","","",""]
[null,null,null,null,null,null,null,null,null,null,null,null,null,null,null,null,null,null,null,null,null,null,null,null,null,null,null,null,null,null,null,null,null,null,null,"Sasaran","","","","","","","","","","","","","","","","","","","","","","","","","","","","","","","","","","","","","","","","","","","","","","","","","","","","",null,null,"","","","","","","","","","","","","","","","","","","","","","","","","","","","","","","","","","","","","","","","","","","","","","","","","","","",""]
[]
[]
[]
[]
[]
[]
[]
[]
[]
[]
[]
[]
[]
[]
[]
[null,"⓭","ID KPI:",{"$f":"AG104","v":""},null,"Nilai Wk:",{"$f":"INDEX($AK104:$CJ104,,$CL$2)","v":""},"Skor %:",{"$f":"INDEX($CM105:$EL105,,$CL$2)","v":""},null,"⓮","ID KPI:",{"$f":"AG106","v":""},null,"Nilai Wk:",{"$f":"INDEX($AK106:$CJ106,,$CL$2)","v":""},"Skor %:",{"$f":"INDEX($CM107:$EL107,,$CL$2)","v":""},null,"⓯","ID KPI:",{"$f":"AG108","v":""},null,"Nilai Wk:",{"$f":"INDEX($AK108:$CJ108,,$CL$2)","v":""},"Skor %:",{"$f":"INDEX($CM109:$EL109,,$CL$2)","v":""}]
[null,null,"Deskripsi KPI:",{"$f":"AH104","v":""},null,null,null,null,null,null,null,"Deskripsi KPI:",{"$f":"AH106","v":""},null,null,null,null,null,null,null,"Deskripsi KPI:",{"$f":"AH108","v":""}]
[]
[null,null,null,null,null,null,null,null,null,null,null,null,null,null,null,null,null,null,null,null,null,null,null,null,null,null,null,null,null,null,null,null,"","","","Nilai Konsol","","","","","","","","","","","","","","","","","","","","","","","","","","","","","","","","","","","","","","","","","","","","","","","","","","","","",null,"","","","","","","","","","","","","","","","","","","","","","","","","","","","","","","","","","","","","","","","","","","","","","","","","","","","",""]
[null,null,null,null,null,null,null,null,null,null,null,null,null,null,null,null,null,null,null,null,null,null,null,null,null,null,null,null,null,null,null,null,null,null,null,"Sasaran","","","","","","","","","","","","","","","","","","","","","","","","","","","","","","","","","","","","","","","","","","","","","","","","","","","","",null,null,"","","","","","","","","","","","","","","","","","","","","","","","","","","","","","","","","","","","","","","","","","","","","","","","","","","",""]
[null,null,null,null,null,null,null,null,null,null,null,null,null,null,null,null,null,null,null,null,null,null,null,null,null,null,null,null,null,null,null,null,"","","","Nilai Konsol","","","","","","","","","","","","","","","","","","","","","","","","","","","","","","","","","","","","","","","","","","","","","","","","","","","","",null,"","","","","","","","","","","","","","","","","","","","","","","","","","","","","","","","","","","","","","","","","","","","","","","","","","","","",""]
[null,null,null,null,null,null,null,null,null,null,null,null,null,null,null,null,null,null,null,null,null,null,null,null,null,null,null,null,null,null,null,null,null,null,null,"Sasaran","","","","","","","","","","","","","","","","","","","","","","","","","","","","","","","","","","","","","","","","","","","","","","","","","","","","",null,null,"","","","","","","","","","","","","","","","","","","","","","","","","","","","","","","","","","","","","","","","","","","","","","","","","","","",""]
[null,null,null,null,null,null,null,null,null,null,null,null,null,null,null,null,null,null,null,null,null,null,null,null,null,null,null,null,null,null,null,null,"","","","Nilai Konsol","","","","","","","","","","","","","","","","","","","","","","","","","","","","","","","","","","","","","","","","","","","","","","","","","","","","",null,"","","","","","","","","","","","","","","","","","","","","","","","","","","","","","","","","","","","","","","","","","","","","","","","","","","","",""]
[null,null,null,null,null,null,null,null,null,null,null,null,null,null,null,null,null,null,null,null,null,null,null,null,null,null,null,null,null,null,null,null,null,null,null,"Sasaran","","","","","","","","","","","","","","","","","","","","","","","","","","","","","","","","","","","","","","","","","","","","","","","","","","","","",null,null,"","","","","","","","","","","","","","","","","","","","","","","","","","","","","","","","","","","","","","","","","","","","","","","","","","","",""]
[]
[]
[]
[]
[]
[]
[]
[]
[]
[]
[]
[]
[]
[]
[null,null,null,null,null,null,null,null,"Form design by LEADERSENSE CONSULTING & SYSTEMS SDN BHD © 2017",null,null,null,null,null,null,null,null,null,null,null,null,"Kalkulasi Terakhir:",{"$f":"NOW()-0.125","v":"2020-12-31T04:30:22.740"},null,null,null,null,null,null,null,null,null,null,null,null,null,null,null,null,null,null,null,null,null,null,null,null,null,null,null,null,null,null,null,null,null,null,null,null,null,null,null,null,null,null,null,null,null,null,null,null,null,null,null,null,null,null,null,null,null,0,0,0,0,0,0,0,0]

{"sheet":"Competencies","index":7,"n_rows":335,"n_cols":29,"rows_kept":335,"cut":false,"hidden":false,"merged":[[0,0,1,2],[0,4,0,7],[1,4,1,7],[2,1,3,1],[2,4,2,7],[3,4,3,7],[4,10,4,11],[5,4,5,7],[6,4,6,7],[7,4,7,7],[8,4,8,7],[4,0,4,3],[29,0,30,2],[29,4,29,7],[30,4,30,7],[15,4,15,7],[16,4,16,7],[17,4,17,7],[18,4,18,7],[19,4,19,7],[20,4,20,7],[14,4,14,7],[9,4,9,7],[10,4,10,7],[11,4,11,7],[12,4,12,7],[13,4,13,7],[34,4,34,7],[21,4,21,7],[22,4,22,7],[23,4,23,7],[24,4,24,7],[31,1,32,1],[31,4,31,7],[32,4,32,7],[33,10,33,11],[33,0,33,3],[46,4,46,7],[35,4,35,7],[36,4,36,7],[37,4,37,7],[38,4,38,7],[39,4,39,7],[40,4,40,7],[41,4,41,7],[42,4,42,7],[43,4,43,7],[44,4,44,7],[45,4,45,7],[53,4,53,7],[47,4,47,7],[48,4,48,7],[49,4,49,7],[50,4,50,7],[51,4,51,7],[52,4,52,7]]}
["KOMPETENSI",null,null,"Nama:",{"$f":"Home!H6","v":"ADAM NAUFAL HASMADI"},null,null,null,null,null,null,null,null,null,null,"1 ⍟",{"$f":"Home!H14","v":15}]
[null,null,null,"Jawatan:",{"$f":"Home!H10","v":"PEN. KETUA PEMASARAN DAN PERKHIDMATAN"},null,null,null,null,null,null,null,null,null,null,"2 ⍟",{"$f":"HLOOKUP($Q$1,D257:AA258,2,FALSE)","v":{"$error":"#N/A"}}]
[null,2020,"Versi","Bahagian:",{"$f":"Home!H12","v":"PEMASARAN DAN PERKHIDMATAN"},null,null,null,null,null,null,null,null,null,null,"3 ⍟",{"$f":"HLOOKUP(Q1,$D$257:$AA$309,53,FALSE)","v":{"$error":"#N/A"}}]
[null,null,{"$f":"B204","v":20},"Organisasi:",{"$f":"Home!H16","v":"SAMPEL CORPORATION LTD"},null,null,null,null,null,null,null,null,null,null,"4 ⍟"]
["A) KOMPETENSI INSANIAH",null,null,null,null,null,null,"Minggu Ini:",{"$f":"'Wk Input'!J2","v":53},null,"Skala Penilaian",null,null,null,null,"Range =",{"$f":"HLOOKUP(Q3,$B$311:$K$312,2,FALSE)","v":{"$error":"#N/A"}}]
[null,"Kategori","Kompetensi","Tahap di Ekspektasi","Keterangan Tahap yang di Ekspektasi",null,null,null,"Saiz Wajaran","Wajaran %","Tengah Tahun","Akhir Tahun","Skor diwajar"]
[1,"Kualiti Peribadi","Keberkesanan Komunikasi",3,"• Berkebolehan menyampaikan maksud, pendapat, kefahaman atau arahan secara lisan dan tulisan berkaitan dengan bidang tugas merangkumi penguasaan bahasa melalui tulisan dan lisan dengan menggunakan tatabahasa dan persembahan yang baik.",null,null,null,"3 ⍟",{"$f":"Q7/Q$26*100","v":21.428571428571427},5,7,{"$f":"J7*L7/10","v":15},null,null,{"$f":"IF(OR(C7=\"\",I7=\"\"),0,LEFT(I7,1))","v":"3"},{"$f":"_xlfn.NUMBERVALUE(P7)","v":3}]
[2,"Kualiti Peribadi","Kebolehan Mengelola",3,"• Berkeupayaan dan berkebolehan menggembeleng segala sumber dalam kawalannya seperti kewangan, tenaga manusia, peralatan dan maklumat bagi merancang, mengatur, membahagi dan mengendalikan sesuatu tugas untuk mencapai objektif organisasi.",null,null,null,"3 ⍟",{"$f":"Q8/Q$26*100","v":21.428571428571427},5,6,{"$f":"J8*L8/10","v":12.857142857142856},null,null,{"$f":"IF(OR(C8=\"\",I8=\"\"),0,LEFT(I8,1))","v":"3"},{"$f":"_xlfn.NUMBERVALUE(P8)","v":3}]
[3,"Kualiti Peribadi","Proaktif dan Inovatif",3,"• Berkebolehan menjangka kemungkinan • Berkebolehan mencipta dan mengeluarkan idea baru • Berkebolehan membuat pembaharuan bagi mempertingkatkan kualiti dan produktiviti organisasi",null,null,null,"3 ⍟",21.428571428571427,4,7,15,null,null,"3",3]
[4,"Pengetahuan dan Kemahiran","Ilmu Pengetahuan dan Kemahiran dalam bidang Kerja",2,"• Mempunyai ilmu pengetahuan dan kemahiran dalam menghasilkan kerja meliputi kebolehan mengenalpasti, menganalisis, serta menyelesaikan masalah.",null,null,null,"3 ⍟",21.428571428571427,4,6,12.857142857142856,null,null,"3",3]
[5,"Pengetahuan dan Kemahiran","Pelaksanaan Dasar, Peraturan dan Arahan Pentadbiran",2,"• Berkebolehan menghayati dan melaksanakan peraturan dan arahan pentadbiran berkaitan dengan bidang tugasnya.",null,null,null,"2 ⍟",14.285714285714285,5,7,10,null,null,"2",2]
[6,"N/A","","","",null,null,null,null,0,null,null,0,null,null,0,0]
[7,"N/A","","","",null,null,null,null,0,null,null,0,null,null,0,0]
[8,"N/A","","","",null,null,null,null,0,null,null,0,null,null,0,0]
[9,"N/A","","","",null,null,null,null,0,null,null,0,null,null,0,0]
[10,"N/A","","","",null,null,null,null,0,null,null,0,null,null,0,0]
[11,"N/A","","","",null,null,null,null,0,null,null,0,null,null,0,0]
[12,"N/A","","","",null,null,null,null,0,null,null,0,null,null,0,0]
[13,"N/A","","","",null,null,null,null,0,null,null,0,null,null,0,0]
[14,"N/A","","","",null,null,null,null,0,null,null,0,null,null,0,0]
[15,"N/A","","","",null,null,null,null,0,null,null,0,null,null,0,0]
[16,"N/A","","","",null,null,null,null,0,null,null,0,null,null,0,0]
[17,"N/A","","","",null,null,null,null,0,null,null,0,null,null,0,0]
[18,"N/A","","","",null,null,null,null,0,null,null,0,null,null,0,0]
[19,"N/A","","","",null,null,null,null,0,null,null,0,null,null,0,0]
[null,null,null,null,null,null,null,null,null,null,null,null,{"$f":"IFERROR(SUM(M7:M25),0)","v":65.714285714285708},null,null,{"$f":"SUM(Q7:Q25)","v":14},{"$f":"IF(P26=0,1,P26)","v":14}]
[]
[null,null,null,null,null,null,null,null,null,null,null,null,"Kompetensi Muka 1/2"]
[]
["KOMPETENSI",null,null,"Nama:","ADAM NAUFAL HASMADI"]
[null,null,null,"Jawatan:","MARKETING AND SERVICES ASSISTANT MANAGER"]
[null,2020,null,"Bahagian:","MARKETING AND SERVICES"]
[null,null,null,"Organisasi:","SAMPLE CORPORATION LTD"]
["B) KOMPETENSI TEKNIKAL",null,null,null,null,null,null,"Minggu Ini:",{"$f":"'Wk Input'!J2","v":53},null,"Skala Penilaian"]
[null,"Kategori","Kompetensi","Tahap di Ekspektasi","Keterangan Tahap yang di Ekspektasi",null,null,null,"Saiz Wajaran","Wajaran %","Tengah Tahun","Akhir Tahun","Skor diwajar"]
[1,"Literasi Komputer","Microsoft PowerPoint",4,"• Mempunyai pengetahuan secukupnya tentang penggunaan aplikasi ini sehingga dapat menghasilkan bahan persembahan dan berinteraksi dengan menggunakan ciri-ciri audio, video dan animasi yang terdapat padanya.",null,null,null,"3 ⍟",{"$f":"Q36/Q$55*100","v":33.333333333333329},null,6,19.999999999999996,null,null,{"$f":"IF(OR(C36=\"\",I36=\"\"),0,LEFT(I36,1))","v":"3"},{"$f":"_xlfn.NUMBERVALUE(P36)","v":3}]
[2,"Pemasaran Digital","Pengiklanan Digital",3,"• Mempunyai pengetahuan dan kebolehan untuk mencipta pengiklanan menerusi Media Sosial termasuk Facebook, Instagram dan Vimeo. • Mempunyai pengetahuan dan kebolehan untuk penyebaran pengiklanan menerusi Emel dan platfom Mobil.",null,null,null,"3 ⍟",{"$f":"Q37/Q$55*100","v":33.333333333333329},null,6,19.999999999999996,null,null,{"$f":"IF(OR(C37=\"\",I37=\"\"),0,LEFT(I37,1))","v":"3"},{"$f":"_xlfn.NUMBERVALUE(P37)","v":3}]
[3,"Analitik Digital","Pengawasan dan Pengukuran",2,"• Mempunyai pengetahuan asas berkenaan kawalan dan pengukuran media sosial termasuk analisa sentimen dan capaian • Mempunyai pengetahuan asas berkenaan teknik penggunaan Search Engine Optimization, dan kawalan Kandungan ",null,null,null,"3 ⍟",33.333333333333329,null,6,19.999999999999996,null,null,"3",3]
[4,null,null,null,null,null,null,null,null,0,null,null,0,null,null,0,0]
[5,null,null,null,null,null,null,null,null,0,null,null,0,null,null,0,0]
[6,null,null,null,null,null,null,null,null,0,null,null,0,null,null,0,0]
[7,null,null,null,null,null,null,null,null,0,null,null,0,null,null,0,0]
[8,null,null,null,null,null,null,null,null,0,null,null,0,null,null,0,0]
[9,null,null,null,null,null,null,null,null,0,null,null,0,null,null,0,0]
[10,null,null,null,null,null,null,null,null,0,null,null,0,null,null,0,0]
[11,null,null,null,null,null,null,null,null,0,null,null,0,null,null,0,0]
[12,null,null,null,null,null,null,null,null,0,null,null,0,null,null,0,0]
[13,null,null,null,null,null,null,null,null,0,null,null,0,null,null,0,0]
[14,null,null,null,null,null,null,null,null,0,null,null,0,null,null,0,0]
[15,null,null,null,null,null,null,null,null,0,null,null,0,null,null,0,0]
[16,null,null,null,null,null,null,null,null,0,null,null,0,null,null,0,0]
[17,null,null,null,null,null,null,null,null,0,null,null,0,null,null,0,0]
[18,null,null,null,null,null,null,null,null,0,null,null,0,null,null,0,0]
[19,null,null,null,null,null,null,null,null,0,null,null,0,null,null,0,0]
[null,null,null,null,null,null,null,null,null,null,null,null,{"$f":"IFERROR(SUM(M36:M54),0)","v":59.999999999999986},null,null,{"$f":"SUM(Q36:Q54)","v":9},{"$f":"IF(P55=0,1,P55)","v":9}]
[]
[null,"A form by Leadersense Consulting & Systems Sdn Bhd @2017",null,null,null,{"$f":"CONCATENATE(Home!Y1,\"Static.xlsx\")","v":"SAMPELStatic.xlsx"},null,null,null,null,null,null,"Kompetensi Muka 2/2"]
[]
[]
[]
[]
[]
[]
[]
[]
[]
[]
[]
[]
[]
[]
[]
[]
[]
[]
[]
[]
[]
[]
[]
[]
[]
[]
[]
[]
[]
[]
[]
[]
[]
[]
[]
[]
[]
[]
[]
[]
[]
[]
[]
[]
[]
[]
[]
[]
[]
[]
[]
[]
[]
[]
[]
[]
[]
[]
[]
[]
[]
[]
[]
[]
[]
[]
[]
[]
[]
[]
[]
[]
[]
[]
[]
[]
[]
[]
[]
[]
[]
[]
[]
[]
[]
[]
[]
[]
[]
[]
[]
[]
[]
[]
[]
[]
[]
[]
[]
[]
[]
[]
[]
[]
[]
[]
[]
[]
[]
[]
[]
[]
[]
[]
[]
[]
[]
[]
[]
[]
[]
[]
[]
[]
[]
[]
[]
[]
[]
[]
[]
[]
[]
[]
[]
[]
[]
[]
[]
[]
[]
[]
[]
[]
[]
[]
[null,{"$f":"sample!C204","v":20},{"$f":"sample!D204","v":43831},{"$f":"sample!E204","v":1},{"$f":"sample!F204","v":2},{"$f":"sample!G204","v":3},{"$f":"sample!H204","v":4}]
[{"$f":"A259","v":{"$error":"#N/A"}},{"$f":"sample!C205","v":0},{"$f":"sample!D205","v":0},{"$f":"sample!E205","v":0},{"$f":"sample!F205","v":0},{"$f":"sample!G205","v":0},{"$f":"sample!H205","v":0}]
[{"$f":"A260","v":{"$error":"#N/A"}},{"$f":"sample!C206","v":0},{"$f":"sample!D206","v":0},{"$f":"sample!E206","v":0},{"$f":"sample!F206","v":0},{"$f":"sample!G206","v":0},{"$f":"sample!H206","v":0}]
[{"$error":"#N/A"},{"$f":"sample!C207","v":0},{"$f":"sample!D207","v":0},{"$f":"sample!E207","v":0},{"$f":"sample!F207","v":0},{"$f":"sample!G207","v":0},{"$f":"sample!H207","v":0}]
[{"$error":"#N/A"},{"$f":"sample!C208","v":0},{"$f":"sample!D208","v":0},{"$f":"sample!E208","v":0},{"$f":"sample!F208","v":0},{"$f":"sample!G208","v":0},{"$f":"sample!H208","v":0}]
[{"$error":"#N/A"},{"$f":"sample!C209","v":0},{"$f":"sample!D209","v":0},{"$f":"sample!E209","v":0},{"$f":"sample!F209","v":0},{"$f":"sample!G209","v":0},{"$f":"sample!H209","v":0}]
[{"$error":"#N/A"},{"$f":"sample!C210","v":0},{"$f":"sample!D210","v":0},{"$f":"sample!E210","v":0},{"$f":"sample!F210","v":0},{"$f":"sample!G210","v":0},{"$f":"sample!H210","v":0}]
[{"$error":"#N/A"},{"$f":"sample!C211","v":0},{"$f":"sample!D211","v":0},{"$f":"sample!E211","v":0},{"$f":"sample!F211","v":0},{"$f":"sample!G211","v":0},{"$f":"sample!H211","v":0}]
[{"$error":"#N/A"},{"$f":"sample!C212","v":0},{"$f":"sample!D212","v":0},{"$f":"sample!E212","v":0},{"$f":"sample!F212","v":0},{"$f":"sample!G212","v":0},{"$f":"sample!H212","v":0}]
[{"$error":"#N/A"},{"$f":"sample!C213","v":0},{"$f":"sample!D213","v":0},{"$f":"sample!E213","v":0},{"$f":"sample!F213","v":0},{"$f":"sample!G213","v":0},{"$f":"sample!H213","v":1.1499999999999999}]
[{"$error":"#N/A"},{"$f":"sample!C214","v":100},{"$f":"sample!D214","v":100},{"$f":"sample!E214","v":85},{"$f":"sample!F214","v":100},{"$f":"sample!G214","v":100},{"$f":"sample!H214","v":100}]
[{"$error":"#N/A"},{"$f":"sample!C215","v":71.5},{"$f":"sample!D215","v":75.2},{"$f":"sample!E215","v":75.900000000000006},{"$f":"sample!F215","v":70.599999999999994},{"$f":"sample!G215","v":70.900000000000006},{"$f":"sample!H215","v":71.2}]
[{"$error":"#N/A"},{"$f":"sample!C216","v":75},{"$f":"sample!D216","v":80},{"$f":"sample!E216","v":70},{"$f":"sample!F216","v":60},{"$f":"sample!G216","v":55},{"$f":"sample!H216","v":55}]
[{"$error":"#N/A"},{"$f":"sample!C217","v":0},{"$f":"sample!D217","v":0},{"$f":"sample!E217","v":0},{"$f":"sample!F217","v":0},{"$f":"sample!G217","v":"No"},{"$f":"sample!H217","v":"No"}]
[{"$error":"#N/A"},{"$f":"sample!C218","v":0},{"$f":"sample!D218","v":0},{"$f":"sample!E218","v":0},{"$f":"sample!F218","v":0},{"$f":"sample!G218","v":0},{"$f":"sample!H218","v":0}]
[{"$error":"#N/A"},{"$f":"sample!C219","v":0},{"$f":"sample!D219","v":0},{"$f":"sample!E219","v":0},{"$f":"sample!F219","v":0},{"$f":"sample!G219","v":0},{"$f":"sample!H219","v":0}]
[{"$error":"#N/A"},{"$f":"sample!C220","v":0},{"$f":"sample!D220","v":0},{"$f":"sample!E220","v":0},{"$f":"sample!F220","v":0},{"$f":"sample!G220","v":0},{"$f":"sample!H220","v":0}]
[{"$error":"#N/A"},{"$f":"sample!C221","v":0},{"$f":"sample!D221","v":0},{"$f":"sample!E221","v":0},{"$f":"sample!F221","v":0},{"$f":"sample!G221","v":0},{"$f":"sample!H221","v":0}]
[{"$error":"#N/A"},{"$f":"sample!C222","v":0},{"$f":"sample!D222","v":0},{"$f":"sample!E222","v":0},{"$f":"sample!F222","v":0},{"$f":"sample!G222","v":0},{"$f":"sample!H222","v":0}]
[{"$error":"#N/A"},{"$f":"sample!C223","v":0},{"$f":"sample!D223","v":0},{"$f":"sample!E223","v":0},{"$f":"sample!F223","v":0},{"$f":"sample!G223","v":0},{"$f":"sample!H223","v":0}]
[{"$error":"#N/A"},{"$f":"sample!C224","v":0},{"$f":"sample!D224","v":0},{"$f":"sample!E224","v":0},{"$f":"sample!F224","v":0},{"$f":"sample!G224","v":0},{"$f":"sample!H224","v":0}]
[{"$error":"#N/A"},{"$f":"sample!C225","v":0},{"$f":"sample!D225","v":0},{"$f":"sample!E225","v":0},{"$f":"sample!F225","v":0},{"$f":"sample!G225","v":0},{"$f":"sample!H225","v":0}]
[{"$error":"#N/A"},{"$f":"sample!C226","v":0},{"$f":"sample!D226","v":0},{"$f":"sample!E226","v":0},{"$f":"sample!F226","v":0},{"$f":"sample!G226","v":0},{"$f":"sample!H226","v":0}]
[{"$error":"#N/A"},{"$f":"sample!C227","v":0},{"$f":"sample!D227","v":0},{"$f":"sample!E227","v":0},{"$f":"sample!F227","v":0},{"$f":"sample!G227","v":0},{"$f":"sample!H227","v":0}]
[{"$error":"#N/A"},{"$f":"sample!C228","v":0},{"$f":"sample!D228","v":0},{"$f":"sample!E228","v":0},{"$f":"sample!F228","v":0},{"$f":"sample!G228","v":0},{"$f":"sample!H228","v":0}]
[{"$error":"#N/A"},{"$f":"sample!C229","v":"KPI ID"},{"$f":"sample!D229","v":"Received"},{"$f":"sample!E229","v":"KPI Description"},{"$f":"sample!F229","v":"%\nWeight"},{"$f":"sample!G229","v":"Measure"},{"$f":"sample!H229","v":"SMART Target"}]
[{"$error":"#N/A"},{"$f":"sample!C230","v":"CG801"},{"$f":"sample!D230","v":"DM101"},{"$f":"sample!E230","v":"WK01 Mencapai sasaran pendapatan korporat yang meningkat bagi Sektor Perumahan (RM Juta)"},{"$f":"sample!F230","v":29.41176471},{"$f":"sample!G230","v":"Number"},{"$f":"sample!H230","v":10}]
[{"$error":"#N/A"},{"$f":"sample!C231","v":"CG802"},{"$f":"sample!D231","v":"DM103"},{"$f":"sample!E231","v":"BP49 Mengekalkan Penghantaran shipment Pelanggan menepati sasaran - Zon Timur"},{"$f":"sample!F231","v":23.529411759999999},{"$f":"sample!G231","v":"Percentage"},{"$f":"sample!H231","v":95}]
[{"$error":"#N/A"},{"$f":"sample!C232","v":"CG803"},{"$f":"sample!D232","v":"***"},{"$f":"sample!E232","v":"BP20 Mengekalkan tahap tinggi peratusan Servis Aduan diselesai menepati sasaran (peratusan)"},{"$f":"sample!F232","v":17.647058820000002},{"$f":"sample!G232","v":"MinLimit"},{"$f":"sample!H232","v":80}]
[{"$error":"#N/A"},{"$f":"sample!C233","v":"CG804"},{"$f":"sample!D233","v":"***"},{"$f":"sample!E233","v":"BP34 Mengekalkan Penghantaran shipment Pelanggan menepati sasaran – servis Penjejakan Penghantaran"},{"$f":"sample!F233","v":11.764705879999999},{"$f":"sample!G233","v":"Percentage"},{"$f":"sample!H233","v":95}]
[{"$error":"#N/A"},{"$f":"sample!C234","v":"CG805"},{"$f":"sample!D234","v":"***"},{"$f":"sample!E234","v":"BR55 Mencapai pelaksanaan Sistem Tiket Aduan STARSYS yang baru"},{"$f":"sample!F234","v":17.647058820000002},{"$f":"sample!G234","v":"Yes/No"},{"$f":"sample!H234","v":"Yes"}]
[{"$error":"#N/A"},{"$f":"sample!C235","v":"CG806"},{"$f":"sample!D235","v":"***"},{"$f":"sample!E235","v":"N/A"},{"$f":"sample!F235","v":0},{"$f":"sample!G235","v":0},{"$f":"sample!H235","v":0}]
[{"$error":"#N/A"},{"$f":"sample!C236","v":"CG807"},{"$f":"sample!D236","v":"***"},{"$f":"sample!E236","v":"N/A"},{"$f":"sample!F236","v":0},{"$f":"sample!G236","v":0},{"$f":"sample!H236","v":0}]
[{"$error":"#N/A"},{"$f":"sample!C237","v":"CG808"},{"$f":"sample!D237","v":"***"},{"$f":"sample!E237","v":"N/A"},{"$f":"sample!F237","v":0},{"$f":"sample!G237","v":0},{"$f":"sample!H237","v":0}]
[{"$error":"#N/A"},{"$f":"sample!C238","v":"CG809"},{"$f":"sample!D238","v":"***"},{"$f":"sample!E238","v":"N/A"},{"$f":"sample!F238","v":0},{"$f":"sample!G238","v":0},{"$f":"sample!H238","v":0}]
[{"$error":"#N/A"},{"$f":"sample!C239","v":"CG810"},{"$f":"sample!D239","v":"***"},{"$f":"sample!E239","v":"N/A"},{"$f":"sample!F239","v":0},{"$f":"sample!G239","v":0},{"$f":"sample!H239","v":0}]
[{"$error":"#N/A"},{"$f":"sample!C240","v":"CG811"},{"$f":"sample!D240","v":"***"},{"$f":"sample!E240","v":"N/A"},{"$f":"sample!F240","v":0},{"$f":"sample!G240","v":0},{"$f":"sample!H240","v":0}]
[{"$error":"#N/A"},{"$f":"sample!C241","v":"CG812"},{"$f":"sample!D241","v":"***"},{"$f":"sample!E241","v":"N/A"},{"$f":"sample!F241","v":0},{"$f":"sample!G241","v":0},{"$f":"sample!H241","v":0}]
[{"$error":"#N/A"},{"$f":"sample!C242","v":"CG813"},{"$f":"sample!D242","v":"***"},{"$f":"sample!E242","v":"N/A"},{"$f":"sample!F242","v":0},{"$f":"sample!G242","v":0},{"$f":"sample!H242","v":0}]
[{"$error":"#N/A"},{"$f":"sample!C243","v":"CG814"},{"$f":"sample!D243","v":"***"},{"$f":"sample!E243","v":"N/A"},{"$f":"sample!F243","v":0},{"$f":"sample!G243","v":0},{"$f":"sample!H243","v":0}]
[{"$error":"#N/A"},{"$f":"sample!C244","v":"CG815"},{"$f":"sample!D244","v":"***"},{"$f":"sample!E244","v":"N/A"},{"$f":"sample!F244","v":0},{"$f":"sample!G244","v":0},{"$f":"sample!H244","v":0}]
[{"$error":"#N/A"},{"$f":"sample!C245","v":"CG816"},{"$f":"sample!D245","v":"***"},{"$f":"sample!E245","v":"N/A"},{"$f":"sample!F245","v":0},{"$f":"sample!G245","v":0},{"$f":"sample!H245","v":0}]
[{"$error":"#N/A"},{"$f":"sample!C246","v":0},{"$f":"sample!D246","v":0},{"$f":"sample!E246","v":0},{"$f":"sample!F246","v":0},{"$f":"sample!G246","v":0},{"$f":"sample!H246","v":0}]
[{"$error":"#N/A"},{"$f":"sample!C247","v":0},{"$f":"sample!D247","v":0},{"$f":"sample!E247","v":0},{"$f":"sample!F247","v":0},{"$f":"sample!G247","v":0},{"$f":"sample!H247","v":0}]
[{"$error":"#N/A"},{"$f":"sample!C248","v":0},{"$f":"sample!D248","v":0},{"$f":"sample!E248","v":0},{"$f":"sample!F248","v":2.52},{"$f":"sample!G248","v":2.52},{"$f":"sample!H248","v":2.52}]
[{"$error":"#N/A"},{"$f":"sample!C249","v":95},{"$f":"sample!D249","v":88},{"$f":"sample!E249","v":90},{"$f":"sample!F249","v":88},{"$f":"sample!G249","v":87},{"$f":"sample!H249","v":83}]
[{"$error":"#N/A"},{"$f":"sample!C250","v":0},{"$f":"sample!D250","v":0},{"$f":"sample!E250","v":0},{"$f":"sample!F250","v":0},{"$f":"sample!G250","v":0},{"$f":"sample!H250","v":1.32}]
[{"$error":"#N/A"},{"$f":"sample!C251","v":0},{"$f":"sample!D251","v":0},{"$f":"sample!E251","v":0},{"$f":"sample!F251","v":0},{"$f":"sample!G251","v":0},{"$f":"sample!H251","v":0}]
[{"$error":"#N/A"},{"$f":"sample!C252","v":0},{"$f":"sample!D252","v":0},{"$f":"sample!E252","v":0},{"$f":"sample!F252","v":0},{"$f":"sample!G252","v":0},{"$f":"sample!H252","v":0}]
[{"$error":"#N/A"},{"$f":"sample!C253","v":0},{"$f":"sample!D253","v":0},{"$f":"sample!E253","v":0},{"$f":"sample!F253","v":0},{"$f":"sample!G253","v":0},{"$f":"sample!H253","v":0}]
[{"$error":"#N/A"},{"$f":"sample!C254","v":0},{"$f":"sample!D254","v":0},{"$f":"sample!E254","v":0},{"$f":"sample!F254","v":0},{"$f":"sample!G254","v":0},{"$f":"sample!H254","v":0}]
[]
[]
[null,null,null,{"$f":"sample!E257","v":0},{"$f":"sample!F257","v":0},{"$f":"sample!G257","v":0},{"$f":"sample!H257","v":0},{"$f":"sample!I257","v":0},{"$f":"sample!J257","v":0},{"$f":"sample!K257","v":0},{"$f":"sample!L257","v":0},{"$f":"sample!M257","v":0},{"$f":"sample!N257","v":0},{"$f":"sample!O257","v":0},{"$f":"sample!P257","v":0},{"$f":"sample!Q257","v":0},{"$f":"sample!R257","v":0},{"$f":"sample!S257","v":0},{"$f":"sample!T257","v":0},{"$f":"sample!U257","v":0},{"$f":"sample!V257","v":0},{"$f":"sample!W257","v":0},{"$f":"sample!X257","v":0},{"$f":"sample!Y257","v":0},{"$f":"sample!Z257","v":0},{"$f":"sample!AA257","v":0},{"$f":"sample!AB257","v":0}]
[null,null,null,1,2,3,4,5,6,7,8,9,10,11,12,13,14,15,16,17,18,19,20,21,22,23,24,null,0]
[{"$f":"IF(AC259=AC258,\"N/A\",AC259)","v":{"$error":"#N/A"}},{"$f":"sample!C259","v":0},{"$f":"sample!D259","v":0},{"$f":"sample!E259","v":0},{"$f":"sample!F259","v":0},{"$f":"sample!G259","v":0},{"$f":"sample!H259","v":0},{"$f":"sample!I259","v":0},{"$f":"sample!J259","v":0},{"$f":"sample!K259","v":0},{"$f":"sample!L259","v":0},{"$f":"sample!M259","v":0},{"$f":"sample!N259","v":0},{"$f":"sample!O259","v":0},{"$f":"sample!P259","v":0},{"$f":"sample!Q259","v":0},{"$f":"sample!R259","v":0},{"$f":"sample!S259","v":0},{"$f":"sample!T259","v":0},{"$f":"sample!U259","v":0},{"$f":"sample!V259","v":0},{"$f":"sample!W259","v":0},{"$f":"sample!X259","v":0},{"$f":"sample!Y259","v":0},{"$f":"sample!Z259","v":0},{"$f":"sample!AA259","v":0},{"$f":"sample!AB259","v":0},null,{"$f":"IF(INDEX(D259:AA259,$Q$2)=\"N/A\",AC258,AC258+1)","v":{"$error":"#N/A"}}]
[{"$f":"IF(AC260=AC259,\"N/A\",AC260)","v":{"$error":"#N/A"}},{"$f":"sample!C260","v":0},{"$f":"sample!D260","v":0},{"$f":"sample!E260","v":0},{"$f":"sample!F260","v":0},{"$f":"sample!G260","v":0},{"$f":"sample!H260","v":0},{"$f":"sample!I260","v":0},{"$f":"sample!J260","v":0},{"$f":"sample!K260","v":0},{"$f":"sample!L260","v":0},{"$f":"sample!M260","v":0},{"$f":"sample!N260","v":0},{"$f":"sample!O260","v":0},{"$f":"sample!P260","v":0},{"$f":"sample!Q260","v":0},{"$f":"sample!R260","v":0},{"$f":"sample!S260","v":0},{"$f":"sample!T260","v":0},{"$f":"sample!U260","v":0},{"$f":"sample!V260","v":0},{"$f":"sample!W260","v":0},{"$f":"sample!X260","v":0},{"$f":"sample!Y260","v":0},{"$f":"sample!Z260","v":0},{"$f":"sample!AA260","v":0},{"$f":"sample!AB260","v":0},null,{"$f":"IF(INDEX(D260:AA260,$Q$2)=\"N/A\",AC259,AC259+1)","v":{"$error":"#N/A"}}]
[{"$error":"#N/A"},{"$f":"sample!C261","v":0},{"$f":"sample!D261","v":0},{"$f":"sample!E261","v":0},{"$f":"sample!F261","v":0},{"$f":"sample!G261","v":0},{"$f":"sample!H261","v":0},{"$f":"sample!I261","v":0},{"$f":"sample!J261","v":0},{"$f":"sample!K261","v":0},{"$f":"sample!L261","v":0},{"$f":"sample!M261","v":0},{"$f":"sample!N261","v":0},{"$f":"sample!O261","v":0},{"$f":"sample!P261","v":0},{"$f":"sample!Q261","v":0},{"$f":"sample!R261","v":0},{"$f":"sample!S261","v":0},{"$f":"sample!T261","v":0},{"$f":"sample!U261","v":0},{"$f":"sample!V261","v":0},{"$f":"sample!W261","v":0},{"$f":"sample!X261","v":0},{"$f":"sample!Y261","v":0},{"$f":"sample!Z261","v":0},{"$f":"sample!AA261","v":0},{"$f":"sample!AB261","v":0},null,{"$error":"#N/A"}]
[{"$error":"#N/A"},{"$f":"sample!C262","v":0},{"$f":"sample!D262","v":0},{"$f":"sample!E262","v":0},{"$f":"sample!F262","v":0},{"$f":"sample!G262","v":0},{"$f":"sample!H262","v":0},{"$f":"sample!I262","v":0},{"$f":"sample!J262","v":0},{"$f":"sample!K262","v":0},{"$f":"sample!L262","v":0},{"$f":"sample!M262","v":0},{"$f":"sample!N262","v":0},{"$f":"sample!O262","v":0},{"$f":"sample!P262","v":0},{"$f":"sample!Q262","v":0},{"$f":"sample!R262","v":0},{"$f":"sample!S262","v":0},{"$f":"sample!T262","v":0},{"$f":"sample!U262","v":0},{"$f":"sample!V262","v":0},{"$f":"sample!W262","v":0},{"$f":"sample!X262","v":0},{"$f":"sample!Y262","v":0},{"$f":"sample!Z262","v":0},{"$f":"sample!AA262","v":0},{"$f":"sample!AB262","v":0},null,{"$error":"#N/A"}]
[{"$error":"#N/A"},{"$f":"sample!C263","v":"KPI ID"},{"$f":"sample!D263","v":"Received"},{"$f":"sample!E263","v":"KPI Description"},{"$f":"sample!F263","v":"%\nWeight"},{"$f":"sample!G263","v":"Measure"},{"$f":"sample!H263","v":"SMART Target"},{"$f":"sample!I263","v":"Type"},{"$f":"sample!J263","v":"Start Wk"},{"$f":"sample!K263","v":"Deadline"},{"$f":"sample!L263","v":"Cascade Down"},{"$f":"sample!M263","v":"Own Contrib"},{"$f":"sample!N263","v":"Cascade\n1 Ref"},{"$f":"sample!O263","v":"Contrib"},{"$f":"sample!P263","v":"Cascade\n2 Ref"},{"$f":"sample!Q263","v":"Contrib"},{"$f":"sample!R263","v":"Cascade\n3 Ref"},{"$f":"sample!S263","v":"Contrib"},{"$f":"sample!T263","v":"Cascade\n4 Ref"},{"$f":"sample!U263","v":"Contrib"},{"$f":"sample!V263","v":"Cascade\n5 Ref"},{"$f":"sample!W263","v":"Contrib"},{"$f":"sample!X263","v":0},{"$f":"sample!Y263","v":0},{"$f":"sample!Z263","v":0},{"$f":"sample!AA263","v":0},{"$f":"sample!AB263","v":0},null,{"$error":"#N/A"}]
[{"$error":"#N/A"},{"$f":"sample!C264","v":"DK601"},{"$f":"sample!D264","v":"***"},{"$f":"sample!E264","v":"BM57 Mencapai penyempurnaan kehadiran Value Competency Training (Bil. Hari)"},{"$f":"sample!F264","v":12.5},{"$f":"sample!G264","v":"Number"},{"$f":"sample!H264","v":7},{"$f":"sample!I264","v":"A"},{"$f":"sample!J264","v":1},{"$f":"sample!K264","v":44},{"$f":"sample!L264","v":"No"},{"$f":"sample!M264","v":100},{"$f":"sample!N264","v":"***"},{"$f":"sample!O264","v":0},{"$f":"sample!P264","v":"***"},{"$f":"sample!Q264","v":0},{"$f":"sample!R264","v":"***"},{"$f":"sample!S264","v":0},{"$f":"sample!T264","v":"***"},{"$f":"sample!U264","v":0},{"$f":"sample!V264","v":"***"},{"$f":"sample!W264","v":0},{"$f":"sample!X264","v":0},{"$f":"sample!Y264","v":0},{"$f":"sample!Z264","v":0},{"$f":"sample!AA264","v":0},{"$f":"sample!AB264","v":0},null,{"$error":"#N/A"}]
[{"$error":"#N/A"},{"$f":"sample!C265","v":"DK602"},{"$f":"sample!D265","v":"DM101"},{"$f":"sample!E265","v":"WK01 Mencapai sasaran pendapatan korporat yang meningkat bagi Sektor Perumahan (RM Juta)"},{"$f":"sample!F265","v":31.25},{"$f":"sample!G265","v":"Number"},{"$f":"sample!H265","v":10},{"$f":"sample!I265","v":"A"},{"$f":"sample!J265","v":1},{"$f":"sample!K265","v":52},{"$f":"sample!L265","v":"No"},{"$f":"sample!M265","v":100},{"$f":"sample!N265","v":"***"},{"$f":"sample!O265","v":0},{"$f":"sample!P265","v":"***"},{"$f":"sample!Q265","v":0},{"$f":"sample!R265","v":"***"},{"$f":"sample!S265","v":0},{"$f":"sample!T265","v":"***"},{"$f":"sample!U265","v":0},{"$f":"sample!V265","v":"***"},{"$f":"sample!W265","v":0},{"$f":"sample!X265","v":0},{"$f":"sample!Y265","v":0},{"$f":"sample!Z265","v":0},{"$f":"sample!AA265","v":2.52},{"$f":"sample!AB265","v":0},null,{"$error":"#N/A"}]
[{"$error":"#N/A"},{"$f":"sample!C266","v":"DK603"},{"$f":"sample!D266","v":"***"},{"$f":"sample!E266","v":"BP49 Mengekalkan Penghantaran shipment Pelanggan menepati sasaran (peratusan)"},{"$f":"sample!F266","v":18.75},{"$f":"sample!G266","v":"MinLimit"},{"$f":"sample!H266","v":95},{"$f":"sample!I266","v":"M"},{"$f":"sample!J266","v":1},{"$f":"sample!K266","v":52},{"$f":"sample!L266","v":"No"},{"$f":"sample!M266","v":100},{"$f":"sample!N266","v":"***"},{"$f":"sample!O266","v":0},{"$f":"sample!P266","v":"***"},{"$f":"sample!Q266","v":0},{"$f":"sample!R266","v":"***"},{"$f":"sample!S266","v":0},{"$f":"sample!T266","v":"***"},{"$f":"sample!U266","v":0},{"$f":"sample!V266","v":"***"},{"$f":"sample!W266","v":0},{"$f":"sample!X266","v":95},{"$f":"sample!Y266","v":88},{"$f":"sample!Z266","v":90},{"$f":"sample!AA266","v":88},{"$f":"sample!AB266","v":87},null,{"$error":"#N/A"}]
[{"$error":"#N/A"},{"$f":"sample!C267","v":"DK604"},{"$f":"sample!D267","v":"DM104"},{"$f":"sample!E267","v":"BP19 Mencapai penyempurnaan survei kajian penyelidikan 5 Klien-Produk"},{"$f":"sample!F267","v":18.75},{"$f":"sample!G267","v":"Percentage"},{"$f":"sample!H267","v":90},{"$f":"sample!I267","v":"A"},{"$f":"sample!J267","v":1},{"$f":"sample!K267","v":44},{"$f":"sample!L267","v":"No"},{"$f":"sample!M267","v":100},{"$f":"sample!N267","v":"***"},{"$f":"sample!O267","v":0},{"$f":"sample!P267","v":"***"},{"$f":"sample!Q267","v":0},{"$f":"sample!R267","v":"***"},{"$f":"sample!S267","v":0},{"$f":"sample!T267","v":"***"},{"$f":"sample!U267","v":0},{"$f":"sample!V267","v":"***"},{"$f":"sample!W267","v":0},{"$f":"sample!X267","v":0},{"$f":"sample!Y267","v":0},{"$f":"sample!Z267","v":0},{"$f":"sample!AA267","v":0},{"$f":"sample!AB267","v":0},null,{"$error":"#N/A"}]
[{"$error":"#N/A"},{"$f":"sample!C268","v":"DK605"},{"$f":"sample!D268","v":"***"},{"$f":"sample!E268","v":"BR54 Mencapai pelaksanaan Sistem Penjejakan Penghantaran LOGIX yang baru"},{"$f":"sample!F268","v":18.75},{"$f":"sample!G268","v":"Yes/No"},{"$f":"sample!H268","v":"Yes"},{"$f":"sample!I268","v":"A"},{"$f":"sample!J268","v":10},{"$f":"sample!K268","v":36},{"$f":"sample!L268","v":"No"},{"$f":"sample!M268","v":100},{"$f":"sample!N268","v":"***"},{"$f":"sample!O268","v":0},{"$f":"sample!P268","v":"***"},{"$f":"sample!Q268","v":0},{"$f":"sample!R268","v":"***"},{"$f":"sample!S268","v":0},{"$f":"sample!T268","v":"***"},{"$f":"sample!U268","v":0},{"$f":"sample!V268","v":"***"},{"$f":"sample!W268","v":0},{"$f":"sample!X268","v":0},{"$f":"sample!Y268","v":0},{"$f":"sample!Z268","v":0},{"$f":"sample!AA268","v":0},{"$f":"sample!AB268","v":0},null,{"$error":"#N/A"}]
[{"$error":"#N/A"},{"$f":"sample!C269","v":"DK606"},{"$f":"sample!D269","v":"***"},{"$f":"sample!E269","v":"N/A"},{"$f":"sample!F269","v":0},{"$f":"sample!G269","v":0},{"$f":"sample!H269","v":0},{"$f":"sample!I269","v":"A"},{"$f":"sample!J269","v":0},{"$f":"sample!K269","v":0},{"$f":"sample!L269","v":0},{"$f":"sample!M269","v":0},{"$f":"sample!N269","v":"***"},{"$f":"sample!O269","v":0},{"$f":"sample!P269","v":"***"},{"$f":"sample!Q269","v":0},{"$f":"sample!R269","v":"***"},{"$f":"sample!S269","v":0},{"$f":"sample!T269","v":"***"},{"$f":"sample!U269","v":0},{"$f":"sample!V269","v":"***"},{"$f":"sample!W269","v":0},{"$f":"sample!X269","v":0},{"$f":"sample!Y269","v":0},{"$f":"sample!Z269","v":0},{"$f":"sample!AA269","v":0},{"$f":"sample!AB269","v":0},null,{"$error":"#N/A"}]
[{"$error":"#N/A"},{"$f":"sample!C270","v":"DK607"},{"$f":"sample!D270","v":"***"},{"$f":"sample!E270","v":"N/A"},{"$f":"sample!F270","v":0},{"$f":"sample!G270","v":0},{"$f":"sample!H270","v":0},{"$f":"sample!I270","v":"A"},{"$f":"sample!J270","v":0},{"$f":"sample!K270","v":0},{"$f":"sample!L270","v":0},{"$f":"sample!M270","v":0},{"$f":"sample!N270","v":"***"},{"$f":"sample!O270","v":0},{"$f":"sample!P270","v":"***"},{"$f":"sample!Q270","v":0},{"$f":"sample!R270","v":"***"},{"$f":"sample!S270","v":0},{"$f":"sample!T270","v":"***"},{"$f":"sample!U270","v":0},{"$f":"sample!V270","v":"***"},{"$f":"sample!W270","v":0},{"$f":"sample!X270","v":0},{"$f":"sample!Y270","v":0},{"$f":"sample!Z270","v":0},{"$f":"sample!AA270","v":0},{"$f":"sample!AB270","v":0},null,{"$error":"#N/A"}]
[{"$error":"#N/A"},{"$f":"sample!C271","v":"DK608"},{"$f":"sample!D271","v":"***"},{"$f":"sample!E271","v":"N/A"},{"$f":"sample!F271","v":0},{"$f":"sample!G271","v":0},{"$f":"sample!H271","v":0},{"$f":"sample!I271","v":"A"},{"$f":"sample!J271","v":0},{"$f":"sample!K271","v":0},{"$f":"sample!L271","v":0},{"$f":"sample!M271","v":0},{"$f":"sample!N271","v":"***"},{"$f":"sample!O271","v":0},{"$f":"sample!P271","v":"***"},{"$f":"sample!Q271","v":0},{"$f":"sample!R271","v":"***"},{"$f":"sample!S271","v":0},{"$f":"sample!T271","v":"***"},{"$f":"sample!U271","v":0},{"$f":"sample!V271","v":"***"},{"$f":"sample!W271","v":0},{"$f":"sample!X271","v":0},{"$f":"sample!Y271","v":0},{"$f":"sample!Z271","v":0},{"$f":"sample!AA271","v":0},{"$f":"sample!AB271","v":0},null,{"$error":"#N/A"}]
[{"$error":"#N/A"},{"$f":"sample!C272","v":"DK609"},{"$f":"sample!D272","v":"***"},{"$f":"sample!E272","v":"N/A"},{"$f":"sample!F272","v":0},{"$f":"sample!G272","v":0},{"$f":"sample!H272","v":0},{"$f":"sample!I272","v":"A"},{"$f":"sample!J272","v":0},{"$f":"sample!K272","v":0},{"$f":"sample!L272","v":0},{"$f":"sample!M272","v":0},{"$f":"sample!N272","v":"***"},{"$f":"sample!O272","v":0},{"$f":"sample!P272","v":"***"},{"$f":"sample!Q272","v":0},{"$f":"sample!R272","v":"***"},{"$f":"sample!S272","v":0},{"$f":"sample!T272","v":"***"},{"$f":"sample!U272","v":0},{"$f":"sample!V272","v":"***"},{"$f":"sample!W272","v":0},{"$f":"sample!X272","v":0},{"$f":"sample!Y272","v":0},{"$f":"sample!Z272","v":0},{"$f":"sample!AA272","v":0},{"$f":"sample!AB272","v":0},null,{"$error":"#N/A"}]
[{"$error":"#N/A"},{"$f":"sample!C273","v":"DK610"},{"$f":"sample!D273","v":"***"},{"$f":"sample!E273","v":"N/A"},{"$f":"sample!F273","v":0},{"$f":"sample!G273","v":0},{"$f":"sample!H273","v":0},{"$f":"sample!I273","v":"A"},{"$f":"sample!J273","v":0},{"$f":"sample!K273","v":0},{"$f":"sample!L273","v":0},{"$f":"sample!M273","v":0},{"$f":"sample!N273","v":"***"},{"$f":"sample!O273","v":0},{"$f":"sample!P273","v":"***"},{"$f":"sample!Q273","v":0},{"$f":"sample!R273","v":"***"},{"$f":"sample!S273","v":0},{"$f":"sample!T273","v":"***"},{"$f":"sample!U273","v":0},{"$f":"sample!V273","v":"***"},{"$f":"sample!W273","v":0},{"$f":"sample!X273","v":0},{"$f":"sample!Y273","v":0},{"$f":"sample!Z273","v":0},{"$f":"sample!AA273","v":0},{"$f":"sample!AB273","v":0},null,{"$error":"#N/A"}]
[{"$error":"#N/A"},{"$f":"sample!C274","v":"DK611"},{"$f":"sample!D274","v":"***"},{"$f":"sample!E274","v":"N/A"},{"$f":"sample!F274","v":0},{"$f":"sample!G274","v":0},{"$f":"sample!H274","v":0},{"$f":"sample!I274","v":"A"},{"$f":"sample!J274","v":0},{"$f":"sample!K274","v":0},{"$f":"sample!L274","v":0},{"$f":"sample!M274","v":0},{"$f":"sample!N274","v":"***"},{"$f":"sample!O274","v":0},{"$f":"sample!P274","v":"***"},{"$f":"sample!Q274","v":0},{"$f":"sample!R274","v":"***"},{"$f":"sample!S274","v":0},{"$f":"sample!T274","v":"***"},{"$f":"sample!U274","v":0},{"$f":"sample!V274","v":"***"},{"$f":"sample!W274","v":0},{"$f":"sample!X274","v":0},{"$f":"sample!Y274","v":0},{"$f":"sample!Z274","v":0},{"$f":"sample!AA274","v":0},{"$f":"sample!AB274","v":0},null,{"$error":"#N/A"}]
[{"$error":"#N/A"},{"$f":"sample!C275","v":"DK612"},{"$f":"sample!D275","v":"***"},{"$f":"sample!E275","v":"N/A"},{"$f":"sample!F275","v":0},{"$f":"sample!G275","v":0},{"$f":"sample!H275","v":0},{"$f":"sample!I275","v":"A"},{"$f":"sample!J275","v":0},{"$f":"sample!K275","v":0},{"$f":"sample!L275","v":0},{"$f":"sample!M275","v":0},{"$f":"sample!N275","v":"***"},{"$f":"sample!O275","v":0},{"$f":"sample!P275","v":"***"},{"$f":"sample!Q275","v":0},{"$f":"sample!R275","v":"***"},{"$f":"sample!S275","v":0},{"$f":"sample!T275","v":"***"},{"$f":"sample!U275","v":0},{"$f":"sample!V275","v":"***"},{"$f":"sample!W275","v":0},{"$f":"sample!X275","v":0},{"$f":"sample!Y275","v":0},{"$f":"sample!Z275","v":0},{"$f":"sample!AA275","v":0},{"$f":"sample!AB275","v":0},null,{"$error":"#N/A"}]
[{"$error":"#N/A"},{"$f":"sample!C276","v":"DK613"},{"$f":"sample!D276","v":"***"},{"$f":"sample!E276","v":"N/A"},{"$f":"sample!F276","v":0},{"$f":"sample!G276","v":0},{"$f":"sample!H276","v":0},{"$f":"sample!I276","v":"A"},{"$f":"sample!J276","v":0},{"$f":"sample!K276","v":0},{"$f":"sample!L276","v":0},{"$f":"sample!M276","v":0},{"$f":"sample!N276","v":"***"},{"$f":"sample!O276","v":0},{"$f":"sample!P276","v":"***"},{"$f":"sample!Q276","v":0},{"$f":"sample!R276","v":"***"},{"$f":"sample!S276","v":0},{"$f":"sample!T276","v":"***"},{"$f":"sample!U276","v":0},{"$f":"sample!V276","v":"***"},{"$f":"sample!W276","v":0},{"$f":"sample!X276","v":0},{"$f":"sample!Y276","v":0},{"$f":"sample!Z276","v":0},{"$f":"sample!AA276","v":0},{"$f":"sample!AB276","v":0},null,{"$error":"#N/A"}]
[{"$error":"#N/A"},{"$f":"sample!C277","v":"DK614"},{"$f":"sample!D277","v":"***"},{"$f":"sample!E277","v":"N/A"},{"$f":"sample!F277","v":0},{"$f":"sample!G277","v":0},{"$f":"sample!H277","v":0},{"$f":"sample!I277","v":"A"},{"$f":"sample!J277","v":0},{"$f":"sample!K277","v":0},{"$f":"sample!L277","v":0},{"$f":"sample!M277","v":0},{"$f":"sample!N277","v":"***"},{"$f":"sample!O277","v":0},{"$f":"sample!P277","v":"***"},{"$f":"sample!Q277","v":0},{"$f":"sample!R277","v":"***"},{"$f":"sample!S277","v":0},{"$f":"sample!T277","v":"***"},{"$f":"sample!U277","v":0},{"$f":"sample!V277","v":"***"},{"$f":"sample!W277","v":0},{"$f":"sample!X277","v":0},{"$f":"sample!Y277","v":0},{"$f":"sample!Z277","v":0},{"$f":"sample!AA277","v":0},{"$f":"sample!AB277","v":0},null,{"$error":"#N/A"}]
[{"$error":"#N/A"},{"$f":"sample!C278","v":"DK615"},{"$f":"sample!D278","v":"***"},{"$f":"sample!E278","v":"N/A"},{"$f":"sample!F278","v":0},{"$f":"sample!G278","v":0},{"$f":"sample!H278","v":0},{"$f":"sample!I278","v":"A"},{"$f":"sample!J278","v":0},{"$f":"sample!K278","v":0},{"$f":"sample!L278","v":0},{"$f":"sample!M278","v":0},{"$f":"sample!N278","v":"***"},{"$f":"sample!O278","v":0},{"$f":"sample!P278","v":"***"},{"$f":"sample!Q278","v":0},{"$f":"sample!R278","v":"***"},{"$f":"sample!S278","v":0},{"$f":"sample!T278","v":"***"},{"$f":"sample!U278","v":0},{"$f":"sample!V278","v":"***"},{"$f":"sample!W278","v":0},{"$f":"sample!X278","v":0},{"$f":"sample!Y278","v":0},{"$f":"sample!Z278","v":0},{"$f":"sample!AA278","v":0},{"$f":"sample!AB278","v":0},null,{"$error":"#N/A"}]
[{"$error":"#N/A"},{"$f":"sample!C279","v":"DK616"},{"$f":"sample!D279","v":"***"},{"$f":"sample!E279","v":"N/A"},{"$f":"sample!F279","v":0},{"$f":"sample!G279","v":0},{"$f":"sample!H279","v":0},{"$f":"sample!I279","v":"A"},{"$f":"sample!J279","v":0},{"$f":"sample!K279","v":0},{"$f":"sample!L279","v":0},{"$f":"sample!M279","v":0},{"$f":"sample!N279","v":"***"},{"$f":"sample!O279","v":0},{"$f":"sample!P279","v":"***"},{"$f":"sample!Q279","v":0},{"$f":"sample!R279","v":"***"},{"$f":"sample!S279","v":0},{"$f":"sample!T279","v":"***"},{"$f":"sample!U279","v":0},{"$f":"sample!V279","v":"***"},{"$f":"sample!W279","v":0},{"$f":"sample!X279","v":0},{"$f":"sample!Y279","v":0},{"$f":"sample!Z279","v":0},{"$f":"sample!AA279","v":0},{"$f":"sample!AB279","v":0},null,{"$error":"#N/A"}]
[{"$error":"#N/A"},{"$f":"sample!C280","v":0},{"$f":"sample!D280","v":0},{"$f":"sample!E280","v":0},{"$f":"sample!F280","v":0},{"$f":"sample!G280","v":0},{"$f":"sample!H280","v":0},{"$f":"sample!I280","v":0},{"$f":"sample!J280","v":0},{"$f":"sample!K280","v":0},{"$f":"sample!L280","v":0},{"$f":"sample!M280","v":0},{"$f":"sample!N280","v":0},{"$f":"sample!O280","v":0},{"$f":"sample!P280","v":0},{"$f":"sample!Q280","v":0},{"$f":"sample!R280","v":0},{"$f":"sample!S280","v":0},{"$f":"sample!T280","v":0},{"$f":"sample!U280","v":0},{"$f":"sample!V280","v":0},{"$f":"sample!W280","v":0},{"$f":"sample!X280","v":0},{"$f":"sample!Y280","v":0},{"$f":"sample!Z280","v":0},{"$f":"sample!AA280","v":0},{"$f":"sample!AB280","v":0},null,{"$error":"#N/A"}]
[{"$error":"#N/A"},{"$f":"sample!C281","v":0},{"$f":"sample!D281","v":0},{"$f":"sample!E281","v":0},{"$f":"sample!F281","v":0},{"$f":"sample!G281","v":0},{"$f":"sample!H281","v":0},{"$f":"sample!I281","v":0},{"$f":"sample!J281","v":0},{"$f":"sample!K281","v":0},{"$f":"sample!L281","v":0},{"$f":"sample!M281","v":0},{"$f":"sample!N281","v":0},{"$f":"sample!O281","v":0},{"$f":"sample!P281","v":0},{"$f":"sample!Q281","v":0},{"$f":"sample!R281","v":0},{"$f":"sample!S281","v":0},{"$f":"sample!T281","v":0},{"$f":"sample!U281","v":0},{"$f":"sample!V281","v":0},{"$f":"sample!W281","v":0},{"$f":"sample!X281","v":0},{"$f":"sample!Y281","v":0},{"$f":"sample!Z281","v":0},{"$f":"sample!AA281","v":0},{"$f":"sample!AB281","v":0},null,{"$error":"#N/A"}]
[{"$error":"#N/A"},{"$f":"sample!C282","v":0},{"$f":"sample!D282","v":0},{"$f":"sample!E282","v":0},{"$f":"sample!F282","v":0},{"$f":"sample!G282","v":0},{"$f":"sample!H282","v":0},{"$f":"sample!I282","v":0},{"$f":"sample!J282","v":0},{"$f":"sample!K282","v":0},{"$f":"sample!L282","v":0},{"$f":"sample!M282","v":0},{"$f":"sample!N282","v":0},{"$f":"sample!O282","v":0},{"$f":"sample!P282","v":0},{"$f":"sample!Q282","v":0},{"$f":"sample!R282","v":0},{"$f":"sample!S282","v":0},{"$f":"sample!T282","v":0},{"$f":"sample!U282","v":0},{"$f":"sample!V282","v":0},{"$f":"sample!W282","v":0},{"$f":"sample!X282","v":0},{"$f":"sample!Y282","v":0},{"$f":"sample!Z282","v":0},{"$f":"sample!AA282","v":0},{"$f":"sample!AB282","v":0},null,{"$error":"#N/A"}]
[{"$error":"#N/A"},{"$f":"sample!C283","v":0},{"$f":"sample!D283","v":0},{"$f":"sample!E283","v":0},{"$f":"sample!F283","v":0},{"$f":"sample!G283","v":0},{"$f":"sample!H283","v":0},{"$f":"sample!I283","v":0},{"$f":"sample!J283","v":0},{"$f":"sample!K283","v":0},{"$f":"sample!L283","v":0},{"$f":"sample!M283","v":0},{"$f":"sample!N283","v":0},{"$f":"sample!O283","v":0},{"$f":"sample!P283","v":0},{"$f":"sample!Q283","v":0},{"$f":"sample!R283","v":0},{"$f":"sample!S283","v":0},{"$f":"sample!T283","v":0},{"$f":"sample!U283","v":0},{"$f":"sample!V283","v":0},{"$f":"sample!W283","v":0},{"$f":"sample!X283","v":0},{"$f":"sample!Y283","v":0},{"$f":"sample!Z283","v":0},{"$f":"sample!AA283","v":0},{"$f":"sample!AB283","v":0},null,{"$error":"#N/A"}]
[{"$error":"#N/A"},{"$f":"sample!C284","v":0},{"$f":"sample!D284","v":0},{"$f":"sample!E284","v":0},{"$f":"sample!F284","v":0},{"$f":"sample!G284","v":0},{"$f":"sample!H284","v":0},{"$f":"sample!I284","v":0},{"$f":"sample!J284","v":0},{"$f":"sample!K284","v":0},{"$f":"sample!L284","v":0},{"$f":"sample!M284","v":0},{"$f":"sample!N284","v":0},{"$f":"sample!O284","v":0},{"$f":"sample!P284","v":0},{"$f":"sample!Q284","v":0},{"$f":"sample!R284","v":0},{"$f":"sample!S284","v":0},{"$f":"sample!T284","v":0},{"$f":"sample!U284","v":0},{"$f":"sample!V284","v":0},{"$f":"sample!W284","v":0},{"$f":"sample!X284","v":0},{"$f":"sample!Y284","v":0},{"$f":"sample!Z284","v":0},{"$f":"sample!AA284","v":0},{"$f":"sample!AB284","v":0},null,{"$error":"#N/A"}]
[{"$error":"#N/A"},{"$f":"sample!C285","v":0},{"$f":"sample!D285","v":0},{"$f":"sample!E285","v":0},{"$f":"sample!F285","v":0},{"$f":"sample!G285","v":0},{"$f":"sample!H285","v":0},{"$f":"sample!I285","v":0},{"$f":"sample!J285","v":0},{"$f":"sample!K285","v":0},{"$f":"sample!L285","v":0},{"$f":"sample!M285","v":0},{"$f":"sample!N285","v":0},{"$f":"sample!O285","v":0},{"$f":"sample!P285","v":0},{"$f":"sample!Q285","v":0},{"$f":"sample!R285","v":0},{"$f":"sample!S285","v":0},{"$f":"sample!T285","v":0},{"$f":"sample!U285","v":0},{"$f":"sample!V285","v":0},{"$f":"sample!W285","v":0},{"$f":"sample!X285","v":0},{"$f":"sample!Y285","v":0},{"$f":"sample!Z285","v":0},{"$f":"sample!AA285","v":0},{"$f":"sample!AB285","v":0},null,{"$error":"#N/A"}]
[{"$error":"#N/A"},{"$f":"sample!C286","v":0},{"$f":"sample!D286","v":0},{"$f":"sample!E286","v":0},{"$f":"sample!F286","v":0},{"$f":"sample!G286","v":0},{"$f":"sample!H286","v":0},{"$f":"sample!I286","v":0},{"$f":"sample!J286","v":0},{"$f":"sample!K286","v":0},{"$f":"sample!L286","v":0},{"$f":"sample!M286","v":0},{"$f":"sample!N286","v":0},{"$f":"sample!O286","v":0},{"$f":"sample!P286","v":0},{"$f":"sample!Q286","v":0},{"$f":"sample!R286","v":0},{"$f":"sample!S286","v":0},{"$f":"sample!T286","v":0},{"$f":"sample!U286","v":0},{"$f":"sample!V286","v":0},{"$f":"sample!W286","v":0},{"$f":"sample!X286","v":0},{"$f":"sample!Y286","v":0},{"$f":"sample!Z286","v":0},{"$f":"sample!AA286","v":0},{"$f":"sample!AB286","v":0},null,{"$error":"#N/A"}]
[{"$error":"#N/A"},{"$f":"sample!C287","v":0},{"$f":"sample!D287","v":0},{"$f":"sample!E287","v":0},{"$f":"sample!F287","v":0},{"$f":"sample!G287","v":0},{"$f":"sample!H287","v":0},{"$f":"sample!I287","v":0},{"$f":"sample!J287","v":0},{"$f":"sample!K287","v":0},{"$f":"sample!L287","v":0},{"$f":"sample!M287","v":0},{"$f":"sample!N287","v":0},{"$f":"sample!O287","v":0},{"$f":"sample!P287","v":0},{"$f":"sample!Q287","v":0},{"$f":"sample!R287","v":0},{"$f":"sample!S287","v":0},{"$f":"sample!T287","v":0},{"$f":"sample!U287","v":0},{"$f":"sample!V287","v":0},{"$f":"sample!W287","v":0},{"$f":"sample!X287","v":0},{"$f":"sample!Y287","v":0},{"$f":"sample!Z287","v":0},{"$f":"sample!AA287","v":0},{"$f":"sample!AB287","v":0},null,{"$error":"#N/A"}]
[{"$error":"#N/A"},{"$f":"sample!C288","v":0},{"$f":"sample!D288","v":0},{"$f":"sample!E288","v":0},{"$f":"sample!F288","v":0},{"$f":"sample!G288","v":0},{"$f":"sample!H288","v":0},{"$f":"sample!I288","v":0},{"$f":"sample!J288","v":0},{"$f":"sample!K288","v":0},{"$f":"sample!L288","v":0},{"$f":"sample!M288","v":0},{"$f":"sample!N288","v":0},{"$f":"sample!O288","v":0},{"$f":"sample!P288","v":0},{"$f":"sample!Q288","v":0},{"$f":"sample!R288","v":0},{"$f":"sample!S288","v":0},{"$f":"sample!T288","v":0},{"$f":"sample!U288","v":0},{"$f":"sample!V288","v":0},{"$f":"sample!W288","v":0},{"$f":"sample!X288","v":0},{"$f":"sample!Y288","v":0},{"$f":"sample!Z288","v":0},{"$f":"sample!AA288","v":0},{"$f":"sample!AB288","v":0},null,{"$error":"#N/A"}]
[{"$error":"#N/A"},{"$f":"sample!C289","v":0},{"$f":"sample!D289","v":0},{"$f":"sample!E289","v":0},{"$f":"sample!F289","v":0},{"$f":"sample!G289","v":0},{"$f":"sample!H289","v":0},{"$f":"sample!I289","v":0},{"$f":"sample!J289","v":0},{"$f":"sample!K289","v":0},{"$f":"sample!L289","v":0},{"$f":"sample!M289","v":0},{"$f":"sample!N289","v":0},{"$f":"sample!O289","v":0},{"$f":"sample!P289","v":0},{"$f":"sample!Q289","v":0},{"$f":"sample!R289","v":0},{"$f":"sample!S289","v":0},{"$f":"sample!T289","v":0},{"$f":"sample!U289","v":0},{"$f":"sample!V289","v":0},{"$f":"sample!W289","v":0},{"$f":"sample!X289","v":0},{"$f":"sample!Y289","v":0},{"$f":"sample!Z289","v":0},{"$f":"sample!AA289","v":0},{"$f":"sample!AB289","v":0},null,{"$error":"#N/A"}]
[{"$error":"#N/A"},{"$f":"sample!C290","v":0},{"$f":"sample!D290","v":0},{"$f":"sample!E290","v":0},{"$f":"sample!F290","v":0},{"$f":"sample!G290","v":0},{"$f":"sample!H290","v":0},{"$f":"sample!I290","v":0},{"$f":"sample!J290","v":0},{"$f":"sample!K290","v":0},{"$f":"sample!L290","v":0},{"$f":"sample!M290","v":0},{"$f":"sample!N290","v":0},{"$f":"sample!O290","v":0},{"$f":"sample!P290","v":0},{"$f":"sample!Q290","v":0},{"$f":"sample!R290","v":0},{"$f":"sample!S290","v":0},{"$f":"sample!T290","v":0},{"$f":"sample!U290","v":0},{"$f":"sample!V290","v":0},{"$f":"sample!W290","v":0},{"$f":"sample!X290","v":0},{"$f":"sample!Y290","v":0},{"$f":"sample!Z290","v":0},{"$f":"sample!AA290","v":0},{"$f":"sample!AB290","v":0},null,{"$error":"#N/A"}]
[{"$error":"#N/A"},{"$f":"sample!C291","v":0},{"$f":"sample!D291","v":0},{"$f":"sample!E291","v":0},{"$f":"sample!F291","v":0},{"$f":"sample!G291","v":0},{"$f":"sample!H291","v":0},{"$f":"sample!I291","v":0},{"$f":"sample!J291","v":0},{"$f":"sample!K291","v":0},{"$f":"sample!L291","v":0},{"$f":"sample!M291","v":0},{"$f":"sample!N291","v":0},{"$f":"sample!O291","v":0},{"$f":"sample!P291","v":0},{"$f":"sample!Q291","v":0},{"$f":"sample!R291","v":0},{"$f":"sample!S291","v":0},{"$f":"sample!T291","v":0},{"$f":"sample!U291","v":0},{"$f":"sample!V291","v":0},{"$f":"sample!W291","v":0},{"$f":"sample!X291","v":0},{"$f":"sample!Y291","v":0},{"$f":"sample!Z291","v":0},{"$f":"sample!AA291","v":0},{"$f":"sample!AB291","v":0},null,{"$error":"#N/A"}]
[{"$error":"#N/A"},{"$f":"sample!C292","v":0},{"$f":"sample!D292","v":0},{"$f":"sample!E292","v":0},{"$f":"sample!F292","v":0},{"$f":"sample!G292","v":0},{"$f":"sample!H292","v":0},{"$f":"sample!I292","v":0},{"$f":"sample!J292","v":0},{"$f":"sample!K292","v":0},{"$f":"sample!L292","v":0},{"$f":"sample!M292","v":0},{"$f":"sample!N292","v":0},{"$f":"sample!O292","v":0},{"$f":"sample!P292","v":0},{"$f":"sample!Q292","v":0},{"$f":"sample!R292","v":0},{"$f":"sample!S292","v":0},{"$f":"sample!T292","v":0},{"$f":"sample!U292","v":0},{"$f":"sample!V292","v":0},{"$f":"sample!W292","v":0},{"$f":"sample!X292","v":0},{"$f":"sample!Y292","v":0},{"$f":"sample!Z292","v":0},{"$f":"sample!AA292","v":0},{"$f":"sample!AB292","v":0},null,{"$error":"#N/A"}]
[{"$error":"#N/A"},{"$f":"sample!C293","v":0},{"$f":"sample!D293","v":0},{"$f":"sample!E293","v":0},{"$f":"sample!F293","v":0},{"$f":"sample!G293","v":0},{"$f":"sample!H293","v":0},{"$f":"sample!I293","v":0},{"$f":"sample!J293","v":0},{"$f":"sample!K293","v":0},{"$f":"sample!L293","v":0},{"$f":"sample!M293","v":0},{"$f":"sample!N293","v":0},{"$f":"sample!O293","v":0},{"$f":"sample!P293","v":0},{"$f":"sample!Q293","v":0},{"$f":"sample!R293","v":0},{"$f":"sample!S293","v":0},{"$f":"sample!T293","v":0},{"$f":"sample!U293","v":0},{"$f":"sample!V293","v":0},{"$f":"sample!W293","v":0},{"$f":"sample!X293","v":0},{"$f":"sample!Y293","v":0},{"$f":"sample!Z293","v":0},{"$f":"sample!AA293","v":0},{"$f":"sample!AB293","v":0},null,{"$error":"#N/A"}]
[{"$error":"#N/A"},{"$f":"sample!C294","v":0},{"$f":"sample!D294","v":0},{"$f":"sample!E294","v":0},{"$f":"sample!F294","v":0},{"$f":"sample!G294","v":0},{"$f":"sample!H294","v":0},{"$f":"sample!I294","v":0},{"$f":"sample!J294","v":0},{"$f":"sample!K294","v":0},{"$f":"sample!L294","v":0},{"$f":"sample!M294","v":0},{"$f":"sample!N294","v":0},{"$f":"sample!O294","v":0},{"$f":"sample!P294","v":0},{"$f":"sample!Q294","v":0},{"$f":"sample!R294","v":0},{"$f":"sample!S294","v":0},{"$f":"sample!T294","v":0},{"$f":"sample!U294","v":0},{"$f":"sample!V294","v":0},{"$f":"sample!W294","v":0},{"$f":"sample!X294","v":0},{"$f":"sample!Y294","v":0},{"$f":"sample!Z294","v":0},{"$f":"sample!AA294","v":0},{"$f":"sample!AB294","v":0},null,{"$error":"#N/A"}]
[{"$error":"#N/A"},{"$f":"sample!C295","v":0},{"$f":"sample!D295","v":0},{"$f":"sample!E295","v":0},{"$f":"sample!F295","v":0},{"$f":"sample!G295","v":0},{"$f":"sample!H295","v":0},{"$f":"sample!I295","v":0},{"$f":"sample!J295","v":0},{"$f":"sample!K295","v":0},{"$f":"sample!L295","v":0},{"$f":"sample!M295","v":0},{"$f":"sample!N295","v":0},{"$f":"sample!O295","v":0},{"$f":"sample!P295","v":0},{"$f":"sample!Q295","v":0},{"$f":"sample!R295","v":0},{"$f":"sample!S295","v":0},{"$f":"sample!T295","v":0},{"$f":"sample!U295","v":0},{"$f":"sample!V295","v":0},{"$f":"sample!W295","v":0},{"$f":"sample!X295","v":0},{"$f":"sample!Y295","v":0},{"$f":"sample!Z295","v":0},{"$f":"sample!AA295","v":0},{"$f":"sample!AB295","v":0},null,{"$error":"#N/A"}]
[{"$error":"#N/A"},{"$f":"sample!C296","v":0},{"$f":"sample!D296","v":0},{"$f":"sample!E296","v":0},{"$f":"sample!F296","v":0},{"$f":"sample!G296","v":0},{"$f":"sample!H296","v":0},{"$f":"sample!I296","v":0},{"$f":"sample!J296","v":0},{"$f":"sample!K296","v":0},{"$f":"sample!L296","v":0},{"$f":"sample!M296","v":0},{"$f":"sample!N296","v":0},{"$f":"sample!O296","v":0},{"$f":"sample!P296","v":0},{"$f":"sample!Q296","v":0},{"$f":"sample!R296","v":0},{"$f":"sample!S296","v":0},{"$f":"sample!T296","v":0},{"$f":"sample!U296","v":0},{"$f":"sample!V296","v":0},{"$f":"sample!W296","v":0},{"$f":"sample!X296","v":0},{"$f":"sample!Y296","v":0},{"$f":"sample!Z296","v":0},{"$f":"sample!AA296","v":0},{"$f":"sample!AB296","v":0},null,{"$error":"#N/A"}]
[{"$error":"#N/A"},{"$f":"sample!C297","v":0},{"$f":"sample!D297","v":0},{"$f":"sample!E297","v":0},{"$f":"sample!F297","v":0},{"$f":"sample!G297","v":0},{"$f":"sample!H297","v":0},{"$f":"sample!I297","v":0},{"$f":"sample!J297","v":0},{"$f":"sample!K297","v":0},{"$f":"sample!L297","v":0},{"$f":"sample!M297","v":0},{"$f":"sample!N297","v":0},{"$f":"sample!O297","v":0},{"$f":"sample!P297","v":0},{"$f":"sample!Q297","v":0},{"$f":"sample!R297","v":0},{"$f":"sample!S297","v":0},{"$f":"sample!T297","v":0},{"$f":"sample!U297","v":0},{"$f":"sample!V297","v":0},{"$f":"sample!W297","v":0},{"$f":"sample!X297","v":0},{"$f":"sample!Y297","v":0},{"$f":"sample!Z297","v":0},{"$f":"sample!AA297","v":0},{"$f":"sample!AB297","v":0},null,{"$error":"#N/A"}]
[{"$error":"#N/A"},{"$f":"sample!C298","v":0},{"$f":"sample!D298","v":0},{"$f":"sample!E298","v":0},{"$f":"sample!F298","v":0},{"$f":"sample!G298","v":0},{"$f":"sample!H298","v":0},{"$f":"sample!I298","v":0},{"$f":"sample!J298","v":0},{"$f":"sample!K298","v":0},{"$f":"sample!L298","v":0},{"$f":"sample!M298","v":0},{"$f":"sample!N298","v":0},{"$f":"sample!O298","v":0},{"$f":"sample!P298","v":0},{"$f":"sample!Q298","v":0},{"$f":"sample!R298","v":0},{"$f":"sample!S298","v":0},{"$f":"sample!T298","v":0},{"$f":"sample!U298","v":0},{"$f":"sample!V298","v":0},{"$f":"sample!W298","v":0},{"$f":"sample!X298","v":0},{"$f":"sample!Y298","v":0},{"$f":"sample!Z298","v":0},{"$f":"sample!AA298","v":0},{"$f":"sample!AB298","v":0},null,{"$error":"#N/A"}]
[{"$error":"#N/A"},{"$f":"sample!C299","v":0},{"$f":"sample!D299","v":0},{"$f":"sample!E299","v":0},{"$f":"sample!F299","v":0},{"$f":"sample!G299","v":0},{"$f":"sample!H299","v":0},{"$f":"sample!I299","v":0},{"$f":"sample!J299","v":0},{"$f":"sample!K299","v":0},{"$f":"sample!L299","v":0},{"$f":"sample!M299","v":0},{"$f":"sample!N299","v":0},{"$f":"sample!O299","v":0},{"$f":"sample!P299","v":0},{"$f":"sample!Q299","v":0},{"$f":"sample!R299","v":0},{"$f":"sample!S299","v":0},{"$f":"sample!T299","v":0},{"$f":"sample!U299","v":0},{"$f":"sample!V299","v":0},{"$f":"sample!W299","v":0},{"$f":"sample!X299","v":0},{"$f":"sample!Y299","v":0},{"$f":"sample!Z299","v":0},{"$f":"sample!AA299","v":0},{"$f":"sample!AB299","v":0},null,{"$error":"#N/A"}]
[{"$error":"#N/A"},{"$f":"sample!C300","v":0},{"$f":"sample!D300","v":0},{"$f":"sample!E300","v":0},{"$f":"sample!F300","v":0},{"$f":"sample!G300","v":0},{"$f":"sample!H300","v":0},{"$f":"sample!I300","v":0},{"$f":"sample!J300","v":0},{"$f":"sample!K300","v":0},{"$f":"sample!L300","v":0},{"$f":"sample!M300","v":0},{"$f":"sample!N300","v":0},{"$f":"sample!O300","v":0},{"$f":"sample!P300","v":0},{"$f":"sample!Q300","v":0},{"$f":"sample!R300","v":0},{"$f":"sample!S300","v":0},{"$f":"sample!T300","v":0},{"$f":"sample!U300","v":0},{"$f":"sample!V300","v":0},{"$f":"sample!W300","v":0},{"$f":"sample!X300","v":0},{"$f":"sample!Y300","v":0},{"$f":"sample!Z300","v":0},{"$f":"sample!AA300","v":0},{"$f":"sample!AB300","v":0},null,{"$error":"#N/A"}]
[{"$error":"#N/A"},{"$f":"sample!C301","v":0},{"$f":"sample!D301","v":0},{"$f":"sample!E301","v":0},{"$f":"sample!F301","v":0},{"$f":"sample!G301","v":0},{"$f":"sample!H301","v":0},{"$f":"sample!I301","v":0},{"$f":"sample!J301","v":0},{"$f":"sample!K301","v":0},{"$f":"sample!L301","v":0},{"$f":"sample!M301","v":0},{"$f":"sample!N301","v":0},{"$f":"sample!O301","v":0},{"$f":"sample!P301","v":0},{"$f":"sample!Q301","v":0},{"$f":"sample!R301","v":0},{"$f":"sample!S301","v":0},{"$f":"sample!T301","v":0},{"$f":"sample!U301","v":0},{"$f":"sample!V301","v":0},{"$f":"sample!W301","v":0},{"$f":"sample!X301","v":0},{"$f":"sample!Y301","v":0},{"$f":"sample!Z301","v":0},{"$f":"sample!AA301","v":0},{"$f":"sample!AB301","v":0},null,{"$error":"#N/A"}]
[{"$error":"#N/A"},{"$f":"sample!C302","v":0},{"$f":"sample!D302","v":0},{"$f":"sample!E302","v":0},{"$f":"sample!F302","v":0},{"$f":"sample!G302","v":0},{"$f":"sample!H302","v":0},{"$f":"sample!I302","v":0},{"$f":"sample!J302","v":0},{"$f":"sample!K302","v":0},{"$f":"sample!L302","v":0},{"$f":"sample!M302","v":0},{"$f":"sample!N302","v":0},{"$f":"sample!O302","v":0},{"$f":"sample!P302","v":0},{"$f":"sample!Q302","v":0},{"$f":"sample!R302","v":0},{"$f":"sample!S302","v":0},{"$f":"sample!T302","v":0},{"$f":"sample!U302","v":0},{"$f":"sample!V302","v":0},{"$f":"sample!W302","v":0},{"$f":"sample!X302","v":0},{"$f":"sample!Y302","v":0},{"$f":"sample!Z302","v":0},{"$f":"sample!AA302","v":0},{"$f":"sample!AB302","v":0},null,{"$error":"#N/A"}]
[{"$error":"#N/A"},{"$f":"sample!C303","v":0},{"$f":"sample!D303","v":0},{"$f":"sample!E303","v":0},{"$f":"sample!F303","v":0},{"$f":"sample!G303","v":0},{"$f":"sample!H303","v":0},{"$f":"sample!I303","v":0},{"$f":"sample!J303","v":0},{"$f":"sample!K303","v":0},{"$f":"sample!L303","v":0},{"$f":"sample!M303","v":0},{"$f":"sample!N303","v":0},{"$f":"sample!O303","v":0},{"$f":"sample!P303","v":0},{"$f":"sample!Q303","v":0},{"$f":"sample!R303","v":0},{"$f":"sample!S303","v":0},{"$f":"sample!T303","v":0},{"$f":"sample!U303","v":0},{"$f":"sample!V303","v":0},{"$f":"sample!W303","v":0},{"$f":"sample!X303","v":0},{"$f":"sample!Y303","v":0},{"$f":"sample!Z303","v":0},{"$f":"sample!AA303","v":0},{"$f":"sample!AB303","v":0},null,{"$error":"#N/A"}]
[{"$error":"#N/A"},{"$f":"sample!C304","v":0},{"$f":"sample!D304","v":0},{"$f":"sample!E304","v":0},{"$f":"sample!F304","v":0},{"$f":"sample!G304","v":0},{"$f":"sample!H304","v":0},{"$f":"sample!I304","v":0},{"$f":"sample!J304","v":0},{"$f":"sample!K304","v":0},{"$f":"sample!L304","v":0},{"$f":"sample!M304","v":0},{"$f":"sample!N304","v":0},{"$f":"sample!O304","v":0},{"$f":"sample!P304","v":0},{"$f":"sample!Q304","v":0},{"$f":"sample!R304","v":0},{"$f":"sample!S304","v":0},{"$f":"sample!T304","v":0},{"$f":"sample!U304","v":0},{"$f":"sample!V304","v":0},{"$f":"sample!W304","v":0},{"$f":"sample!X304","v":0},{"$f":"sample!Y304","v":0},{"$f":"sample!Z304","v":0},{"$f":"sample!AA304","v":0},{"$f":"sample!AB304","v":0},null,{"$error":"#N/A"}]
[{"$error":"#N/A"},{"$f":"sample!C305","v":0},{"$f":"sample!D305","v":0},{"$f":"sample!E305","v":0},{"$f":"sample!F305","v":0},{"$f":"sample!G305","v":0},{"$f":"sample!H305","v":0},{"$f":"sample!I305","v":0},{"$f":"sample!J305","v":0},{"$f":"sample!K305","v":0},{"$f":"sample!L305","v":0},{"$f":"sample!M305","v":0},{"$f":"sample!N305","v":0},{"$f":"sample!O305","v":0},{"$f":"sample!P305","v":0},{"$f":"sample!Q305","v":0},{"$f":"sample!R305","v":0},{"$f":"sample!S305","v":0},{"$f":"sample!T305","v":0},{"$f":"sample!U305","v":0},{"$f":"sample!V305","v":0},{"$f":"sample!W305","v":0},{"$f":"sample!X305","v":0},{"$f":"sample!Y305","v":0},{"$f":"sample!Z305","v":0},{"$f":"sample!AA305","v":0},{"$f":"sample!AB305","v":0},null,{"$error":"#N/A"}]
[{"$error":"#N/A"},{"$f":"sample!C306","v":0},{"$f":"sample!D306","v":0},{"$f":"sample!E306","v":0},{"$f":"sample!F306","v":0},{"$f":"sample!G306","v":0},{"$f":"sample!H306","v":0},{"$f":"sample!I306","v":0},{"$f":"sample!J306","v":0},{"$f":"sample!K306","v":0},{"$f":"sample!L306","v":0},{"$f":"sample!M306","v":0},{"$f":"sample!N306","v":0},{"$f":"sample!O306","v":0},{"$f":"sample!P306","v":0},{"$f":"sample!Q306","v":0},{"$f":"sample!R306","v":0},{"$f":"sample!S306","v":0},{"$f":"sample!T306","v":0},{"$f":"sample!U306","v":0},{"$f":"sample!V306","v":0},{"$f":"sample!W306","v":0},{"$f":"sample!X306","v":0},{"$f":"sample!Y306","v":0},{"$f":"sample!Z306","v":0},{"$f":"sample!AA306","v":0},{"$f":"sample!AB306","v":0},null,{"$error":"#N/A"}]
[{"$error":"#N/A"},{"$f":"sample!C307","v":0},{"$f":"sample!D307","v":0},{"$f":"sample!E307","v":0},{"$f":"sample!F307","v":0},{"$f":"sample!G307","v":0},{"$f":"sample!H307","v":0},{"$f":"sample!I307","v":0},{"$f":"sample!J307","v":0},{"$f":"sample!K307","v":0},{"$f":"sample!L307","v":0},{"$f":"sample!M307","v":0},{"$f":"sample!N307","v":0},{"$f":"sample!O307","v":0},{"$f":"sample!P307","v":0},{"$f":"sample!Q307","v":0},{"$f":"sample!R307","v":0},{"$f":"sample!S307","v":0},{"$f":"sample!T307","v":0},{"$f":"sample!U307","v":0},{"$f":"sample!V307","v":0},{"$f":"sample!W307","v":0},{"$f":"sample!X307","v":0},{"$f":"sample!Y307","v":0},{"$f":"sample!Z307","v":0},{"$f":"sample!AA307","v":0},{"$f":"sample!AB307","v":0},null,{"$error":"#N/A"}]
[{"$error":"#N/A"},{"$f":"sample!C308","v":0},{"$f":"sample!D308","v":0},{"$f":"sample!E308","v":0},{"$f":"sample!F308","v":0},{"$f":"sample!G308","v":0},{"$f":"sample!H308","v":0},{"$f":"sample!I308","v":0},{"$f":"sample!J308","v":0},{"$f":"sample!K308","v":0},{"$f":"sample!L308","v":0},{"$f":"sample!M308","v":0},{"$f":"sample!N308","v":0},{"$f":"sample!O308","v":0},{"$f":"sample!P308","v":0},{"$f":"sample!Q308","v":0},{"$f":"sample!R308","v":0},{"$f":"sample!S308","v":0},{"$f":"sample!T308","v":0},{"$f":"sample!U308","v":0},{"$f":"sample!V308","v":0},{"$f":"sample!W308","v":0},{"$f":"sample!X308","v":0},{"$f":"sample!Y308","v":0},{"$f":"sample!Z308","v":0},{"$f":"sample!AA308","v":0},{"$f":"sample!AB308","v":0},null,{"$error":"#N/A"}]
[null,null,null,{"$f":"sample!E309","v":0},{"$f":"sample!F309","v":0},{"$f":"sample!G309","v":0},{"$f":"sample!H309","v":0},{"$f":"sample!I309","v":0},{"$f":"sample!J309","v":0},{"$f":"sample!K309","v":0},{"$f":"sample!L309","v":0},{"$f":"sample!M309","v":0},{"$f":"sample!N309","v":0},{"$f":"sample!O309","v":0},{"$f":"sample!P309","v":0},{"$f":"sample!Q309","v":0},{"$f":"sample!R309","v":0},{"$f":"sample!S309","v":0},{"$f":"sample!T309","v":0},{"$f":"sample!U309","v":0},{"$f":"sample!V309","v":0},{"$f":"sample!W309","v":0},{"$f":"sample!X309","v":0},{"$f":"sample!Y309","v":0},{"$f":"sample!Z309","v":0},{"$f":"sample!AA309","v":0},{"$f":"sample!AB309","v":0}]
[]
[null,{"$f":"sample!C311","v":0},null,null,{"$f":"sample!F311","v":0},null,null,{"$f":"sample!I311","v":0},null,null,{"$f":"sample!L311","v":0}]
[null,{"$f":"MAX(B314:B335)","v":0},null,null,{"$f":"MAX(E314:E335)","v":0},null,null,{"$f":"MAX(H314:H335)","v":0},null,null,{"$f":"MAX(K314:K335)","v":0}]
[]
[null,{"$f":"sample!C314","v":0},null,null,{"$f":"sample!F314","v":0},null,null,{"$f":"sample!I314","v":0},null,null,{"$f":"sample!L314","v":0}]
[null,{"$f":"sample!C315","v":0},null,null,{"$f":"sample!F315","v":0},null,null,{"$f":"sample!I315","v":0},null,null,{"$f":"sample!L315","v":0}]
[null,{"$f":"sample!C316","v":0},null,null,{"$f":"sample!F316","v":0},null,null,{"$f":"sample!I316","v":0},null,null,{"$f":"sample!L316","v":0}]
[null,{"$f":"sample!C317","v":0},null,null,{"$f":"sample!F317","v":0},null,null,{"$f":"sample!I317","v":0},null,null,{"$f":"sample!L317","v":0}]
[null,{"$f":"sample!C318","v":0},null,null,{"$f":"sample!F318","v":0},null,null,{"$f":"sample!I318","v":0},null,null,{"$f":"sample!L318","v":0}]
[null,{"$f":"sample!C319","v":0},null,null,{"$f":"sample!F319","v":0},null,null,{"$f":"sample!I319","v":0},null,null,{"$f":"sample!L319","v":0}]
[null,{"$f":"sample!C320","v":0},null,null,{"$f":"sample!F320","v":0},null,null,{"$f":"sample!I320","v":0},null,null,{"$f":"sample!L320","v":0}]
[null,{"$f":"sample!C321","v":0},null,null,{"$f":"sample!F321","v":0},null,null,{"$f":"sample!I321","v":0},null,null,{"$f":"sample!L321","v":0}]
[null,{"$f":"sample!C322","v":0},null,null,{"$f":"sample!F322","v":0},null,null,{"$f":"sample!I322","v":0},null,null,{"$f":"sample!L322","v":0}]
[null,{"$f":"sample!C323","v":0},null,null,{"$f":"sample!F323","v":0},null,null,{"$f":"sample!I323","v":0},null,null,{"$f":"sample!L323","v":0}]
[]
[]
[null,{"$f":"sample!C326","v":0},null,null,{"$f":"sample!F326","v":0},null,null,{"$f":"sample!I326","v":0},null,null,{"$f":"sample!L326","v":0}]
[null,{"$f":"sample!C327","v":0},null,null,{"$f":"sample!F327","v":0},null,null,{"$f":"sample!I327","v":0},null,null,{"$f":"sample!L327","v":0}]
[null,{"$f":"sample!C328","v":0},null,null,{"$f":"sample!F328","v":0},null,null,{"$f":"sample!I328","v":0},null,null,{"$f":"sample!L328","v":0}]
[null,{"$f":"sample!C329","v":0},null,null,{"$f":"sample!F329","v":0},null,null,{"$f":"sample!I329","v":0},null,null,{"$f":"sample!L329","v":0}]
[null,{"$f":"sample!C330","v":0},null,null,{"$f":"sample!F330","v":0},null,null,{"$f":"sample!I330","v":0},null,null,{"$f":"sample!L330","v":0}]
[null,{"$f":"sample!C331","v":0},null,null,{"$f":"sample!F331","v":0},null,null,{"$f":"sample!I331","v":0},null,null,{"$f":"sample!L331","v":0}]
[null,{"$f":"sample!C332","v":0},null,null,{"$f":"sample!F332","v":0},null,null,{"$f":"sample!I332","v":0},null,null,{"$f":"sample!L332","v":0}]
[null,{"$f":"sample!C333","v":0},null,null,{"$f":"sample!F333","v":0},null,null,{"$f":"sample!I333","v":0},null,null,{"$f":"sample!L333","v":0}]
[null,{"$f":"sample!C334","v":0},null,null,{"$f":"sample!F334","v":0},null,null,{"$f":"sample!I334","v":0},null,null,{"$f":"sample!L334","v":0}]
[null,{"$f":"sample!C335","v":0},null,null,{"$f":"sample!F335","v":0},null,null,{"$f":"sample!I335","v":0},null,null,{"$f":"sample!L335","v":0}]

{"sheet":"360Eval","index":8,"n_rows":175,"n_cols":86,"rows_kept":175,"cut":false,"hidden":false,"merged":[[3,3,3,4],[3,5,3,16],[4,3,4,18],[5,3,5,18],[9,3,9,4],[9,5,9,10],[9,12,9,18],[16,4,16,12],[17,4,17,12],[18,4,18,12],[19,4,19,12],[20,4,20,12],[21,4,21,12],[10,3,10,4],[10,5,10,10],[11,3,11,4],[11,5,11,10],[13,3,13,18],[15,4,15,5],[15,6,15,12],[15,13,15,14],[15,15,15,16],[15,17,15,18],[24,17,24,18],[25,4,25,12],[26,4,26,12],[27,4,27,12],[28,4,28,12],[29,4,29,12],[22,3,22,4],[22,7,22,8],[24,4,24,5],[24,6,24,12],[24,13,24,14],[24,15,24,16],[33,15,33,16],[33,17,33,18],[34,4,34,12],[35,4,35,12],[36,4,36,12],[37,4,37,12],[30,4,30,12],[31,3,31,4],[31,7,31,8],[33,4,33,5],[33,6,33,12],[33,13,33,14],[42,13,42,14],[42,15,42,16],[42,17,42,18],[43,4,43,12],[44,4,44,12],[45,4,45,12],[38,4,38,12],[39,4,39,12],[40,3,40,4],[40,7,40,8],[42,4,42,5],[42,6,42,12],[51,13,51,14],[51,15,51,16],[51,17,51,18],[52,4,52,12],[53,4,53,12],[54,4,54,12],[46,4,46,12],[47,4,47,12],[48,4,48,12],[49,3,49,4],[49,7,49,8],[51,4,51,5],[51,6,51,12],[60,17,60,18],[61,4,61,12],[62,4,62,12],[63,4,63,12],[55,4,55,12],[56,4,56,12],[57,4,57,12],[58,3,58,4],[58,7,58,8],[60,4,60,5],[60,6,60,12],[64,4,64,12],[65,4,65,12],[66,4,66,12],[67,3,67,4],[67,7,67,8],[69,4,69,5],[69,6,69,12],[60,13,60,14],[60,15,60,16],[73,4,73,12],[74,4,74,12],[75,4,75,12],[76,3,76,4],[76,7,76,8],[77,15,77,17],[69,13,69,14],[69,15,69,16],[69,17,69,18],[70,4,70,12],[71,4,71,12],[72,4,72,12]]}
[null,null,null,null,null,null,null,null,null,null,null,null,null,null,null,null,null,null,null,null,null,null,null,2020,{"$f":"KPICreate!A4","v":2020},{"$f":"'Wk Input'!A2","v":44196},null,null,null,null,{"$f":"IFERROR(MATCH(\"OOP\",AD1:AD76,0),0)","v":13},null,null,null,{"$f":"CONCATENATE(\"SELF\",Home!Z1)","v":"SELFDM1"},"Superior"]
[null,null,null,null,null,null,null,null,null,null,null,null,null,null,null,null,null,null,null,null,null,null,null,"2020-11-01",{"$f":"EDATE(X2,12*(Y1-X1))","v":44136},{"$f":"IF(sample!KT20=\"\",Y2,sample!KT20)","v":44105},null,null,null,null,{"$f":"IF(AE1=0,0,INDEX(D1:D76,AE1))","v":"Apa hubungan anda dengan Penerima Maklumbalas? Saya adalah…"},null,{"$f":"TEXT(Z2,\"DD/MM/YYYY\")","v":"01/10/2020"},null,null,"Peer"]
[null,null,null,null,null,null,null,null,null,null,null,null,null,null,null,null,null,null,null,null,null,null,null,"2020-12-31",{"$f":"EDATE(X3,12*(Y1-X1))","v":44196},{"$f":"IF(sample!KU20=\"\",Y3,sample!KU20)","v":44196},null,null,null,null,null,null,{"$f":"TEXT(Z3,\"DD/MM/YYYY\")","v":"31/12/2020"},null,null,"Subordinate"]
[null,null,null,{"$f":"Y1","v":2020},null,"360° EVALUATION",null,null,null,null,null,null,null,null,null,null,null,null,null,null,null,null,null,null,null,{"$f":"IF(AC78=0,10,IF(Z1<Z2,9,IF(Z1<Z3,IF(AA11=7,8,IF(AA11=6,IF(AD11,IF(AD12,5,4),6),IF(AK13,2,3))),IF(AND(AA11=7,AD11),7,IF(AA11=7,6,1)))))","v":1},null,null,null,null,null,null,null,null,null,"Internal Customer"]
[null,null,null,"Salam Sejahtera",null,null,null,null,null,null,null,null,null,null,null,null,null,null,null,null,null,null,null,null,1,2,3,4,5,6,7,8,9,10,null,"Team Member"]
[null,null,null,{"$f":"INDEX(Y6:AH6,Z4)","v":"Survei 360° Evaluation kini sudah ditutup. Anda boleh gunakan muka ini untuk melihat skor anda sendiri, jika ada, di bawah 'Lihat Skor Saya'.\nSila Refresh untuk dapatkan kemaskini muka ini yang terkini."},null,null,null,null,null,null,null,null,null,null,null,null,null,null,null,null,null,null,null,null,"Survei 360° Evaluation kini sudah ditutup. Anda boleh gunakan muka ini untuk melihat skor anda sendiri, jika ada, di bawah 'Lihat Skor Saya'.\nSila Refresh untuk dapatkan kemaskini muka ini yang terkini.","Anda telah terpilih untuk memberi maklumbalas terhadap anggota di bawah. Sila gunakan borang ini untuk memberi maklumbalas tentang sikap yang biasa ditunjukkan oleh anggota ini. Segala maklumbalas anda adalah sulit, dan penerima maklumbalas tidak akan melihat borang ini.","Tidak ada 360° Evaluation (lagi) untuk anda membuat penilaian.\nSila Refresh untuk dapatkan kemaskini muka ini yang terkini.","Sila berikan maklumbalas di bawah untuk menilai diri anda sendiri sebaik mungkin secara jujur. Penilaian diri tidak memberi impak kepada skor anda, tetapi ianya berguna sebagai perbandingan bagaimana diri anda dinilai oleh orang lain. Anda hanya boleh melakukan ini sekali sahaja. Segala maklumbalas anda adalah sulit.","Maaf, anda tidak boleh melakukan penilaian 360° Evaluation untuk diri sendiri lebih dari sekali!","Maaf, and belum terpilih untuk dinilai secara 360° Evaluation.\nSila Refresh untuk dapatkan kemaskini muka ini yang terkini.","Sila rujuk kepada Skor bagaimana anda dinilai oleh orang lain berbanding penilaian diri anda sendiri, bagi setiap Nilai Bersama di bawah.\nSila Refresh untuk dapatkan kemaskini muka ini yang terkini.","Maaf! Skor anda belum lagi diproses dan dikeluarkan. Skor anda akan dikeluarkan pada 31/12/2021.\nSila Refresh untuk dapatkan kemaskini muka ini yang terkini.","Survei 360° Evaluation belum lagi dimulakan. Ia akan hanya bermula pada 01/11/2021.\nSila Refresh untuk dapatkan kemaskini muka ini yang terkini.","Sila Refresh untuk dapatkan kemaskini muka ini yang terkini.",null,"Self"]
[null,null,null,null,null,null,null,null,null,null,null,null,null,null,null,null,null,null,null,null,null,null,null,null,null,null,null,null,null,null,null,null,"Ref ID","Recipient","Evaluator","Relation","Date",1.1000000000000001,1.2,1.3,1.4,1.5,1.6,"Group 1",2.1,2.2000000000000002,2.2999999999999998,2.4,2.5,2.6,"Group 2",3.1,3.2,3.3,3.4,3.5,3.6,"Group 3",4.0999999999999996,4.2,4.3,4.4000000000000004,4.5,4.5999999999999996,"Group 4",5.0999999999999996,5.2,5.3,5.4,5.5,5.6,"Group 5",6.1,6.2,6.3,6.4,6.5,6.6,"Group 6",7.1,7.2,7.3,7.4,7.5,7.6,"Group 7"]
[null,null,null,"Kini:",{"$f":"IF(OR($AA$11=6,$AA$11=7),\"SELF\",IF($AK$13,INDEX($AK$1:$AK$175,$AK$14),\"NONE\"))","v":"NONE"},null,"Seterusnya:",{"$f":"IF(AM13,INDEX($AK$1:$AK$175,AM14),\"\")","v":""},{"$f":"IF(AN13,INDEX($AK$1:$AK$175,AN14),\"\")","v":""},"","","","","",null,null,null,"Sila Lengkapkan sebelum:",{"$f":"Z3-1","v":"2020-12-30"},null,null,null,null,null,null,null,null,null,null,null,null,null,{"$f":"IF(E8=\"SELF\",AI1,E8)","v":"NONE"},{"$f":"IF(E8=\"SELF\",AI8,INDEX(AL$1:AL$175,AK14))","v":"AA1"},null,{"$f":"AD13","v":"OOP"},{"$f":"Z1","v":44196},{"$f":"AD17","v":"OOP"},{"$f":"AD18","v":"OOP"},{"$f":"AD19","v":"OOP"},{"$f":"AD20","v":"OOP"},{"$f":"AD21","v":"OOP"},{"$f":"AD22","v":"OPO"},{"$f":"AD23","v":0},{"$f":"AD26","v":"OOP"},{"$f":"AD27","v":"OOP"},{"$f":"AD28","v":"OOP"},{"$f":"AD29","v":"OOP"},{"$f":"AD30","v":"OOP"},{"$f":"AD31","v":"OPO"},{"$f":"AD32","v":0},{"$f":"AD35","v":"OOP"},{"$f":"AD36","v":"OOP"},{"$f":"AD37","v":"OOP"},{"$f":"AD38","v":"OOP"},{"$f":"AD39","v":"OPO"},{"$f":"AD40","v":"OPO"},{"$f":"AD41","v":0},{"$f":"AD44","v":"OOP"},{"$f":"AD45","v":"OOP"},{"$f":"AD46","v":"OOP"},{"$f":"AD47","v":"OPO"},{"$f":"AD48","v":"OPO"},{"$f":"AD49","v":"OPO"},{"$f":"AD50","v":0},{"$f":"AD53","v":"OPO"},{"$f":"AD54","v":"OPO"},{"$f":"AD55","v":"OPO"},{"$f":"AD56","v":"OPO"},{"$f":"AD57","v":"OPO"},{"$f":"AD58","v":"OPO"},{"$f":"AD59","v":"N/A"},{"$f":"AD62","v":"OPO"},{"$f":"AD63","v":"OPO"},{"$f":"AD64","v":"OPO"},{"$f":"AD65","v":"OPO"},{"$f":"AD66","v":"OPO"},{"$f":"AD67","v":"OPO"},{"$f":"AD68","v":"N/A"},{"$f":"AD71","v":"OPO"},{"$f":"AD72","v":"OPO"},{"$f":"AD73","v":"OPO"},{"$f":"AD74","v":"OPO"},{"$f":"AD75","v":"OPO"},{"$f":"AD76","v":"OPO"},{"$f":"AD77","v":"N/A"}]
[null,null,null,null,null,null,null,null,null,null,null,null,null,null,null,null,null,null,"Tiada Evaluation akan diproses selepas tarikh ini."]
[null,null,null,"Nama Penerima Maklumbalas:",null,{"$f":"IF(OR($AA$11=6,$AA$11=7),Home!H6,IF($AK$13,INDEX($AM$1:$AM$175,$AK$14),\"\"))","v":""},null,null,null,null,null,null,"Apa hubungan anda dengan Penerima Maklumbalas? Saya adalah…",null,null,null,null,null,null,null,null,null,null,null,null,null,"Answer"]
[null,null,null,"Jawatan:",null,{"$f":"IF(OR($AA$11=6,$AA$11=7),Home!H10,IF($AK$13,INDEX($AN$1:$AN$175,$AK$14),\"\"))","v":""},null,null,null,null,null,null,null,null,null,null,null,null,null,null,null,null,null,null,null,null,null,null,"Self Asses",{"$f":"sample!KS20","v":false}]
[null,null,null,"Bahagian:",null,{"$f":"IF(OR($AA$11=6,$AA$11=7),Home!H12,IF($AK$13,INDEX($AO$1:$AO$175,$AK$14),\"\"))","v":""},null,null,null,null,null,null,null,null,null,null,null,null,null,null,null,null,null,null,null,null,null,null,"Self Done",{"$f":"IF(COUNTIF($AI:$AI,AI1)>1,TRUE,FALSE)","v":false},null,null,null,null,null,null,null,"Offset",{"$f":"MATCH(\"TRUE\",OFFSET($AJ$1,AK14,0,175-AK14,1),0)","v":3},{"$f":"MATCH(\"TRUE\",OFFSET($AJ$1,AM14,0,175-AM14,1),0)","v":3},{"$f":"MATCH(\"TRUE\",OFFSET($AJ$1,AN14,0,175-AN14,1),0)","v":1},7,1,{"$error":"#N/A"},{"$error":"#N/A"}]
[null,null,null,{"$f":"M10","v":"Apa hubungan anda dengan Penerima Maklumbalas? Saya adalah…"},null,null,null,null,null,null,null,null,null,null,null,null,null,null,null,null,null,null,null,null,null,null,null,null,null,{"$f":"IFERROR(INDEX($AJ$1:$AJ$6,$AA$11),\"OOP\")","v":"OOP"},null,null,null,null,null,null,{"$f":"IF($Z$1>=$Z$3,FALSE,ISNUMBER(AK14))","v":false},null,{"$f":"IF($Z$1>=$Z$3,FALSE,ISNUMBER(AM12))","v":false},false,false,false,false,false,false]
[null,null,null,"Arahan: \nSila tandakan tahap Nilai Bersama yang berkenaan yang ditunjukkan oleh anggota ini sebagaimana dalam pemerhatian anda, berpandukan soalan-soalan bagi setiap Nilai tersebut. Gunakan N/O (berkecuali) sekiranya anda tidak berada dalam situasi yang memungkinkan anda untuk dapat memerhatikan sikap tersebut. ",null,null,null,null,null,null,null,null,null,null,null,null,null,null,null,null,null,null,null,null,null,null,null,null,null,null,null,null,null,{"$f":"COUNTA(AI:AI)+13","v":31},null,"Row",{"$f":"IFERROR(IF(OR(AA11=6,AA11=7),15,MATCH(\"TRUE\",AJ$1:AJ$175,0)),\"NONE\")","v":16},null,{"$f":"AK14+AM12","v":19},{"$f":"AM14+AN12","v":22},{"$f":"AN14+AO12","v":23},30,31,{"$error":"#N/A"},{"$error":"#N/A"}]
[null,null,null,null,null,null,null,null,null,null,null,null,null,null,null,null,null,null,null,null,null,null,null,null,null,null,null,"V & Q","Factor",null,null,null,null,null,"Ref Done","Match","Ref ID","Recipient","Rec Name","Rec Pos","Rec Dept"]
[null,null,null,"#1","Nilai Bersama:",null,{"$f":"IF(sample!Q345=\"\",\"\",sample!Q345)","v":"DISIPLIN"},null,null,null,null,null,null,"N/O=Berkecuali",null,"1=Sangat Rendah",null,"5=Sangat Tinggi",null,null,null,null,null,null,null,null,null,null,{"$f":"IF(G16=\"\",0,1)","v":1},null,null,null,null,null,20305,{"$f":"IFERROR(IF(AK16=0,\"\",MATCH(AK16,$AI:$AI,0)),\"TRUE\")","v":"TRUE"},{"$f":"sample!MI5","v":20260},{"$f":"sample!MJ5","v":"AA1"},{"$f":"sample!MK5","v":"ARNOLD HICKS"},{"$f":"sample!ML5","v":"EKSEKUTIF OPERASI"},{"$f":"sample!MM5","v":"OPERASI"}]
[null,null,null,1.1000000000000001,{"$f":"IF(sample!Q346=\"\",\"\",sample!Q346)","v":"Adakah anggota ini menunjukkan kepatuhan yang baik terhadap proses dan prosidur kerja yang ada?"},null,null,null,null,null,null,null,null,null,null,null,null,null,null,null,null,null,null,null,null,null,null,null,{"$f":"IF(OR(AA17=1,E17=\"\"),0,1)*AC$16","v":1},{"$f":"IF(AC17=0,\"OPO\",IF(AA17=\"\",\"OOP\",(AA17-1)/5))","v":"OOP"},null,null,null,null,20710,{"$f":"IFERROR(IF(AK17=0,\"\",MATCH(AK17,$AI:$AI,0)),\"TRUE\")","v":16},{"$f":"sample!MI6","v":20305},{"$f":"sample!MJ6","v":"AA2"},{"$f":"sample!MK6","v":"KIMBERLY ZIMMER"},{"$f":"sample!ML6","v":"EKSEKUTIF PEMASARAN"},{"$f":"sample!MM6","v":"PEMASARAN PRODUK"}]
[null,null,null,1.2,{"$f":"IF(sample!Q347=\"\",\"\",sample!Q347)","v":"Adakah anggota ini menunjukkan pengurusan-masa yang bijak sewaktu bekerja?"},null,null,null,null,null,null,null,null,null,null,null,null,null,null,null,null,null,null,null,null,null,null,null,1,{"$f":"IF(AC18=0,\"OPO\",IF(AA18=\"\",\"OOP\",(AA18-1)/5))","v":"OOP"},null,null,null,null,20485,26,{"$f":"sample!MI7","v":20350},{"$f":"sample!MJ7","v":"AA3"},{"$f":"sample!MK7","v":"RALPH EDGE"},{"$f":"sample!ML7","v":"EKSEKUTIF PEMASARAN PRODUK"},{"$f":"sample!MM7","v":"PEMASARAN PRODUK"}]
[null,null,null,1.3,{"$f":"IF(sample!Q348=\"\",\"\",sample!Q348)","v":"Adakah anggota ini menunjukkan ketrampilan yang baik dari segi pemakaian dan dandanan diri di tempat kerja?"},null,null,null,null,null,null,null,null,null,null,null,null,null,null,null,null,null,null,null,null,null,null,null,1,"OOP",null,null,null,null,20440,"TRUE",{"$f":"sample!MI8","v":20395},{"$f":"sample!MJ8","v":"AA4"},{"$f":"sample!MK8","v":"KATHIE MELLON"},{"$f":"sample!ML8","v":"EKSEKUTIF PEMASARAN PRODUK"},{"$f":"sample!MM8","v":"PEMASARAN PRODUK"}]
[null,null,null,1.4,{"$f":"IF(sample!Q349=\"\",\"\",sample!Q349)","v":"Adakah anggota ini menunjukkan kesungguhan untuk menyiapkan tugasan kerja seperti yang dijadualkan?"},null,null,null,null,null,null,null,null,null,null,null,null,null,null,null,null,null,null,null,null,null,null,null,1,"OOP",null,null,null,null,20620,19,{"$f":"sample!MI9","v":20440},{"$f":"sample!MJ9","v":"AA5"},{"$f":"sample!MK9","v":"KYLE JENNINGS"},{"$f":"sample!ML9","v":"KONSULTAN TEKNOLOGI"},{"$f":"sample!MM9","v":"TEKNOLOGI"}]
[null,null,null,1.5,{"$f":"IF(sample!Q350=\"\",\"\",sample!Q350)","v":"Adakah anggota ini menunjukkan penjagaan kebersihan yang baik di tempat kerja?"},null,null,null,null,null,null,null,null,null,null,null,null,null,null,null,null,null,null,null,null,null,null,null,1,"OOP",null,null,null,null,20665,18,{"$f":"sample!MI10","v":20485},{"$f":"sample!MJ10","v":"AA6"},{"$f":"sample!MK10","v":"ROSIE BERTSAUGY"},{"$f":"sample!ML10","v":"EKSEKUTIF PEMASARAN PRODUK"},{"$f":"sample!MM10","v":"PEMASARAN PRODUK"}]
[null,null,null,1.6,{"$f":"IF(sample!Q351=\"\",\"\",sample!Q351)","v":""},null,null,null,null,null,null,null,null,null,null,null,null,null,null,null,null,null,null,null,null,null,null,null,0,"OPO",null,null,null,null,20800,"TRUE",{"$f":"sample!MI11","v":20530},{"$f":"sample!MJ11","v":"AA7"},{"$f":"sample!MK11","v":"CARLOS PURBELL"},{"$f":"sample!ML11","v":"EKSEKUTIF KANAN PEMASARAN PRODUK"},{"$f":"sample!MM11","v":"PEMASARAN PRODUK"}]
[null,null,null,"Skor Anda :",null,{"$f":"IF($AA$11=7,IF(sample!OI5=\"\",\"\",sample!OI5),\"\")","v":""},null,"Penilaian-Sendiri :",null,{"$f":"IF($AA$11=7,IF(sample!OI20=\"\",\"\",sample!OI20),\"\")","v":""},null,null,null,null,null,null,null,null,null,null,null,null,null,null,null,null,null,"Total Grp",{"$f":"SUM(AC17:AC22)","v":5},{"$f":"IFERROR(SUM(AD17:AD22)/AC23,\"N/A\")","v":0},null,null,null,null,20755,"TRUE",{"$f":"sample!MI12","v":20575},{"$f":"sample!MJ12","v":"AA8"},{"$f":"sample!MK12","v":"JOSHUA TERRANCE"},{"$f":"sample!ML12","v":"EKSEKUTIF PEMASARAN"},{"$f":"sample!MM12","v":"PEMASARAN PRODUK"}]
[null,null,null,null,null,null,null,null,null,null,null,null,null,null,null,null,null,null,null,null,null,null,null,null,null,null,null,null,null,null,null,null,null,null,21025,20,{"$f":"sample!MI13","v":20620},{"$f":"sample!MJ13","v":"AA9"},{"$f":"sample!MK13","v":"EVERETT LUBAK"},{"$f":"sample!ML13","v":"EKSEKUTIF LOGISTIK"},{"$f":"sample!MM13","v":"LOGISTIK"}]
[null,null,null,"#2","Nilai Bersama:",null,{"$f":"IF(sample!Q354=\"\",\"\",sample!Q354)","v":"KERJA BERPASUKAN"},null,null,null,null,null,null,"N/O=Berkecuali",null,"1=Sangat Rendah",null,"5=Sangat Tinggi",null,null,null,null,null,null,null,null,null,null,{"$f":"IF(G25=\"\",0,1)","v":1},null,null,null,null,null,21070,21,{"$f":"sample!MI14","v":20665},{"$f":"sample!MJ14","v":"AB1"},{"$f":"sample!MK14","v":"CLAUDE RICHARD"},{"$f":"sample!ML14","v":"EKSEKUTIF PEMASARAN"},{"$f":"sample!MM14","v":"PEMASARAN PRODUK"}]
[null,null,null,2.1,{"$f":"IF(sample!Q355=\"\",\"\",sample!Q355)","v":"Adakah anggota ini menghormati arahan dan matlamat bersama pasukan?"},null,null,null,null,null,null,null,null,null,null,null,null,null,null,null,null,null,null,null,null,null,null,null,{"$f":"IF(OR(AA26=1,E26=\"\"),0,1)*AC$25","v":1},{"$f":"IF(AC26=0,\"OPO\",IF(AA26=\"\",\"OOP\",(AA26-1)/5))","v":"OOP"},null,null,null,null,20350,17,{"$f":"sample!MI15","v":20710},{"$f":"sample!MJ15","v":"AB2"},{"$f":"sample!MK15","v":"JULIE DANNIELSON"},{"$f":"sample!ML15","v":"EKSEKUTIF KANAN OPERASI"},{"$f":"sample!MM15","v":"OPERASI"}]
[null,null,null,2.2000000000000002,{"$f":"IF(sample!Q356=\"\",\"\",sample!Q356)","v":"Adakah anggota ini menyumbang secara aktif sewaktu aktiviti berpasukan?"},null,null,null,null,null,null,null,null,null,null,null,null,null,null,null,null,null,null,null,null,null,null,null,1,{"$f":"IF(AC27=0,\"OPO\",IF(AA27=\"\",\"OOP\",(AA27-1)/5))","v":"OOP"},null,null,null,null,20980,23,{"$f":"sample!MI16","v":20755},{"$f":"sample!MJ16","v":"AB3"},{"$f":"sample!MK16","v":"SOPHIE HENDERLAIN"},{"$f":"sample!ML16","v":"EKSEKUTIF OPERASI"},{"$f":"sample!MM16","v":"OPERASI"}]
[null,null,null,2.2999999999999998,{"$f":"IF(sample!Q357=\"\",\"\",sample!Q357)","v":"Adakah anggota ini menunjukkan sikap berlapang untuk menerima perbezaan pendapat?"},null,null,null,null,null,null,null,null,null,null,null,null,null,null,null,null,null,null,null,null,null,null,null,1,"OOP",null,null,null,null,20845,22,{"$f":"sample!MI17","v":20800},{"$f":"sample!MJ17","v":"AB4"},{"$f":"sample!MK17","v":"JOSEPH COBS"},{"$f":"sample!ML17","v":"KONSULTAN TEKNOLOGI"},{"$f":"sample!MM17","v":"TEKNOLOGI"}]
[null,null,null,2.4,{"$f":"IF(sample!Q358=\"\",\"\",sample!Q358)","v":"Adakah anggota ini cuba menyelesaikan sebarang konflik peribadi secara baik?"},null,null,null,null,null,null,null,null,null,null,null,null,null,null,null,null,null,null,null,null,null,null,null,1,"OOP",null,null,null,null,21160,28,{"$f":"sample!MI18","v":20845},{"$f":"sample!MJ18","v":"AB5"},{"$f":"sample!MK18","v":"RAMON EDAL"},{"$f":"sample!ML18","v":"EKSEKUTIF OPERASI"},{"$f":"sample!MM18","v":"OPERASI"}]
[null,null,null,2.5,{"$f":"IF(sample!Q359=\"\",\"\",sample!Q359)","v":"Adakah anggota ini membantu memberi motivasi kepada rakan pasukan di sekelilingnya?"},null,null,null,null,null,null,null,null,null,null,null,null,null,null,null,null,null,null,null,null,null,null,null,1,"OOP",null,null,null,null,21115,"TRUE",{"$f":"sample!MI19","v":20890},{"$f":"sample!MJ19","v":"AB6"},{"$f":"sample!MK19","v":"CHRISTINA AIMFORD"},{"$f":"sample!ML19","v":"EKSEKUTIF OPERASI"},{"$f":"sample!MM19","v":"OPERASI"}]
[null,null,null,2.6,{"$f":"IF(sample!Q360=\"\",\"\",sample!Q360)","v":""},null,null,null,null,null,null,null,null,null,null,null,null,null,null,null,null,null,null,null,null,null,null,null,0,"OPO",null,null,null,null,null,"TRUE",{"$f":"sample!MI20","v":20935},{"$f":"sample!MJ20","v":"AB7"},{"$f":"sample!MK20","v":"CEDRIC OKADA"},{"$f":"sample!ML20","v":"EKSEKUTIF KANAN OPERASI"},{"$f":"sample!MM20","v":"OPERASI"}]
[null,null,null,"Skor Anda :",null,{"$f":"IF($AA$11=7,IF(sample!OJ5=\"\",\"\",sample!OJ5),\"\")","v":""},null,"Penilaian-Sendiri :",null,{"$f":"IF($AA$11=7,IF(sample!OJ20=\"\",\"\",sample!OJ20),\"\")","v":""},null,null,null,null,null,null,null,null,null,null,null,null,null,null,null,null,null,"Total Grp",{"$f":"SUM(AC26:AC31)","v":5},{"$f":"IFERROR(SUM(AD26:AD31)/AC32,\"N/A\")","v":0},null,null,null,null,null,27,{"$f":"sample!MN5","v":20980},{"$f":"sample!MO5","v":"AB8"},{"$f":"sample!MP5","v":"SOPHIE SPENCER"},{"$f":"sample!MQ5","v":"PENOLONG PENGURUS LOGISTIK"},{"$f":"sample!MR5","v":"LOGISTIK"}]
[null,null,null,null,null,null,null,null,null,null,null,null,null,null,null,null,null,null,null,null,null,null,null,null,null,null,null,null,null,null,null,null,null,null,null,24,{"$f":"sample!MN6","v":21025},{"$f":"sample!MO6","v":"AB9"},{"$f":"sample!MP6","v":"BOBBY ANTOOM"},{"$f":"sample!MQ6","v":"PENGURUS LOGISTIK"},{"$f":"sample!MR6","v":"LOGISTIK"}]
[null,null,null,"#3","Nilai Bersama:",null,{"$f":"IF(sample!Q363=\"\",\"\",sample!Q363)","v":"INTEGRITI"},null,null,null,null,null,null,"N/O=Berkecuali",null,"1=Sangat Rendah",null,"5=Sangat Tinggi",null,null,null,null,null,null,null,null,null,null,{"$f":"IF(G34=\"\",0,1)","v":1},null,null,null,null,null,null,25,{"$f":"sample!MN7","v":21070},{"$f":"sample!MO7","v":"AC0"},{"$f":"sample!MP7","v":"CHRISTOPHER TIMBERLAIN"},{"$f":"sample!MQ7","v":"PENGURUS OPERASI"},{"$f":"sample!MR7","v":"OPERASI"}]
[null,null,null,3.1,{"$f":"IF(sample!Q364=\"\",\"\",sample!Q364)","v":"Adakah anggota ini memberikan contoh positif: \"Cakap serupa bikin\"?"},null,null,null,null,null,null,null,null,null,null,null,null,null,null,null,null,null,null,null,null,null,null,null,{"$f":"IF(OR(AA35=1,E35=\"\"),0,1)*AC$34","v":1},{"$f":"IF(AC35=0,\"OPO\",IF(AA35=\"\",\"OOP\",(AA35-1)/5))","v":"OOP"},null,null,null,null,null,30,{"$f":"sample!MN8","v":21115},{"$f":"sample!MO8","v":"AC1"},{"$f":"sample!MP8","v":"SEAN LIPTON"},{"$f":"sample!MQ8","v":"PENGURUS JUALAN"},{"$f":"sample!MR8","v":"JUALAN"}]
[null,null,null,3.2,{"$f":"IF(sample!Q365=\"\",\"\",sample!Q365)","v":"Adakah anggota ini mencermati rahsia apabila menangani isu yang sensitif?"},null,null,null,null,null,null,null,null,null,null,null,null,null,null,null,null,null,null,null,null,null,null,null,1,{"$f":"IF(AC36=0,\"OPO\",IF(AA36=\"\",\"OOP\",(AA36-1)/5))","v":"OOP"},null,null,null,null,null,29,{"$f":"sample!MN9","v":21160},{"$f":"sample!MO9","v":"AC2"},{"$f":"sample!MP9","v":"LUIS NAGES"},{"$f":"sample!MQ9","v":"PENOLONG PENGURUS JUALAN"},{"$f":"sample!MR9","v":"JUALAN"}]
[null,null,null,3.3,{"$f":"IF(sample!Q366=\"\",\"\",sample!Q366)","v":"Adakah anggota ini menunjukkan kesanggupan bertanggungjawab terhadap kesilapan yang berlaku dalam pengawasannya?"},null,null,null,null,null,null,null,null,null,null,null,null,null,null,null,null,null,null,null,null,null,null,null,1,"OOP",null,null,null,null,null,1,{"$f":"sample!MN10","v":"SELFDM1"},{"$f":"sample!MO10","v":0},{"$f":"sample!MP10","v":0},{"$f":"sample!MQ10","v":0},{"$f":"sample!MR10","v":0}]
[null,null,null,3.4,{"$f":"IF(sample!Q367=\"\",\"\",sample!Q367)","v":"Adakah anggota ini menunjukkan sikap membuat keputusan baik memenuhi keperluan organisasi tanpa berat sebelah atau kepentingan peribadi?"},null,null,null,null,null,null,null,null,null,null,null,null,null,null,null,null,null,null,null,null,null,null,null,1,"OOP",null,null,null,null,null,"",{"$f":"sample!MN11","v":0},{"$f":"sample!MO11","v":0},{"$f":"sample!MP11","v":0},{"$f":"sample!MQ11","v":0},{"$f":"sample!MR11","v":0}]
[null,null,null,3.5,{"$f":"IF(sample!Q368=\"\",\"\",sample!Q368)","v":""},null,null,null,null,null,null,null,null,null,null,null,null,null,null,null,null,null,null,null,null,null,null,null,0,"OPO",null,null,null,null,null,"",{"$f":"sample!MN12","v":0},{"$f":"sample!MO12","v":0},{"$f":"sample!MP12","v":0},{"$f":"sample!MQ12","v":0},{"$f":"sample!MR12","v":0}]
[null,null,null,3.6,{"$f":"IF(sample!Q369=\"\",\"\",sample!Q369)","v":""},null,null,null,null,null,null,null,null,null,null,null,null,null,null,null,null,null,null,null,null,null,null,null,0,"OPO",null,null,null,null,null,"",{"$f":"sample!MN13","v":0},{"$f":"sample!MO13","v":0},{"$f":"sample!MP13","v":0},{"$f":"sample!MQ13","v":0},{"$f":"sample!MR13","v":0}]
[null,null,null,"Skor Anda :",null,{"$f":"IF($AA$11=7,IF(sample!OK5=\"\",\"\",sample!OK5),\"\")","v":""},null,"Penilaian-Sendiri :",null,{"$f":"IF($AA$11=7,IF(sample!OK20=\"\",\"\",sample!OK20),\"\")","v":""},null,null,null,null,null,null,null,null,null,null,null,null,null,null,null,null,null,"Total Grp",{"$f":"SUM(AC35:AC40)","v":4},{"$f":"IFERROR(SUM(AD35:AD40)/AC41,\"N/A\")","v":0},null,null,null,null,null,"",{"$f":"sample!MN14","v":0},{"$f":"sample!MO14","v":0},{"$f":"sample!MP14","v":0},{"$f":"sample!MQ14","v":0},{"$f":"sample!MR14","v":0}]
[null,null,null,null,null,null,null,null,null,null,null,null,null,null,null,null,null,null,null,null,null,null,null,null,null,null,null,null,null,null,null,null,null,null,null,"",{"$f":"sample!MN15","v":0},{"$f":"sample!MO15","v":0},{"$f":"sample!MP15","v":0},{"$f":"sample!MQ15","v":0},{"$f":"sample!MR15","v":0}]
[null,null,null,"#4","Nilai Bersama:",null,{"$f":"IF(sample!Q372=\"\",\"\",sample!Q372)","v":"KREATIF"},null,null,null,null,null,null,"N/O=Berkecuali",null,"1=Sangat Rendah",null,"5=Sangat Tinggi",null,null,null,null,null,null,null,null,null,null,{"$f":"IF(G43=\"\",0,1)","v":1},null,null,null,null,null,null,"",{"$f":"sample!MN16","v":0},{"$f":"sample!MO16","v":0},{"$f":"sample!MP16","v":0},{"$f":"sample!MQ16","v":0},{"$f":"sample!MR16","v":0}]
[null,null,null,4.0999999999999996,{"$f":"IF(sample!Q373=\"\",\"\",sample!Q373)","v":"Apakah anggota ini ada memberi idea/ peluang baik yang baru?"},null,null,null,null,null,null,null,null,null,null,null,null,null,null,null,null,null,null,null,null,null,null,null,{"$f":"IF(OR(AA44=1,E44=\"\"),0,1)*AC$43","v":1},{"$f":"IF(AC44=0,\"OPO\",IF(AA44=\"\",\"OOP\",(AA44-1)/5))","v":"OOP"},null,null,null,null,null,"",{"$f":"sample!MN17","v":0},{"$f":"sample!MO17","v":0},{"$f":"sample!MP17","v":0},{"$f":"sample!MQ17","v":0},{"$f":"sample!MR17","v":0}]
[null,null,null,4.2,{"$f":"IF(sample!Q374=\"\",\"\",sample!Q374)","v":"Apakah anggota ini menunjukkan pengetahuan yang mendalam dalam bidang kerjanya?"},null,null,null,null,null,null,null,null,null,null,null,null,null,null,null,null,null,null,null,null,null,null,null,1,{"$f":"IF(AC45=0,\"OPO\",IF(AA45=\"\",\"OOP\",(AA45-1)/5))","v":"OOP"},null,null,null,null,null,"",{"$f":"sample!MN18","v":0},{"$f":"sample!MO18","v":0},{"$f":"sample!MP18","v":0},{"$f":"sample!MQ18","v":0},{"$f":"sample!MR18","v":0}]
[null,null,null,4.3,{"$f":"IF(sample!Q375=\"\",\"\",sample!Q375)","v":"Apakah anggota ini menunjukkan kreativiti yang baik dengan memberikan penyelesaian alternatif terhadap masalah?"},null,null,null,null,null,null,null,null,null,null,null,null,null,null,null,null,null,null,null,null,null,null,null,1,"OOP",null,null,null,null,null,"",{"$f":"sample!MN19","v":0},{"$f":"sample!MO19","v":0},{"$f":"sample!MP19","v":0},{"$f":"sample!MQ19","v":0},{"$f":"sample!MR19","v":0}]
[null,null,null,4.4000000000000004,{"$f":"IF(sample!Q376=\"\",\"\",sample!Q376)","v":""},null,null,null,null,null,null,null,null,null,null,null,null,null,null,null,null,null,null,null,null,null,null,null,0,"OPO",null,null,null,null,null,"",{"$f":"sample!MN20","v":0},{"$f":"sample!MO20","v":0},{"$f":"sample!MP20","v":0},{"$f":"sample!MQ20","v":0},{"$f":"sample!MR20","v":0}]
[null,null,null,4.5,{"$f":"IF(sample!Q377=\"\",\"\",sample!Q377)","v":""},null,null,null,null,null,null,null,null,null,null,null,null,null,null,null,null,null,null,null,null,null,null,null,0,"OPO",null,null,null,null,null,"",{"$f":"sample!MS5","v":0},{"$f":"sample!MT5","v":0},{"$f":"sample!MU5","v":0},{"$f":"sample!MV5","v":0},{"$f":"sample!MW5","v":0}]
[null,null,null,4.5999999999999996,{"$f":"IF(sample!Q378=\"\",\"\",sample!Q378)","v":""},null,null,null,null,null,null,null,null,null,null,null,null,null,null,null,null,null,null,null,null,null,null,null,0,"OPO",null,null,null,null,null,"",{"$f":"sample!MS6","v":0},{"$f":"sample!MT6","v":0},{"$f":"sample!MU6","v":0},{"$f":"sample!MV6","v":0},{"$f":"sample!MW6","v":0}]
[null,null,null,"Skor Anda :",null,{"$f":"IF($AA$11=7,IF(sample!OL5=\"\",\"\",sample!OL5),\"\")","v":""},null,"Penilaian-Sendiri :",null,{"$f":"IF($AA$11=7,IF(sample!OL20=\"\",\"\",sample!OL20),\"\")","v":""},null,null,null,null,null,null,null,null,null,null,null,null,null,null,null,null,null,"Total Grp",{"$f":"SUM(AC44:AC49)","v":3},{"$f":"IFERROR(SUM(AD44:AD49)/AC50,\"N/A\")","v":0},null,null,null,null,null,"",{"$f":"sample!MS7","v":0},{"$f":"sample!MT7","v":0},{"$f":"sample!MU7","v":0},{"$f":"sample!MV7","v":0},{"$f":"sample!MW7","v":0}]
[null,null,null,null,null,null,null,null,null,null,null,null,null,null,null,null,null,null,null,null,null,null,null,null,null,null,null,null,null,null,null,null,null,null,null,"",{"$f":"sample!MS8","v":0},{"$f":"sample!MT8","v":0},{"$f":"sample!MU8","v":0},{"$f":"sample!MV8","v":0},{"$f":"sample!MW8","v":0}]
[null,null,null,"#5","Nilai Bersama:",null,{"$f":"IF(sample!Q381=\"\",\"\",sample!Q381)","v":""},null,null,null,null,null,null,"N/O=Berkecuali",null,"1=Sangat Rendah",null,"5=Sangat Tinggi",null,null,null,null,null,null,null,null,null,null,{"$f":"IF(G52=\"\",0,1)","v":0},null,null,null,null,null,null,"",{"$f":"sample!MS9","v":0},{"$f":"sample!MT9","v":0},{"$f":"sample!MU9","v":0},{"$f":"sample!MV9","v":0},{"$f":"sample!MW9","v":0}]
[null,null,null,5.0999999999999996,{"$f":"IF(sample!Q382=\"\",\"\",sample!Q382)","v":""},null,null,null,null,null,null,null,null,null,null,null,null,null,null,null,null,null,null,null,null,null,null,null,{"$f":"IF(OR(AA53=1,E53=\"\"),0,1)*AC$52","v":0},{"$f":"IF(AC53=0,\"OPO\",IF(AA53=\"\",\"OOP\",(AA53-1)/5))","v":"OPO"},null,null,null,null,null,"",{"$f":"sample!MS10","v":0},{"$f":"sample!MT10","v":0},{"$f":"sample!MU10","v":0},{"$f":"sample!MV10","v":0},{"$f":"sample!MW10","v":0}]
[null,null,null,5.2,{"$f":"IF(sample!Q383=\"\",\"\",sample!Q383)","v":""},null,null,null,null,null,null,null,null,null,null,null,null,null,null,null,null,null,null,null,null,null,null,null,0,{"$f":"IF(AC54=0,\"OPO\",IF(AA54=\"\",\"OOP\",(AA54-1)/5))","v":"OPO"},null,null,null,null,null,"",{"$f":"sample!MS11","v":0},{"$f":"sample!MT11","v":0},{"$f":"sample!MU11","v":0},{"$f":"sample!MV11","v":0},{"$f":"sample!MW11","v":0}]
[null,null,null,5.3,{"$f":"IF(sample!Q384=\"\",\"\",sample!Q384)","v":""},null,null,null,null,null,null,null,null,null,null,null,null,null,null,null,null,null,null,null,null,null,null,null,0,"OPO",null,null,null,null,null,"",{"$f":"sample!MS12","v":0},{"$f":"sample!MT12","v":0},{"$f":"sample!MU12","v":0},{"$f":"sample!MV12","v":0},{"$f":"sample!MW12","v":0}]
[null,null,null,5.4,{"$f":"IF(sample!Q385=\"\",\"\",sample!Q385)","v":""},null,null,null,null,null,null,null,null,null,null,null,null,null,null,null,null,null,null,null,null,null,null,null,0,"OPO",null,null,null,null,null,"",{"$f":"sample!MS13","v":0},{"$f":"sample!MT13","v":0},{"$f":"sample!MU13","v":0},{"$f":"sample!MV13","v":0},{"$f":"sample!MW13","v":0}]
[null,null,null,5.5,{"$f":"IF(sample!Q386=\"\",\"\",sample!Q386)","v":""},null,null,null,null,null,null,null,null,null,null,null,null,null,null,null,null,null,null,null,null,null,null,null,0,"OPO",null,null,null,null,null,"",{"$f":"sample!MS14","v":0},{"$f":"sample!MT14","v":0},{"$f":"sample!MU14","v":0},{"$f":"sample!MV14","v":0},{"$f":"sample!MW14","v":0}]
[null,null,null,5.6,{"$f":"IF(sample!Q387=\"\",\"\",sample!Q387)","v":""},null,null,null,null,null,null,null,null,null,null,null,null,null,null,null,null,null,null,null,null,null,null,null,0,"OPO",null,null,null,null,null,"",{"$f":"sample!MS15","v":0},{"$f":"sample!MT15","v":0},{"$f":"sample!MU15","v":0},{"$f":"sample!MV15","v":0},{"$f":"sample!MW15","v":0}]
[null,null,null,"Skor Anda :",null,{"$f":"IF($AA$11=7,IF(sample!OM5=\"\",\"\",sample!OM5),\"\")","v":""},null,"Penilaian-Sendiri :",null,{"$f":"IF($AA$11=7,IF(sample!OM20=\"\",\"\",sample!OM20),\"\")","v":""},null,null,null,null,null,null,null,null,null,null,null,null,null,null,null,null,null,"Total Grp",{"$f":"SUM(AC53:AC58)","v":0},{"$f":"IFERROR(SUM(AD53:AD58)/AC59,\"N/A\")","v":"N/A"},null,null,null,null,null,"",{"$f":"sample!MS16","v":0},{"$f":"sample!MT16","v":0},{"$f":"sample!MU16","v":0},{"$f":"sample!MV16","v":0},{"$f":"sample!MW16","v":0}]
[null,null,null,null,null,null,null,null,null,null,null,null,null,null,null,null,null,null,null,null,null,null,null,null,null,null,null,null,null,null,null,null,null,null,null,"",{"$f":"sample!MS17","v":0},{"$f":"sample!MT17","v":0},{"$f":"sample!MU17","v":0},{"$f":"sample!MV17","v":0},{"$f":"sample!MW17","v":0}]
[null,null,null,"#6","Nilai Bersama:",null,{"$f":"IF(sample!Q390=\"\",\"\",sample!Q390)","v":""},null,null,null,null,null,null,"N/O=Berkecuali",null,"1=Sangat Rendah",null,"5=Sangat Tinggi",null,null,null,null,null,null,null,null,null,null,{"$f":"IF(G61=\"\",0,1)","v":0},null,null,null,null,null,null,"",{"$f":"sample!MS18","v":0},{"$f":"sample!MT18","v":0},{"$f":"sample!MU18","v":0},{"$f":"sample!MV18","v":0},{"$f":"sample!MW18","v":0}]
[null,null,null,6.1,{"$f":"IF(sample!Q391=\"\",\"\",sample!Q391)","v":""},null,null,null,null,null,null,null,null,null,null,null,null,null,null,null,null,null,null,null,null,null,null,null,{"$f":"IF(OR(AA62=1,E62=\"\"),0,1)*AC$61","v":0},{"$f":"IF(AC62=0,\"OPO\",IF(AA62=\"\",\"OOP\",(AA62-1)/5))","v":"OPO"},null,null,null,null,null,"",{"$f":"sample!MS19","v":0},{"$f":"sample!MT19","v":0},{"$f":"sample!MU19","v":0},{"$f":"sample!MV19","v":0},{"$f":"sample!MW19","v":0}]
[null,null,null,6.2,{"$f":"IF(sample!Q392=\"\",\"\",sample!Q392)","v":""},null,null,null,null,null,null,null,null,null,null,null,null,null,null,null,null,null,null,null,null,null,null,null,0,{"$f":"IF(AC63=0,\"OPO\",IF(AA63=\"\",\"OOP\",(AA63-1)/5))","v":"OPO"},null,null,null,null,null,"",{"$f":"sample!MS20","v":0},{"$f":"sample!MT20","v":0},{"$f":"sample!MU20","v":0},{"$f":"sample!MV20","v":0},{"$f":"sample!MW20","v":0}]
[null,null,null,6.3,{"$f":"IF(sample!Q393=\"\",\"\",sample!Q393)","v":""},null,null,null,null,null,null,null,null,null,null,null,null,null,null,null,null,null,null,null,null,null,null,null,0,"OPO",null,null,null,null,null,"",{"$f":"sample!MX5","v":0},{"$f":"sample!MY5","v":0},{"$f":"sample!MZ5","v":0},{"$f":"sample!NA5","v":0},{"$f":"sample!NB5","v":0}]
[null,null,null,6.4,{"$f":"IF(sample!Q394=\"\",\"\",sample!Q394)","v":""},null,null,null,null,null,null,null,null,null,null,null,null,null,null,null,null,null,null,null,null,null,null,null,0,"OPO",null,null,null,null,null,"",{"$f":"sample!MX6","v":0},{"$f":"sample!MY6","v":0},{"$f":"sample!MZ6","v":0},{"$f":"sample!NA6","v":0},{"$f":"sample!NB6","v":0}]
[null,null,null,6.5,{"$f":"IF(sample!Q395=\"\",\"\",sample!Q395)","v":""},null,null,null,null,null,null,null,null,null,null,null,null,null,null,null,null,null,null,null,null,null,null,null,0,"OPO",null,null,null,null,null,"",{"$f":"sample!MX7","v":0},{"$f":"sample!MY7","v":0},{"$f":"sample!MZ7","v":0},{"$f":"sample!NA7","v":0},{"$f":"sample!NB7","v":0}]
[null,null,null,6.6,{"$f":"IF(sample!Q396=\"\",\"\",sample!Q396)","v":""},null,null,null,null,null,null,null,null,null,null,null,null,null,null,null,null,null,null,null,null,null,null,null,0,"OPO",null,null,null,null,null,"",{"$f":"sample!MX8","v":0},{"$f":"sample!MY8","v":0},{"$f":"sample!MZ8","v":0},{"$f":"sample!NA8","v":0},{"$f":"sample!NB8","v":0}]
[null,null,null,"Skor Anda :",null,{"$f":"IF($AA$11=7,IF(sample!ON5=\"\",\"\",sample!ON5),\"\")","v":""},null,"Penilaian-Sendiri :",null,{"$f":"IF($AA$11=7,IF(sample!ON20=\"\",\"\",sample!ON20),\"\")","v":""},null,null,null,null,null,null,null,null,null,null,null,null,null,null,null,null,null,"Total Grp",{"$f":"SUM(AC62:AC67)","v":0},{"$f":"IFERROR(SUM(AD62:AD67)/AC68,\"N/A\")","v":"N/A"},null,null,null,null,null,"",{"$f":"sample!MX9","v":0},{"$f":"sample!MY9","v":0},{"$f":"sample!MZ9","v":0},{"$f":"sample!NA9","v":0},{"$f":"sample!NB9","v":0}]
[null,null,null,null,null,null,null,null,null,null,null,null,null,null,null,null,null,null,null,null,null,null,null,null,null,null,null,null,null,null,null,null,null,null,null,"",{"$f":"sample!MX10","v":0},{"$f":"sample!MY10","v":0},{"$f":"sample!MZ10","v":0},{"$f":"sample!NA10","v":0},{"$f":"sample!NB10","v":0}]
[null,null,null,"#7","Nilai Bersama:",null,{"$f":"IF(sample!Q399=\"\",\"\",sample!Q399)","v":""},null,null,null,null,null,null,"N/O=Berkecuali",null,"1=Sangat Rendah",null,"5=Sangat Tinggi",null,null,null,null,null,null,null,null,null,null,{"$f":"IF(G70=\"\",0,1)","v":0},null,null,null,null,null,null,"",{"$f":"sample!MX11","v":0},{"$f":"sample!MY11","v":0},{"$f":"sample!MZ11","v":0},{"$f":"sample!NA11","v":0},{"$f":"sample!NB11","v":0}]
[null,null,null,7.1,{"$f":"IF(sample!Q400=\"\",\"\",sample!Q400)","v":""},null,null,null,null,null,null,null,null,null,null,null,null,null,null,null,null,null,null,null,null,null,null,null,{"$f":"IF(OR(AA71=1,E71=\"\"),0,1)*AC$70","v":0},{"$f":"IF(AC71=0,\"OPO\",IF(AA71=\"\",\"OOP\",(AA71-1)/5))","v":"OPO"},null,null,null,null,null,"",{"$f":"sample!MX12","v":0},{"$f":"sample!MY12","v":0},{"$f":"sample!MZ12","v":0},{"$f":"sample!NA12","v":0},{"$f":"sample!NB12","v":0}]
[null,null,null,7.2,{"$f":"IF(sample!Q401=\"\",\"\",sample!Q401)","v":""},null,null,null,null,null,null,null,null,null,null,null,null,null,null,null,null,null,null,null,null,null,null,null,0,{"$f":"IF(AC72=0,\"OPO\",IF(AA72=\"\",\"OOP\",(AA72-1)/5))","v":"OPO"},null,null,null,null,null,"",{"$f":"sample!MX13","v":0},{"$f":"sample!MY13","v":0},{"$f":"sample!MZ13","v":0},{"$f":"sample!NA13","v":0},{"$f":"sample!NB13","v":0}]
[null,null,null,7.3,{"$f":"IF(sample!Q402=\"\",\"\",sample!Q402)","v":""},null,null,null,null,null,null,null,null,null,null,null,null,null,null,null,null,null,null,null,null,null,null,null,0,"OPO",null,null,null,null,null,"",{"$f":"sample!MX14","v":0},{"$f":"sample!MY14","v":0},{"$f":"sample!MZ14","v":0},{"$f":"sample!NA14","v":0},{"$f":"sample!NB14","v":0}]
[null,null,null,7.4,{"$f":"IF(sample!Q403=\"\",\"\",sample!Q403)","v":""},null,null,null,null,null,null,null,null,null,null,null,null,null,null,null,null,null,null,null,null,null,null,null,0,"OPO",null,null,null,null,null,"",{"$f":"sample!MX15","v":0},{"$f":"sample!MY15","v":0},{"$f":"sample!MZ15","v":0},{"$f":"sample!NA15","v":0},{"$f":"sample!NB15","v":0}]
[null,null,null,7.5,{"$f":"IF(sample!Q404=\"\",\"\",sample!Q404)","v":""},null,null,null,null,null,null,null,null,null,null,null,null,null,null,null,null,null,null,null,null,null,null,null,0,"OPO",null,null,null,null,null,"",{"$f":"sample!MX16","v":0},{"$f":"sample!MY16","v":0},{"$f":"sample!MZ16","v":0},{"$f":"sample!NA16","v":0},{"$f":"sample!NB16","v":0}]
[null,null,null,7.6,{"$f":"IF(sample!Q405=\"\",\"\",sample!Q405)","v":""},null,null,null,null,null,null,null,null,null,null,null,null,null,null,null,null,null,null,null,null,null,null,null,0,"OPO",null,null,null,null,null,"",{"$f":"sample!MX17","v":0},{"$f":"sample!MY17","v":0},{"$f":"sample!MZ17","v":0},{"$f":"sample!NA17","v":0},{"$f":"sample!NB17","v":0}]
[null,null,null,"Skor Anda :",null,{"$f":"IF($AA$11=7,IF(sample!OO5=\"\",\"\",sample!OO5),\"\")","v":""},null,"Penilaian-Sendiri :",null,{"$f":"IF($AA$11=7,IF(sample!OO20=\"\",\"\",sample!OO20),\"\")","v":""},null,null,null,null,null,null,null,null,null,null,null,null,null,null,null,null,null,"Total Grp",{"$f":"SUM(AC71:AC76)","v":0},{"$f":"IFERROR(SUM(AD71:AD76)/AC77,\"N/A\")","v":"N/A"},null,null,null,null,null,"",{"$f":"sample!MX18","v":0},{"$f":"sample!MY18","v":0},{"$f":"sample!MZ18","v":0},{"$f":"sample!NA18","v":0},{"$f":"sample!NB18","v":0}]
[null,null,null,null,null,null,null,null,null,null,null,null,null,null,null,"Jumlah Skor Anda % :",null,null,{"$f":"IF($AA$11=7,IF(sample!OP5=\"\",\"\",sample!OP5*100),\"\")","v":""},null,null,null,null,null,null,null,null,"TOTAL",{"$f":"AC23+AC32+AC41+AC50+AC59+AC68+AC77","v":17},null,null,null,null,null,null,"",{"$f":"sample!MX19","v":0},{"$f":"sample!MY19","v":0},{"$f":"sample!MZ19","v":0},{"$f":"sample!NA19","v":0},{"$f":"sample!NB19","v":0}]
[null,null,null,null,null,null,null,null,null,null,null,null,null,null,null,null,null,null,null,null,null,null,null,null,null,null,null,null,null,null,null,null,null,null,null,"",{"$f":"sample!MX20","v":0},{"$f":"sample!MY20","v":0},{"$f":"sample!MZ20","v":0},{"$f":"sample!NA20","v":0},{"$f":"sample!NB20","v":0}]
[null,null,null,null,null," A form by Leadersense Consulting & Systems Sdn Bhd @2020",null,null,null,null,null,{"$f":"KPICreate!U38","v":0},{"$f":"KPICreate!T38","v":0},{"$f":"CONCATENATE(Home!Y1,\"Static.xlsx\")","v":"SAMPELStatic.xlsx"},{"$f":"CONCATENATE(Home!R43,N80)","v":"C:\\Users\\Zaharin\\Desktop\\Leadersense\\Software\\PowerExec-xL\\Release Ver10.0\\SAMPEL\\SAMPELStatic.xlsx"},{"$f":"KPICreate!N38","v":0},{"$f":"KPICreate!P38","v":0},{"$f":"KPICreate!Q38","v":0},{"$f":"KPICreate!R38","v":0},{"$f":"KPICreate!S38","v":0},null,null,null,null,null,null,null,null,null,null,null,null,null,null,null,"",{"$f":"sample!NC5","v":0},{"$f":"sample!ND5","v":0},{"$f":"sample!NE5","v":0},{"$f":"sample!NF5","v":0},{"$f":"sample!NG5","v":0}]
[null,null,null,null,null,null,null,null,null,null,null,null,null,null,null,null,null,null,null,null,null,null,null,null,null,null,null,null,null,null,null,null,null,null,null,{"$f":"IFERROR(IF(AK81=0,\"\",MATCH(AK81,$AI:$AI,0)),\"TRUE\")","v":""},{"$f":"sample!NC6","v":0},{"$f":"sample!ND6","v":0},{"$f":"sample!NE6","v":0},{"$f":"sample!NF6","v":0},{"$f":"sample!NG6","v":0}]
[null,null,null,null,null,null,null,null,null,null,null,null,null,null,null,null,null,null,null,null,null,null,null,null,null,null,null,null,null,null,null,null,null,null,null,"",{"$f":"sample!NC7","v":0},{"$f":"sample!ND7","v":0},{"$f":"sample!NE7","v":0},{"$f":"sample!NF7","v":0},{"$f":"sample!NG7","v":0}]
[null,null,null,null,null,null,null,null,null,null,null,null,null,null,null,null,null,null,null,null,null,null,null,null,null,null,null,null,null,null,null,null,null,null,null,"",{"$f":"sample!NC8","v":0},{"$f":"sample!ND8","v":0},{"$f":"sample!NE8","v":0},{"$f":"sample!NF8","v":0},{"$f":"sample!NG8","v":0}]
[null,null,null,null,null,null,null,null,null,null,null,null,null,null,null,null,null,null,null,null,null,null,null,null,null,null,null,null,null,null,null,null,null,null,null,"",{"$f":"sample!NC9","v":0},{"$f":"sample!ND9","v":0},{"$f":"sample!NE9","v":0},{"$f":"sample!NF9","v":0},{"$f":"sample!NG9","v":0}]
[null,null,null,null,null,null,null,null,null,null,null,null,null,null,null,null,null,null,null,null,null,null,null,null,null,null,null,null,null,null,null,null,null,null,null,"",{"$f":"sample!NC10","v":0},{"$f":"sample!ND10","v":0},{"$f":"sample!NE10","v":0},{"$f":"sample!NF10","v":0},{"$f":"sample!NG10","v":0}]
[null,null,null,null,null,null,null,null,null,null,null,null,null,null,null,null,null,null,null,null,null,null,null,null,null,null,null,null,null,null,null,null,null,null,null,"",{"$f":"sample!NC11","v":0},{"$f":"sample!ND11","v":0},{"$f":"sample!NE11","v":0},{"$f":"sample!NF11","v":0},{"$f":"sample!NG11","v":0}]
[null,null,null,null,null,null,null,null,null,null,null,null,null,null,null,null,null,null,null,null,null,null,null,null,null,null,null,null,null,null,null,null,null,null,null,"",{"$f":"sample!NC12","v":0},{"$f":"sample!ND12","v":0},{"$f":"sample!NE12","v":0},{"$f":"sample!NF12","v":0},{"$f":"sample!NG12","v":0}]
[null,null,null,null,null,null,null,null,null,null,null,null,null,null,null,null,null,null,null,null,null,null,null,null,null,null,null,null,null,null,null,null,null,null,null,"",{"$f":"sample!NC13","v":0},{"$f":"sample!ND13","v":0},{"$f":"sample!NE13","v":0},{"$f":"sample!NF13","v":0},{"$f":"sample!NG13","v":0}]
[null,null,null,null,null,null,null,null,null,null,null,null,null,null,null,null,null,null,null,null,null,null,null,null,null,null,null,null,null,null,null,null,null,null,null,"",{"$f":"sample!NC14","v":0},{"$f":"sample!ND14","v":0},{"$f":"sample!NE14","v":0},{"$f":"sample!NF14","v":0},{"$f":"sample!NG14","v":0}]
[null,null,null,null,null,null,null,null,null,null,null,null,null,null,null,null,null,null,null,null,null,null,null,null,null,null,null,null,null,null,null,null,null,null,null,"",{"$f":"sample!NC15","v":0},{"$f":"sample!ND15","v":0},{"$f":"sample!NE15","v":0},{"$f":"sample!NF15","v":0},{"$f":"sample!NG15","v":0}]
[null,null,null,null,null,null,null,null,null,null,null,null,null,null,null,null,null,null,null,null,null,null,null,null,null,null,null,null,null,null,null,null,null,null,null,"",{"$f":"sample!NC16","v":0},{"$f":"sample!ND16","v":0},{"$f":"sample!NE16","v":0},{"$f":"sample!NF16","v":0},{"$f":"sample!NG16","v":0}]
[null,null,null,null,null,null,null,null,null,null,null,null,null,null,null,null,null,null,null,null,null,null,null,null,null,null,null,null,null,null,null,null,null,null,null,"",{"$f":"sample!NC17","v":0},{"$f":"sample!ND17","v":0},{"$f":"sample!NE17","v":0},{"$f":"sample!NF17","v":0},{"$f":"sample!NG17","v":0}]
[null,null,null,null,null,null,null,null,null,null,null,null,null,null,null,null,null,null,null,null,null,null,null,null,null,null,null,null,null,null,null,null,null,null,null,"",{"$f":"sample!NC18","v":0},{"$f":"sample!ND18","v":0},{"$f":"sample!NE18","v":0},{"$f":"sample!NF18","v":0},{"$f":"sample!NG18","v":0}]
[null,null,null,null,null,null,null,null,null,null,null,null,null,null,null,null,null,null,null,null,null,null,null,null,null,null,null,null,null,null,null,null,null,null,null,"",{"$f":"sample!NC19","v":0},{"$f":"sample!ND19","v":0},{"$f":"sample!NE19","v":0},{"$f":"sample!NF19","v":0},{"$f":"sample!NG19","v":0}]
[null,null,null,null,null,null,null,null,null,null,null,null,null,null,null,null,null,null,null,null,null,null,null,null,null,null,null,null,null,null,null,null,null,null,null,"",{"$f":"sample!NC20","v":0},{"$f":"sample!ND20","v":0},{"$f":"sample!NE20","v":0},{"$f":"sample!NF20","v":0},{"$f":"sample!NG20","v":0}]
[null,null,null,null,null,null,null,null,null,null,null,null,null,null,null,null,null,null,null,null,null,null,null,null,null,null,null,null,null,null,null,null,null,null,null,"",{"$f":"sample!NH5","v":0},{"$f":"sample!NI5","v":0},{"$f":"sample!NJ5","v":0},{"$f":"sample!NK5","v":0},{"$f":"sample!NL5","v":0}]
[null,null,null,null,null,null,null,null,null,null,null,null,null,null,null,null,null,null,null,null,null,null,null,null,null,null,null,null,null,null,null,null,null,null,null,"",{"$f":"sample!NH6","v":0},{"$f":"sample!NI6","v":0},{"$f":"sample!NJ6","v":0},{"$f":"sample!NK6","v":0},{"$f":"sample!NL6","v":0}]
[null,null,null,null,null,null,null,null,null,null,null,null,null,null,null,null,null,null,null,null,null,null,null,null,null,null,null,null,null,null,null,null,null,null,null,"",{"$f":"sample!NH7","v":0},{"$f":"sample!NI7","v":0},{"$f":"sample!NJ7","v":0},{"$f":"sample!NK7","v":0},{"$f":"sample!NL7","v":0}]
[null,null,null,null,null,null,null,null,null,null,null,null,null,null,null,null,null,null,null,null,null,null,null,null,null,null,null,null,null,null,null,null,null,null,null,"",{"$f":"sample!NH8","v":0},{"$f":"sample!NI8","v":0},{"$f":"sample!NJ8","v":0},{"$f":"sample!NK8","v":0},{"$f":"sample!NL8","v":0}]
[null,null,null,null,null,null,null,null,null,null,null,null,null,null,null,null,null,null,null,null,null,null,null,null,null,null,null,null,null,null,null,null,null,null,null,"",{"$f":"sample!NH9","v":0},{"$f":"sample!NI9","v":0},{"$f":"sample!NJ9","v":0},{"$f":"sample!NK9","v":0},{"$f":"sample!NL9","v":0}]
[null,null,null,null,null,null,null,null,null,null,null,null,null,null,null,null,null,null,null,null,null,null,null,null,null,null,null,null,null,null,null,null,null,null,null,"",{"$f":"sample!NH10","v":0},{"$f":"sample!NI10","v":0},{"$f":"sample!NJ10","v":0},{"$f":"sample!NK10","v":0},{"$f":"sample!NL10","v":0}]
[null,null,null,null,null,null,null,null,null,null,null,null,null,null,null,null,null,null,null,null,null,null,null,null,null,null,null,null,null,null,null,null,null,null,null,"",{"$f":"sample!NH11","v":0},{"$f":"sample!NI11","v":0},{"$f":"sample!NJ11","v":0},{"$f":"sample!NK11","v":0},{"$f":"sample!NL11","v":0}]
[null,null,null,null,null,null,null,null,null,null,null,null,null,null,null,null,null,null,null,null,null,null,null,null,null,null,null,null,null,null,null,null,null,null,null,"",{"$f":"sample!NH12","v":0},{"$f":"sample!NI12","v":0},{"$f":"sample!NJ12","v":0},{"$f":"sample!NK12","v":0},{"$f":"sample!NL12","v":0}]
[null,null,null,null,null,null,null,null,null,null,null,null,null,null,null,null,null,null,null,null,null,null,null,null,null,null,null,null,null,null,null,null,null,null,null,"",{"$f":"sample!NH13","v":0},{"$f":"sample!NI13","v":0},{"$f":"sample!NJ13","v":0},{"$f":"sample!NK13","v":0},{"$f":"sample!NL13","v":0}]
[null,null,null,null,null,null,null,null,null,null,null,null,null,null,null,null,null,null,null,null,null,null,null,null,null,null,null,null,null,null,null,null,null,null,null,"",{"$f":"sample!NH14","v":0},{"$f":"sample!NI14","v":0},{"$f":"sample!NJ14","v":0},{"$f":"sample!NK14","v":0},{"$f":"sample!NL14","v":0}]
[null,null,null,null,null,null,null,null,null,null,null,null,null,null,null,null,null,null,null,null,null,null,null,null,null,null,null,null,null,null,null,null,null,null,null,"",{"$f":"sample!NH15","v":0},{"$f":"sample!NI15","v":0},{"$f":"sample!NJ15","v":0},{"$f":"sample!NK15","v":0},{"$f":"sample!NL15","v":0}]
[null,null,null,null,null,null,null,null,null,null,null,null,null,null,null,null,null,null,null,null,null,null,null,null,null,null,null,null,null,null,null,null,null,null,null,"",{"$f":"sample!NH16","v":0},{"$f":"sample!NI16","v":0},{"$f":"sample!NJ16","v":0},{"$f":"sample!NK16","v":0},{"$f":"sample!NL16","v":0}]
[null,null,null,null,null,null,null,null,null,null,null,null,null,null,null,null,null,null,null,null,null,null,null,null,null,null,null,null,null,null,null,null,null,null,null,"",{"$f":"sample!NH17","v":0},{"$f":"sample!NI17","v":0},{"$f":"sample!NJ17","v":0},{"$f":"sample!NK17","v":0},{"$f":"sample!NL17","v":0}]
[null,null,null,null,null,null,null,null,null,null,null,null,null,null,null,null,null,null,null,null,null,null,null,null,null,null,null,null,null,null,null,null,null,null,null,"",{"$f":"sample!NH18","v":0},{"$f":"sample!NI18","v":0},{"$f":"sample!NJ18","v":0},{"$f":"sample!NK18","v":0},{"$f":"sample!NL18","v":0}]
[null,null,null,null,null,null,null,null,null,null,null,null,null,null,null,null,null,null,null,null,null,null,null,null,null,null,null,null,null,null,null,null,null,null,null,"",{"$f":"sample!NH19","v":0},{"$f":"sample!NI19","v":0},{"$f":"sample!NJ19","v":0},{"$f":"sample!NK19","v":0},{"$f":"sample!NL19","v":0}]
[null,null,null,null,null,null,null,null,null,null,null,null,null,null,null,null,null,null,null,null,null,null,null,null,null,null,null,null,null,null,null,null,null,null,null,"",{"$f":"sample!NH20","v":0},{"$f":"sample!NI20","v":0},{"$f":"sample!NJ20","v":0},{"$f":"sample!NK20","v":0},{"$f":"sample!NL20","v":0}]
[null,null,null,null,null,null,null,null,null,null,null,null,null,null,null,null,null,null,null,null,null,null,null,null,null,null,null,null,null,null,null,null,null,null,null,"",{"$f":"sample!NM5","v":0},{"$f":"sample!NN5","v":0},{"$f":"sample!NO5","v":0},{"$f":"sample!NP5","v":0},{"$f":"sample!NQ5","v":0}]
[null,null,null,null,null,null,null,null,null,null,null,null,null,null,null,null,null,null,null,null,null,null,null,null,null,null,null,null,null,null,null,null,null,null,null,"",{"$f":"sample!NM6","v":0},{"$f":"sample!NN6","v":0},{"$f":"sample!NO6","v":0},{"$f":"sample!NP6","v":0},{"$f":"sample!NQ6","v":0}]
[null,null,null,null,null,null,null,null,null,null,null,null,null,null,null,null,null,null,null,null,null,null,null,null,null,null,null,null,null,null,null,null,null,null,null,"",{"$f":"sample!NM7","v":0},{"$f":"sample!NN7","v":0},{"$f":"sample!NO7","v":0},{"$f":"sample!NP7","v":0},{"$f":"sample!NQ7","v":0}]
[null,null,null,null,null,null,null,null,null,null,null,null,null,null,null,null,null,null,null,null,null,null,null,null,null,null,null,null,null,null,null,null,null,null,null,"",{"$f":"sample!NM8","v":0},{"$f":"sample!NN8","v":0},{"$f":"sample!NO8","v":0},{"$f":"sample!NP8","v":0},{"$f":"sample!NQ8","v":0}]
[null,null,null,null,null,null,null,null,null,null,null,null,null,null,null,null,null,null,null,null,null,null,null,null,null,null,null,null,null,null,null,null,null,null,null,"",{"$f":"sample!NM9","v":0},{"$f":"sample!NN9","v":0},{"$f":"sample!NO9","v":0},{"$f":"sample!NP9","v":0},{"$f":"sample!NQ9","v":0}]
[null,null,null,null,null,null,null,null,null,null,null,null,null,null,null,null,null,null,null,null,null,null,null,null,null,null,null,null,null,null,null,null,null,null,null,"",{"$f":"sample!NM10","v":0},{"$f":"sample!NN10","v":0},{"$f":"sample!NO10","v":0},{"$f":"sample!NP10","v":0},{"$f":"sample!NQ10","v":0}]
[null,null,null,null,null,null,null,null,null,null,null,null,null,null,null,null,null,null,null,null,null,null,null,null,null,null,null,null,null,null,null,null,null,null,null,"",{"$f":"sample!NM11","v":0},{"$f":"sample!NN11","v":0},{"$f":"sample!NO11","v":0},{"$f":"sample!NP11","v":0},{"$f":"sample!NQ11","v":0}]
[null,null,null,null,null,null,null,null,null,null,null,null,null,null,null,null,null,null,null,null,null,null,null,null,null,null,null,null,null,null,null,null,null,null,null,"",{"$f":"sample!NM12","v":0},{"$f":"sample!NN12","v":0},{"$f":"sample!NO12","v":0},{"$f":"sample!NP12","v":0},{"$f":"sample!NQ12","v":0}]
[null,null,null,null,null,null,null,null,null,null,null,null,null,null,null,null,null,null,null,null,null,null,null,null,null,null,null,null,null,null,null,null,null,null,null,"",{"$f":"sample!NM13","v":0},{"$f":"sample!NN13","v":0},{"$f":"sample!NO13","v":0},{"$f":"sample!NP13","v":0},{"$f":"sample!NQ13","v":0}]
[null,null,null,null,null,null,null,null,null,null,null,null,null,null,null,null,null,null,null,null,null,null,null,null,null,null,null,null,null,null,null,null,null,null,null,"",{"$f":"sample!NM14","v":0},{"$f":"sample!NN14","v":0},{"$f":"sample!NO14","v":0},{"$f":"sample!NP14","v":0},{"$f":"sample!NQ14","v":0}]
[null,null,null,null,null,null,null,null,null,null,null,null,null,null,null,null,null,null,null,null,null,null,null,null,null,null,null,null,null,null,null,null,null,null,null,"",{"$f":"sample!NM15","v":0},{"$f":"sample!NN15","v":0},{"$f":"sample!NO15","v":0},{"$f":"sample!NP15","v":0},{"$f":"sample!NQ15","v":0}]
[null,null,null,null,null,null,null,null,null,null,null,null,null,null,null,null,null,null,null,null,null,null,null,null,null,null,null,null,null,null,null,null,null,null,null,"",{"$f":"sample!NM16","v":0},{"$f":"sample!NN16","v":0},{"$f":"sample!NO16","v":0},{"$f":"sample!NP16","v":0},{"$f":"sample!NQ16","v":0}]
[null,null,null,null,null,null,null,null,null,null,null,null,null,null,null,null,null,null,null,null,null,null,null,null,null,null,null,null,null,null,null,null,null,null,null,"",{"$f":"sample!NM17","v":0},{"$f":"sample!NN17","v":0},{"$f":"sample!NO17","v":0},{"$f":"sample!NP17","v":0},{"$f":"sample!NQ17","v":0}]
[null,null,null,null,null,null,null,null,null,null,null,null,null,null,null,null,null,null,null,null,null,null,null,null,null,null,null,null,null,null,null,null,null,null,null,"",{"$f":"sample!NM18","v":0},{"$f":"sample!NN18","v":0},{"$f":"sample!NO18","v":0},{"$f":"sample!NP18","v":0},{"$f":"sample!NQ18","v":0}]
[null,null,null,null,null,null,null,null,null,null,null,null,null,null,null,null,null,null,null,null,null,null,null,null,null,null,null,null,null,null,null,null,null,null,null,"",{"$f":"sample!NM19","v":0},{"$f":"sample!NN19","v":0},{"$f":"sample!NO19","v":0},{"$f":"sample!NP19","v":0},{"$f":"sample!NQ19","v":0}]
[null,null,null,null,null,null,null,null,null,null,null,null,null,null,null,null,null,null,null,null,null,null,null,null,null,null,null,null,null,null,null,null,null,null,null,"",{"$f":"sample!NM20","v":0},{"$f":"sample!NN20","v":0},{"$f":"sample!NO20","v":0},{"$f":"sample!NP20","v":0},{"$f":"sample!NQ20","v":0}]
[null,null,null,null,null,null,null,null,null,null,null,null,null,null,null,null,null,null,null,null,null,null,null,null,null,null,null,null,null,null,null,null,null,null,null,"",{"$f":"sample!NR5","v":0},{"$f":"sample!NS5","v":0},{"$f":"sample!NT5","v":0},{"$f":"sample!NU5","v":0},{"$f":"sample!NV5","v":0}]
[null,null,null,null,null,null,null,null,null,null,null,null,null,null,null,null,null,null,null,null,null,null,null,null,null,null,null,null,null,null,null,null,null,null,null,"",{"$f":"sample!NR6","v":0},{"$f":"sample!NS6","v":0},{"$f":"sample!NT6","v":0},{"$f":"sample!NU6","v":0},{"$f":"sample!NV6","v":0}]
[null,null,null,null,null,null,null,null,null,null,null,null,null,null,null,null,null,null,null,null,null,null,null,null,null,null,null,null,null,null,null,null,null,null,null,"",{"$f":"sample!NR7","v":0},{"$f":"sample!NS7","v":0},{"$f":"sample!NT7","v":0},{"$f":"sample!NU7","v":0},{"$f":"sample!NV7","v":0}]
[null,null,null,null,null,null,null,null,null,null,null,null,null,null,null,null,null,null,null,null,null,null,null,null,null,null,null,null,null,null,null,null,null,null,null,"",{"$f":"sample!NR8","v":0},{"$f":"sample!NS8","v":0},{"$f":"sample!NT8","v":0},{"$f":"sample!NU8","v":0},{"$f":"sample!NV8","v":0}]
[null,null,null,null,null,null,null,null,null,null,null,null,null,null,null,null,null,null,null,null,null,null,null,null,null,null,null,null,null,null,null,null,null,null,null,"",{"$f":"sample!NR9","v":0},{"$f":"sample!NS9","v":0},{"$f":"sample!NT9","v":0},{"$f":"sample!NU9","v":0},{"$f":"sample!NV9","v":0}]
[null,null,null,null,null,null,null,null,null,null,null,null,null,null,null,null,null,null,null,null,null,null,null,null,null,null,null,null,null,null,null,null,null,null,null,"",{"$f":"sample!NR10","v":0},{"$f":"sample!NS10","v":0},{"$f":"sample!NT10","v":0},{"$f":"sample!NU10","v":0},{"$f":"sample!NV10","v":0}]
[null,null,null,null,null,null,null,null,null,null,null,null,null,null,null,null,null,null,null,null,null,null,null,null,null,null,null,null,null,null,null,null,null,null,null,"",{"$f":"sample!NR11","v":0},{"$f":"sample!NS11","v":0},{"$f":"sample!NT11","v":0},{"$f":"sample!NU11","v":0},{"$f":"sample!NV11","v":0}]
[null,null,null,null,null,null,null,null,null,null,null,null,null,null,null,null,null,null,null,null,null,null,null,null,null,null,null,null,null,null,null,null,null,null,null,"",{"$f":"sample!NR12","v":0},{"$f":"sample!NS12","v":0},{"$f":"sample!NT12","v":0},{"$f":"sample!NU12","v":0},{"$f":"sample!NV12","v":0}]
[null,null,null,null,null,null,null,null,null,null,null,null,null,null,null,null,null,null,null,null,null,null,null,null,null,null,null,null,null,null,null,null,null,null,null,"",{"$f":"sample!NR13","v":0},{"$f":"sample!NS13","v":0},{"$f":"sample!NT13","v":0},{"$f":"sample!NU13","v":0},{"$f":"sample!NV13","v":0}]
[null,null,null,null,null,null,null,null,null,null,null,null,null,null,null,null,null,null,null,null,null,null,null,null,null,null,null,null,null,null,null,null,null,null,null,"",{"$f":"sample!NR14","v":0},{"$f":"sample!NS14","v":0},{"$f":"sample!NT14","v":0},{"$f":"sample!NU14","v":0},{"$f":"sample!NV14","v":0}]
[null,null,null,null,null,null,null,null,null,null,null,null,null,null,null,null,null,null,null,null,null,null,null,null,null,null,null,null,null,null,null,null,null,null,null,"",{"$f":"sample!NR15","v":0},{"$f":"sample!NS15","v":0},{"$f":"sample!NT15","v":0},{"$f":"sample!NU15","v":0},{"$f":"sample!NV15","v":0}]
[null,null,null,null,null,null,null,null,null,null,null,null,null,null,null,null,null,null,null,null,null,null,null,null,null,null,null,null,null,null,null,null,null,null,null,"",{"$f":"sample!NR16","v":0},{"$f":"sample!NS16","v":0},{"$f":"sample!NT16","v":0},{"$f":"sample!NU16","v":0},{"$f":"sample!NV16","v":0}]
[null,null,null,null,null,null,null,null,null,null,null,null,null,null,null,null,null,null,null,null,null,null,null,null,null,null,null,null,null,null,null,null,null,null,null,"",{"$f":"sample!NR17","v":0},{"$f":"sample!NS17","v":0},{"$f":"sample!NT17","v":0},{"$f":"sample!NU17","v":0},{"$f":"sample!NV17","v":0}]
[null,null,null,null,null,null,null,null,null,null,null,null,null,null,null,null,null,null,null,null,null,null,null,null,null,null,null,null,null,null,null,null,null,null,null,"",{"$f":"sample!NR18","v":0},{"$f":"sample!NS18","v":0},{"$f":"sample!NT18","v":0},{"$f":"sample!NU18","v":0},{"$f":"sample!NV18","v":0}]
[null,null,null,null,null,null,null,null,null,null,null,null,null,null,null,null,null,null,null,null,null,null,null,null,null,null,null,null,null,null,null,null,null,null,null,"",{"$f":"sample!NR19","v":0},{"$f":"sample!NS19","v":0},{"$f":"sample!NT19","v":0},{"$f":"sample!NU19","v":0},{"$f":"sample!NV19","v":0}]
[null,null,null,null,null,null,null,null,null,null,null,null,null,null,null,null,null,null,null,null,null,null,null,null,null,null,null,null,null,null,null,null,null,null,null,"",{"$f":"sample!NR20","v":0},{"$f":"sample!NS20","v":0},{"$f":"sample!NT20","v":0},{"$f":"sample!NU20","v":0},{"$f":"sample!NV20","v":0}]
[null,null,null,null,null,null,null,null,null,null,null,null,null,null,null,null,null,null,null,null,null,null,null,null,null,null,null,null,null,null,null,null,null,null,null,"",{"$f":"sample!NW5","v":0},{"$f":"sample!NX5","v":0},{"$f":"sample!NY5","v":0},{"$f":"sample!NZ5","v":0},{"$f":"sample!OA5","v":0}]
[null,null,null,null,null,null,null,null,null,null,null,null,null,null,null,null,null,null,null,null,null,null,null,null,null,null,null,null,null,null,null,null,null,null,null,{"$f":"IFERROR(IF(AK145=0,\"\",MATCH(AK145,$AI:$AI,0)),\"TRUE\")","v":""},{"$f":"sample!NW6","v":0},{"$f":"sample!NX6","v":0},{"$f":"sample!NY6","v":0},{"$f":"sample!NZ6","v":0},{"$f":"sample!OA6","v":0}]
[null,null,null,null,null,null,null,null,null,null,null,null,null,null,null,null,null,null,null,null,null,null,null,null,null,null,null,null,null,null,null,null,null,null,null,"",{"$f":"sample!NW7","v":0},{"$f":"sample!NX7","v":0},{"$f":"sample!NY7","v":0},{"$f":"sample!NZ7","v":0},{"$f":"sample!OA7","v":0}]
[null,null,null,null,null,null,null,null,null,null,null,null,null,null,null,null,null,null,null,null,null,null,null,null,null,null,null,null,null,null,null,null,null,null,null,"",{"$f":"sample!NW8","v":0},{"$f":"sample!NX8","v":0},{"$f":"sample!NY8","v":0},{"$f":"sample!NZ8","v":0},{"$f":"sample!OA8","v":0}]
[null,null,null,null,null,null,null,null,null,null,null,null,null,null,null,null,null,null,null,null,null,null,null,null,null,null,null,null,null,null,null,null,null,null,null,"",{"$f":"sample!NW9","v":0},{"$f":"sample!NX9","v":0},{"$f":"sample!NY9","v":0},{"$f":"sample!NZ9","v":0},{"$f":"sample!OA9","v":0}]
[null,null,null,null,null,null,null,null,null,null,null,null,null,null,null,null,null,null,null,null,null,null,null,null,null,null,null,null,null,null,null,null,null,null,null,"",{"$f":"sample!NW10","v":0},{"$f":"sample!NX10","v":0},{"$f":"sample!NY10","v":0},{"$f":"sample!NZ10","v":0},{"$f":"sample!OA10","v":0}]
[null,null,null,null,null,null,null,null,null,null,null,null,null,null,null,null,null,null,null,null,null,null,null,null,null,null,null,null,null,null,null,null,null,null,null,"",{"$f":"sample!NW11","v":0},{"$f":"sample!NX11","v":0},{"$f":"sample!NY11","v":0},{"$f":"sample!NZ11","v":0},{"$f":"sample!OA11","v":0}]
[null,null,null,null,null,null,null,null,null,null,null,null,null,null,null,null,null,null,null,null,null,null,null,null,null,null,null,null,null,null,null,null,null,null,null,"",{"$f":"sample!NW12","v":0},{"$f":"sample!NX12","v":0},{"$f":"sample!NY12","v":0},{"$f":"sample!NZ12","v":0},{"$f":"sample!OA12","v":0}]
[null,null,null,null,null,null,null,null,null,null,null,null,null,null,null,null,null,null,null,null,null,null,null,null,null,null,null,null,null,null,null,null,null,null,null,"",{"$f":"sample!NW13","v":0},{"$f":"sample!NX13","v":0},{"$f":"sample!NY13","v":0},{"$f":"sample!NZ13","v":0},{"$f":"sample!OA13","v":0}]
[null,null,null,null,null,null,null,null,null,null,null,null,null,null,null,null,null,null,null,null,null,null,null,null,null,null,null,null,null,null,null,null,null,null,null,"",{"$f":"sample!NW14","v":0},{"$f":"sample!NX14","v":0},{"$f":"sample!NY14","v":0},{"$f":"sample!NZ14","v":0},{"$f":"sample!OA14","v":0}]
[null,null,null,null,null,null,null,null,null,null,null,null,null,null,null,null,null,null,null,null,null,null,null,null,null,null,null,null,null,null,null,null,null,null,null,"",{"$f":"sample!NW15","v":0},{"$f":"sample!NX15","v":0},{"$f":"sample!NY15","v":0},{"$f":"sample!NZ15","v":0},{"$f":"sample!OA15","v":0}]
[null,null,null,null,null,null,null,null,null,null,null,null,null,null,null,null,null,null,null,null,null,null,null,null,null,null,null,null,null,null,null,null,null,null,null,"",{"$f":"sample!NW16","v":0},{"$f":"sample!NX16","v":0},{"$f":"sample!NY16","v":0},{"$f":"sample!NZ16","v":0},{"$f":"sample!OA16","v":0}]
[null,null,null,null,null,null,null,null,null,null,null,null,null,null,null,null,null,null,null,null,null,null,null,null,null,null,null,null,null,null,null,null,null,null,null,"",{"$f":"sample!NW17","v":0},{"$f":"sample!NX17","v":0},{"$f":"sample!NY17","v":0},{"$f":"sample!NZ17","v":0},{"$f":"sample!OA17","v":0}]
[null,null,null,null,null,null,null,null,null,null,null,null,null,null,null,null,null,null,null,null,null,null,null,null,null,null,null,null,null,null,null,null,null,null,null,"",{"$f":"sample!NW18","v":0},{"$f":"sample!NX18","v":0},{"$f":"sample!NY18","v":0},{"$f":"sample!NZ18","v":0},{"$f":"sample!OA18","v":0}]
[null,null,null,null,null,null,null,null,null,null,null,null,null,null,null,null,null,null,null,null,null,null,null,null,null,null,null,null,null,null,null,null,null,null,null,"",{"$f":"sample!NW19","v":0},{"$f":"sample!NX19","v":0},{"$f":"sample!NY19","v":0},{"$f":"sample!NZ19","v":0},{"$f":"sample!OA19","v":0}]
[null,null,null,null,null,null,null,null,null,null,null,null,null,null,null,null,null,null,null,null,null,null,null,null,null,null,null,null,null,null,null,null,null,null,null,"",{"$f":"sample!NW20","v":0},{"$f":"sample!NX20","v":0},{"$f":"sample!NY20","v":0},{"$f":"sample!NZ20","v":0},{"$f":"sample!OA20","v":0}]
[null,null,null,null,null,null,null,null,null,null,null,null,null,null,null,null,null,null,null,null,null,null,null,null,null,null,null,null,null,null,null,null,null,null,null,"",{"$f":"sample!OB5","v":0},{"$f":"sample!OC5","v":0},{"$f":"sample!OD5","v":0},{"$f":"sample!OE5","v":0},{"$f":"sample!OF5","v":0}]
[null,null,null,null,null,null,null,null,null,null,null,null,null,null,null,null,null,null,null,null,null,null,null,null,null,null,null,null,null,null,null,null,null,null,null,"",{"$f":"sample!OB6","v":0},{"$f":"sample!OC6","v":0},{"$f":"sample!OD6","v":0},{"$f":"sample!OE6","v":0},{"$f":"sample!OF6","v":0}]
[null,null,null,null,null,null,null,null,null,null,null,null,null,null,null,null,null,null,null,null,null,null,null,null,null,null,null,null,null,null,null,null,null,null,null,"",{"$f":"sample!OB7","v":0},{"$f":"sample!OC7","v":0},{"$f":"sample!OD7","v":0},{"$f":"sample!OE7","v":0},{"$f":"sample!OF7","v":0}]
[null,null,null,null,null,null,null,null,null,null,null,null,null,null,null,null,null,null,null,null,null,null,null,null,null,null,null,null,null,null,null,null,null,null,null,"",{"$f":"sample!OB8","v":0},{"$f":"sample!OC8","v":0},{"$f":"sample!OD8","v":0},{"$f":"sample!OE8","v":0},{"$f":"sample!OF8","v":0}]
[null,null,null,null,null,null,null,null,null,null,null,null,null,null,null,null,null,null,null,null,null,null,null,null,null,null,null,null,null,null,null,null,null,null,null,"",{"$f":"sample!OB9","v":0},{"$f":"sample!OC9","v":0},{"$f":"sample!OD9","v":0},{"$f":"sample!OE9","v":0},{"$f":"sample!OF9","v":0}]
[null,null,null,null,null,null,null,null,null,null,null,null,null,null,null,null,null,null,null,null,null,null,null,null,null,null,null,null,null,null,null,null,null,null,null,"",{"$f":"sample!OB10","v":0},{"$f":"sample!OC10","v":0},{"$f":"sample!OD10","v":0},{"$f":"sample!OE10","v":0},{"$f":"sample!OF10","v":0}]
[null,null,null,null,null,null,null,null,null,null,null,null,null,null,null,null,null,null,null,null,null,null,null,null,null,null,null,null,null,null,null,null,null,null,null,"",{"$f":"sample!OB11","v":0},{"$f":"sample!OC11","v":0},{"$f":"sample!OD11","v":0},{"$f":"sample!OE11","v":0},{"$f":"sample!OF11","v":0}]
[null,null,null,null,null,null,null,null,null,null,null,null,null,null,null,null,null,null,null,null,null,null,null,null,null,null,null,null,null,null,null,null,null,null,null,"",{"$f":"sample!OB12","v":0},{"$f":"sample!OC12","v":0},{"$f":"sample!OD12","v":0},{"$f":"sample!OE12","v":0},{"$f":"sample!OF12","v":0}]
[null,null,null,null,null,null,null,null,null,null,null,null,null,null,null,null,null,null,null,null,null,null,null,null,null,null,null,null,null,null,null,null,null,null,null,"",{"$f":"sample!OB13","v":0},{"$f":"sample!OC13","v":0},{"$f":"sample!OD13","v":0},{"$f":"sample!OE13","v":0},{"$f":"sample!OF13","v":0}]
[null,null,null,null,null,null,null,null,null,null,null,null,null,null,null,null,null,null,null,null,null,null,null,null,null,null,null,null,null,null,null,null,null,null,null,"",{"$f":"sample!OB14","v":0},{"$f":"sample!OC14","v":0},{"$f":"sample!OD14","v":0},{"$f":"sample!OE14","v":0},{"$f":"sample!OF14","v":0}]
[null,null,null,null,null,null,null,null,null,null,null,null,null,null,null,null,null,null,null,null,null,null,null,null,null,null,null,null,null,null,null,null,null,null,null,"",{"$f":"sample!OB15","v":0},{"$f":"sample!OC15","v":0},{"$f":"sample!OD15","v":0},{"$f":"sample!OE15","v":0},{"$f":"sample!OF15","v":0}]
[null,null,null,null,null,null,null,null,null,null,null,null,null,null,null,null,null,null,null,null,null,null,null,null,null,null,null,null,null,null,null,null,null,null,null,"",{"$f":"sample!OB16","v":0},{"$f":"sample!OC16","v":0},{"$f":"sample!OD16","v":0},{"$f":"sample!OE16","v":0},{"$f":"sample!OF16","v":0}]
[null,null,null,null,null,null,null,null,null,null,null,null,null,null,null,null,null,null,null,null,null,null,null,null,null,null,null,null,null,null,null,null,null,null,null,"",{"$f":"sample!OB17","v":0},{"$f":"sample!OC17","v":0},{"$f":"sample!OD17","v":0},{"$f":"sample!OE17","v":0},{"$f":"sample!OF17","v":0}]
[null,null,null,null,null,null,null,null,null,null,null,null,null,null,null,null,null,null,null,null,null,null,null,null,null,null,null,null,null,null,null,null,null,null,null,"",{"$f":"sample!OB18","v":0},{"$f":"sample!OC18","v":0},{"$f":"sample!OD18","v":0},{"$f":"sample!OE18","v":0},{"$f":"sample!OF18","v":0}]
[null,null,null,null,null,null,null,null,null,null,null,null,null,null,null,null,null,null,null,null,null,null,null,null,null,null,null,null,null,null,null,null,null,null,null,"",{"$f":"sample!OB19","v":0},{"$f":"sample!OC19","v":0},{"$f":"sample!OD19","v":0},{"$f":"sample!OE19","v":0},{"$f":"sample!OF19","v":0}]
[null,null,null,null,null,null,null,null,null,null,null,null,null,null,null,null,null,null,null,null,null,null,null,null,null,null,null,null,null,null,null,null,null,null,null,"",{"$f":"sample!OB20","v":0},{"$f":"sample!OC20","v":0},{"$f":"sample!OD20","v":0},{"$f":"sample!OE20","v":0},{"$f":"sample!OF20","v":0}]

{"sheet":"GYCards","index":9,"n_rows":1536,"n_cols":4592,"rows_kept":562,"cut":true,"hidden":false,"merged":[[11,4,11,7],[11,14,11,17],[25,5,25,7],[25,15,25,17],[4,4,4,8],[4,14,4,18],[26,5,26,7],[26,15,26,17],[27,5,27,7],[27,15,27,17],[8,4,8,8],[8,14,8,18],[9,3,9,7],[9,13,9,17],[10,3,10,7],[10,13,10,17],[1,3,1,7],[1,13,1,17],[5,3,5,7],[5,13,5,17],[6,3,6,7],[6,13,6,17],[22,5,22,7],[22,15,22,17],[23,5,23,7],[23,15,23,17],[24,5,24,7],[24,15,24,17],[19,5,19,7],[19,15,19,17],[20,5,20,7],[20,15,20,17],[21,5,21,7],[21,15,21,17],[41,5,41,7],[41,15,41,17],[5,18,7,18],[5,8,7,8],[42,5,42,7],[42,15,42,17],[43,5,43,7],[43,15,43,17],[38,5,38,7],[38,15,38,17],[39,5,39,7],[39,15,39,17],[40,5,40,7],[40,15,40,17],[36,5,36,7],[36,15,36,17],[37,5,37,7],[37,15,37,17],[13,2,13,8],[13,12,13,18],[18,5,18,7],[18,15,18,17],[31,5,31,7],[31,15,31,17],[32,5,32,7],[32,15,32,17],[28,5,28,7],[28,15,28,17],[29,5,29,7],[29,15,29,17],[30,5,30,7],[30,15,30,17],[56,5,56,7],[56,15,56,17],[57,5,57,7],[57,15,57,17],[58,5,58,7],[58,15,58,17],[53,5,53,7],[53,15,53,17],[54,5,54,7],[54,15,54,17],[55,5,55,7],[55,15,55,17],[35,5,35,7],[35,15,35,17],[50,5,50,7],[50,15,50,17],[51,5,51,7],[51,15,51,17],[52,5,52,7],[52,15,52,17],[47,5,47,7],[47,15,47,17],[48,5,48,7],[48,15,48,17],[49,5,49,7],[49,15,49,17],[44,5,44,7],[44,15,44,17],[45,5,45,7],[45,15,45,17],[46,5,46,7],[46,15,46,17],[65,5,65,7],[65,15,65,17],[66,5,66,7],[66,15,66,17],[67,5,67,7],[67,15,67,17],[62,5,62,7],[62,15,62,17],[63,5,63,7],[63,15,63,17],[64,5,64,7],[64,15,64,17],[59,5,59,7],[59,15,59,17],[60,5,60,7],[60,15,60,17],[61,5,61,7],[61,15,61,17],[74,5,74,7],[74,15,74,17],[75,5,75,7],[75,15,75,17],[76,5,76,7],[76,15,76,17],[71,5,71,7],[71,15,71,17],[72,5,72,7],[72,15,72,17],[73,5,73,7],[73,15,73,17],[68,5,68,7],[68,15,68,17],[69,5,69,7],[69,15,69,17],[70,5,70,7],[70,15,70,17],[83,5,83,7],[83,15,83,17],[84,5,84,7],[84,15,84,17],[85,5,85,7],[85,15,85,17],[80,5,80,7],[80,15,80,17],[81,5,81,7],[81,15,81,17],[82,5,82,7],[82,15,82,17],[77,5,77,7],[77,15,77,17],[78,5,78,7],[78,15,78,17],[79,5,79,7],[79,15,79,17],[92,5,92,7],[92,15,92,17],[93,5,93,7],[93,15,93,17],[94,5,94,7],[94,15,94,17],[89,5,89,7],[89,15,89,17],[90,5,90,7],[90,15,90,17],[91,5,91,7],[91,15,91,17],[86,5,86,7],[86,15,86,17],[87,5,87,7],[87,15,87,17],[88,5,88,7],[88,15,88,17],[101,5,101,7],[101,15,101,17],[102,5,102,7],[102,15,102,17],[103,5,103,7],[103,15,103,17],[98,5,98,7],[98,15,98,17],[99,5,99,7],[99,15,99,17],[100,5,100,7],[100,15,100,17],[95,5,95,7],[95,15,95,17],[96,5,96,7],[96,15,96,17],[97,5,97,7],[97,15,97,17],[110,5,110,7],[110,15,110,17],[111,5,111,7],[111,15,111,17],[112,5,112,7],[112,15,112,17],[107,5,107,7],[107,15,107,17],[108,5,108,7],[108,15,108,17],[109,5,109,7],[109,15,109,17],[104,5,104,7],[104,15,104,17],[105,5,105,7],[105,15,105,17],[106,5,106,7],[106,15,106,17],[119,5,119,7],[119,15,119,17],[120,5,120,7],[120,15,120,17],[121,5,121,7],[121,15,121,17],[116,5,116,7],[116,15,116,17],[117,5,117,7],[117,15,117,17],[118,5,118,7],[118,15,118,17],[113,5,113,7],[113,15,113,17],[114,5,114,7],[114,15,114,17],[115,5,115,7],[115,15,115,17],[128,5,128,7],[128,15,128,17],[129,5,129,7],[129,15,129,17],[130,5,130,7],[130,15,130,17],[125,5,125,7],[125,15,125,17],[126,5,126,7],[126,15,126,17],[127,5,127,7],[127,15,127,17],[122,5,122,7],[122,15,122,17],[123,5,123,7],[123,15,123,17],[124,5,124,7],[124,15,124,17],[137,5,137,7],[137,15,137,17],[138,5,138,7],[138,15,138,17],[139,5,139,7],[139,15,139,17],[134,5,134,7],[134,15,134,17],[135,5,135,7],[135,15,135,17],[136,5,136,7],[136,15,136,17],[131,5,131,7],[131,15,131,17],[132,5,132,7],[132,15,132,17],[133,5,133,7],[133,15,133,17],[146,5,146,7],[146,15,146,17],[147,5,147,7],[147,15,147,17],[148,5,148,7],[148,15,148,17],[143,5,143,7],[143,15,143,17],[144,5,144,7],[144,15,144,17],[145,5,145,7],[145,15,145,17],[140,5,140,7],[140,15,140,17],[141,5,141,7],[141,15,141,17],[142,5,142,7],[142,15,142,17],[155,5,155,7],[155,15,155,17],[156,5,156,7],[156,15,156,17],[157,5,157,7],[157,15,157,17],[152,5,152,7],[152,15,152,17],[153,5,153,7],[153,15,153,17],[154,5,154,7],[154,15,154,17],[149,5,149,7],[149,15,149,17],[150,5,150,7],[150,15,150,17],[151,5,151,7],[151,15,151,17],[164,5,164,7],[164,15,164,17],[165,5,165,7],[165,15,165,17],[166,5,166,7],[166,15,166,17],[161,5,161,7],[161,15,161,17],[162,5,162,7],[162,15,162,17],[163,5,163,7],[163,15,163,17],[158,5,158,7],[158,15,158,17],[159,5,159,7],[159,15,159,17],[160,5,160,7],[160,15,160,17],[173,5,173,7],[173,15,173,17],[174,5,174,7],[174,15,174,17],[175,5,175,7],[175,15,175,17],[170,5,170,7],[170,15,170,17],[171,5,171,7],[171,15,171,17],[172,5,172,7],[172,15,172,17],[167,5,167,7],[167,15,167,17],[168,5,168,7],[168,15,168,17],[169,5,169,7],[169,15,169,17],[182,5,182,7],[182,15,182,17],[183,5,183,7],[183,15,183,17],[184,5,184,7],[184,15,184,17],[179,5,179,7],[179,15,179,17],[180,5,180,7],[180,15,180,17],[181,5,181,7],[181,15,181,17],[176,5,176,7],[176,15,176,17],[177,5,177,7],[177,15,177,17],[178,5,178,7],[178,15,178,17],[191,5,191,7],[191,15,191,17],[192,5,192,7],[192,15,192,17],[193,5,193,7],[193,15,193,17],[188,5,188,7],[188,15,188,17],[189,5,189,7],[189,15,189,17],[190,5,190,7],[190,15,190,17],[185,5,185,7],[185,15,185,17],[186,5,186,7],[186,15,186,17],[187,5,187,7],[187,15,187,17],[200,5,200,7],[200,15,200,17],[201,5,201,7],[201,15,201,17],[202,5,202,7],[202,15,202,17],[197,5,197,7],[197,15,197,17],[198,5,198,7],[198,15,198,17],[199,5,199,7],[199,15,199,17],[194,5,194,7],[194,15,194,17],[195,5,195,7],[195,15,195,17],[196,5,196,7],[196,15,196,17],[209,5,209,7],[209,15,209,17],[210,5,210,7],[210,15,210,17],[211,5,211,7],[211,15,211,17],[206,5,206,7],[206,15,206,17],[207,5,207,7],[207,15,207,17],[208,5,208,7],[208,15,208,17],[203,5,203,7],[203,15,203,17],[204,5,204,7],[204,15,204,17],[205,5,205,7],[205,15,205,17],[218,5,218,7],[218,15,218,17],[219,5,219,7],[219,15,219,17],[220,5,220,7],[220,15,220,17],[215,5,215,7],[215,15,215,17],[216,5,216,7],[216,15,216,17],[217,5,217,7],[217,15,217,17],[212,5,212,7],[212,15,212,17],[213,5,213,7],[213,15,213,17],[214,5,214,7],[214,15,214,17],[227,5,227,7],[227,15,227,17],[228,5,228,7],[228,15,228,17],[229,5,229,7],[229,15,229,17],[224,5,224,7],[224,15,224,17],[225,5,225,7],[225,15,225,17],[226,5,226,7],[226,15,226,17],[221,5,221,7],[221,15,221,17],[222,5,222,7],[222,15,222,17],[223,5,223,7],[223,15,223,17],[236,5,236,7],[236,15,236,17],[237,5,237,7],[237,15,237,17],[238,5,238,7],[238,15,238,17],[233,5,233,7],[233,15,233,17],[234,5,234,7],[234,15,234,17],[235,5,235,7],[235,15,235,17],[230,5,230,7],[230,15,230,17],[231,5,231,7],[231,15,231,17],[232,5,232,7],[232,15,232,17],[245,5,245,7],[245,15,245,17],[246,5,246,7],[246,15,246,17],[247,5,247,7],[247,15,247,17],[242,5,242,7],[242,15,242,17],[243,5,243,7],[243,15,243,17],[244,5,244,7],[244,15,244,17],[239,5,239,7],[239,15,239,17],[240,5,240,7],[240,15,240,17],[241,5,241,7],[241,15,241,17],[254,5,254,7],[254,15,254,17],[255,5,255,7],[255,15,255,17],[256,5,256,7],[256,15,256,17],[251,5,251,7],[251,15,251,17],[252,5,252,7],[252,15,252,17],[253,5,253,7],[253,15,253,17],[248,5,248,7],[248,15,248,17],[249,5,249,7],[249,15,249,17],[250,5,250,7],[250,15,250,17],[263,5,263,7],[263,15,263,17],[264,5,264,7],[264,15,264,17],[265,5,265,7],[265,15,265,17],[260,5,260,7],[260,15,260,17],[261,5,261,7],[261,15,261,17],[262,5,262,7],[262,15,262,17],[257,5,257,7],[257,15,257,17],[258,5,258,7],[258,15,258,17],[259,5,259,7],[259,15,259,17],[272,5,272,7],[272,15,272,17],[273,5,273,7],[273,15,273,17],[274,5,274,7],[274,15,274,17],[269,5,269,7],[269,15,269,17],[270,5,270,7],[270,15,270,17],[271,5,271,7],[271,15,271,17],[266,5,266,7],[266,15,266,17],[267,5,267,7],[267,15,267,17],[268,5,268,7],[268,15,268,17],[281,5,281,7],[281,15,281,17],[282,5,282,7],[282,15,282,17],[283,5,283,7],[283,15,283,17],[278,5,278,7],[278,15,278,17],[279,5,279,7],[279,15,279,17],[280,5,280,7],[280,15,280,17],[275,5,275,7],[275,15,275,17],[276,5,276,7],[276,15,276,17],[277,5,277,7],[277,15,277,17],[290,5,290,7],[290,15,290,17],[291,5,291,7],[291,15,291,17],[292,5,292,7],[292,15,292,17],[287,5,287,7],[287,15,287,17],[288,5,288,7],[288,15,288,17],[289,5,289,7],[289,15,289,17],[284,5,284,7],[284,15,284,17],[285,5,285,7],[285,15,285,17],[286,5,286,7],[286,15,286,17],[299,5,299,7],[299,15,299,17],[300,5,300,7],[300,15,300,17],[301,5,301,7],[301,15,301,17],[296,5,296,7],[296,15,296,17],[297,5,297,7],[297,15,297,17],[298,5,298,7],[298,15,298,17],[293,5,293,7],[293,15,293,17],[294,5,294,7],[294,15,294,17],[295,5,295,7],[295,15,295,17],[308,5,308,7],[308,15,308,17],[309,5,309,7],[309,15,309,17],[310,5,310,7],[310,15,310,17],[305,5,305,7],[305,15,305,17],[306,5,306,7],[306,15,306,17],[307,5,307,7],[307,15,307,17],[302,5,302,7],[302,15,302,17],[303,5,303,7],[303,15,303,17],[304,5,304,7],[304,15,304,17],[317,5,317,7],[317,15,317,17],[318,5,318,7],[318,15,318,17],[319,5,319,7],[319,15,319,17],[314,5,314,7],[314,15,314,17],[315,5,315,7],[315,15,315,17],[316,5,316,7],[316,15,316,17],[311,5,311,7],[311,15,311,17],[312,5,312,7],[312,15,312,17],[313,5,313,7],[313,15,313,17],[326,5,326,7],[326,15,326,17],[327,5,327,7],[327,15,327,17],[328,5,328,7],[328,15,328,17],[323,5,323,7],[323,15,323,17],[324,5,324,7],[324,15,324,17],[325,5,325,7],[325,15,325,17],[320,5,320,7],[320,15,320,17],[321,5,321,7],[321,15,321,17],[322,5,322,7],[322,15,322,17],[335,5,335,7],[335,15,335,17],[336,5,336,7],[336,15,336,17],[337,5,337,7],[337,15,337,17],[332,5,332,7],[332,15,332,17],[333,5,333,7],[333,15,333,17],[334,5,334,7],[334,15,334,17],[329,5,329,7],[329,15,329,17],[330,5,330,7],[330,15,330,17],[331,5,331,7],[331,15,331,17],[344,5,344,7],[344,15,344,17],[345,5,345,7],[345,15,345,17],[346,5,346,7],[346,15,346,17],[341,5,341,7],[341,15,341,17],[342,5,342,7],[342,15,342,17],[343,5,343,7],[343,15,343,17],[338,5,338,7],[338,15,338,17],[339,5,339,7],[339,15,339,17],[340,5,340,7],[340,15,340,17],[353,5,353,7],[353,15,353,17],[354,5,354,7],[354,15,354,17],[355,5,355,7],[355,15,355,17],[350,5,350,7],[350,15,350,17],[351,5,351,7],[351,15,351,17],[352,5,352,7],[352,15,352,17],[347,5,347,7],[347,15,347,17],[348,5,348,7],[348,15,348,17],[349,5,349,7],[349,15,349,17],[362,5,362,7],[362,15,362,17],[363,5,363,7],[363,15,363,17],[364,5,364,7],[364,15,364,17],[359,5,359,7],[359,15,359,17],[360,5,360,7],[360,15,360,17],[361,5,361,7],[361,15,361,17],[356,5,356,7],[356,15,356,17],[357,5,357,7],[357,15,357,17],[358,5,358,7],[358,15,358,17],[371,5,371,7],[371,15,371,17],[372,5,372,7],[372,15,372,17],[373,5,373,7],[373,15,373,17],[368,5,368,7],[368,15,368,17],[369,5,369,7],[369,15,369,17],[370,5,370,7],[370,15,370,17],[365,5,365,7],[365,15,365,17],[366,5,366,7],[366,15,366,17],[367,5,367,7],[367,15,367,17],[380,5,380,7],[380,15,380,17],[381,5,381,7],[381,15,381,17],[382,5,382,7],[382,15,382,17],[377,5,377,7],[377,15,377,17],[378,5,378,7],[378,15,378,17],[379,5,379,7],[379,15,379,17],[374,5,374,7],[374,15,374,17],[375,5,375,7],[375,15,375,17],[376,5,376,7],[376,15,376,17],[389,5,389,7],[389,15,389,17],[390,5,390,7],[390,15,390,17],[391,5,391,7],[391,15,391,17],[386,5,386,7],[386,15,386,17],[387,5,387,7],[387,15,387,17],[388,5,388,7],[388,15,388,17],[383,5,383,7],[383,15,383,17],[384,5,384,7],[384,15,384,17],[385,5,385,7],[385,15,385,17],[398,5,398,7],[398,15,398,17],[399,5,399,7],[399,15,399,17],[400,5,400,7],[400,15,400,17],[395,5,395,7],[395,15,395,17],[396,5,396,7],[396,15,396,17],[397,5,397,7],[397,15,397,17],[392,5,392,7],[392,15,392,17],[393,5,393,7],[393,15,393,17],[394,5,394,7],[394,15,394,17],[407,5,407,7],[407,15,407,17],[408,5,408,7],[408,15,408,17],[409,5,409,7],[409,15,409,17],[404,5,404,7],[404,15,404,17],[405,5,405,7],[405,15,405,17],[406,5,406,7],[406,15,406,17],[401,5,401,7],[401,15,401,17],[402,5,402,7],[402,15,402,17],[403,5,403,7],[403,15,403,17],[416,5,416,7],[416,15,416,17],[417,5,417,7],[417,15,417,17],[418,5,418,7],[418,15,418,17],[413,5,413,7],[413,15,413,17],[414,5,414,7],[414,15,414,17],[415,5,415,7],[415,15,415,17],[410,5,410,7],[410,15,410,17],[411,5,411,7],[411,15,411,17],[412,5,412,7],[412,15,412,17],[425,5,425,7],[425,15,425,17],[426,5,426,7],[426,15,426,17],[427,5,427,7],[427,15,427,17],[422,5,422,7],[422,15,422,17],[423,5,423,7],[423,15,423,17],[424,5,424,7],[424,15,424,17],[419,5,419,7],[419,15,419,17],[420,5,420,7],[420,15,420,17],[421,5,421,7],[421,15,421,17],[434,5,434,7],[434,15,434,17],[435,5,435,7],[435,15,435,17],[436,5,436,7],[436,15,436,17],[431,5,431,7],[431,15,431,17],[432,5,432,7],[432,15,432,17],[433,5,433,7],[433,15,433,17],[428,5,428,7],[428,15,428,17],[429,5,429,7],[429,15,429,17],[430,5,430,7],[430,15,430,17],[443,5,443,7],[443,15,443,17],[444,5,444,7],[444,15,444,17],[445,5,445,7],[445,15,445,17],[440,5,440,7],[440,15,440,17],[441,5,441,7],[441,15,441,17],[442,5,442,7],[442,15,442,17],[437,5,437,7],[437,15,437,17],[438,5,438,7],[438,15,438,17],[439,5,439,7],[439,15,439,17],[452,5,452,7],[452,15,452,17],[453,5,453,7],[453,15,453,17],[454,5,454,7],[454,15,454,17],[449,5,449,7],[449,15,449,17],[450,5,450,7],[450,15,450,17],[451,5,451,7],[451,15,451,17],[446,5,446,7],[446,15,446,17],[447,5,447,7],[447,15,447,17],[448,5,448,7],[448,15,448,17],[461,5,461,7],[461,15,461,17],[462,5,462,7],[462,15,462,17],[463,5,463,7],[463,15,463,17],[458,5,458,7],[458,15,458,17],[459,5,459,7],[459,15,459,17],[460,5,460,7],[460,15,460,17],[455,5,455,7],[455,15,455,17],[456,5,456,7],[456,15,456,17],[457,5,457,7],[457,15,457,17],[470,5,470,7],[470,15,470,17],[471,5,471,7],[471,15,471,17],[472,5,472,7],[472,15,472,17],[467,5,467,7],[467,15,467,17],[468,5,468,7],[468,15,468,17],[469,5,469,7],[469,15,469,17],[464,5,464,7],[464,15,464,17],[465,5,465,7],[465,15,465,17],[466,5,466,7],[466,15,466,17],[479,5,479,7],[479,15,479,17],[480,5,480,7],[480,15,480,17],[481,5,481,7],[481,15,481,17],[476,5,476,7],[476,15,476,17],[477,5,477,7],[477,15,477,17],[478,5,478,7],[478,15,478,17],[473,5,473,7],[473,15,473,17],[474,5,474,7],[474,15,474,17],[475,5,475,7],[475,15,475,17],[488,5,488,7],[488,15,488,17],[489,5,489,7],[489,15,489,17],[490,5,490,7],[490,15,490,17],[485,5,485,7],[485,15,485,17],[486,5,486,7],[486,15,486,17],[487,5,487,7],[487,15,487,17],[482,5,482,7],[482,15,482,17],[483,5,483,7],[483,15,483,17],[484,5,484,7],[484,15,484,17],[497,5,497,7],[497,15,497,17],[498,5,498,7],[498,15,498,17],[499,5,499,7],[499,15,499,17],[494,5,494,7],[494,15,494,17],[495,5,495,7],[495,15,495,17],[496,5,496,7],[496,15,496,17],[491,5,491,7],[491,15,491,17],[492,5,492,7],[492,15,492,17],[493,5,493,7],[493,15,493,17],[506,5,506,7],[506,15,506,17],[507,5,507,7],[507,15,507,17],[508,5,508,7],[508,15,508,17],[503,5,503,7],[503,15,503,17],[504,5,504,7],[504,15,504,17],[505,5,505,7],[505,15,505,17],[500,5,500,7],[500,15,500,17],[501,5,501,7],[501,15,501,17],[502,5,502,7],[502,15,502,17],[515,5,515,7],[515,15,515,17]],"bounds":{"rows_first":250,"rows_last":62,"rows_between":250,"halvings":3},"merged_total":3052,"flags":["merged_cut"]}
[null,null,null,null,null,null,null,null,null,null,null,null,null,null,null,null,null,null,null,null,null,null,null,null,null,null,null,null,null,null,null,null,null,null,null,null,null,null,null,null,null,null,null,null,null,null,null,null,null,null,"Search on Green =",true,"$B$20",null,null,null,null,null,null,{"$f":"C2-2000","v":20},null,null,null,null,null,null,null,null,null,null,null,null,null,null,null,null,null,null,null,null,null,null,null,null,null,null,null,null,null,null,null,null,null,null,null,null,null,null,null,null,null,null,null,null,null,null,null,null,null,null,null,null,null,null,null,null,null,null,null,null,null,null,null,null,null,null,null,null,null,null,null,null,null,null,null,null,null,null,null,null,null,null,null,null,null,null,null,null,null,null,null,null,null,null,null,null,null,null,null,null,null,null,null,null,null,null,null,null,null,null,null,null,null,null,null,null,null,null,null,null,null,null,null,null,null,null,null,null,null,null,null,null,null,null,null,null,null,null,null,null,null,null,null,null,null,null,null,null,null,null,null,null,null,null,null,null,null,null,null,null,null,null,null,null,null,null,null,null,null,null,null,null,null,null,null,null,null,null,null,null,null,null,null,null,null,null,null,null,null,null,null,null,null,null,null,null,null,null,null,null,null,null,null,null,null,null,null,null,null,null,null,null,null,null,null,null,null,null,null,null,null,null,null,null,null,null,null,null,null,null,null,null,null,null,null,null,null,null,null,null,null,null,null,null,null,null,null,null,null,null,null,null,null,null,null,null,null,null,null,null,null,null,null,null,null,null,null,null,null,null,null,null,null,null,null,null,null,null,null,null,null,null,null,null,null,null,null,null,null,null,null,null,null,null,null,null,null,null,null,null,null,null,null,null,null,null,null,null,null,null,null,null,null,null,null,null,null,null,null,null,null,null,null,null,null,null,null,null,null,null,null,null,null,null,null,null,null,null,null,null,null,null,null,null,null,null,null,null,null,null,null,null,null,null,null,null,null,null,null,null,null,null,null,null,null,null,null,null,null,null,null,null,null,null,null,null,null,null,null,null,null,null,null,null,null,null,null,null,null,null,null,null,null,null,null,null,null,null,null,null,null,null,null,null,null,null,null,null,null,null,null,null,null,null,null,null,null,null,null,null,null,null,null,null,null,null,null,null,null,null,null,null,null,null,null,null,null,null,null,null,null,null,null,null,null,null,null,null,null,null,null,null,null,null,null,null,null,null,null,null,null,null,null,null,null,null,null,null,null,null,null,null,null,null,null,null,null,null,null,null,null,null,null,null,null,null,null,null,null,null,null,null,null,null,null,null,null,null,null,null,null,null,null,null,null,null,null,null,null,null,null,null,null,null,null,null,null,null,null,null,null,null,null,null,null,null,null,null,null,null,null,null,null,null,null,null,null,null,null,null,null,null,null,null,null,null,null,null,null,null,null,null,null,null,null,null,null,null,null,null,null,null,null,null,null,null,null,null,null,null,null,null,null,null,null,null,null,null,null,null,null,null,null,null,null,null,null,null,null,null,null,null,null,null,null,null,null,null,null,null,null,null,null,null,null,null,null,null,null,null,null,null,null,null,null,null,null,null,null,null,null,null,null,null,null,null,null,null,null,null,null,null,null,null,null,null,null,null,null,null,null,null,null,null,null,null,null,null,null,null,null,null,null,null,null,null,null,null,null,null,null,null,null,null,null,null,null,null,null,null,null,null,null,null,null,null,null,null,null,null,null,null,null,null,null,null,null,null,null,null,null,null,null,null,null,null,null,null,null,null,null,null,null,null,null,null,null,null,null,null,null,null,null,null,null,null,null,null,null,null,null,null,null,null,null,null,null,null,null,null,null,null,null,null,null,null,null,null,null,null,null,null,null,null,null,null,null,null,null,null,null,null,null,null,null,null,null,null,null,null,null,null,null,null,null,null,null,null,null,null,null,null,null,null,null,null,null,null,null,null,null,null,null,null,null,null,null,null,null,null,null,null,null,null,null,null,null,null,null,null,null,null,null,null,null,null,null,null,null,null,null,null,null,null,null,null,null,null,null,null,null,null,null,null,null,null,null,null,null,null,null,null,null,null,null,null,null,null,null,null,null,null,null,null,null,null,null,null,null,null,null,null,null,null,null,null,null,null,null,null,null,null,null,null,null,null,null,null,null,null,null,null,null,null,null,null,null,null,null,null,null,null,null,null,null,null,null,null,null,null,null,null,null,null,null,null,null,null,null,null,null,null,null,null,null,null,null,null,null,null,null,null,null,null,null,null,null,null,null,null,null,null,null,null,null,null,null,null,null,null,null,null,null,null,null,null,null,null,null,null,null,null,null,null,null,null,null,null,null,null,null,null,null,null,null,null,null,null,null,null,null,null,null,null,null,null,null,null,null,null,null,null,null,null,null,null,null,null,null,null,null,null,null,null,null,null,null,null,null,null,null,null,null,null,null,null,null,null,null,null,null,null,null,null,null,null,null,null,null,null,null,null,null,null,null,null,null,null,null,null,null,null,null,null,null,null,null,null,null,null,null,null,null,null,null,null,null,null,null,null,null,null,null,null,null,null,null,null,null,null,null,null,null,null,null,null,null,null,null,null,null,null,null,null,null,null,null,null,null,null,null,null,null,null,null,null,null,null,null,null,null,null,null,null,null,null,null,null,null,null,null,null,null,null,null,null,null,null,null,null,null,null,null,null,null,null,null,null,null,null,null,null,null,null,null,null,null,null,null,null,null,null,null,null,null,null,null,null,null,null,null,null,null,null,null,null,null,null,null,null,null,null,null,null,null,null,null,null,null,null,null,null,null,null,null,null,null,null,null,null,null,null,null,null,null,null,null,null,null,null,null,null,null,null,null,null,null,null,null,null,null,null,null,null,null,null,null,null,null,null,null,null,null,null,null,null,null,null,null,null,null,null,null,null,null,null,null,null,null,null,null,null,null,null,null,null,null,null,null,null,null,null,null,null,null,null,null,null,null,null,null,null,null,null,null,null,null,null,null,null,null,null,null,null,null,null,null,null,null,null,null,null,null,null,null,null,null,null,null,null,null,null,null,null,null,null,null,null,null,null,null,null,null,null,null,null,null,null,null,null,null,null,null,null,null,null,null,null,null,null,null,null,null,null,null,null,null,null,null,null,null,null,null,null,null,null,null,null,null,null,null,null,null,null,null,null,null,null,null,null,null,null,null,null,null,null,null,null,null,null,null,null,null,null,null,null,null,null,null,null,null,null,null,null,null,null,null,null,null,null,null,null,null,null,null,null,null,null,null,null,null,null,null,null,null,null,null,null,null,null,null,null,null,null,null,null,null,null,null,null,null,null,null,null,null,null,null,null,null,null,null,null,null,null,null,null,null,null,null,null,null,null,null,null,null,null,null,null,null,null,null,null,null,null,null,null,null,null,null,null,null,null,null,null,null,null,null,null,null,null,null,null,null,null,null,null,null,null,null,null,null,null,null,null,null,null,null,null,null,null,null,null,null,null,null,null,null,null,null,null,null,null,null,null,null,null,null,null,null,null,null,null,null,null,null,null,null,null,null,null,null,null,null,null,null,null,null,null,null,null,null,null,null,null,null,null,null,null,null,null,null,null,null,null,null,null,null,null,null,null,null,null,null,null,null,null,null,null,null,null,null,null,null,null,null,null,null,null,null,null,null,null,null,null,null,null,null,null,null,null,null,null,null,null,null,null,null,null,null,null,null,null,null,null,null,null,null,null,null,null,null,null,null,null,null,null,null,null,null,null,null,null,null,null,null,null,null,null,null,null,null,null,null,null,null,null,null,null,null,null,null,null,null,null,null,null,null,null,null,null,null,null,null,null,null,null,null,null,null,null,null,null,null,null,null,null,null,null,null,null,null,null,null,null,null,null,null,null,null,null,null,null,null,null,null,null,null,null,null,null,null,null,null,null,null,null,null,null,null,null,null,null,null,null,null,null,null,null,null,null,null,null,null,null,null,null,null,null,null,null,null,null,null,null,null,null,null,null,null,null,null,null,null,null,null,null,null,null,null,null,null,null,null,null,null,null,null,null,null,null,null,null,null,null,null,null,null,null,null,null,null,null,null,null,null,null,null,null,null,null,null,null,null,null,null,null,null,null,null,null,null,null,null,null,null,null,null,null,null,null,null,null,null,null,null,null,null,null,null,null,null,null,null,null,null,null,null,null,null,null,null,null,null,null,null,null,null,null,null,null,null,null,null,null,null,null,null,null,null,null,null,null,null,null,null,null,null,null,null,null,null,null,null,null,null,null,null,null,null,null,null,null,null,null,null,null,null,null,null,null,null,null,null,null,null,null,null,null,null,null,null,null,null,null,null,null,null,null,null,null,null,null,null,null,null,null,null,null,null,null,null,null,null,null,null,null,null,null,null,null,null,null,null,null,null,null,null,null,null,null,null,null,null,null,null,null,null,null,null,null,null,null,null,null,null,null,null,null,null,null,null,null,null,null,null,null,null,null,null,null,null,null,null,null,null,null,null,null,null,null,null,null,null,null,null,null,null,null,null,null,null,null,null,null,null,null,null,null,null,null,null,null,null,null,null,null,null,null,null,null,null,null,null,null,null,null,null,null,null,null,null,null,null,null,null,null,null,null,null,null,null,null,null,null,null,null,null,null,null,null,null,null,null,null,null,null,null,null,null,null,null,null,null,null,null,null,null,null,null,null,null,null,null,null,null,null,null,null,null,null,null,null,null,null,null,null,null,null,null,null,null,null,null,null,null,null,null,null,null,null,null,null,null,null,null,null,null,null,null,null,null,null,null,null,null,null,null,null,null,null,null,null,null,null,null,null,null,null,null,null,null,null,null,null,null,null,null,null,null,null,null,null,null,null,null,null,null,null,null,null,null,null,null,null,null,null,null,null,null,null,null,null,null,null,null,null,null,null,null,null,null,null,null,null,null,null,null,null,null,null,null,null,null,null,null,null,null,null,null,null,null,null,null,null,null,null,null,null,null,null,null,null,null,null,null,null,null,null,null,null,null,null,null,null,null,null,null,null,null,null,null,null,null,null,null,null,null,null,null,null,null,null,null,null,null,null,null,null,null,null,null,null,null,null,null,null,null,null,null,null,null,null,null,null,null,null,null,null,null,null,null,null,null,null,null,null,null,null,null,null,null,null,null,null,null,null,null,null,null,null,null,null,null,null,null,null,null,null,null,null,null,null,null,null,null,null,null,null,null,null,null,null,null,null,null,null,null,null,null,null,null,null,null,null,null,null,null,null,null,null,null,null,null,null,null,null,null,null,null,null,null,null,null,null,null,null,null,null,null,null,null,null,null,null,null,null,null,null,null,null,null,null,null,null,null,null,null,null,null,null,null,null,null,null,null,null,null,null,null,null,null,null,null,null,null,null,null,null,null,null,null,null,null,null,null,null,null,null,null,null,null,null,null,null,null,null,null,null,null,null,null,null,null,null,null,null,null,null,null,null,null,null,null,null,null,null,null,null,null,null,null,null,null,null,null,null,null,null,null,null,null,null,null,null,null,null,null,null,null,null,null,null,null,null,null,null,null,null,null,null,null,null,null,null,null,null,null,null,null,null,null,null,null,null,null,null,null,null,null,null,null,null,null,null,null,null,null,null,null,null,null,null,null,null,null,null,null,null,null,null,null,null,null,null,null,null,null,null,null,null,null,null,null,null,null,null,null,null,null,null,null,null,null,null,null,null,null,null,null,null,null,null,null,null,null,null,null,null,null,null,null,null,null,null,null,null,null,null,null,null,null,null,null,null,null,null,null,null,null,null,null,null,null,null,null,null,null,null,null,null,null,null,null,null,null,null,null,null,null,null,null,null,null,null,null,null,null,null,null,null,null,null,null,null,null,null,null,null,null,null,null,null,null,null,null,null,null,null,null,null,null,null,null,null,null,null,null,null,null,null,null,null,null,null,null,null,null,null,null,null,null,null,null,null,null,null,null,null,null,null,null,null,null,null,null,null,null,null,null,null,null,null,null,null,null,null,null,null,null,null,null,null,null,null,null,null,null,null,null,null,null,null,null,null,null,null,null,null,null,null,null,null,null,null,null,null,null,null,null,null,null,null,null,null,null,null,null,null,null,null,null,null,null,null,null,null,null,null,null,null,null,null,null,null,null,null,null,null,null,null,null,null,null,null,null,null,null,null,null,null,null,null,null,null,null,null,null,null,null,null,null,null,null,null,null,null,null,null,null,null,null,null,null,null,null,null,null,null,null,null,null,null,null,null,null,null,null,null,null,null,null,null,null,null,null,null,null,null,null,null,null,null,null,null,null,null,null,null,null,null,null,null,null,null,null,null,null,null,null,null,null,null,null,null,null,null,null,null,null,null,null,null,null,null,null,null,null,null,null,null,null,null,null,null,null,null,null,null,null,null,null,null,null,null,null,null,null,null,null,null,null,null,null,null,null,null,null,null,null,null,null,null,null,null,null,null,null,null,null,null,null,null,null,null,null,null,null,null,null,null,null,null,null,null,null,null,null,null,null,null,null,null,null,null,null,null,null,null,null,null,null,null,null,null,null,null,null,null,null,null,null,null,null,null,null,null,null,null,null,null,null,null,null,null,null,null,null,null,null,null,null,null,null,null,null,null,null,null,null,null,null,null,null,null,null,null,null,null,null,null,null,null,null,null,null,null,null,null,null,null,null,null,null,null,null,null,null,null,null,null,null,null,null,null,null,null,null,null,null,null,null,null,null,null,null,null,null,null,null,null,null,null,null,null,null,null,null,null,null,null,null,null,null,null,null,null,null,null,null,null,null,null,null,null,null,null,null,null,null,null,null,null,null,null,null,null,null,null,null,null,null,null,null,null,null,null,null,null,null,null,null,null,null,null,null,null,null,null,null,null,null,null,null,null,null,null,null,null,null,null,null,null,null,null,null,null,null,null,null,null,null,null,null,null,null,null,null,null,null,null,null,null,null,null,null,null,null,null,null,null,null,null,null,null,null,null,null,null,null,null,null,null,null,null,null,null,null,null,null,null,null,null,null,null,null,null,null,null,null,null,null,null,null,null,null,null,null,null,null,null,null,null,null,null,null,null,null,null,null,null,null,null,null,null,null,null,null,null,null,null,null,null,null,null,null,null,null,null,null,null,null,null,null,null,null,null,null,null,null,null,null,null,null,null,null,null,null,null,null,null,null,null,null,null,null,null,null,null,null,null,null,null,null,null,null,null,null,null,null,null,null,null,null,null,null,null,null,null,null,null,null,null,null,null,null,null,null,null,null,null,null,null,null,null,null,null,null,null,null,null,null,null,null,null,null,null,null,null,null,null,null,null,null,null,null,null,null,null,null,null,null,null,null,null,null,null,null,null,null,null,null,null,null,null,null,null,null,null,null,null,null,null,null,null,null,null,null,null,null,null,null,null,null,null,null,null,null,null,null,null,null,null,null,null,null,null,null,null,null,null,null,null,null,null,null,null,null,null,null,null,null,null,null,null,null,null,null,null,null,null,null,null,null,null,null,null,null,null,null,null,null,null,null,null,null,null,null,null,null,null,null,null,null,null,null,null,null,null,null,null,null,null,null,null,null,null,null,null,null,null,null,null,null,null,null,null,null,null,null,null,null,null,null,null,null,null,null,null,null,null,null,null,null,null,null,null,null,null,null,null,null,null,null,null,null,null,null,null,null,null,null,null,null,null,null,null,null,null,null,null,null,null,null,null,null,null,null,null,null,null,null,null,null,null,null,null,null,null,null,null,null,null,null,null,null,null,null,null,null,null,null,null,null,null,null,null,null,null,null,null,null,null,null,null,null,null,null,null,null,null,null,null,null,null,null,null,null,null,null,null,null,null,null,null,null,null,null,null,null,null,null,null,null,null,null,null,null,null,null,null,null,null,null,null,null,null,null,null,null,null,null,null,null,null,null,null,null,null,null,null,null,null,null,null,null,null,null,null,null,null,null,null,null,null,null,null,null,null,null,null,null,null,null,null,null,null,null,null,null,null,null,null,null,null,null,null,null,null,null,null,null,null,null,null,null,null,null,null,null,null,null,null,null,null,null,null,null,null,null,null,null,null,null,null,null,null,null,null,null,null,null,null,null,null,null,null,null,null,null,null,null,null,null,null,null,null,null,null,null,null,null,null,null,null,null,null,null,null,null,null,null,null,null,null,null,null,null,null,null,null,null,null,null,null,null,null,null,null,null,null,null,null,null,null,null,null,null,null,null,null,null,null,null,null,null,null,null,null,null,null,null,null,null,null,null,null,null,null,null,null,null,null,null,null,null,null,null,null,null,null,null,null,null,null,null,null,null,null,null,null,null,null,null,null,null,null,null,null,null,null,null,null,null,null,null,null,null,null,null,null,null,null,null,null,null,null,null,null,null,null,null,null,null,null,null,null,null,null,null,null,null,null,null,null,null,null,null,null,null,null,null,null,null,null,null,null,null,null,null,null,null,null,null,null,null,null,null,null,null,null,null,null,null,null,null,null,null,null,null,null,null,null,null,null,null,null,null,null,null,null,null,null,null,null,null,null,null,null,null,null,null,null,null,null,null,null,null,null,null,null,null,null,null,null,null,null,null,null,null,null,null,null,null,null,null,null,null,null,null,null,null,null,null,null,null,null,null,null,null,null,null,null,null,null,null,null,null,null,null,null,null,null,null,null,null,null,null,null,null,null,null,null,null,null,null,null,null,null,null,null,null,null,null,null,null,null,null,null,null,null,null,null,null,null,null,null,null,null,null,null,null,null,null,null,null,null,null,null,null,null,null,null,null,null,null,null,null,null,null,null,null,null,null,null,null,null,null,null,null,null,null,null,null,null,null,null,null,null,null,null,null,null,null,null,null,null,null,null,null,null,null,null,null,null,null,null,null,null,null,null,null,null,null,null,null,null,null,null,null,null,null,null,null,null,null,null,null,null,null,null,null,null,null,null,null,null,null,null,null,null,null,null,null,null,null,null,null,null,null,null,null,null,null,null,null,null,null,null,null,null,null,null,null,null,null,null,null,null,null,null,null,null,null,null,null,null,null,null,null,null,null,null,null,null,null,null,null,null,null,null,null,null,null,null,null,null,null,null,null,null,null,null,null,null,null,null,null,null,null,null,null,null,null,null,null,null,null,null,null,null,null,null,null,null,null,null,null,null,null,null,null,null,null,null,null,null,null,null,null,null,null,null,null,null,null,null,null,null,null,null,null,null,null,null,null,null,null,null,null,null,null,null,null,null,null,null,null,null,null,null,null,null,null,null,null,null,null,null,null,null,null,null,null,null,null,null,null,null,null,null,null,null,null,null,null,null,null,null,null,null,null,null,null,null,null,null,null,null,null,null,null,null,null,null,null,null,null,null,null,null,null,null,null,null,null,null,null,null,null,null,null,null,null,null,null,null,null,null,null,null,null,null,null,null,null,null,null,null,null,null,null,null,null,null,null,null,null,null,null,null,null,null,null,null,null,null,null,null,null,null,null,null,null,null,null,null,null,null,null,null,null,null,null,null,null,null,null,null,null,null,null,null,null,null,null,null,null,null,null,null,null,null,null,null,null,null,null,null,null,null,null,null,null,null,null,null,null,null,null,null,null,null,null,null,null,null,null,null,null,null,null,null,null,null,null,null,null,null,null,null,null,null,null,null,null,null,null,null,null,null,null,null,null,null,null,null,null,null,null,null,null,null,null,null,null,null,null,null,null,null,null,null,null,null,null,null,null,null,null,null,null,null,null,null,null,null,null,null,null,null,null,null,null,null,null,null,null,null,null,null,null,null,null,null,null,null,null,null,null,null,null,null,null,null,null,null,null,null,null,null,null,null,null,null,null,null,null,null,null,null,null,null,null,null,null,null,null,null,null,null,null,null,null,null,null,null,null,null,null,null,null,null,null,null,null,null,null,null,null,null,null,null,null,null,null,null,null,null,null,null,null,null,null,null,null,null,null,null,null,null,null,null,null,null,null,null,null,null,null,null,null,null,null,null,null,null,null,null,null,null,null,null,null,null,null,null,null,null,null,null,null,null,null,null,null,null,null,null,null,null,null,null,null,null,null,null,null,null,null,null,null,null,null,null,null,null,null,null,null,null,null,null,null,null,null,null,null,null,null,null,null,null,null,null,null,null,null,null,null,null,null,null,null,null,null,null,null,null,null,null,null,null,null,null,null,null,null,null,null,null,null,null,null,null,null,null,null,null,null,null,null,null,null,null,null,null,null,null,null,null,null,null,null,null,null,null,null,null,null,null,null,null,null,null,null,null,null,null,null,null,null,null,null,null,null,null,null,null,null,null,null,null,null,null,null,null,null,null,null,null,null,null,null,null,null,null,null,null,null,null,null,null,null,null,null,null,null,null,null,null,null,null,null,null,null,null,null,null,null,null,null,null,null,null,null,null,null,null,null,null,null,null,null,null,null,null,null,null,null,null,null,null,null,null,null,null,null,null,null,null,null,null,null,null,null,null,null,null,null,null,null,null,null,null,null,null,null,null,null,null,null,"NOK"]
[null,null,{"$f":"KPICreate!A4","v":2020},{"$f":"Home!H16","v":"SAMPEL CORPORATION LTD"},null,null,null,null,null,null,null,null,{"$f":"KPICreate!A4","v":2020},{"$f":"Home!H16","v":"SAMPEL CORPORATION LTD"},null,null,null,null,null,null,null,null,null,null,null,null,null,null,null,null,null,null,null,null,null,null,null,null,null,null,null,null,null,null,null,null,null,null,null,null,"Authorized = ",{"$f":"sample!KR20","v":false},{"$f":"LEN(BA1)-3","v":2},{"$f":"ROW(INDIRECT($BA$1))","v":20}]
[null,null,null,null,null,null,null,null,null,null,null,null,null,null,null,null,null,null,null,null,null,null,null,null,null,null,null,null,null,null,null,null,null,null,null,null,null,null,null,null,null,null,null,null,null,null,null,null,null,null,null,"Row & Col",{"$f":"IF(LEFT(BA1,2)=\"$B\",RIGHT(BA1,BA2),BA6)","v":"20"},{"$f":"COLUMN(INDIRECT($BA$1))","v":2},{"$f":"MATCH($D$9,sample!$LW$1:$LW$1001,0)","v":873},null,null,null,null,null,null,null,null,null,null,null,null,null,null,"Row & Col",{"$f":"IF(LEFT(BA1,2)=\"$L\",RIGHT(BA1,BA2),BS6)","v":19},{"$f":"COLUMN(INDIRECT($BA$1))","v":2},{"$f":"MATCH($N$9,sample!$LW$1:$LW$1001,0)","v":873}]
[null,null,"No. Kad:",{"$f":"IF($BA$16,$BA$10,INDEX(BB1:BB1536,$BA$3))","v":"4320AB0G0023"},null,"Tarikh Keluar:",{"$f":"IF($BA$16,TODAY(),INDEX(BC1:BC1536,$BA$3))","v":"2020-10-21"},null,null,null,null,null,"No. Kad:",{"$f":"IF($BS$16,$BS$10,INDEX(BT1:BT1536,$BS$3))","v":"3320AC0Y0008"},null,"Tarikh Keluar:",{"$f":"IF($BS$16,TODAY(),INDEX(BU1:BU1536,$BS$3))","v":"2020-08-11"},null,null,null,null,null,null,null,null,null,null,null,null,null,null,null,null,null,null,null,null,null,null,null,null,null,null,null,null,null,null,null,null,null,null,"Last Iss No",{"$f":"BA6-36","v":-16},null,null,null,null,null,null,null,null,null,null,null,null,null,null,null,null,"Last Iss No",{"$f":"BS6-36","v":-17}]
[null,null,"Dikeluar oleh:",{"$f":"IF($BA$16,Home!$Z$1,INDEX(BD1:BD1536,$BA$3))","v":"AB0"},{"$f":"IF($BA$16,Home!$H$6,INDEX(BE1:BE1536,$BA$3))","v":"BASIRAH BASIR"},null,null,null,null,null,null,null,"Dikeluar oleh:",{"$f":"IF($BS$16,Home!$Z$1,INDEX(BV1:BV1536,$BS$3))","v":"AC0"},{"$f":"IF($BS$16,Home!$H$6,INDEX(BW1:BW1536,$BS$3))","v":"CHEWAN CHEMAT"},null,null,null,null,null,null,null,null,null,null,null,null,null,null,null,null,null,null,null,null,null,null,null,null,null,null,null,null,null,null,null,null,null,null,null,null,"Iss Blanks",{"$f":"COUNTIF($C$19:$C$33,\"\")","v":13},null,null,null,null,null,null,null,null,null,null,null,null,null,null,null,null,"Iss Blanks",{"$f":"COUNTIF($M$19:$M$33,\"\")","v":14}]
[null,null,"Jawatan:",{"$f":"IF($BA$16,Home!$H$10,INDEX(BF1:BF1536,$BA$3))","v":"VP KEWANGAN"},null,null,null,null,"O",null,null,null,"Jawatan:",{"$f":"IF($BS$16,Home!$H$10,INDEX(BX1:BX1536,$BS$3))","v":"VP OPERASI PERNIAGAAN"},null,null,null,null,"O",null,null,null,null,null,null,null,null,null,null,null,null,null,null,null,null,null,null,null,null,null,null,null,null,null,null,null,null,null,null,null,null,"Last Iss Row",{"$f":"33-BA5","v":20},null,null,null,null,null,null,null,null,null,null,null,null,null,null,null,null,"Last Iss Row",{"$f":"33-BS5","v":19}]
[null,null,"Bahagian:",{"$f":"IF($BA$16,Home!$H$12,INDEX(BG1:BG1536,$BA$3))","v":"KEWANGAN"},null,null,null,null,null,null,null,null,"Bahagian:",{"$f":"IF($BS$16,Home!$H$12,INDEX(BY1:BY1536,$BS$3))","v":"OPERASI PERNIAGAAN"},null,null,null,null,null,null,null,null,null,null,null,null,null,null,null,null,null,null,null,null,null,null,null,null,null,null,null,null,null,null,null,null,null,null,null,null,null,"New Iss Row",{"$f":"IF(BA5=1500,37,BA6+36)","v":56},null,null,null,null,null,null,null,null,null,null,null,null,null,null,null,null,"New Iss Row",{"$f":"IF(BS5=1500,37,BS6+1)","v":20}]
[null,null,"Diberi kepada:",null,null,null,null,null,null,null,null,null,"Diberi kepada:",null,null,null,null,null,null,null,null,null,null,null,null,null,null,null,null,null,null,null,null,null,null,null,null,null,null,null,null,null,null,null,null,null,null,null,null,null,null,"Issue Counter",0,null,null,null,null,null,null,null,null,null,null,null,null,null,null,null,null,"Issue Counter",0]
[null,null,"ID Pengguna:","DM1",{"$f":"IFERROR(IF($BA$16,INDEX(sample!LX1:LX1001,$BC$3),INDEX(BI1:BI1536,$BA$3)),\"\")","v":"ADAM NAUFAL HASMADI"},null,null,null,null,null,null,null,"ID Pengguna:","DM1",{"$f":"IFERROR(IF($BS$16,INDEX(sample!LX1:LX1001,$BU$3),INDEX(CA1:CA1536,$BS$3)),\"\")","v":"ADAM NAUFAL HASMADI"},null,null,null,null,null,null,null,null,null,null,null,null,null,null,null,null,null,null,null,null,null,null,null,null,null,null,null,null,null,null,null,null,null,null,null,null,"Next Issue",{"$f":"TEXT(BA8+1,\"0000\")","v":"0001"},null,null,null,null,null,null,null,null,null,null,null,null,null,null,null,null,"Next Issue",{"$f":"TEXT(BS8+1,\"0000\")","v":"0001"}]
[null,null,"Jawatan:",{"$f":"IFERROR(IF($BA$16,INDEX(sample!LY1:LY1001,$BC$3),INDEX(BJ1:BJ1536,$BA$3)),\"\")","v":"PEN. KETUA PEMASARAN DAN PERKHIDMATAN"},null,null,null,null,null,null,null,null,"Jawatan:",{"$f":"IFERROR(IF($BS$16,INDEX(sample!LY1:LY1001,$BU$3),INDEX(CB1:CB1536,$BS$3)),\"\")","v":"PEN. KETUA PEMASARAN DAN PERKHIDMATAN"},null,null,null,null,null,null,null,null,null,null,null,null,null,null,null,null,null,null,null,null,null,null,null,null,null,null,null,null,null,null,null,null,null,null,null,null,null,"Next Card No.",{"$f":"CONCATENATE(S17,BH1,Home!Z1,\"G\",BA9)","v":"5320DM1G0001"},null,null,null,null,null,null,null,null,null,null,null,null,null,null,null,null,"Next Card No.",{"$f":"CONCATENATE(S17,BH1,Home!Z1,\"Y\",BS9)","v":"5320DM1Y0001"}]
[null,null,"Bahagian:",{"$f":"IFERROR(IF($BA$16,INDEX(sample!LZ1:LZ1001,$BC$3),INDEX(BK1:BK1536,$BA$3)),\"\")","v":"PEMASARAN DAN PERKHIDMATAN"},null,null,null,null,"Mata:",null,null,null,"Bahagian:",{"$f":"IFERROR(IF($BS$16,INDEX(sample!LZ1:LZ1001,$BU$3),INDEX(CC1:CC1536,$BS$3)),\"\")","v":"PEMASARAN DAN PERKHIDMATAN"},null,null,null,null,"Mata:",null,null,null,null,null,null,null,null,null,null,null,null,null,null,null,null,null,null,null,null,null,null,null,null,null,null,null,null,null,null,null,null,"Rec Blanks",{"$f":"COUNTBLANK($D$19:$D$33)","v":13},null,null,null,null,null,null,null,null,null,null,null,null,null,null,null,null,"Rec Blanks",{"$f":"COUNTBLANK($N$19:$N$33)","v":14}]
[null,null,"No. Merit:","M10",{"$f":"IFERROR(IF($BA$16,INDEX(sample!G345:G374,$BC$12),INDEX(BM1:BM1536,$BA$3)),\"\")","v":"Menyumbang usaha kerja yang signifikan melebihi dari keperluan Bahagian/ Unit/ JD sendiri"},null,null,null,{"$f":"IFERROR(IF($BA$16,INDEX(sample!H345:H374,$BC$12),INDEX(BN1:BN1536,$BA$3)),\"\")","v":2},null,null,null,"No. DeMerit:","D08",{"$f":"IFERROR(IF($BS$16,INDEX(sample!K345:K374,$BU$12),INDEX(CE1:CE1536,$BS$3)),\"\")","v":"Tidak hadir ke mesyuarat dalaman berjadual tanpa notis dan tanpa alasan munasabah"},null,null,null,{"$f":"IFERROR(IF($BS$16,INDEX(sample!L345:L374,$BU$12),INDEX(CF1:CF1536,$BS$3)),\"\")","v":-4},null,null,null,null,null,null,null,null,null,null,null,null,null,null,null,null,null,null,null,null,null,null,null,null,null,null,null,null,null,null,null,null,"Last Rec Row",{"$f":"15-BA11+18","v":20},null,{"$f":"MATCH($D$12,sample!$F$345:$F$374,0)","v":10},null,null,null,null,null,null,null,null,null,null,null,null,null,null,"Last Rec Row",{"$f":"15-BS11+18","v":19},null,{"$f":"MATCH($N$12,sample!$J$345:$J$374,0)","v":8}]
[null,null,"Catatan Tambahan:",null,null,null,null,"Tarikh Berlaku:","2020-10-19",null,null,null,"Catatan Tambahan:",null,null,null,null,"Tarikh Berlaku:","2020-08-09",null,null,null,null,null,null,null,null,null,null,null,null,null,null,null,null,null,null,null,null,null,null,null,null,null,null,null,null,null,null,null,null,"New Rec Row",{"$f":"BA12+1","v":21},null,null,null,null,null,null,null,null,null,null,null,null,null,null,null,null,"New Rec Row",{"$f":"BS12+1","v":20}]
[null,null,"Membantu Divisyen Kewangan untuk memulih hutang lapuk daripada klien ABCD Sdn Bhd secara mempamirkan pengurusan pelanggan yang baik.",null,null,null,null,null,null,null,null,null,"Tidak hadir ke Mesyuarat Operasi Perkhidmatan No. 6/20 tanpa notis.",null,null,null,null,null,null,null,null,null,null,null,null,null,null,null,null,null,null,null,null,null,null,null,null,null,null,null,null,null,null,null,null,null,null,null,null,null,null,"Start Row",{"$f":"BA6","v":20}]
[]
[null,null,null,"VIEW MODE ONLY",null,null,null,null,null,null,null,null,null,"VIEW MODE ONLY",null,null,null,null,null,null,null,null,null,null,null,null,null,null,null,null,null,null,null,null,null,null,null,null,null,null,null,null,null,null,null,null,null,null,null,null,null,null,false,null,null,null,null,null,null,null,null,null,null,null,null,null,null,null,null,null,false]
["Tahniah! Anda telah menerima Green Card yang berikut:",null,null,null,null,null,null,"Mata Agg Semasa:",{"$f":"INDEX(sample!BN47:DM47,,$U$17)","v":60},null,"Amaran! Anda telah menerima Yellow Card yang berikut:",null,null,null,null,null,null,"Minggu Ini:",{"$f":"'Wk Input'!J2","v":53},null,{"$f":"IF(S17<1,1,IF(S17>52,52,S17))","v":52}]
["No.",null,"No. Kad","Tarikh Keluar","No. Merit","Deskripsi:",null,null,"Mata:",null,"No.",null,"No. Kad","Tarikh Keluar","No. DeMerit","Deskripsi:",null,null,"Mata:",null,null,null,null,null,null,null,null,null,null,null,null,null,null,null,null,null,null,null,null,null,null,null,null,null,null,null,null,null,null,null,null,null,"No.","Card No.","Issued Date.","Issued By ID","Issued By Name","Position:","Department:","Issued To ID","Issued To Name","Position:","Department:","Merit No.","Description:","Points:","DoDeed:","Remarks:","Status:",null,"No.","Card No.","Issued Date.","Issued By ID","Issued By Name","Position:","Department:","Issued To ID","Issued To Name","Position:","Department:","DeMerit No.","Description:","Points:","DoDeed:","Remarks:","Status:"]
[1,null,{"$f":"IF(BB19=\"\",\"\",BB19)","v":"0320AA0G0001"},{"$f":"IF(BC19=\"\",\"\",BC19)","v":"2020-01-14"},{"$f":"IF(BL19=\"\",\"\",BL19)","v":"M03"},{"$f":"IF(BM19=\"\",\"\",BM19)","v":"Menerima pujian/pengiktirafan bertulis dari klien"},{"$f":"IF(BJ19=\"\",\"\",BJ19)","v":"PEN. KETUA PEMASARAN DAN PERKHIDMATAN"},"PEMASARAN DAN PERKHIDMATAN",{"$f":"IF(BN19=\"\",\"\",BN19)","v":8},null,1,null,{"$f":"IF(BT19=\"\",\"\",BT19)","v":"3320AC0Y0008"},{"$f":"IF(BU19=\"\",\"\",BU19)","v":"2020-08-11"},{"$f":"IF(CD19=\"\",\"\",CD19)","v":"D08"},{"$f":"IF(CE19=\"\",\"\",CE19)","v":"Tidak hadir ke mesyuarat dalaman berjadual tanpa notis dan tanpa alasan munasabah"},{"$f":"IF(CB19=\"\",\"\",CB19)","v":"PEN. KETUA PEMASARAN DAN PERKHIDMATAN"},"PEMASARAN DAN PERKHIDMATAN",{"$f":"IF(CF19=\"\",\"\",CF19)","v":-4},null,null,null,null,null,null,null,null,null,null,null,null,null,null,null,null,null,null,null,null,null,null,null,null,null,null,null,null,null,null,null,null,null,null,"0320AA0G0001",43844,"AA0","AMRAN ADAMS","MANAGING DIRECTOR","CEO OFFICE","DM1","ADAM NAUFAL HASMADI","PEN. KETUA PEMASARAN DAN PERKHIDMATAN","PEMASARAN DAN PERKHIDMATAN","M03","Menerima pujian/pengiktirafan bertulis dari klien",8,43842,"Surat penghargaan dari Presiden Persatuan Penduduk Taman Aman Jaya","Issued",null,null,"3320AC0Y0008",44054,"AC0","CHEWAN CHEMAT","VP OPERASI PERNIAGAAN","OPERASI PERNIAGAAN","DM1","ADAM NAUFAL HASMADI","PEN. KETUA PEMASARAN DAN PERKHIDMATAN","PEMASARAN DAN PERKHIDMATAN","D08","Tidak hadir ke mesyuarat dalaman berjadual tanpa notis dan tanpa alasan munasabah",-4,44052,"Tidak hadir ke Mesyuarat Operasi Perkhidmatan No. 6/20 tanpa notis.","Issued"]
[2,null,{"$f":"IF(BB20=\"\",\"\",BB20)","v":"4320AB0G0023"},"2020-10-21",{"$f":"IF(BL20=\"\",\"\",BL20)","v":"M10"},"Menyumbang usaha kerja yang signifikan melebihi dari keperluan Bahagian/ Unit/ JD sendiri","PEN. KETUA PEMASARAN DAN PERKHIDMATAN","PEMASARAN DAN PERKHIDMATAN",{"$f":"IF(BN20=\"\",\"\",BN20)","v":2},null,2,null,{"$f":"IF(BT20=\"\",\"\",BT20)","v":""},"",{"$f":"IF(CD20=\"\",\"\",CD20)","v":""},"","","",{"$f":"IF(CF20=\"\",\"\",CF20)","v":""},null,null,null,null,null,null,null,null,null,null,null,null,null,null,null,null,null,null,null,null,null,null,null,null,null,null,null,null,null,null,null,null,null,null,"4320AB0G0023",44125,"AB0","BASIRAH BASIR","VP KEWANGAN","KEWANGAN","DM1","ADAM NAUFAL HASMADI","PEN. KETUA PEMASARAN DAN PERKHIDMATAN","PEMASARAN DAN PERKHIDMATAN","M10","Menyumbang usaha kerja yang signifikan melebihi dari keperluan Bahagian/ Unit/ JD sendiri",2,44123,"Membantu Divisyen Kewangan untuk memulih hutang lapuk daripada klien ABCD Sdn Bhd secara mempamirkan pengurusan pelanggan yang baik.","Issued",null,null,"","","","","","","","","","","","","","","",""]
[3,null,"","","","","","","",null,3,null,"","","","","","","",null,null,null,null,null,null,null,null,null,null,null,null,null,null,null,null,null,null,null,null,null,null,null,null,null,null,null,null,null,null,null,null,null,null,"","","","","","","","","","","","","","","","",null,null,"","","","","","","","","","","","","","","",""]
[4,null,"","","",{"$f":"IF(BM22=\"\",\"\",BM22)","v":""},"","","",null,4,null,"","","","","","","",null,null,null,null,null,null,null,null,null,null,null,null,null,null,null,null,null,null,null,null,null,null,null,null,null,null,null,null,null,null,null,null,null,null,"","","","","","","","","","","","","","","","",null,null,"","","","","","","","","","","","","","","",""]
[5,null,"","","","","","","",null,5,null,"","","","","","","",null,null,null,null,null,null,null,null,null,null,null,null,null,null,null,null,null,null,null,null,null,null,null,null,null,null,null,null,null,null,null,null,null,null,"","","","","","","","","","","","","","","","",null,null,"","","","","","","","","","","","","","","",""]
[6,null,"","","","","","","",null,6,null,"","","","","","","",null,null,null,null,null,null,null,null,null,null,null,null,null,null,null,null,null,null,null,null,null,null,null,null,null,null,null,null,null,null,null,null,null,null,"","","","","","","","","","","","","","","","",null,null,"","","","","","","","","","","","","","","",""]
[7,null,"","","","","","","",null,7,null,"","","","","","","",null,null,null,null,null,null,null,null,null,null,null,null,null,null,null,null,null,null,null,null,null,null,null,null,null,null,null,null,null,null,null,null,null,null,"","","","","","","","","","","","","","","","",null,null,"","","","","","","","","","","","","","","",""]
[8,null,"","","","","","","",null,8,null,"","","","","","","",null,null,null,null,null,null,null,null,null,null,null,null,null,null,null,null,null,null,null,null,null,null,null,null,null,null,null,null,null,null,null,null,null,null,"","","","","","","","","","","","","","","","",null,null,"","","","","","","","","","","","","","","",""]
[9,null,"","","","","","","",null,9,null,"","","","","","","",null,null,null,null,null,null,null,null,null,null,null,null,null,null,null,null,null,null,null,null,null,null,null,null,null,null,null,null,null,null,null,null,null,null,"","","","","","","","","","","","","","","","",null,null,"","","","","","","","","","","","","","","",""]
[10,null,"","","","","","","",null,10,null,"","","","","","","",null,null,null,null,null,null,null,null,null,null,null,null,null,null,null,null,null,null,null,null,null,null,null,null,null,null,null,null,null,null,null,null,null,null,"","","","","","","","","","","","","","","","",null,null,"","","","","","","","","","","","","","","",""]
[11,null,"","","","","","","",null,11,null,"","","","","","","",null,null,null,null,null,null,null,null,null,null,null,null,null,null,null,null,null,null,null,null,null,null,null,null,null,null,null,null,null,null,null,null,null,null,"","","","","","","","","","","","","","","","",null,null,"","","","","","","","","","","","","","","",""]
[12,null,"","","","","","","",null,12,null,"","","","","","","",null,null,null,null,null,null,null,null,null,null,null,null,null,null,null,null,null,null,null,null,null,null,null,null,null,null,null,null,null,null,null,null,null,null,"","","","","","","","","","","","","","","","",null,null,"","","","","","","","","","","","","","","",""]
[13,null,"","","","","","","",null,13,null,"","","","","","","",null,null,null,null,null,null,null,null,null,null,null,null,null,null,null,null,null,null,null,null,null,null,null,null,null,null,null,null,null,null,null,null,null,null,"","","","","","","","","","","","","","","","",null,null,"","","","","","","","","","","","","","","",""]
[14,null,"","","","","","","",null,14,null,"","","","","","","",null,null,null,null,null,null,null,null,null,null,null,null,null,null,null,null,null,null,null,null,null,null,null,null,null,null,null,null,null,null,null,null,null,null,"","","","","","","","","","","","","","","","",null,null,"","","","","","","","","","","","","","","",""]
[15,null,"","","","","","","",null,15,null,"","","","","","","",null,null,null,null,null,null,null,null,null,null,null,null,null,null,null,null,null,null,null,null,null,null,null,null,null,null,null,null,null,null,null,null,null,null,"","","","","","","","","","","","","","","","",null,null,"","","","","","","","","","","","","","","",""]
[]
[null,null,"A form by Leadersense Consulting & Systems Sdn Bhd @2020",null,null,null,{"$f":"CONCATENATE(Home!#REF!,\"GCard.gif\")","v":{"$error":"#REF!"}},{"$f":"CONCATENATE(Home!#REF!,\"YCard.gif\")","v":{"$error":"#REF!"}}]
[null,null,null,null,null,null,null,null,null,null,null,null,null,null,null,null,null,null,null,null,null,null,null,null,null,null,null,null,null,null,null,null,null,null,null,null,null,null,null,null,null,null,null,null,null,"No.","User ID:","User Name:","Position:","Department:",null,null,{"$f":"BA8","v":0},"Card No.","Issued Date.","Issued By ID","Issued By Name","Position:","Department:","Issued To ID","Issued To Name","Position:","Department:","Merit No.","Description:","Points:","DoDeed:","Remarks:","Status:",null,{"$f":"BS8","v":0},"Card No.","Issued Date.","Issued By ID","Issued By Name","Position:","Department:","Issued To ID","Issued To Name","Position:","Department:","DeMerit No.","Description:","Points:","DoDeed:","Remarks:","Status:"]
[null,null,null,null,null,null,null,null,null,null,null,null,null,null,null,null,null,null,null,null,null,null,null,null,null,null,null,null,null,null,null,null,null,null,null,null,null,null,null,null,null,null,null,null,null,null,null,null,null,null,null,null,1," "," "," "," "," "," "," "," "," "," "," "," "," "," "," ",null,null,1," "," "," "," "," "," "," "," "," "," "," "," "," "," "," "]
[null,null,null,null,null,null,null,null,null,null,null,null,null,null,null,null,null,null,null,null,null,null,null,null,null,null,null,null,null,null,null,null,null,null,null,null,null,null,null,null,null,null,null,null,null,null,null,null,null,null,null,null,2," "," "," "," "," "," "," "," "," "," "," "," "," "," "," ",null,null,2," "," "," "," "," "," "," "," "," "," "," "," "," "," "," "]
[null,null,null,null,null,null,null,null,null,null,null,null,null,null,null,null,null,null,null,null,null,null,null,null,null,null,null,null,null,null,null,null,null,null,null,null,null,null,null,null,null,null,null,null,null,null,null,null,null,null,null,null,3," "," "," "," "," "," "," "," "," "," "," "," "," "," "," ",null,null,3," "," "," "," "," "," "," "," "," "," "," "," "," "," "," "]
[null,null,null,null,null,null,null,null,null,null,null,null,null,null,null,null,null,null,null,null,null,null,null,null,null,null,null,null,null,null,null,null,null,null,null,null,null,null,null,null,null,null,null,null,null,null,null,null,null,null,null,null,4," "," "," "," "," "," "," "," "," "," "," "," "," "," "," ",null,null,4," "," "," "," "," "," "," "," "," "," "," "," "," "," "," "]
[null,null,null,null,null,null,null,null,null,null,null,null,null,null,null,null,null,null,null,null,null,null,null,null,null,null,null,null,null,null,null,null,null,null,null,null,null,null,null,null,null,null,null,null,null,null,null,null,null,null,null,null,5," "," "," "," "," "," "," "," "," "," "," "," "," "," "," ",null,null,5," "," "," "," "," "," "," "," "," "," "," "," "," "," "," "]
[null,null,null,null,null,null,null,null,null,null,null,null,null,null,null,null,null,null,null,null,null,null,null,null,null,null,null,null,null,null,null,null,null,null,null,null,null,null,null,null,null,null,null,null,null,null,null,null,null,null,null,null,6," "," "," "," "," "," "," "," "," "," "," "," "," "," "," ",null,null,6," "," "," "," "," "," "," "," "," "," "," "," "," "," "," "]
[null,null,null,null,null,null,null,null,null,null,null,null,null,null,null,null,null,null,null,null,null,null,null,null,null,null,null,null,null,null,null,null,null,null,null,null,null,null,null,null,null,null,null,null,null,null,null,null,null,null,null,null,7," "," "," "," "," "," "," "," "," "," "," "," "," "," "," ",null,null,7," "," "," "," "," "," "," "," "," "," "," "," "," "," "," "]
[null,null,null,null,null,null,null,null,null,null,null,null,null,null,null,null,null,null,null,null,null,null,null,null,null,null,null,null,null,null,null,null,null,null,null,null,null,null,null,null,null,null,null,null,null,null,null,null,null,null,null,null,8," "," "," "," "," "," "," "," "," "," "," "," "," "," "," ",null,null,8," "," "," "," "," "," "," "," "," "," "," "," "," "," "," "]
[null,null,null,null,null,null,null,null,null,null,null,null,null,null,null,null,null,null,null,null,null,null,null,null,null,null,null,null,null,null,null,null,null,null,null,null,null,null,null,null,null,null,null,null,null,null,null,null,null,null,null,null,9," "," "," "," "," "," "," "," "," "," "," "," "," "," "," ",null,null,9," "," "," "," "," "," "," "," "," "," "," "," "," "," "," "]
[null,null,null,null,null,null,null,null,null,null,null,null,null,null,null,null,null,null,null,null,null,null,null,null,null,null,null,null,null,null,null,null,null,null,null,null,null,null,null,null,null,null,null,null,null,null,null,null,null,null,null,null,10," "," "," "," "," "," "," "," "," "," "," "," "," "," "," ",null,null,10," "," "," "," "," "," "," "," "," "," "," "," "," "," "," "]
[null,null,null,null,null,null,null,null,null,null,null,null,null,null,null,null,null,null,null,null,null,null,null,null,null,null,null,null,null,null,null,null,null,null,null,null,null,null,null,null,null,null,null,null,null,null,null,null,null,null,null,null,11," "," "," "," "," "," "," "," "," "," "," "," "," "," "," ",null,null,11," "," "," "," "," "," "," "," "," "," "," "," "," "," "," "]
[null,null,null,null,null,null,null,null,null,null,null,null,null,null,null,null,null,null,null,null,null,null,null,null,null,null,null,null,null,null,null,null,null,null,null,null,null,null,null,null,null,null,null,null,null,null,null,null,null,null,null,null,12," "," "," "," "," "," "," "," "," "," "," "," "," "," "," ",null,null,12," "," "," "," "," "," "," "," "," "," "," "," "," "," "," "]
[null,null,null,null,null,null,null,null,null,null,null,null,null,null,null,null,null,null,null,null,null,null,null,null,null,null,null,null,null,null,null,null,null,null,null,null,null,null,null,null,null,null,null,null,null,null,null,null,null,null,null,null,13," "," "," "," "," "," "," "," "," "," "," "," "," "," "," ",null,null,13," "," "," "," "," "," "," "," "," "," "," "," "," "," "," "]
[null,null,null,null,null,null,null,null,null,null,null,null,null,null,null,null,null,null,null,null,null,null,null,null,null,null,null,null,null,null,null,null,null,null,null,null,null,null,null,null,null,null,null,null,null,null,null,null,null,null,null,null,14," "," "," "," "," "," "," "," "," "," "," "," "," "," "," ",null,null,14," "," "," "," "," "," "," "," "," "," "," "," "," "," "," "]
[null,null,null,null,null,null,null,null,null,null,null,null,null,null,null,null,null,null,null,null,null,null,null,null,null,null,null,null,null,null,null,null,null,null,null,null,null,null,null,null,null,null,null,null,null,null,null,null,null,null,null,null,15," "," "," "," "," "," "," "," "," "," "," "," "," "," "," ",null,null,15," "," "," "," "," "," "," "," "," "," "," "," "," "," "," "]
[null,null,null,null,null,null,null,null,null,null,null,null,null,null,null,null,null,null,null,null,null,null,null,null,null,null,null,null,null,null,null,null,null,null,null,null,null,null,null,null,null,null,null,null,null,null,null,null,null,null,null,null,16," "," "," "," "," "," "," "," "," "," "," "," "," "," "," ",null,null,16," "," "," "," "," "," "," "," "," "," "," "," "," "," "," "]
[null,null,null,null,null,null,null,null,null,null,null,null,null,null,null,null,null,null,null,null,null,null,null,null,null,null,null,null,null,null,null,null,null,null,null,null,null,null,null,null,null,null,null,null,null,null,null,null,null,null,null,null,17," "," "," "," "," "," "," "," "," "," "," "," "," "," "," ",null,null,17," "," "," "," "," "," "," "," "," "," "," "," "," "," "," "]
[null,null,null,null,null,null,null,null,null,null,null,null,null,null,null,null,null,null,null,null,null,null,null,null,null,null,null,null,null,null,null,null,null,null,null,null,null,null,null,null,null,null,null,null,null,null,null,null,null,null,null,null,18," "," "," "," "," "," "," "," "," "," "," "," "," "," "," ",null,null,18," "," "," "," "," "," "," "," "," "," "," "," "," "," "," "]
[null,null,null,null,null,null,null,null,null,null,null,null,null,null,null,null,null,null,null,null,null,null,null,null,null,null,null,null,null,null,null,null,null,null,null,null,null,null,null,null,null,null,null,null,null,null,null,null,null,null,null,null,19," "," "," "," "," "," "," "," "," "," "," "," "," "," "," ",null,null,19," "," "," "," "," "," "," "," "," "," "," "," "," "," "," "]
[null,null,null,null,null,null,null,null,null,null,null,null,null,null,null,null,null,null,null,null,null,null,null,null,null,null,null,null,null,null,null,null,null,null,null,null,null,null,null,null,null,null,null,null,null,null,null,null,null,null,null,null,20," "," "," "," "," "," "," "," "," "," "," "," "," "," "," ",null,null,20," "," "," "," "," "," "," "," "," "," "," "," "," "," "," "]
[null,null,null,null,null,null,null,null,null,null,null,null,null,null,null,null,null,null,null,null,null,null,null,null,null,null,null,null,null,null,null,null,null,null,null,null,null,null,null,null,null,null,null,null,null,null,null,null,null,null,null,null,21," "," "," "," "," "," "," "," "," "," "," "," "," "," "," ",null,null,21," "," "," "," "," "," "," "," "," "," "," "," "," "," "," "]
[null,null,null,null,null,null,null,null,null,null,null,null,null,null,null,null,null,null,null,null,null,null,null,null,null,null,null,null,null,null,null,null,null,null,null,null,null,null,null,null,null,null,null,null,null,null,null,null,null,null,null,null,22," "," "," "," "," "," "," "," "," "," "," "," "," "," "," ",null,null,22," "," "," "," "," "," "," "," "," "," "," "," "," "," "," "]
[null,null,null,null,null,null,null,null,null,null,null,null,null,null,null,null,null,null,null,null,null,null,null,null,null,null,null,null,null,null,null,null,null,null,null,null,null,null,null,null,null,null,null,null,null,null,null,null,null,null,null,null,23," "," "," "," "," "," "," "," "," "," "," "," "," "," "," ",null,null,23," "," "," "," "," "," "," "," "," "," "," "," "," "," "," "]
[null,null,null,null,null,null,null,null,null,null,null,null,null,null,null,null,null,null,null,null,null,null,null,null,null,null,null,null,null,null,null,null,null,null,null,null,null,null,null,null,null,null,null,null,null,null,null,null,null,null,null,null,24," "," "," "," "," "," "," "," "," "," "," "," "," "," "," ",null,null,24," "," "," "," "," "," "," "," "," "," "," "," "," "," "," "]
[null,null,null,null,null,null,null,null,null,null,null,null,null,null,null,null,null,null,null,null,null,null,null,null,null,null,null,null,null,null,null,null,null,null,null,null,null,null,null,null,null,null,null,null,null,null,null,null,null,null,null,null,25," "," "," "," "," "," "," "," "," "," "," "," "," "," "," ",null,null,25," "," "," "," "," "," "," "," "," "," "," "," "," "," "," "]
[null,null,null,null,null,null,null,null,null,null,null,null,null,null,null,null,null,null,null,null,null,null,null,null,null,null,null,null,null,null,null,null,null,null,null,null,null,null,null,null,null,null,null,null,null,null,null,null,null,null,null,null,26," "," "," "," "," "," "," "," "," "," "," "," "," "," "," ",null,null,26," "," "," "," "," "," "," "," "," "," "," "," "," "," "," "]
[null,null,null,null,null,null,null,null,null,null,null,null,null,null,null,null,null,null,null,null,null,null,null,null,null,null,null,null,null,null,null,null,null,null,null,null,null,null,null,null,null,null,null,null,null,null,null,null,null,null,null,null,27," "," "," "," "," "," "," "," "," "," "," "," "," "," "," ",null,null,27," "," "," "," "," "," "," "," "," "," "," "," "," "," "," "]
[null,null,null,null,null,null,null,null,null,null,null,null,null,null,null,null,null,null,null,null,null,null,null,null,null,null,null,null,null,null,null,null,null,null,null,null,null,null,null,null,null,null,null,null,null,null,null,null,null,null,null,null,28," "," "," "," "," "," "," "," "," "," "," "," "," "," "," ",null,null,28," "," "," "," "," "," "," "," "," "," "," "," "," "," "," "]
[null,null,null,null,null,null,null,null,null,null,null,null,null,null,null,null,null,null,null,null,null,null,null,null,null,null,null,null,null,null,null,null,null,null,null,null,null,null,null,null,null,null,null,null,null,null,null,null,null,null,null,null,29," "," "," "," "," "," "," "," "," "," "," "," "," "," "," ",null,null,29," "," "," "," "," "," "," "," "," "," "," "," "," "," "," "]
[null,null,null,null,null,null,null,null,null,null,null,null,null,null,null,null,null,null,null,null,null,null,null,null,null,null,null,null,null,null,null,null,null,null,null,null,null,null,null,null,null,null,null,null,null,null,null,null,null,null,null,null,30," "," "," "," "," "," "," "," "," "," "," "," "," "," "," ",null,null,30," "," "," "," "," "," "," "," "," "," "," "," "," "," "," "]
[null,null,null,null,null,null,null,null,null,null,null,null,null,null,null,null,null,null,null,null,null,null,null,null,null,null,null,null,null,null,null,null,null,null,null,null,null,null,null,null,null,null,null,null,null,null,null,null,null,null,null,null,31," "," "," "," "," "," "," "," "," "," "," "," "," "," "," ",null,null,31," "," "," "," "," "," "," "," "," "," "," "," "," "," "," "]
[null,null,null,null,null,null,null,null,null,null,null,null,null,null,null,null,null,null,null,null,null,null,null,null,null,null,null,null,null,null,null,null,null,null,null,null,null,null,null,null,null,null,null,null,null,null,null,null,null,null,null,null,32," "," "," "," "," "," "," "," "," "," "," "," "," "," "," ",null,null,32," "," "," "," "," "," "," "," "," "," "," "," "," "," "," "]
[null,null,null,null,null,null,null,null,null,null,null,null,null,null,null,null,null,null,null,null,null,null,null,null,null,null,null,null,null,null,null,null,null,null,null,null,null,null,null,null,null,null,null,null,null,null,null,null,null,null,null,null,33," "," "," "," "," "," "," "," "," "," "," "," "," "," "," ",null,null,33," "," "," "," "," "," "," "," "," "," "," "," "," "," "," "]
[null,null,null,null,null,null,null,null,null,null,null,null,null,null,null,null,null,null,null,null,null,null,null,null,null,null,null,null,null,null,null,null,null,null,null,null,null,null,null,null,null,null,null,null,null,null,null,null,null,null,null,null,34," "," "," "," "," "," "," "," "," "," "," "," "," "," "," ",null,null,34," "," "," "," "," "," "," "," "," "," "," "," "," "," "," "]
[null,null,null,null,null,null,null,null,null,null,null,null,null,null,null,null,null,null,null,null,null,null,null,null,null,null,null,null,null,null,null,null,null,null,null,null,null,null,null,null,null,null,null,null,null,null,null,null,null,null,null,null,35," "," "," "," "," "," "," "," "," "," "," "," "," "," "," ",null,null,35," "," "," "," "," "," "," "," "," "," "," "," "," "," "," "]
[null,null,null,null,null,null,null,null,null,null,null,null,null,null,null,null,null,null,null,null,null,null,null,null,null,null,null,null,null,null,null,null,null,null,null,null,null,null,null,null,null,null,null,null,null,null,null,null,null,null,null,null,36," "," "," "," "," "," "," "," "," "," "," "," "," "," "," ",null,null,36," "," "," "," "," "," "," "," "," "," "," "," "," "," "," "]
[null,null,null,null,null,null,null,null,null,null,null,null,null,null,null,null,null,null,null,null,null,null,null,null,null,null,null,null,null,null,null,null,null,null,null,null,null,null,null,null,null,null,null,null,null,null,null,null,null,null,null,null,37," "," "," "," "," "," "," "," "," "," "," "," "," "," "," ",null,null,37," "," "," "," "," "," "," "," "," "," "," "," "," "," "," "]
[null,null,null,null,null,null,null,null,null,null,null,null,null,null,null,null,null,null,null,null,null,null,null,null,null,null,null,null,null,null,null,null,null,null,null,null,null,null,null,null,null,null,null,null,null,null,null,null,null,null,null,null,38," "," "," "," "," "," "," "," "," "," "," "," "," "," "," ",null,null,38," "," "," "," "," "," "," "," "," "," "," "," "," "," "," "]
[null,null,null,null,null,null,null,null,null,null,null,null,null,null,null,null,null,null,null,null,null,null,null,null,null,null,null,null,null,null,null,null,null,null,null,null,null,null,null,null,null,null,null,null,null,null,null,null,null,null,null,null,39," "," "," "," "," "," "," "," "," "," "," "," "," "," "," ",null,null,39," "," "," "," "," "," "," "," "," "," "," "," "," "," "," "]
[null,null,null,null,null,null,null,null,null,null,null,null,null,null,null,null,null,null,null,null,null,null,null,null,null,null,null,null,null,null,null,null,null,null,null,null,null,null,null,null,null,null,null,null,null,null,null,null,null,null,null,null,40," "," "," "," "," "," "," "," "," "," "," "," "," "," "," ",null,null,40," "," "," "," "," "," "," "," "," "," "," "," "," "," "," "]
[null,null,null,null,null,null,null,null,null,null,null,null,null,null,null,null,null,null,null,null,null,null,null,null,null,null,null,null,null,null,null,null,null,null,null,null,null,null,null,null,null,null,null,null,null,null,null,null,null,null,null,null,41," "," "," "," "," "," "," "," "," "," "," "," "," "," "," ",null,null,41," "," "," "," "," "," "," "," "," "," "," "," "," "," "," "]
[null,null,null,null,null,null,null,null,null,null,null,null,null,null,null,null,null,null,null,null,null,null,null,null,null,null,null,null,null,null,null,null,null,null,null,null,null,null,null,null,null,null,null,null,null,null,null,null,null,null,null,null,42," "," "," "," "," "," "," "," "," "," "," "," "," "," "," ",null,null,42," "," "," "," "," "," "," "," "," "," "," "," "," "," "," "]
[null,null,null,null,null,null,null,null,null,null,null,null,null,null,null,null,null,null,null,null,null,null,null,null,null,null,null,null,null,null,null,null,null,null,null,null,null,null,null,null,null,null,null,null,null,null,null,null,null,null,null,null,43," "," "," "," "," "," "," "," "," "," "," "," "," "," "," ",null,null,43," "," "," "," "," "," "," "," "," "," "," "," "," "," "," "]
[null,null,null,null,null,null,null,null,null,null,null,null,null,null,null,null,null,null,null,null,null,null,null,null,null,null,null,null,null,null,null,null,null,null,null,null,null,null,null,null,null,null,null,null,null,null,null,null,null,null,null,null,44," "," "," "," "," "," "," "," "," "," "," "," "," "," "," ",null,null,44," "," "," "," "," "," "," "," "," "," "," "," "," "," "," "]
[null,null,null,null,null,null,null,null,null,null,null,null,null,null,null,null,null,null,null,null,null,null,null,null,null,null,null,null,null,null,null,null,null,null,null,null,null,null,null,null,null,null,null,null,null,null,null,null,null,null,null,null,45," "," "," "," "," "," "," "," "," "," "," "," "," "," "," ",null,null,45," "," "," "," "," "," "," "," "," "," "," "," "," "," "," "]
[null,null,null,null,null,null,null,null,null,null,null,null,null,null,null,null,null,null,null,null,null,null,null,null,null,null,null,null,null,null,null,null,null,null,null,null,null,null,null,null,null,null,null,null,null,null,null,null,null,null,null,null,46," "," "," "," "," "," "," "," "," "," "," "," "," "," "," ",null,null,46," "," "," "," "," "," "," "," "," "," "," "," "," "," "," "]
[null,null,null,null,null,null,null,null,null,null,null,null,null,null,null,null,null,null,null,null,null,null,null,null,null,null,null,null,null,null,null,null,null,null,null,null,null,null,null,null,null,null,null,null,null,null,null,null,null,null,null,null,47," "," "," "," "," "," "," "," "," "," "," "," "," "," "," ",null,null,47," "," "," "," "," "," "," "," "," "," "," "," "," "," "," "]
[null,null,null,null,null,null,null,null,null,null,null,null,null,null,null,null,null,null,null,null,null,null,null,null,null,null,null,null,null,null,null,null,null,null,null,null,null,null,null,null,null,null,null,null,null,null,null,null,null,null,null,null,48," "," "," "," "," "," "," "," "," "," "," "," "," "," "," ",null,null,48," "," "," "," "," "," "," "," "," "," "," "," "," "," "," "]
[null,null,null,null,null,null,null,null,null,null,null,null,null,null,null,null,null,null,null,null,null,null,null,null,null,null,null,null,null,null,null,null,null,null,null,null,null,null,null,null,null,null,null,null,null,null,null,null,null,null,null,null,49," "," "," "," "," "," "," "," "," "," "," "," "," "," "," ",null,null,49," "," "," "," "," "," "," "," "," "," "," "," "," "," "," "]
[null,null,null,null,null,null,null,null,null,null,null,null,null,null,null,null,null,null,null,null,null,null,null,null,null,null,null,null,null,null,null,null,null,null,null,null,null,null,null,null,null,null,null,null,null,null,null,null,null,null,null,null,50," "," "," "," "," "," "," "," "," "," "," "," "," "," "," ",null,null,50," "," "," "," "," "," "," "," "," "," "," "," "," "," "," "]
[null,null,null,null,null,null,null,null,null,null,null,null,null,null,null,null,null,null,null,null,null,null,null,null,null,null,null,null,null,null,null,null,null,null,null,null,null,null,null,null,null,null,null,null,null,null,null,null,null,null,null,null,51," "," "," "," "," "," "," "," "," "," "," "," "," "," "," ",null,null,51," "," "," "," "," "," "," "," "," "," "," "," "," "," "," "]
[null,null,null,null,null,null,null,null,null,null,null,null,null,null,null,null,null,null,null,null,null,null,null,null,null,null,null,null,null,null,null,null,null,null,null,null,null,null,null,null,null,null,null,null,null,null,null,null,null,null,null,null,52," "," "," "," "," "," "," "," "," "," "," "," "," "," "," ",null,null,52," "," "," "," "," "," "," "," "," "," "," "," "," "," "," "]
[null,null,null,null,null,null,null,null,null,null,null,null,null,null,null,null,null,null,null,null,null,null,null,null,null,null,null,null,null,null,null,null,null,null,null,null,null,null,null,null,null,null,null,null,null,null,null,null,null,null,null,null,53," "," "," "," "," "," "," "," "," "," "," "," "," "," "," ",null,null,53," "," "," "," "," "," "," "," "," "," "," "," "," "," "," "]
[null,null,null,null,null,null,null,null,null,null,null,null,null,null,null,null,null,null,null,null,null,null,null,null,null,null,null,null,null,null,null,null,null,null,null,null,null,null,null,null,null,null,null,null,null,null,null,null,null,null,null,null,54," "," "," "," "," "," "," "," "," "," "," "," "," "," "," ",null,null,54," "," "," "," "," "," "," "," "," "," "," "," "," "," "," "]
[null,null,null,null,null,null,null,null,null,null,null,null,null,null,null,null,null,null,null,null,null,null,null,null,null,null,null,null,null,null,null,null,null,null,null,null,null,null,null,null,null,null,null,null,null,null,null,null,null,null,null,null,55," "," "," "," "," "," "," "," "," "," "," "," "," "," "," ",null,null,55," "," "," "," "," "," "," "," "," "," "," "," "," "," "," "]
[null,null,null,null,null,null,null,null,null,null,null,null,null,null,null,null,null,null,null,null,null,null,null,null,null,null,null,null,null,null,null,null,null,null,null,null,null,null,null,null,null,null,null,null,null,null,null,null,null,null,null,null,56," "," "," "," "," "," "," "," "," "," "," "," "," "," "," ",null,null,56," "," "," "," "," "," "," "," "," "," "," "," "," "," "," "]
[null,null,null,null,null,null,null,null,null,null,null,null,null,null,null,null,null,null,null,null,null,null,null,null,null,null,null,null,null,null,null,null,null,null,null,null,null,null,null,null,null,null,null,null,null,null,null,null,null,null,null,null,57," "," "," "," "," "," "," "," "," "," "," "," "," "," "," ",null,null,57," "," "," "," "," "," "," "," "," "," "," "," "," "," "," "]
[null,null,null,null,null,null,null,null,null,null,null,null,null,null,null,null,null,null,null,null,null,null,null,null,null,null,null,null,null,null,null,null,null,null,null,null,null,null,null,null,null,null,null,null,null,null,null,null,null,null,null,null,58," "," "," "," "," "," "," "," "," "," "," "," "," "," "," ",null,null,58," "," "," "," "," "," "," "," "," "," "," "," "," "," "," "]
[null,null,null,null,null,null,null,null,null,null,null,null,null,null,null,null,null,null,null,null,null,null,null,null,null,null,null,null,null,null,null,null,null,null,null,null,null,null,null,null,null,null,null,null,null,null,null,null,null,null,null,null,59," "," "," "," "," "," "," "," "," "," "," "," "," "," "," ",null,null,59," "," "," "," "," "," "," "," "," "," "," "," "," "," "," "]
[null,null,null,null,null,null,null,null,null,null,null,null,null,null,null,null,null,null,null,null,null,null,null,null,null,null,null,null,null,null,null,null,null,null,null,null,null,null,null,null,null,null,null,null,null,null,null,null,null,null,null,null,60," "," "," "," "," "," "," "," "," "," "," "," "," "," "," ",null,null,60," "," "," "," "," "," "," "," "," "," "," "," "," "," "," "]
[null,null,null,null,null,null,null,null,null,null,null,null,null,null,null,null,null,null,null,null,null,null,null,null,null,null,null,null,null,null,null,null,null,null,null,null,null,null,null,null,null,null,null,null,null,null,null,null,null,null,null,null,61," "," "," "," "," "," "," "," "," "," "," "," "," "," "," ",null,null,61," "," "," "," "," "," "," "," "," "," "," "," "," "," "," "]
[null,null,null,null,null,null,null,null,null,null,null,null,null,null,null,null,null,null,null,null,null,null,null,null,null,null,null,null,null,null,null,null,null,null,null,null,null,null,null,null,null,null,null,null,null,null,null,null,null,null,null,null,62," "," "," "," "," "," "," "," "," "," "," "," "," "," "," ",null,null,62," "," "," "," "," "," "," "," "," "," "," "," "," "," "," "]
[null,null,null,null,null,null,null,null,null,null,null,null,null,null,null,null,null,null,null,null,null,null,null,null,null,null,null,null,null,null,null,null,null,null,null,null,null,null,null,null,null,null,null,null,null,null,null,null,null,null,null,null,63," "," "," "," "," "," "," "," "," "," "," "," "," "," "," ",null,null,63," "," "," "," "," "," "," "," "," "," "," "," "," "," "," "]
[null,null,null,null,null,null,null,null,null,null,null,null,null,null,null,null,null,null,null,null,null,null,null,null,null,null,null,null,null,null,null,null,null,null,null,null,null,null,null,null,null,null,null,null,null,null,null,null,null,null,null,null,64," "," "," "," "," "," "," "," "," "," "," "," "," "," "," ",null,null,64," "," "," "," "," "," "," "," "," "," "," "," "," "," "," "]
[null,null,null,null,null,null,null,null,null,null,null,null,null,null,null,null,null,null,null,null,null,null,null,null,null,null,null,null,null,null,null,null,null,null,null,null,null,null,null,null,null,null,null,null,null,null,null,null,null,null,null,null,65," "," "," "," "," "," "," "," "," "," "," "," "," "," "," ",null,null,65," "," "," "," "," "," "," "," "," "," "," "," "," "," "," "]
[null,null,null,null,null,null,null,null,null,null,null,null,null,null,null,null,null,null,null,null,null,null,null,null,null,null,null,null,null,null,null,null,null,null,null,null,null,null,null,null,null,null,null,null,null,null,null,null,null,null,null,null,66," "," "," "," "," "," "," "," "," "," "," "," "," "," "," ",null,null,66," "," "," "," "," "," "," "," "," "," "," "," "," "," "," "]
[null,null,null,null,null,null,null,null,null,null,null,null,null,null,null,null,null,null,null,null,null,null,null,null,null,null,null,null,null,null,null,null,null,null,null,null,null,null,null,null,null,null,null,null,null,null,null,null,null,null,null,null,67," "," "," "," "," "," "," "," "," "," "," "," "," "," "," ",null,null,67," "," "," "," "," "," "," "," "," "," "," "," "," "," "," "]
[null,null,null,null,null,null,null,null,null,null,null,null,null,null,null,null,null,null,null,null,null,null,null,null,null,null,null,null,null,null,null,null,null,null,null,null,null,null,null,null,null,null,null,null,null,null,null,null,null,null,null,null,68," "," "," "," "," "," "," "," "," "," "," "," "," "," "," ",null,null,68," "," "," "," "," "," "," "," "," "," "," "," "," "," "," "]
[null,null,null,null,null,null,null,null,null,null,null,null,null,null,null,null,null,null,null,null,null,null,null,null,null,null,null,null,null,null,null,null,null,null,null,null,null,null,null,null,null,null,null,null,null,null,null,null,null,null,null,null,69," "," "," "," "," "," "," "," "," "," "," "," "," "," "," ",null,null,69," "," "," "," "," "," "," "," "," "," "," "," "," "," "," "]
[null,null,null,null,null,null,null,null,null,null,null,null,null,null,null,null,null,null,null,null,null,null,null,null,null,null,null,null,null,null,null,null,null,null,null,null,null,null,null,null,null,null,null,null,null,null,null,null,null,null,null,null,70," "," "," "," "," "," "," "," "," "," "," "," "," "," "," ",null,null,70," "," "," "," "," "," "," "," "," "," "," "," "," "," "," "]
[null,null,null,null,null,null,null,null,null,null,null,null,null,null,null,null,null,null,null,null,null,null,null,null,null,null,null,null,null,null,null,null,null,null,null,null,null,null,null,null,null,null,null,null,null,null,null,null,null,null,null,null,71," "," "," "," "," "," "," "," "," "," "," "," "," "," "," ",null,null,71," "," "," "," "," "," "," "," "," "," "," "," "," "," "," "]
[null,null,null,null,null,null,null,null,null,null,null,null,null,null,null,null,null,null,null,null,null,null,null,null,null,null,null,null,null,null,null,null,null,null,null,null,null,null,null,null,null,null,null,null,null,null,null,null,null,null,null,null,72," "," "," "," "," "," "," "," "," "," "," "," "," "," "," ",null,null,72," "," "," "," "," "," "," "," "," "," "," "," "," "," "," "]
[null,null,null,null,null,null,null,null,null,null,null,null,null,null,null,null,null,null,null,null,null,null,null,null,null,null,null,null,null,null,null,null,null,null,null,null,null,null,null,null,null,null,null,null,null,null,null,null,null,null,null,null,73," "," "," "," "," "," "," "," "," "," "," "," "," "," "," ",null,null,73," "," "," "," "," "," "," "," "," "," "," "," "," "," "," "]
[null,null,null,null,null,null,null,null,null,null,null,null,null,null,null,null,null,null,null,null,null,null,null,null,null,null,null,null,null,null,null,null,null,null,null,null,null,null,null,null,null,null,null,null,null,null,null,null,null,null,null,null,74," "," "," "," "," "," "," "," "," "," "," "," "," "," "," ",null,null,74," "," "," "," "," "," "," "," "," "," "," "," "," "," "," "]
[null,null,null,null,null,null,null,null,null,null,null,null,null,null,null,null,null,null,null,null,null,null,null,null,null,null,null,null,null,null,null,null,null,null,null,null,null,null,null,null,null,null,null,null,null,null,null,null,null,null,null,null,75," "," "," "," "," "," "," "," "," "," "," "," "," "," "," ",null,null,75," "," "," "," "," "," "," "," "," "," "," "," "," "," "," "]
[null,null,null,null,null,null,null,null,null,null,null,null,null,null,null,null,null,null,null,null,null,null,null,null,null,null,null,null,null,null,null,null,null,null,null,null,null,null,null,null,null,null,null,null,null,null,null,null,null,null,null,null,76," "," "," "," "," "," "," "," "," "," "," "," "," "," "," ",null,null,76," "," "," "," "," "," "," "," "," "," "," "," "," "," "," "]
[null,null,null,null,null,null,null,null,null,null,null,null,null,null,null,null,null,null,null,null,null,null,null,null,null,null,null,null,null,null,null,null,null,null,null,null,null,null,null,null,null,null,null,null,null,null,null,null,null,null,null,null,77," "," "," "," "," "," "," "," "," "," "," "," "," "," "," ",null,null,77," "," "," "," "," "," "," "," "," "," "," "," "," "," "," "]
[null,null,null,null,null,null,null,null,null,null,null,null,null,null,null,null,null,null,null,null,null,null,null,null,null,null,null,null,null,null,null,null,null,null,null,null,null,null,null,null,null,null,null,null,null,null,null,null,null,null,null,null,78," "," "," "," "," "," "," "," "," "," "," "," "," "," "," ",null,null,78," "," "," "," "," "," "," "," "," "," "," "," "," "," "," "]
[null,null,null,null,null,null,null,null,null,null,null,null,null,null,null,null,null,null,null,null,null,null,null,null,null,null,null,null,null,null,null,null,null,null,null,null,null,null,null,null,null,null,null,null,null,null,null,null,null,null,null,null,79," "," "," "," "," "," "," "," "," "," "," "," "," "," "," ",null,null,79," "," "," "," "," "," "," "," "," "," "," "," "," "," "," "]
[null,null,null,null,null,null,null,null,null,null,null,null,null,null,null,null,null,null,null,null,null,null,null,null,null,null,null,null,null,null,null,null,null,null,null,null,null,null,null,null,null,null,null,null,null,null,null,null,null,null,null,null,80," "," "," "," "," "," "," "," "," "," "," "," "," "," "," ",null,null,80," "," "," "," "," "," "," "," "," "," "," "," "," "," "," "]
[null,null,null,null,null,null,null,null,null,null,null,null,null,null,null,null,null,null,null,null,null,null,null,null,null,null,null,null,null,null,null,null,null,null,null,null,null,null,null,null,null,null,null,null,null,null,null,null,null,null,null,null,81," "," "," "," "," "," "," "," "," "," "," "," "," "," "," ",null,null,81," "," "," "," "," "," "," "," "," "," "," "," "," "," "," "]
[null,null,null,null,null,null,null,null,null,null,null,null,null,null,null,null,null,null,null,null,null,null,null,null,null,null,null,null,null,null,null,null,null,null,null,null,null,null,null,null,null,null,null,null,null,null,null,null,null,null,null,null,82," "," "," "," "," "," "," "," "," "," "," "," "," "," "," ",null,null,82," "," "," "," "," "," "," "," "," "," "," "," "," "," "," "]
[null,null,null,null,null,null,null,null,null,null,null,null,null,null,null,null,null,null,null,null,null,null,null,null,null,null,null,null,null,null,null,null,null,null,null,null,null,null,null,null,null,null,null,null,null,null,null,null,null,null,null,null,83," "," "," "," "," "," "," "," "," "," "," "," "," "," "," ",null,null,83," "," "," "," "," "," "," "," "," "," "," "," "," "," "," "]
[null,null,null,null,null,null,null,null,null,null,null,null,null,null,null,null,null,null,null,null,null,null,null,null,null,null,null,null,null,null,null,null,null,null,null,null,null,null,null,null,null,null,null,null,null,null,null,null,null,null,null,null,84," "," "," "," "," "," "," "," "," "," "," "," "," "," "," ",null,null,84," "," "," "," "," "," "," "," "," "," "," "," "," "," "," "]
[null,null,null,null,null,null,null,null,null,null,null,null,null,null,null,null,null,null,null,null,null,null,null,null,null,null,null,null,null,null,null,null,null,null,null,null,null,null,null,null,null,null,null,null,null,null,null,null,null,null,null,null,85," "," "," "," "," "," "," "," "," "," "," "," "," "," "," ",null,null,85," "," "," "," "," "," "," "," "," "," "," "," "," "," "," "]
[null,null,null,null,null,null,null,null,null,null,null,null,null,null,null,null,null,null,null,null,null,null,null,null,null,null,null,null,null,null,null,null,null,null,null,null,null,null,null,null,null,null,null,null,null,null,null,null,null,null,null,null,86," "," "," "," "," "," "," "," "," "," "," "," "," "," "," ",null,null,86," "," "," "," "," "," "," "," "," "," "," "," "," "," "," "]
[null,null,null,null,null,null,null,null,null,null,null,null,null,null,null,null,null,null,null,null,null,null,null,null,null,null,null,null,null,null,null,null,null,null,null,null,null,null,null,null,null,null,null,null,null,null,null,null,null,null,null,null,87," "," "," "," "," "," "," "," "," "," "," "," "," "," "," ",null,null,87," "," "," "," "," "," "," "," "," "," "," "," "," "," "," "]
[null,null,null,null,null,null,null,null,null,null,null,null,null,null,null,null,null,null,null,null,null,null,null,null,null,null,null,null,null,null,null,null,null,null,null,null,null,null,null,null,null,null,null,null,null,null,null,null,null,null,null,null,88," "," "," "," "," "," "," "," "," "," "," "," "," "," "," ",null,null,88," "," "," "," "," "," "," "," "," "," "," "," "," "," "," "]
[null,null,null,null,null,null,null,null,null,null,null,null,null,null,null,null,null,null,null,null,null,null,null,null,null,null,null,null,null,null,null,null,null,null,null,null,null,null,null,null,null,null,null,null,null,null,null,null,null,null,null,null,89," "," "," "," "," "," "," "," "," "," "," "," "," "," "," ",null,null,89," "," "," "," "," "," "," "," "," "," "," "," "," "," "," "]
[null,null,null,null,null,null,null,null,null,null,null,null,null,null,null,null,null,null,null,null,null,null,null,null,null,null,null,null,null,null,null,null,null,null,null,null,null,null,null,null,null,null,null,null,null,null,null,null,null,null,null,null,90," "," "," "," "," "," "," "," "," "," "," "," "," "," "," ",null,null,90," "," "," "," "," "," "," "," "," "," "," "," "," "," "," "]
[null,null,null,null,null,null,null,null,null,null,null,null,null,null,null,null,null,null,null,null,null,null,null,null,null,null,null,null,null,null,null,null,null,null,null,null,null,null,null,null,null,null,null,null,null,null,null,null,null,null,null,null,91," "," "," "," "," "," "," "," "," "," "," "," "," "," "," ",null,null,91," "," "," "," "," "," "," "," "," "," "," "," "," "," "," "]
[null,null,null,null,null,null,null,null,null,null,null,null,null,null,null,null,null,null,null,null,null,null,null,null,null,null,null,null,null,null,null,null,null,null,null,null,null,null,null,null,null,null,null,null,null,null,null,null,null,null,null,null,92," "," "," "," "," "," "," "," "," "," "," "," "," "," "," ",null,null,92," "," "," "," "," "," "," "," "," "," "," "," "," "," "," "]
[null,null,null,null,null,null,null,null,null,null,null,null,null,null,null,null,null,null,null,null,null,null,null,null,null,null,null,null,null,null,null,null,null,null,null,null,null,null,null,null,null,null,null,null,null,null,null,null,null,null,null,null,93," "," "," "," "," "," "," "," "," "," "," "," "," "," "," ",null,null,93," "," "," "," "," "," "," "," "," "," "," "," "," "," "," "]
[null,null,null,null,null,null,null,null,null,null,null,null,null,null,null,null,null,null,null,null,null,null,null,null,null,null,null,null,null,null,null,null,null,null,null,null,null,null,null,null,null,null,null,null,null,null,null,null,null,null,null,null,94," "," "," "," "," "," "," "," "," "," "," "," "," "," "," ",null,null,94," "," "," "," "," "," "," "," "," "," "," "," "," "," "," "]
[null,null,null,null,null,null,null,null,null,null,null,null,null,null,null,null,null,null,null,null,null,null,null,null,null,null,null,null,null,null,null,null,null,null,null,null,null,null,null,null,null,null,null,null,null,null,null,null,null,null,null,null,95," "," "," "," "," "," "," "," "," "," "," "," "," "," "," ",null,null,95," "," "," "," "," "," "," "," "," "," "," "," "," "," "," "]
[null,null,null,null,null,null,null,null,null,null,null,null,null,null,null,null,null,null,null,null,null,null,null,null,null,null,null,null,null,null,null,null,null,null,null,null,null,null,null,null,null,null,null,null,null,null,null,null,null,null,null,null,96," "," "," "," "," "," "," "," "," "," "," "," "," "," "," ",null,null,96," "," "," "," "," "," "," "," "," "," "," "," "," "," "," "]
[null,null,null,null,null,null,null,null,null,null,null,null,null,null,null,null,null,null,null,null,null,null,null,null,null,null,null,null,null,null,null,null,null,null,null,null,null,null,null,null,null,null,null,null,null,null,null,null,null,null,null,null,97," "," "," "," "," "," "," "," "," "," "," "," "," "," "," ",null,null,97," "," "," "," "," "," "," "," "," "," "," "," "," "," "," "]
[null,null,null,null,null,null,null,null,null,null,null,null,null,null,null,null,null,null,null,null,null,null,null,null,null,null,null,null,null,null,null,null,null,null,null,null,null,null,null,null,null,null,null,null,null,null,null,null,null,null,null,null,98," "," "," "," "," "," "," "," "," "," "," "," "," "," "," ",null,null,98," "," "," "," "," "," "," "," "," "," "," "," "," "," "," "]
[null,null,null,null,null,null,null,null,null,null,null,null,null,null,null,null,null,null,null,null,null,null,null,null,null,null,null,null,null,null,null,null,null,null,null,null,null,null,null,null,null,null,null,null,null,null,null,null,null,null,null,null,99," "," "," "," "," "," "," "," "," "," "," "," "," "," "," ",null,null,99," "," "," "," "," "," "," "," "," "," "," "," "," "," "," "]
[null,null,null,null,null,null,null,null,null,null,null,null,null,null,null,null,null,null,null,null,null,null,null,null,null,null,null,null,null,null,null,null,null,null,null,null,null,null,null,null,null,null,null,null,null,null,null,null,null,null,null,null,100," "," "," "," "," "," "," "," "," "," "," "," "," "," "," ",null,null,100," "," "," "," "," "," "," "," "," "," "," "," "," "," "," "]
[null,null,null,null,null,null,null,null,null,null,null,null,null,null,null,null,null,null,null,null,null,null,null,null,null,null,null,null,null,null,null,null,null,null,null,null,null,null,null,null,null,null,null,null,null,null,null,null,null,null,null,null,101," "," "," "," "," "," "," "," "," "," "," "," "," "," "," ",null,null,101," "," "," "," "," "," "," "," "," "," "," "," "," "," "," "]
[null,null,null,null,null,null,null,null,null,null,null,null,null,null,null,null,null,null,null,null,null,null,null,null,null,null,null,null,null,null,null,null,null,null,null,null,null,null,null,null,null,null,null,null,null,null,null,null,null,null,null,null,102," "," "," "," "," "," "," "," "," "," "," "," "," "," "," ",null,null,102," "," "," "," "," "," "," "," "," "," "," "," "," "," "," "]
[null,null,null,null,null,null,null,null,null,null,null,null,null,null,null,null,null,null,null,null,null,null,null,null,null,null,null,null,null,null,null,null,null,null,null,null,null,null,null,null,null,null,null,null,null,null,null,null,null,null,null,null,103," "," "," "," "," "," "," "," "," "," "," "," "," "," "," ",null,null,103," "," "," "," "," "," "," "," "," "," "," "," "," "," "," "]
[null,null,null,null,null,null,null,null,null,null,null,null,null,null,null,null,null,null,null,null,null,null,null,null,null,null,null,null,null,null,null,null,null,null,null,null,null,null,null,null,null,null,null,null,null,null,null,null,null,null,null,null,104," "," "," "," "," "," "," "," "," "," "," "," "," "," "," ",null,null,104," "," "," "," "," "," "," "," "," "," "," "," "," "," "," "]
[null,null,null,null,null,null,null,null,null,null,null,null,null,null,null,null,null,null,null,null,null,null,null,null,null,null,null,null,null,null,null,null,null,null,null,null,null,null,null,null,null,null,null,null,null,null,null,null,null,null,null,null,105," "," "," "," "," "," "," "," "," "," "," "," "," "," "," ",null,null,105," "," "," "," "," "," "," "," "," "," "," "," "," "," "," "]
[null,null,null,null,null,null,null,null,null,null,null,null,null,null,null,null,null,null,null,null,null,null,null,null,null,null,null,null,null,null,null,null,null,null,null,null,null,null,null,null,null,null,null,null,null,null,null,null,null,null,null,null,106," "," "," "," "," "," "," "," "," "," "," "," "," "," "," ",null,null,106," "," "," "," "," "," "," "," "," "," "," "," "," "," "," "]
[null,null,null,null,null,null,null,null,null,null,null,null,null,null,null,null,null,null,null,null,null,null,null,null,null,null,null,null,null,null,null,null,null,null,null,null,null,null,null,null,null,null,null,null,null,null,null,null,null,null,null,null,107," "," "," "," "," "," "," "," "," "," "," "," "," "," "," ",null,null,107," "," "," "," "," "," "," "," "," "," "," "," "," "," "," "]
[null,null,null,null,null,null,null,null,null,null,null,null,null,null,null,null,null,null,null,null,null,null,null,null,null,null,null,null,null,null,null,null,null,null,null,null,null,null,null,null,null,null,null,null,null,null,null,null,null,null,null,null,108," "," "," "," "," "," "," "," "," "," "," "," "," "," "," ",null,null,108," "," "," "," "," "," "," "," "," "," "," "," "," "," "," "]
[null,null,null,null,null,null,null,null,null,null,null,null,null,null,null,null,null,null,null,null,null,null,null,null,null,null,null,null,null,null,null,null,null,null,null,null,null,null,null,null,null,null,null,null,null,null,null,null,null,null,null,null,109," "," "," "," "," "," "," "," "," "," "," "," "," "," "," ",null,null,109," "," "," "," "," "," "," "," "," "," "," "," "," "," "," "]
[null,null,null,null,null,null,null,null,null,null,null,null,null,null,null,null,null,null,null,null,null,null,null,null,null,null,null,null,null,null,null,null,null,null,null,null,null,null,null,null,null,null,null,null,null,null,null,null,null,null,null,null,110," "," "," "," "," "," "," "," "," "," "," "," "," "," "," ",null,null,110," "," "," "," "," "," "," "," "," "," "," "," "," "," "," "]
[null,null,null,null,null,null,null,null,null,null,null,null,null,null,null,null,null,null,null,null,null,null,null,null,null,null,null,null,null,null,null,null,null,null,null,null,null,null,null,null,null,null,null,null,null,null,null,null,null,null,null,null,111," "," "," "," "," "," "," "," "," "," "," "," "," "," "," ",null,null,111," "," "," "," "," "," "," "," "," "," "," "," "," "," "," "]
[null,null,null,null,null,null,null,null,null,null,null,null,null,null,null,null,null,null,null,null,null,null,null,null,null,null,null,null,null,null,null,null,null,null,null,null,null,null,null,null,null,null,null,null,null,null,null,null,null,null,null,null,112," "," "," "," "," "," "," "," "," "," "," "," "," "," "," ",null,null,112," "," "," "," "," "," "," "," "," "," "," "," "," "," "," "]
[null,null,null,null,null,null,null,null,null,null,null,null,null,null,null,null,null,null,null,null,null,null,null,null,null,null,null,null,null,null,null,null,null,null,null,null,null,null,null,null,null,null,null,null,null,null,null,null,null,null,null,null,113," "," "," "," "," "," "," "," "," "," "," "," "," "," "," ",null,null,113," "," "," "," "," "," "," "," "," "," "," "," "," "," "," "]
[null,null,null,null,null,null,null,null,null,null,null,null,null,null,null,null,null,null,null,null,null,null,null,null,null,null,null,null,null,null,null,null,null,null,null,null,null,null,null,null,null,null,null,null,null,null,null,null,null,null,null,null,114," "," "," "," "," "," "," "," "," "," "," "," "," "," "," ",null,null,114," "," "," "," "," "," "," "," "," "," "," "," "," "," "," "]
[null,null,null,null,null,null,null,null,null,null,null,null,null,null,null,null,null,null,null,null,null,null,null,null,null,null,null,null,null,null,null,null,null,null,null,null,null,null,null,null,null,null,null,null,null,null,null,null,null,null,null,null,115," "," "," "," "," "," "," "," "," "," "," "," "," "," "," ",null,null,115," "," "," "," "," "," "," "," "," "," "," "," "," "," "," "]
[null,null,null,null,null,null,null,null,null,null,null,null,null,null,null,null,null,null,null,null,null,null,null,null,null,null,null,null,null,null,null,null,null,null,null,null,null,null,null,null,null,null,null,null,null,null,null,null,null,null,null,null,116," "," "," "," "," "," "," "," "," "," "," "," "," "," "," ",null,null,116," "," "," "," "," "," "," "," "," "," "," "," "," "," "," "]
[null,null,null,null,null,null,null,null,null,null,null,null,null,null,null,null,null,null,null,null,null,null,null,null,null,null,null,null,null,null,null,null,null,null,null,null,null,null,null,null,null,null,null,null,null,null,null,null,null,null,null,null,117," "," "," "," "," "," "," "," "," "," "," "," "," "," "," ",null,null,117," "," "," "," "," "," "," "," "," "," "," "," "," "," "," "]
[null,null,null,null,null,null,null,null,null,null,null,null,null,null,null,null,null,null,null,null,null,null,null,null,null,null,null,null,null,null,null,null,null,null,null,null,null,null,null,null,null,null,null,null,null,null,null,null,null,null,null,null,118," "," "," "," "," "," "," "," "," "," "," "," "," "," "," ",null,null,118," "," "," "," "," "," "," "," "," "," "," "," "," "," "," "]
[null,null,null,null,null,null,null,null,null,null,null,null,null,null,null,null,null,null,null,null,null,null,null,null,null,null,null,null,null,null,null,null,null,null,null,null,null,null,null,null,null,null,null,null,null,null,null,null,null,null,null,null,119," "," "," "," "," "," "," "," "," "," "," "," "," "," "," ",null,null,119," "," "," "," "," "," "," "," "," "," "," "," "," "," "," "]
[null,null,null,null,null,null,null,null,null,null,null,null,null,null,null,null,null,null,null,null,null,null,null,null,null,null,null,null,null,null,null,null,null,null,null,null,null,null,null,null,null,null,null,null,null,null,null,null,null,null,null,null,120," "," "," "," "," "," "," "," "," "," "," "," "," "," "," ",null,null,120," "," "," "," "," "," "," "," "," "," "," "," "," "," "," "]
[null,null,null,null,null,null,null,null,null,null,null,null,null,null,null,null,null,null,null,null,null,null,null,null,null,null,null,null,null,null,null,null,null,null,null,null,null,null,null,null,null,null,null,null,null,null,null,null,null,null,null,null,121," "," "," "," "," "," "," "," "," "," "," "," "," "," "," ",null,null,121," "," "," "," "," "," "," "," "," "," "," "," "," "," "," "]
[null,null,null,null,null,null,null,null,null,null,null,null,null,null,null,null,null,null,null,null,null,null,null,null,null,null,null,null,null,null,null,null,null,null,null,null,null,null,null,null,null,null,null,null,null,null,null,null,null,null,null,null,122," "," "," "," "," "," "," "," "," "," "," "," "," "," "," ",null,null,122," "," "," "," "," "," "," "," "," "," "," "," "," "," "," "]
[null,null,null,null,null,null,null,null,null,null,null,null,null,null,null,null,null,null,null,null,null,null,null,null,null,null,null,null,null,null,null,null,null,null,null,null,null,null,null,null,null,null,null,null,null,null,null,null,null,null,null,null,123," "," "," "," "," "," "," "," "," "," "," "," "," "," "," ",null,null,123," "," "," "," "," "," "," "," "," "," "," "," "," "," "," "]
[null,null,null,null,null,null,null,null,null,null,null,null,null,null,null,null,null,null,null,null,null,null,null,null,null,null,null,null,null,null,null,null,null,null,null,null,null,null,null,null,null,null,null,null,null,null,null,null,null,null,null,null,124," "," "," "," "," "," "," "," "," "," "," "," "," "," "," ",null,null,124," "," "," "," "," "," "," "," "," "," "," "," "," "," "," "]
[null,null,null,null,null,null,null,null,null,null,null,null,null,null,null,null,null,null,null,null,null,null,null,null,null,null,null,null,null,null,null,null,null,null,null,null,null,null,null,null,null,null,null,null,null,null,null,null,null,null,null,null,125," "," "," "," "," "," "," "," "," "," "," "," "," "," "," ",null,null,125," "," "," "," "," "," "," "," "," "," "," "," "," "," "," "]
[null,null,null,null,null,null,null,null,null,null,null,null,null,null,null,null,null,null,null,null,null,null,null,null,null,null,null,null,null,null,null,null,null,null,null,null,null,null,null,null,null,null,null,null,null,null,null,null,null,null,null,null,126," "," "," "," "," "," "," "," "," "," "," "," "," "," "," ",null,null,126," "," "," "," "," "," "," "," "," "," "," "," "," "," "," "]
[null,null,null,null,null,null,null,null,null,null,null,null,null,null,null,null,null,null,null,null,null,null,null,null,null,null,null,null,null,null,null,null,null,null,null,null,null,null,null,null,null,null,null,null,null,null,null,null,null,null,null,null,127," "," "," "," "," "," "," "," "," "," "," "," "," "," "," ",null,null,127," "," "," "," "," "," "," "," "," "," "," "," "," "," "," "]
[null,null,null,null,null,null,null,null,null,null,null,null,null,null,null,null,null,null,null,null,null,null,null,null,null,null,null,null,null,null,null,null,null,null,null,null,null,null,null,null,null,null,null,null,null,null,null,null,null,null,null,null,128," "," "," "," "," "," "," "," "," "," "," "," "," "," "," ",null,null,128," "," "," "," "," "," "," "," "," "," "," "," "," "," "," "]
[null,null,null,null,null,null,null,null,null,null,null,null,null,null,null,null,null,null,null,null,null,null,null,null,null,null,null,null,null,null,null,null,null,null,null,null,null,null,null,null,null,null,null,null,null,null,null,null,null,null,null,null,129," "," "," "," "," "," "," "," "," "," "," "," "," "," "," ",null,null,129," "," "," "," "," "," "," "," "," "," "," "," "," "," "," "]
[null,null,null,null,null,null,null,null,null,null,null,null,null,null,null,null,null,null,null,null,null,null,null,null,null,null,null,null,null,null,null,null,null,null,null,null,null,null,null,null,null,null,null,null,null,null,null,null,null,null,null,null,130," "," "," "," "," "," "," "," "," "," "," "," "," "," "," ",null,null,130," "," "," "," "," "," "," "," "," "," "," "," "," "," "," "]
[null,null,null,null,null,null,null,null,null,null,null,null,null,null,null,null,null,null,null,null,null,null,null,null,null,null,null,null,null,null,null,null,null,null,null,null,null,null,null,null,null,null,null,null,null,null,null,null,null,null,null,null,131," "," "," "," "," "," "," "," "," "," "," "," "," "," "," ",null,null,131," "," "," "," "," "," "," "," "," "," "," "," "," "," "," "]
[null,null,null,null,null,null,null,null,null,null,null,null,null,null,null,null,null,null,null,null,null,null,null,null,null,null,null,null,null,null,null,null,null,null,null,null,null,null,null,null,null,null,null,null,null,null,null,null,null,null,null,null,132," "," "," "," "," "," "," "," "," "," "," "," "," "," "," ",null,null,132," "," "," "," "," "," "," "," "," "," "," "," "," "," "," "]
[null,null,null,null,null,null,null,null,null,null,null,null,null,null,null,null,null,null,null,null,null,null,null,null,null,null,null,null,null,null,null,null,null,null,null,null,null,null,null,null,null,null,null,null,null,null,null,null,null,null,null,null,133," "," "," "," "," "," "," "," "," "," "," "," "," "," "," ",null,null,133," "," "," "," "," "," "," "," "," "," "," "," "," "," "," "]
[null,null,null,null,null,null,null,null,null,null,null,null,null,null,null,null,null,null,null,null,null,null,null,null,null,null,null,null,null,null,null,null,null,null,null,null,null,null,null,null,null,null,null,null,null,null,null,null,null,null,null,null,134," "," "," "," "," "," "," "," "," "," "," "," "," "," "," ",null,null,134," "," "," "," "," "," "," "," "," "," "," "," "," "," "," "]
[null,null,null,null,null,null,null,null,null,null,null,null,null,null,null,null,null,null,null,null,null,null,null,null,null,null,null,null,null,null,null,null,null,null,null,null,null,null,null,null,null,null,null,null,null,null,null,null,null,null,null,null,135," "," "," "," "," "," "," "," "," "," "," "," "," "," "," ",null,null,135," "," "," "," "," "," "," "," "," "," "," "," "," "," "," "]
[null,null,null,null,null,null,null,null,null,null,null,null,null,null,null,null,null,null,null,null,null,null,null,null,null,null,null,null,null,null,null,null,null,null,null,null,null,null,null,null,null,null,null,null,null,null,null,null,null,null,null,null,136," "," "," "," "," "," "," "," "," "," "," "," "," "," "," ",null,null,136," "," "," "," "," "," "," "," "," "," "," "," "," "," "," "]
[null,null,null,null,null,null,null,null,null,null,null,null,null,null,null,null,null,null,null,null,null,null,null,null,null,null,null,null,null,null,null,null,null,null,null,null,null,null,null,null,null,null,null,null,null,null,null,null,null,null,null,null,137," "," "," "," "," "," "," "," "," "," "," "," "," "," "," ",null,null,137," "," "," "," "," "," "," "," "," "," "," "," "," "," "," "]
[null,null,null,null,null,null,null,null,null,null,null,null,null,null,null,null,null,null,null,null,null,null,null,null,null,null,null,null,null,null,null,null,null,null,null,null,null,null,null,null,null,null,null,null,null,null,null,null,null,null,null,null,138," "," "," "," "," "," "," "," "," "," "," "," "," "," "," ",null,null,138," "," "," "," "," "," "," "," "," "," "," "," "," "," "," "]
[null,null,null,null,null,null,null,null,null,null,null,null,null,null,null,null,null,null,null,null,null,null,null,null,null,null,null,null,null,null,null,null,null,null,null,null,null,null,null,null,null,null,null,null,null,null,null,null,null,null,null,null,139," "," "," "," "," "," "," "," "," "," "," "," "," "," "," ",null,null,139," "," "," "," "," "," "," "," "," "," "," "," "," "," "," "]
[null,null,null,null,null,null,null,null,null,null,null,null,null,null,null,null,null,null,null,null,null,null,null,null,null,null,null,null,null,null,null,null,null,null,null,null,null,null,null,null,null,null,null,null,null,null,null,null,null,null,null,null,140," "," "," "," "," "," "," "," "," "," "," "," "," "," "," ",null,null,140," "," "," "," "," "," "," "," "," "," "," "," "," "," "," "]
[null,null,null,null,null,null,null,null,null,null,null,null,null,null,null,null,null,null,null,null,null,null,null,null,null,null,null,null,null,null,null,null,null,null,null,null,null,null,null,null,null,null,null,null,null,null,null,null,null,null,null,null,141," "," "," "," "," "," "," "," "," "," "," "," "," "," "," ",null,null,141," "," "," "," "," "," "," "," "," "," "," "," "," "," "," "]
[null,null,null,null,null,null,null,null,null,null,null,null,null,null,null,null,null,null,null,null,null,null,null,null,null,null,null,null,null,null,null,null,null,null,null,null,null,null,null,null,null,null,null,null,null,null,null,null,null,null,null,null,142," "," "," "," "," "," "," "," "," "," "," "," "," "," "," ",null,null,142," "," "," "," "," "," "," "," "," "," "," "," "," "," "," "]
[null,null,null,null,null,null,null,null,null,null,null,null,null,null,null,null,null,null,null,null,null,null,null,null,null,null,null,null,null,null,null,null,null,null,null,null,null,null,null,null,null,null,null,null,null,null,null,null,null,null,null,null,143," "," "," "," "," "," "," "," "," "," "," "," "," "," "," ",null,null,143," "," "," "," "," "," "," "," "," "," "," "," "," "," "," "]
[null,null,null,null,null,null,null,null,null,null,null,null,null,null,null,null,null,null,null,null,null,null,null,null,null,null,null,null,null,null,null,null,null,null,null,null,null,null,null,null,null,null,null,null,null,null,null,null,null,null,null,null,144," "," "," "," "," "," "," "," "," "," "," "," "," "," "," ",null,null,144," "," "," "," "," "," "," "," "," "," "," "," "," "," "," "]
[null,null,null,null,null,null,null,null,null,null,null,null,null,null,null,null,null,null,null,null,null,null,null,null,null,null,null,null,null,null,null,null,null,null,null,null,null,null,null,null,null,null,null,null,null,null,null,null,null,null,null,null,145," "," "," "," "," "," "," "," "," "," "," "," "," "," "," ",null,null,145," "," "," "," "," "," "," "," "," "," "," "," "," "," "," "]
[null,null,null,null,null,null,null,null,null,null,null,null,null,null,null,null,null,null,null,null,null,null,null,null,null,null,null,null,null,null,null,null,null,null,null,null,null,null,null,null,null,null,null,null,null,null,null,null,null,null,null,null,146," "," "," "," "," "," "," "," "," "," "," "," "," "," "," ",null,null,146," "," "," "," "," "," "," "," "," "," "," "," "," "," "," "]
[null,null,null,null,null,null,null,null,null,null,null,null,null,null,null,null,null,null,null,null,null,null,null,null,null,null,null,null,null,null,null,null,null,null,null,null,null,null,null,null,null,null,null,null,null,null,null,null,null,null,null,null,147," "," "," "," "," "," "," "," "," "," "," "," "," "," "," ",null,null,147," "," "," "," "," "," "," "," "," "," "," "," "," "," "," "]
[null,null,null,null,null,null,null,null,null,null,null,null,null,null,null,null,null,null,null,null,null,null,null,null,null,null,null,null,null,null,null,null,null,null,null,null,null,null,null,null,null,null,null,null,null,null,null,null,null,null,null,null,148," "," "," "," "," "," "," "," "," "," "," "," "," "," "," ",null,null,148," "," "," "," "," "," "," "," "," "," "," "," "," "," "," "]
[null,null,null,null,null,null,null,null,null,null,null,null,null,null,null,null,null,null,null,null,null,null,null,null,null,null,null,null,null,null,null,null,null,null,null,null,null,null,null,null,null,null,null,null,null,null,null,null,null,null,null,null,149," "," "," "," "," "," "," "," "," "," "," "," "," "," "," ",null,null,149," "," "," "," "," "," "," "," "," "," "," "," "," "," "," "]
[null,null,null,null,null,null,null,null,null,null,null,null,null,null,null,null,null,null,null,null,null,null,null,null,null,null,null,null,null,null,null,null,null,null,null,null,null,null,null,null,null,null,null,null,null,null,null,null,null,null,null,null,150," "," "," "," "," "," "," "," "," "," "," "," "," "," "," ",null,null,150," "," "," "," "," "," "," "," "," "," "," "," "," "," "," "]
[null,null,null,null,null,null,null,null,null,null,null,null,null,null,null,null,null,null,null,null,null,null,null,null,null,null,null,null,null,null,null,null,null,null,null,null,null,null,null,null,null,null,null,null,null,null,null,null,null,null,null,null,151," "," "," "," "," "," "," "," "," "," "," "," "," "," "," ",null,null,151," "," "," "," "," "," "," "," "," "," "," "," "," "," "," "]
[null,null,null,null,null,null,null,null,null,null,null,null,null,null,null,null,null,null,null,null,null,null,null,null,null,null,null,null,null,null,null,null,null,null,null,null,null,null,null,null,null,null,null,null,null,null,null,null,null,null,null,null,152," "," "," "," "," "," "," "," "," "," "," "," "," "," "," ",null,null,152," "," "," "," "," "," "," "," "," "," "," "," "," "," "," "]
[null,null,null,null,null,null,null,null,null,null,null,null,null,null,null,null,null,null,null,null,null,null,null,null,null,null,null,null,null,null,null,null,null,null,null,null,null,null,null,null,null,null,null,null,null,null,null,null,null,null,null,null,153," "," "," "," "," "," "," "," "," "," "," "," "," "," "," ",null,null,153," "," "," "," "," "," "," "," "," "," "," "," "," "," "," "]
[null,null,null,null,null,null,null,null,null,null,null,null,null,null,null,null,null,null,null,null,null,null,null,null,null,null,null,null,null,null,null,null,null,null,null,null,null,null,null,null,null,null,null,null,null,null,null,null,null,null,null,null,154," "," "," "," "," "," "," "," "," "," "," "," "," "," "," ",null,null,154," "," "," "," "," "," "," "," "," "," "," "," "," "," "," "]
[null,null,null,null,null,null,null,null,null,null,null,null,null,null,null,null,null,null,null,null,null,null,null,null,null,null,null,null,null,null,null,null,null,null,null,null,null,null,null,null,null,null,null,null,null,null,null,null,null,null,null,null,155," "," "," "," "," "," "," "," "," "," "," "," "," "," "," ",null,null,155," "," "," "," "," "," "," "," "," "," "," "," "," "," "," "]
[null,null,null,null,null,null,null,null,null,null,null,null,null,null,null,null,null,null,null,null,null,null,null,null,null,null,null,null,null,null,null,null,null,null,null,null,null,null,null,null,null,null,null,null,null,null,null,null,null,null,null,null,156," "," "," "," "," "," "," "," "," "," "," "," "," "," "," ",null,null,156," "," "," "," "," "," "," "," "," "," "," "," "," "," "," "]
[null,null,null,null,null,null,null,null,null,null,null,null,null,null,null,null,null,null,null,null,null,null,null,null,null,null,null,null,null,null,null,null,null,null,null,null,null,null,null,null,null,null,null,null,null,null,null,null,null,null,null,null,157," "," "," "," "," "," "," "," "," "," "," "," "," "," "," ",null,null,157," "," "," "," "," "," "," "," "," "," "," "," "," "," "," "]
[null,null,null,null,null,null,null,null,null,null,null,null,null,null,null,null,null,null,null,null,null,null,null,null,null,null,null,null,null,null,null,null,null,null,null,null,null,null,null,null,null,null,null,null,null,null,null,null,null,null,null,null,158," "," "," "," "," "," "," "," "," "," "," "," "," "," "," ",null,null,158," "," "," "," "," "," "," "," "," "," "," "," "," "," "," "]
[null,null,null,null,null,null,null,null,null,null,null,null,null,null,null,null,null,null,null,null,null,null,null,null,null,null,null,null,null,null,null,null,null,null,null,null,null,null,null,null,null,null,null,null,null,null,null,null,null,null,null,null,159," "," "," "," "," "," "," "," "," "," "," "," "," "," "," ",null,null,159," "," "," "," "," "," "," "," "," "," "," "," "," "," "," "]
[null,null,null,null,null,null,null,null,null,null,null,null,null,null,null,null,null,null,null,null,null,null,null,null,null,null,null,null,null,null,null,null,null,null,null,null,null,null,null,null,null,null,null,null,null,null,null,null,null,null,null,null,160," "," "," "," "," "," "," "," "," "," "," "," "," "," "," ",null,null,160," "," "," "," "," "," "," "," "," "," "," "," "," "," "," "]
[null,null,null,null,null,null,null,null,null,null,null,null,null,null,null,null,null,null,null,null,null,null,null,null,null,null,null,null,null,null,null,null,null,null,null,null,null,null,null,null,null,null,null,null,null,null,null,null,null,null,null,null,161," "," "," "," "," "," "," "," "," "," "," "," "," "," "," ",null,null,161," "," "," "," "," "," "," "," "," "," "," "," "," "," "," "]
[null,null,null,null,null,null,null,null,null,null,null,null,null,null,null,null,null,null,null,null,null,null,null,null,null,null,null,null,null,null,null,null,null,null,null,null,null,null,null,null,null,null,null,null,null,null,null,null,null,null,null,null,162," "," "," "," "," "," "," "," "," "," "," "," "," "," "," ",null,null,162," "," "," "," "," "," "," "," "," "," "," "," "," "," "," "]
[null,null,null,null,null,null,null,null,null,null,null,null,null,null,null,null,null,null,null,null,null,null,null,null,null,null,null,null,null,null,null,null,null,null,null,null,null,null,null,null,null,null,null,null,null,null,null,null,null,null,null,null,163," "," "," "," "," "," "," "," "," "," "," "," "," "," "," ",null,null,163," "," "," "," "," "," "," "," "," "," "," "," "," "," "," "]
[null,null,null,null,null,null,null,null,null,null,null,null,null,null,null,null,null,null,null,null,null,null,null,null,null,null,null,null,null,null,null,null,null,null,null,null,null,null,null,null,null,null,null,null,null,null,null,null,null,null,null,null,164," "," "," "," "," "," "," "," "," "," "," "," "," "," "," ",null,null,164," "," "," "," "," "," "," "," "," "," "," "," "," "," "," "]
[null,null,null,null,null,null,null,null,null,null,null,null,null,null,null,null,null,null,null,null,null,null,null,null,null,null,null,null,null,null,null,null,null,null,null,null,null,null,null,null,null,null,null,null,null,null,null,null,null,null,null,null,165," "," "," "," "," "," "," "," "," "," "," "," "," "," "," ",null,null,165," "," "," "," "," "," "," "," "," "," "," "," "," "," "," "]
[null,null,null,null,null,null,null,null,null,null,null,null,null,null,null,null,null,null,null,null,null,null,null,null,null,null,null,null,null,null,null,null,null,null,null,null,null,null,null,null,null,null,null,null,null,null,null,null,null,null,null,null,166," "," "," "," "," "," "," "," "," "," "," "," "," "," "," ",null,null,166," "," "," "," "," "," "," "," "," "," "," "," "," "," "," "]
[null,null,null,null,null,null,null,null,null,null,null,null,null,null,null,null,null,null,null,null,null,null,null,null,null,null,null,null,null,null,null,null,null,null,null,null,null,null,null,null,null,null,null,null,null,null,null,null,null,null,null,null,167," "," "," "," "," "," "," "," "," "," "," "," "," "," "," ",null,null,167," "," "," "," "," "," "," "," "," "," "," "," "," "," "," "]
[null,null,null,null,null,null,null,null,null,null,null,null,null,null,null,null,null,null,null,null,null,null,null,null,null,null,null,null,null,null,null,null,null,null,null,null,null,null,null,null,null,null,null,null,null,null,null,null,null,null,null,null,168," "," "," "," "," "," "," "," "," "," "," "," "," "," "," ",null,null,168," "," "," "," "," "," "," "," "," "," "," "," "," "," "," "]
[null,null,null,null,null,null,null,null,null,null,null,null,null,null,null,null,null,null,null,null,null,null,null,null,null,null,null,null,null,null,null,null,null,null,null,null,null,null,null,null,null,null,null,null,null,null,null,null,null,null,null,null,169," "," "," "," "," "," "," "," "," "," "," "," "," "," "," ",null,null,169," "," "," "," "," "," "," "," "," "," "," "," "," "," "," "]
[null,null,null,null,null,null,null,null,null,null,null,null,null,null,null,null,null,null,null,null,null,null,null,null,null,null,null,null,null,null,null,null,null,null,null,null,null,null,null,null,null,null,null,null,null,null,null,null,null,null,null,null,170," "," "," "," "," "," "," "," "," "," "," "," "," "," "," ",null,null,170," "," "," "," "," "," "," "," "," "," "," "," "," "," "," "]
[null,null,null,null,null,null,null,null,null,null,null,null,null,null,null,null,null,null,null,null,null,null,null,null,null,null,null,null,null,null,null,null,null,null,null,null,null,null,null,null,null,null,null,null,null,null,null,null,null,null,null,null,171," "," "," "," "," "," "," "," "," "," "," "," "," "," "," ",null,null,171," "," "," "," "," "," "," "," "," "," "," "," "," "," "," "]
[null,null,null,null,null,null,null,null,null,null,null,null,null,null,null,null,null,null,null,null,null,null,null,null,null,null,null,null,null,null,null,null,null,null,null,null,null,null,null,null,null,null,null,null,null,null,null,null,null,null,null,null,172," "," "," "," "," "," "," "," "," "," "," "," "," "," "," ",null,null,172," "," "," "," "," "," "," "," "," "," "," "," "," "," "," "]
[null,null,null,null,null,null,null,null,null,null,null,null,null,null,null,null,null,null,null,null,null,null,null,null,null,null,null,null,null,null,null,null,null,null,null,null,null,null,null,null,null,null,null,null,null,null,null,null,null,null,null,null,173," "," "," "," "," "," "," "," "," "," "," "," "," "," "," ",null,null,173," "," "," "," "," "," "," "," "," "," "," "," "," "," "," "]
[null,null,null,null,null,null,null,null,null,null,null,null,null,null,null,null,null,null,null,null,null,null,null,null,null,null,null,null,null,null,null,null,null,null,null,null,null,null,null,null,null,null,null,null,null,null,null,null,null,null,null,null,174," "," "," "," "," "," "," "," "," "," "," "," "," "," "," ",null,null,174," "," "," "," "," "," "," "," "," "," "," "," "," "," "," "]
[null,null,null,null,null,null,null,null,null,null,null,null,null,null,null,null,null,null,null,null,null,null,null,null,null,null,null,null,null,null,null,null,null,null,null,null,null,null,null,null,null,null,null,null,null,null,null,null,null,null,null,null,175," "," "," "," "," "," "," "," "," "," "," "," "," "," "," ",null,null,175," "," "," "," "," "," "," "," "," "," "," "," "," "," "," "]
[null,null,null,null,null,null,null,null,null,null,null,null,null,null,null,null,null,null,null,null,null,null,null,null,null,null,null,null,null,null,null,null,null,null,null,null,null,null,null,null,null,null,null,null,null,null,null,null,null,null,null,null,176," "," "," "," "," "," "," "," "," "," "," "," "," "," "," ",null,null,176," "," "," "," "," "," "," "," "," "," "," "," "," "," "," "]
[null,null,null,null,null,null,null,null,null,null,null,null,null,null,null,null,null,null,null,null,null,null,null,null,null,null,null,null,null,null,null,null,null,null,null,null,null,null,null,null,null,null,null,null,null,null,null,null,null,null,null,null,177," "," "," "," "," "," "," "," "," "," "," "," "," "," "," ",null,null,177," "," "," "," "," "," "," "," "," "," "," "," "," "," "," "]
[null,null,null,null,null,null,null,null,null,null,null,null,null,null,null,null,null,null,null,null,null,null,null,null,null,null,null,null,null,null,null,null,null,null,null,null,null,null,null,null,null,null,null,null,null,null,null,null,null,null,null,null,178," "," "," "," "," "," "," "," "," "," "," "," "," "," "," ",null,null,178," "," "," "," "," "," "," "," "," "," "," "," "," "," "," "]
[null,null,null,null,null,null,null,null,null,null,null,null,null,null,null,null,null,null,null,null,null,null,null,null,null,null,null,null,null,null,null,null,null,null,null,null,null,null,null,null,null,null,null,null,null,null,null,null,null,null,null,null,179," "," "," "," "," "," "," "," "," "," "," "," "," "," "," ",null,null,179," "," "," "," "," "," "," "," "," "," "," "," "," "," "," "]
[null,null,null,null,null,null,null,null,null,null,null,null,null,null,null,null,null,null,null,null,null,null,null,null,null,null,null,null,null,null,null,null,null,null,null,null,null,null,null,null,null,null,null,null,null,null,null,null,null,null,null,null,180," "," "," "," "," "," "," "," "," "," "," "," "," "," "," ",null,null,180," "," "," "," "," "," "," "," "," "," "," "," "," "," "," "]
[null,null,null,null,null,null,null,null,null,null,null,null,null,null,null,null,null,null,null,null,null,null,null,null,null,null,null,null,null,null,null,null,null,null,null,null,null,null,null,null,null,null,null,null,null,null,null,null,null,null,null,null,181," "," "," "," "," "," "," "," "," "," "," "," "," "," "," ",null,null,181," "," "," "," "," "," "," "," "," "," "," "," "," "," "," "]
[null,null,null,null,null,null,null,null,null,null,null,null,null,null,null,null,null,null,null,null,null,null,null,null,null,null,null,null,null,null,null,null,null,null,null,null,null,null,null,null,null,null,null,null,null,null,null,null,null,null,null,null,182," "," "," "," "," "," "," "," "," "," "," "," "," "," "," ",null,null,182," "," "," "," "," "," "," "," "," "," "," "," "," "," "," "]
[null,null,null,null,null,null,null,null,null,null,null,null,null,null,null,null,null,null,null,null,null,null,null,null,null,null,null,null,null,null,null,null,null,null,null,null,null,null,null,null,null,null,null,null,null,null,null,null,null,null,null,null,183," "," "," "," "," "," "," "," "," "," "," "," "," "," "," ",null,null,183," "," "," "," "," "," "," "," "," "," "," "," "," "," "," "]
[null,null,null,null,null,null,null,null,null,null,null,null,null,null,null,null,null,null,null,null,null,null,null,null,null,null,null,null,null,null,null,null,null,null,null,null,null,null,null,null,null,null,null,null,null,null,null,null,null,null,null,null,184," "," "," "," "," "," "," "," "," "," "," "," "," "," "," ",null,null,184," "," "," "," "," "," "," "," "," "," "," "," "," "," "," "]
[null,null,null,null,null,null,null,null,null,null,null,null,null,null,null,null,null,null,null,null,null,null,null,null,null,null,null,null,null,null,null,null,null,null,null,null,null,null,null,null,null,null,null,null,null,null,null,null,null,null,null,null,185," "," "," "," "," "," "," "," "," "," "," "," "," "," "," ",null,null,185," "," "," "," "," "," "," "," "," "," "," "," "," "," "," "]
[null,null,null,null,null,null,null,null,null,null,null,null,null,null,null,null,null,null,null,null,null,null,null,null,null,null,null,null,null,null,null,null,null,null,null,null,null,null,null,null,null,null,null,null,null,null,null,null,null,null,null,null,186," "," "," "," "," "," "," "," "," "," "," "," "," "," "," ",null,null,186," "," "," "," "," "," "," "," "," "," "," "," "," "," "," "]
[null,null,null,null,null,null,null,null,null,null,null,null,null,null,null,null,null,null,null,null,null,null,null,null,null,null,null,null,null,null,null,null,null,null,null,null,null,null,null,null,null,null,null,null,null,null,null,null,null,null,null,null,187," "," "," "," "," "," "," "," "," "," "," "," "," "," "," ",null,null,187," "," "," "," "," "," "," "," "," "," "," "," "," "," "," "]
[null,null,null,null,null,null,null,null,null,null,null,null,null,null,null,null,null,null,null,null,null,null,null,null,null,null,null,null,null,null,null,null,null,null,null,null,null,null,null,null,null,null,null,null,null,null,null,null,null,null,null,null,188," "," "," "," "," "," "," "," "," "," "," "," "," "," "," ",null,null,188," "," "," "," "," "," "," "," "," "," "," "," "," "," "," "]
[null,null,null,null,null,null,null,null,null,null,null,null,null,null,null,null,null,null,null,null,null,null,null,null,null,null,null,null,null,null,null,null,null,null,null,null,null,null,null,null,null,null,null,null,null,null,null,null,null,null,null,null,189," "," "," "," "," "," "," "," "," "," "," "," "," "," "," ",null,null,189," "," "," "," "," "," "," "," "," "," "," "," "," "," "," "]
[null,null,null,null,null,null,null,null,null,null,null,null,null,null,null,null,null,null,null,null,null,null,null,null,null,null,null,null,null,null,null,null,null,null,null,null,null,null,null,null,null,null,null,null,null,null,null,null,null,null,null,null,190," "," "," "," "," "," "," "," "," "," "," "," "," "," "," ",null,null,190," "," "," "," "," "," "," "," "," "," "," "," "," "," "," "]
[null,null,null,null,null,null,null,null,null,null,null,null,null,null,null,null,null,null,null,null,null,null,null,null,null,null,null,null,null,null,null,null,null,null,null,null,null,null,null,null,null,null,null,null,null,null,null,null,null,null,null,null,191," "," "," "," "," "," "," "," "," "," "," "," "," "," "," ",null,null,191," "," "," "," "," "," "," "," "," "," "," "," "," "," "," "]
[null,null,null,null,null,null,null,null,null,null,null,null,null,null,null,null,null,null,null,null,null,null,null,null,null,null,null,null,null,null,null,null,null,null,null,null,null,null,null,null,null,null,null,null,null,null,null,null,null,null,null,null,192," "," "," "," "," "," "," "," "," "," "," "," "," "," "," ",null,null,192," "," "," "," "," "," "," "," "," "," "," "," "," "," "," "]
[null,null,null,null,null,null,null,null,null,null,null,null,null,null,null,null,null,null,null,null,null,null,null,null,null,null,null,null,null,null,null,null,null,null,null,null,null,null,null,null,null,null,null,null,null,null,null,null,null,null,null,null,193," "," "," "," "," "," "," "," "," "," "," "," "," "," "," ",null,null,193," "," "," "," "," "," "," "," "," "," "," "," "," "," "," "]
[null,null,null,null,null,null,null,null,null,null,null,null,null,null,null,null,null,null,null,null,null,null,null,null,null,null,null,null,null,null,null,null,null,null,null,null,null,null,null,null,null,null,null,null,null,null,null,null,null,null,null,null,194," "," "," "," "," "," "," "," "," "," "," "," "," "," "," ",null,null,194," "," "," "," "," "," "," "," "," "," "," "," "," "," "," "]
[null,null,null,null,null,null,null,null,null,null,null,null,null,null,null,null,null,null,null,null,null,null,null,null,null,null,null,null,null,null,null,null,null,null,null,null,null,null,null,null,null,null,null,null,null,null,null,null,null,null,null,null,195," "," "," "," "," "," "," "," "," "," "," "," "," "," "," ",null,null,195," "," "," "," "," "," "," "," "," "," "," "," "," "," "," "]
[null,null,null,null,null,null,null,null,null,null,null,null,null,null,null,null,null,null,null,null,null,null,null,null,null,null,null,null,null,null,null,null,null,null,null,null,null,null,null,null,null,null,null,null,null,null,null,null,null,null,null,null,196," "," "," "," "," "," "," "," "," "," "," "," "," "," "," ",null,null,196," "," "," "," "," "," "," "," "," "," "," "," "," "," "," "]
[null,null,null,null,null,null,null,null,null,null,null,null,null,null,null,null,null,null,null,null,null,null,null,null,null,null,null,null,null,null,null,null,null,null,null,null,null,null,null,null,null,null,null,null,null,null,null,null,null,null,null,null,197," "," "," "," "," "," "," "," "," "," "," "," "," "," "," ",null,null,197," "," "," "," "," "," "," "," "," "," "," "," "," "," "," "]
[null,null,null,null,null,null,null,null,null,null,null,null,null,null,null,null,null,null,null,null,null,null,null,null,null,null,null,null,null,null,null,null,null,null,null,null,null,null,null,null,null,null,null,null,null,null,null,null,null,null,null,null,198," "," "," "," "," "," "," "," "," "," "," "," "," "," "," ",null,null,198," "," "," "," "," "," "," "," "," "," "," "," "," "," "," "]
[null,null,null,null,null,null,null,null,null,null,null,null,null,null,null,null,null,null,null,null,null,null,null,null,null,null,null,null,null,null,null,null,null,null,null,null,null,null,null,null,null,null,null,null,null,null,null,null,null,null,null,null,199," "," "," "," "," "," "," "," "," "," "," "," "," "," "," ",null,null,199," "," "," "," "," "," "," "," "," "," "," "," "," "," "," "]
[null,null,null,null,null,null,null,null,null,null,null,null,null,null,null,null,null,null,null,null,null,null,null,null,null,null,null,null,null,null,null,null,null,null,null,null,null,null,null,null,null,null,null,null,null,null,null,null,null,null,null,null,200," "," "," "," "," "," "," "," "," "," "," "," "," "," "," ",null,null,200," "," "," "," "," "," "," "," "," "," "," "," "," "," "," "]
[null,null,null,null,null,null,null,null,null,null,null,null,null,null,null,null,null,null,null,null,null,null,null,null,null,null,null,null,null,null,null,null,null,null,null,null,null,null,null,null,null,null,null,null,null,null,null,null,null,null,null,null,201," "," "," "," "," "," "," "," "," "," "," "," "," "," "," ",null,null,201," "," "," "," "," "," "," "," "," "," "," "," "," "," "," "]
[null,null,null,null,null,null,null,null,null,null,null,null,null,null,null,null,null,null,null,null,null,null,null,null,null,null,null,null,null,null,null,null,null,null,null,null,null,null,null,null,null,null,null,null,null,null,null,null,null,null,null,null,202," "," "," "," "," "," "," "," "," "," "," "," "," "," "," ",null,null,202," "," "," "," "," "," "," "," "," "," "," "," "," "," "," "]
[null,null,null,null,null,null,null,null,null,null,null,null,null,null,null,null,null,null,null,null,null,null,null,null,null,null,null,null,null,null,null,null,null,null,null,null,null,null,null,null,null,null,null,null,null,null,null,null,null,null,null,null,203," "," "," "," "," "," "," "," "," "," "," "," "," "," "," ",null,null,203," "," "," "," "," "," "," "," "," "," "," "," "," "," "," "]
[null,null,null,null,null,null,null,null,null,null,null,null,null,null,null,null,null,null,null,null,null,null,null,null,null,null,null,null,null,null,null,null,null,null,null,null,null,null,null,null,null,null,null,null,null,null,null,null,null,null,null,null,204," "," "," "," "," "," "," "," "," "," "," "," "," "," "," ",null,null,204," "," "," "," "," "," "," "," "," "," "," "," "," "," "," "]
[null,null,null,null,null,null,null,null,null,null,null,null,null,null,null,null,null,null,null,null,null,null,null,null,null,null,null,null,null,null,null,null,null,null,null,null,null,null,null,null,null,null,null,null,null,null,null,null,null,null,null,null,205," "," "," "," "," "," "," "," "," "," "," "," "," "," "," ",null,null,205," "," "," "," "," "," "," "," "," "," "," "," "," "," "," "]
[null,null,null,null,null,null,null,null,null,null,null,null,null,null,null,null,null,null,null,null,null,null,null,null,null,null,null,null,null,null,null,null,null,null,null,null,null,null,null,null,null,null,null,null,null,null,null,null,null,null,null,null,206," "," "," "," "," "," "," "," "," "," "," "," "," "," "," ",null,null,206," "," "," "," "," "," "," "," "," "," "," "," "," "," "," "]
[null,null,null,null,null,null,null,null,null,null,null,null,null,null,null,null,null,null,null,null,null,null,null,null,null,null,null,null,null,null,null,null,null,null,null,null,null,null,null,null,null,null,null,null,null,null,null,null,null,null,null,null,207," "," "," "," "," "," "," "," "," "," "," "," "," "," "," ",null,null,207," "," "," "," "," "," "," "," "," "," "," "," "," "," "," "]
[null,null,null,null,null,null,null,null,null,null,null,null,null,null,null,null,null,null,null,null,null,null,null,null,null,null,null,null,null,null,null,null,null,null,null,null,null,null,null,null,null,null,null,null,null,null,null,null,null,null,null,null,208," "," "," "," "," "," "," "," "," "," "," "," "," "," "," ",null,null,208," "," "," "," "," "," "," "," "," "," "," "," "," "," "," "]
[null,null,null,null,null,null,null,null,null,null,null,null,null,null,null,null,null,null,null,null,null,null,null,null,null,null,null,null,null,null,null,null,null,null,null,null,null,null,null,null,null,null,null,null,null,null,null,null,null,null,null,null,209," "," "," "," "," "," "," "," "," "," "," "," "," "," "," ",null,null,209," "," "," "," "," "," "," "," "," "," "," "," "," "," "," "]
[null,null,null,null,null,null,null,null,null,null,null,null,null,null,null,null,null,null,null,null,null,null,null,null,null,null,null,null,null,null,null,null,null,null,null,null,null,null,null,null,null,null,null,null,null,null,null,null,null,null,null,null,210," "," "," "," "," "," "," "," "," "," "," "," "," "," "," ",null,null,210," "," "," "," "," "," "," "," "," "," "," "," "," "," "," "]
[null,null,null,null,null,null,null,null,null,null,null,null,null,null,null,null,null,null,null,null,null,null,null,null,null,null,null,null,null,null,null,null,null,null,null,null,null,null,null,null,null,null,null,null,null,null,null,null,null,null,null,null,211," "," "," "," "," "," "," "," "," "," "," "," "," "," "," ",null,null,211," "," "," "," "," "," "," "," "," "," "," "," "," "," "," "]
[null,null,null,null,null,null,null,null,null,null,null,null,null,null,null,null,null,null,null,null,null,null,null,null,null,null,null,null,null,null,null,null,null,null,null,null,null,null,null,null,null,null,null,null,null,null,null,null,null,null,null,null,212," "," "," "," "," "," "," "," "," "," "," "," "," "," "," ",null,null,212," "," "," "," "," "," "," "," "," "," "," "," "," "," "," "]
[null,null,null,null,null,null,null,null,null,null,null,null,null,null,null,null,null,null,null,null,null,null,null,null,null,null,null,null,null,null,null,null,null,null,null,null,null,null,null,null,null,null,null,null,null,null,null,null,null,null,null,null,213," "," "," "," "," "," "," "," "," "," "," "," "," "," "," ",null,null,213," "," "," "," "," "," "," "," "," "," "," "," "," "," "," "]
[null,null,null,null,null,null,null,null,null,null,null,null,null,null,null,null,null,null,null,null,null,null,null,null,null,null,null,null,null,null,null,null,null,null,null,null,null,null,null,null,null,null,null,null,null,null,null,null,null,null,null,null,214," "," "," "," "," "," "," "," "," "," "," "," "," "," "," ",null,null,214," "," "," "," "," "," "," "," "," "," "," "," "," "," "," "]
[null,null,null,null,null,null,null,null,null,null,null,null,null,null,null,null,null,null,null,null,null,null,null,null,null,null,null,null,null,null,null,null,null,null,null,null,null,null,null,null,null,null,null,null,null,null,null,null,null,null,null,null,216," "," "," "," "," "," "," "," "," "," "," "," "," "," "," ",null,null,216," "," "," "," "," "," "," "," "," "," "," "," "," "," "," "]
[null,null,null,null,null,null,null,null,null,null,null,null,null,null,null,null,null,null,null,null,null,null,null,null,null,null,null,null,null,null,null,null,null,null,null,null,null,null,null,null,null,null,null,null,null,null,null,null,null,null,null,null,220," "," "," "," "," "," "," "," "," "," "," "," "," "," "," ",null,null,220," "," "," "," "," "," "," "," "," "," "," "," "," "," "," "]
[null,null,null,null,null,null,null,null,null,null,null,null,null,null,null,null,null,null,null,null,null,null,null,null,null,null,null,null,null,null,null,null,null,null,null,null,null,null,null,null,null,null,null,null,null,null,null,null,null,null,null,null,225," "," "," "," "," "," "," "," "," "," "," "," "," "," "," ",null,null,225," "," "," "," "," "," "," "," "," "," "," "," "," "," "," "]
[null,null,null,null,null,null,null,null,null,null,null,null,null,null,null,null,null,null,null,null,null,null,null,null,null,null,null,null,null,null,null,null,null,null,null,null,null,null,null,null,null,null,null,null,null,null,null,null,null,null,null,null,231," "," "," "," "," "," "," "," "," "," "," "," "," "," "," ",null,null,231," "," "," "," "," "," "," "," "," "," "," "," "," "," "," "]
[null,null,null,null,null,null,null,null,null,null,null,null,null,null,null,null,null,null,null,null,null,null,null,null,null,null,null,null,null,null,null,null,null,null,null,null,null,null,null,null,null,null,null,null,null,null,null,null,null,null,null,null,236," "," "," "," "," "," "," "," "," "," "," "," "," "," "," ",null,null,236," "," "," "," "," "," "," "," "," "," "," "," "," "," "," "]
[null,null,null,null,null,null,null,null,null,null,null,null,null,null,null,null,null,null,null,null,null,null,null,null,null,null,null,null,null,null,null,null,null,null,null,null,null,null,null,null,null,null,null,null,null,null,null,null,null,null,null,null,241," "," "," "," "," "," "," "," "," "," "," "," "," "," "," ",null,null,241," "," "," "," "," "," "," "," "," "," "," "," "," "," "," "]
[null,null,null,null,null,null,null,null,null,null,null,null,null,null,null,null,null,null,null,null,null,null,null,null,null,null,null,null,null,null,null,null,null,null,null,null,null,null,null,null,null,null,null,null,null,null,null,null,null,null,null,null,247," "," "," "," "," "," "," "," "," "," "," "," "," "," "," ",null,null,247," "," "," "," "," "," "," "," "," "," "," "," "," "," "," "]
[null,null,null,null,null,null,null,null,null,null,null,null,null,null,null,null,null,null,null,null,null,null,null,null,null,null,null,null,null,null,null,null,null,null,null,null,null,null,null,null,null,null,null,null,null,null,null,null,null,null,null,null,252," "," "," "," "," "," "," "," "," "," "," "," "," "," "," ",null,null,252," "," "," "," "," "," "," "," "," "," "," "," "," "," "," "]
[null,null,null,null,null,null,null,null,null,null,null,null,null,null,null,null,null,null,null,null,null,null,null,null,null,null,null,null,null,null,null,null,null,null,null,null,null,null,null,null,null,null,null,null,null,null,null,null,null,null,null,null,258," "," "," "," "," "," "," "," "," "," "," "," "," "," "," ",null,null,258," "," "," "," "," "," "," "," "," "," "," "," "," "," "," "]
[null,null,null,null,null,null,null,null,null,null,null,null,null,null,null,null,null,null,null,null,null,null,null,null,null,null,null,null,null,null,null,null,null,null,null,null,null,null,null,null,null,null,null,null,null,null,null,null,null,null,null,null,261," "," "," "," "," "," "," "," "," "," "," "," "," "," "," ",null,null,261," "," "," "," "," "," "," "," "," "," "," "," "," "," "," "]
[null,null,null,null,null,null,null,null,null,null,null,null,null,null,null,null,null,null,null,null,null,null,null,null,null,null,null,null,null,null,null,null,null,null,null,null,null,null,null,null,null,null,null,null,null,null,null,null,null,null,null,null,267," "," "," "," "," "," "," "," "," "," "," "," "," "," "," ",null,null,267," "," "," "," "," "," "," "," "," "," "," "," "," "," "," "]
[null,null,null,null,null,null,null,null,null,null,null,null,null,null,null,null,null,null,null,null,null,null,null,null,null,null,null,null,null,null,null,null,null,null,null,null,null,null,null,null,null,null,null,null,null,null,null,null,null,null,null,null,268," "," "," "," "," "," "," "," "," "," "," "," "," "," "," ",null,null,268," "," "," "," "," "," "," "," "," "," "," "," "," "," "," "]
[null,null,null,null,null,null,null,null,null,null,null,null,null,null,null,null,null,null,null,null,null,null,null,null,null,null,null,null,null,null,null,null,null,null,null,null,null,null,null,null,null,null,null,null,null,null,null,null,null,null,null,null,273," "," "," "," "," "," "," "," "," "," "," "," "," "," "," ",null,null,273," "," "," "," "," "," "," "," "," "," "," "," "," "," "," "]
[null,null,null,null,null,null,null,null,null,null,null,null,null,null,null,null,null,null,null,null,null,null,null,null,null,null,null,null,null,null,null,null,null,null,null,null,null,null,null,null,null,null,null,null,null,null,null,null,null,null,null,null,278," "," "," "," "," "," "," "," "," "," "," "," "," "," "," ",null,null,278," "," "," "," "," "," "," "," "," "," "," "," "," "," "," "]
[null,null,null,null,null,null,null,null,null,null,null,null,null,null,null,null,null,null,null,null,null,null,null,null,null,null,null,null,null,null,null,null,null,null,null,null,null,null,null,null,null,null,null,null,null,null,null,null,null,null,null,null,284," "," "," "," "," "," "," "," "," "," "," "," "," "," "," ",null,null,284," "," "," "," "," "," "," "," "," "," "," "," "," "," "," "]
[null,null,null,null,null,null,null,null,null,null,null,null,null,null,null,null,null,null,null,null,null,null,null,null,null,null,null,null,null,null,null,null,null,null,null,null,null,null,null,null,null,null,null,null,null,null,null,null,null,null,null,null,289," "," "," "," "," "," "," "," "," "," "," "," "," "," "," ",null,null,289," "," "," "," "," "," "," "," "," "," "," "," "," "," "," "]
[null,null,null,null,null,null,null,null,null,null,null,null,null,null,null,null,null,null,null,null,null,null,null,null,null,null,null,null,null,null,null,null,null,null,null,null,null,null,null,null,null,null,null,null,null,null,null,null,null,null,null,null,295," "," "," "," "," "," "," "," "," "," "," "," "," "," "," ",null,null,295," "," "," "," "," "," "," "," "," "," "," "," "," "," "," "]
[null,null,null,null,null,null,null,null,null,null,null,null,null,null,null,null,null,null,null,null,null,null,null,null,null,null,null,null,null,null,null,null,null,null,null,null,null,null,null,null,null,null,null,null,null,null,null,null,null,null,null,null,300," "," "," "," "," "," "," "," "," "," "," "," "," "," "," ",null,null,300," "," "," "," "," "," "," "," "," "," "," "," "," "," "," "]
[null,null,null,null,null,null,null,null,null,null,null,null,null,null,null,null,null,null,null,null,null,null,null,null,null,null,null,null,null,null,null,null,null,null,null,null,null,null,null,null,null,null,null,null,null,null,null,null,null,null,null,null,305," "," "," "," "," "," "," "," "," "," "," "," "," "," "," ",null,null,305," "," "," "," "," "," "," "," "," "," "," "," "," "," "," "]
[null,null,null,null,null,null,null,null,null,null,null,null,null,null,null,null,null,null,null,null,null,null,null,null,null,null,null,null,null,null,null,null,null,null,null,null,null,null,null,null,null,null,null,null,null,null,null,null,null,null,null,null,308," "," "," "," "," "," "," "," "," "," "," "," "," "," "," ",null,null,308," "," "," "," "," "," "," "," "," "," "," "," "," "," "," "]
[null,null,null,null,null,null,null,null,null,null,null,null,null,null,null,null,null,null,null,null,null,null,null,null,null,null,null,null,null,null,null,null,null,null,null,null,null,null,null,null,null,null,null,null,null,null,null,null,null,null,null,null,315," "," "," "," "," "," "," "," "," "," "," "," "," "," "," ",null,null,315," "," "," "," "," "," "," "," "," "," "," "," "," "," "," "]
[null,null,null,null,null,null,null,null,null,null,null,null,null,null,null,null,null,null,null,null,null,null,null,null,null,null,null,null,null,null,null,null,null,null,null,null,null,null,null,null,null,null,null,null,null,null,null,null,null,null,null,null,321," "," "," "," "," "," "," "," "," "," "," "," "," "," "," ",null,null,321," "," "," "," "," "," "," "," "," "," "," "," "," "," "," "]
[null,null,null,null,null,null,null,null,null,null,null,null,null,null,null,null,null,null,null,null,null,null,null,null,null,null,null,null,null,null,null,null,null,null,null,null,null,null,null,null,null,null,null,null,null,null,null,null,null,null,null,null,326," "," "," "," "," "," "," "," "," "," "," "," "," "," "," ",null,null,326," "," "," "," "," "," "," "," "," "," "," "," "," "," "," "]
[null,null,null,null,null,null,null,null,null,null,null,null,null,null,null,null,null,null,null,null,null,null,null,null,null,null,null,null,null,null,null,null,null,null,null,null,null,null,null,null,null,null,null,null,null,null,null,null,null,null,null,null,331," "," "," "," "," "," "," "," "," "," "," "," "," "," "," ",null,null,331," "," "," "," "," "," "," "," "," "," "," "," "," "," "," "]
[null,null,null,null,null,null,null,null,null,null,null,null,null,null,null,null,null,null,null,null,null,null,null,null,null,null,null,null,null,null,null,null,null,null,null,null,null,null,null,null,null,null,null,null,null,null,null,null,null,null,null,null,332," "," "," "," "," "," "," "," "," "," "," "," "," "," "," ",null,null,332," "," "," "," "," "," "," "," "," "," "," "," "," "," "," "]
[null,null,null,null,null,null,null,null,null,null,null,null,null,null,null,null,null,null,null,null,null,null,null,null,null,null,null,null,null,null,null,null,null,null,null,null,null,null,null,null,null,null,null,null,null,null,null,null,null,null,null,null,337," "," "," "," "," "," "," "," "," "," "," "," "," "," "," ",null,null,337," "," "," "," "," "," "," "," "," "," "," "," "," "," "," "]
[null,null,null,null,null,null,null,null,null,null,null,null,null,null,null,null,null,null,null,null,null,null,null,null,null,null,null,null,null,null,null,null,null,null,null,null,null,null,null,null,null,null,null,null,null,null,null,null,null,null,null,null,342," "," "," "," "," "," "," "," "," "," "," "," "," "," "," ",null,null,342," "," "," "," "," "," "," "," "," "," "," "," "," "," "," "]
[null,null,null,null,null,null,null,null,null,null,null,null,null,null,null,null,null,null,null,null,null,null,null,null,null,null,null,null,null,null,null,null,null,null,null,null,null,null,null,null,null,null,null,null,null,null,null,null,null,null,null,null,348," "," "," "," "," "," "," "," "," "," "," "," "," "," "," ",null,null,348," "," "," "," "," "," "," "," "," "," "," "," "," "," "," "]
[null,null,null,null,null,null,null,null,null,null,null,null,null,null,null,null,null,null,null,null,null,null,null,null,null,null,null,null,null,null,null,null,null,null,null,null,null,null,null,null,null,null,null,null,null,null,null,null,null,null,null,null,353," "," "," "," "," "," "," "," "," "," "," "," "," "," "," ",null,null,353," "," "," "," "," "," "," "," "," "," "," "," "," "," "," "]
[null,null,null,null,null,null,null,null,null,null,null,null,null,null,null,null,null,null,null,null,null,null,null,null,null,null,null,null,null,null,null,null,null,null,null,null,null,null,null,null,null,null,null,null,null,null,null,null,null,null,null,null,358," "," "," "," "," "," "," "," "," "," "," "," "," "," "," ",null,null,358," "," "," "," "," "," "," "," "," "," "," "," "," "," "," "]
[null,null,null,null,null,null,null,null,null,null,null,null,null,null,null,null,null,null,null,null,null,null,null,null,null,null,null,null,null,null,null,null,null,null,null,null,null,null,null,null,null,null,null,null,null,null,null,null,null,null,null,null,363," "," "," "," "," "," "," "," "," "," "," "," "," "," "," ",null,null,363," "," "," "," "," "," "," "," "," "," "," "," "," "," "," "]
[null,null,null,null,null,null,null,null,null,null,null,null,null,null,null,null,null,null,null,null,null,null,null,null,null,null,null,null,null,null,null,null,null,null,null,null,null,null,null,null,null,null,null,null,null,null,null,null,null,null,null,null,368," "," "," "," "," "," "," "," "," "," "," "," "," "," "," ",null,null,368," "," "," "," "," "," "," "," "," "," "," "," "," "," "," "]
[null,null,null,null,null,null,null,null,null,null,null,null,null,null,null,null,null,null,null,null,null,null,null,null,null,null,null,null,null,null,null,null,null,null,null,null,null,null,null,null,null,null,null,null,null,null,null,null,null,null,null,null,374," "," "," "," "," "," "," "," "," "," "," "," "," "," "," ",null,null,374," "," "," "," "," "," "," "," "," "," "," "," "," "," "," "]
[null,null,null,null,null,null,null,null,null,null,null,null,null,null,null,null,null,null,null,null,null,null,null,null,null,null,null,null,null,null,null,null,null,null,null,null,null,null,null,null,null,null,null,null,null,null,null,null,null,null,null,null,379," "," "," "," "," "," "," "," "," "," "," "," "," "," "," ",null,null,379," "," "," "," "," "," "," "," "," "," "," "," "," "," "," "]
[null,null,null,null,null,null,null,null,null,null,null,null,null,null,null,null,null,null,null,null,null,null,null,null,null,null,null,null,null,null,null,null,null,null,null,null,null,null,null,null,null,null,null,null,null,null,null,null,null,null,null,null,384," "," "," "," "," "," "," "," "," "," "," "," "," "," "," ",null,null,384," "," "," "," "," "," "," "," "," "," "," "," "," "," "," "]
[null,null,null,null,null,null,null,null,null,null,null,null,null,null,null,null,null,null,null,null,null,null,null,null,null,null,null,null,null,null,null,null,null,null,null,null,null,null,null,null,null,null,null,null,null,null,null,null,null,null,null,null,390," "," "," "," "," "," "," "," "," "," "," "," "," "," "," ",null,null,390," "," "," "," "," "," "," "," "," "," "," "," "," "," "," "]
[null,null,null,null,null,null,null,null,null,null,null,null,null,null,null,null,null,null,null,null,null,null,null,null,null,null,null,null,null,null,null,null,null,null,null,null,null,null,null,null,null,null,null,null,null,null,null,null,null,null,null,null,395," "," "," "," "," "," "," "," "," "," "," "," "," "," "," ",null,null,395," "," "," "," "," "," "," "," "," "," "," "," "," "," "," "]
[null,null,null,null,null,null,null,null,null,null,null,null,null,null,null,null,null,null,null,null,null,null,null,null,null,null,null,null,null,null,null,null,null,null,null,null,null,null,null,null,null,null,null,null,null,null,null,null,null,null,null,null,396," "," "," "," "," "," "," "," "," "," "," "," "," "," "," ",null,null,396," "," "," "," "," "," "," "," "," "," "," "," "," "," "," "]
[null,null,null,null,null,null,null,null,null,null,null,null,null,null,null,null,null,null,null,null,null,null,null,null,null,null,null,null,null,null,null,null,null,null,null,null,null,null,null,null,null,null,null,null,null,null,null,null,null,null,null,null,404," "," "," "," "," "," "," "," "," "," "," "," "," "," "," ",null,null,404," "," "," "," "," "," "," "," "," "," "," "," "," "," "," "]
[null,null,null,null,null,null,null,null,null,null,null,null,null,null,null,null,null,null,null,null,null,null,null,null,null,null,null,null,null,null,null,null,null,null,null,null,null,null,null,null,null,null,null,null,null,null,null,null,null,null,null,null,405," "," "," "," "," "," "," "," "," "," "," "," "," "," "," ",null,null,405," "," "," "," "," "," "," "," "," "," "," "," "," "," "," "]
[null,null,null,null,null,null,null,null,null,null,null,null,null,null,null,null,null,null,null,null,null,null,null,null,null,null,null,null,null,null,null,null,null,null,null,null,null,null,null,null,null,null,null,null,null,null,null,null,null,null,null,null,411," "," "," "," "," "," "," "," "," "," "," "," "," "," "," ",null,null,411," "," "," "," "," "," "," "," "," "," "," "," "," "," "," "]
[null,null,null,null,null,null,null,null,null,null,null,null,null,null,null,null,null,null,null,null,null,null,null,null,null,null,null,null,null,null,null,null,null,null,null,null,null,null,null,null,null,null,null,null,null,null,null,null,null,null,null,null,416," "," "," "," "," "," "," "," "," "," "," "," "," "," "," ",null,null,416," "," "," "," "," "," "," "," "," "," "," "," "," "," "," "]
[null,null,null,null,null,null,null,null,null,null,null,null,null,null,null,null,null,null,null,null,null,null,null,null,null,null,null,null,null,null,null,null,null,null,null,null,null,null,null,null,null,null,null,null,null,null,null,null,null,null,null,null,422," "," "," "," "," "," "," "," "," "," "," "," "," "," "," ",null,null,422," "," "," "," "," "," "," "," "," "," "," "," "," "," "," "]
[null,null,null,null,null,null,null,null,null,null,null,null,null,null,null,null,null,null,null,null,null,null,null,null,null,null,null,null,null,null,null,null,null,null,null,null,null,null,null,null,null,null,null,null,null,null,null,null,null,null,null,null,427," "," "," "," "," "," "," "," "," "," "," "," "," "," "," ",null,null,427," "," "," "," "," "," "," "," "," "," "," "," "," "," "," "]
[null,null,null,null,null,null,null,null,null,null,null,null,null,null,null,null,null,null,null,null,null,null,null,null,null,null,null,null,null,null,null,null,null,null,null,null,null,null,null,null,null,null,null,null,null,null,null,null,null,null,null,null,432," "," "," "," "," "," "," "," "," "," "," "," "," "," "," ",null,null,432," "," "," "," "," "," "," "," "," "," "," "," "," "," "," "]
[null,null,null,null,null,null,null,null,null,null,null,null,null,null,null,null,null,null,null,null,null,null,null,null,null,null,null,null,null,null,null,null,null,null,null,null,null,null,null,null,null,null,null,null,null,null,null,null,null,null,null,null,438," "," "," "," "," "," "," "," "," "," "," "," "," "," "," ",null,null,438," "," "," "," "," "," "," "," "," "," "," "," "," "," "," "]
[null,null,null,null,null,null,null,null,null,null,null,null,null,null,null,null,null,null,null,null,null,null,null,null,null,null,null,null,null,null,null,null,null,null,null,null,null,null,null,null,null,null,null,null,null,null,null,null,null,null,null,null,443," "," "," "," "," "," "," "," "," "," "," "," "," "," "," ",null,null,443," "," "," "," "," "," "," "," "," "," "," "," "," "," "," "]
[null,null,null,null,null,null,null,null,null,null,null,null,null,null,null,null,null,null,null,null,null,null,null,null,null,null,null,null,null,null,null,null,null,null,null,null,null,null,null,null,null,null,null,null,null,null,null,null,null,null,null,null,448," "," "," "," "," "," "," "," "," "," "," "," "," "," "," ",null,null,448," "," "," "," "," "," "," "," "," "," "," "," "," "," "," "]
[null,null,null,null,null,null,null,null,null,null,null,null,null,null,null,null,null,null,null,null,null,null,null,null,null,null,null,null,null,null,null,null,null,null,null,null,null,null,null,null,null,null,null,null,null,null,null,null,null,null,null,null,451," "," "," "," "," "," "," "," "," "," "," "," "," "," "," ",null,null,451," "," "," "," "," "," "," "," "," "," "," "," "," "," "," "]
[null,null,null,null,null,null,null,null,null,null,null,null,null,null,null,null,null,null,null,null,null,null,null,null,null,null,null,null,null,null,null,null,null,null,null,null,null,null,null,null,null,null,null,null,null,null,null,null,null,null,null,null,458," "," "," "," "," "," "," "," "," "," "," "," "," "," "," ",null,null,458," "," "," "," "," "," "," "," "," "," "," "," "," "," "," "]
[null,null,null,null,null,null,null,null,null,null,null,null,null,null,null,null,null,null,null,null,null,null,null,null,null,null,null,null,null,null,null,null,null,null,null,null,null,null,null,null,null,null,null,null,null,null,null,null,null,null,null,null,459," "," "," "," "," "," "," "," "," "," "," "," "," "," "," ",null,null,459," "," "," "," "," "," "," "," "," "," "," "," "," "," "," "]
[null,null,null,null,null,null,null,null,null,null,null,null,null,null,null,null,null,null,null,null,null,null,null,null,null,null,null,null,null,null,null,null,null,null,null,null,null,null,null,null,null,null,null,null,null,null,null,null,null,null,null,null,464," "," "," "," "," "," "," "," "," "," "," "," "," "," "," ",null,null,464," "," "," "," "," "," "," "," "," "," "," "," "," "," "," "]
[null,null,null,null,null,null,null,null,null,null,null,null,null,null,null,null,null,null,null,null,null,null,null,null,null,null,null,null,null,null,null,null,null,null,null,null,null,null,null,null,null,null,null,null,null,null,null,null,null,null,null,null,469," "," "," "," "," "," "," "," "," "," "," "," "," "," "," ",null,null,469," "," "," "," "," "," "," "," "," "," "," "," "," "," "," "]
[null,null,null,null,null,null,null,null,null,null,null,null,null,null,null,null,null,null,null,null,null,null,null,null,null,null,null,null,null,null,null,null,null,null,null,null,null,null,null,null,null,null,null,null,null,null,null,null,null,null,null,null,475," "," "," "," "," "," "," "," "," "," "," "," "," "," "," ",null,null,475," "," "," "," "," "," "," "," "," "," "," "," "," "," "," "]
[null,null,null,null,null,null,null,null,null,null,null,null,null,null,null,null,null,null,null,null,null,null,null,null,null,null,null,null,null,null,null,null,null,null,null,null,null,null,null,null,null,null,null,null,null,null,null,null,null,null,null,null,480," "," "," "," "," "," "," "," "," "," "," "," "," "," "," ",null,null,480," "," "," "," "," "," "," "," "," "," "," "," "," "," "," "]
[null,null,null,null,null,null,null,null,null,null,null,null,null,null,null,null,null,null,null,null,null,null,null,null,null,null,null,null,null,null,null,null,null,null,null,null,null,null,null,null,null,null,null,null,null,null,null,null,null,null,null,null,486," "," "," "," "," "," "," "," "," "," "," "," "," "," "," ",null,null,486," "," "," "," "," "," "," "," "," "," "," "," "," "," "," "]
[null,null,null,null,null,null,null,null,null,null,null,null,null,null,null,null,null,null,null,null,null,null,null,null,null,null,null,null,null,null,null,null,null,null,null,null,null,null,null,null,null,null,null,null,null,null,null,null,null,null,null,null,491," "," "," "," "," "," "," "," "," "," "," "," "," "," "," ",null,null,491," "," "," "," "," "," "," "," "," "," "," "," "," "," "," "]
[null,null,null,null,null,null,null,null,null,null,null,null,null,null,null,null,null,null,null,null,null,null,null,null,null,null,null,null,null,null,null,null,null,null,null,null,null,null,null,null,null,null,null,null,null,null,null,null,null,null,null,null,496," "," "," "," "," "," "," "," "," "," "," "," "," "," "," ",null,null,496," "," "," "," "," "," "," "," "," "," "," "," "," "," "," "]
[null,null,null,null,null,null,null,null,null,null,null,null,null,null,null,null,null,null,null,null,null,null,null,null,null,null,null,null,null,null,null,null,null,null,null,null,null,null,null,null,null,null,null,null,null,null,null,null,null,null,null,null,501," "," "," "," "," "," "," "," "," "," "," "," "," "," "," ",null,null,501," "," "," "," "," "," "," "," "," "," "," "," "," "," "," "]
[null,null,null,null,null,null,null,null,null,null,null,null,null,null,null,null,null,null,null,null,null,null,null,null,null,null,null,null,null,null,null,null,null,null,null,null,null,null,null,null,null,null,null,null,null,null,null,null,null,null,null,null,506," "," "," "," "," "," "," "," "," "," "," "," "," "," "," ",null,null,506," "," "," "," "," "," "," "," "," "," "," "," "," "," "," "]
[null,null,null,null,null,null,null,null,null,null,null,null,null,null,null,null,null,null,null,null,null,null,null,null,null,null,null,null,null,null,null,null,null,null,null,null,null,null,null,null,null,null,null,null,null,null,null,null,null,null,null,null,511," "," "," "," "," "," "," "," "," "," "," "," "," "," "," ",null,null,511," "," "," "," "," "," "," "," "," "," "," "," "," "," "," "]
[null,null,null,null,null,null,null,null,null,null,null,null,null,null,null,null,null,null,null,null,null,null,null,null,null,null,null,null,null,null,null,null,null,null,null,null,null,null,null,null,null,null,null,null,null,null,null,null,null,null,null,null,517," "," "," "," "," "," "," "," "," "," "," "," "," "," "," ",null,null,517," "," "," "," "," "," "," "," "," "," "," "," "," "," "," "]
[null,null,null,null,null,null,null,null,null,null,null,null,null,null,null,null,null,null,null,null,null,null,null,null,null,null,null,null,null,null,null,null,null,null,null,null,null,null,null,null,null,null,null,null,null,null,null,null,null,null,null,null,522," "," "," "," "," "," "," "," "," "," "," "," "," "," "," ",null,null,522," "," "," "," "," "," "," "," "," "," "," "," "," "," "," "]
[null,null,null,null,null,null,null,null,null,null,null,null,null,null,null,null,null,null,null,null,null,null,null,null,null,null,null,null,null,null,null,null,null,null,null,null,null,null,null,null,null,null,null,null,null,null,null,null,null,null,null,null,523," "," "," "," "," "," "," "," "," "," "," "," "," "," "," ",null,null,523," "," "," "," "," "," "," "," "," "," "," "," "," "," "," "]
[null,null,null,null,null,null,null,null,null,null,null,null,null,null,null,null,null,null,null,null,null,null,null,null,null,null,null,null,null,null,null,null,null,null,null,null,null,null,null,null,null,null,null,null,null,null,null,null,null,null,null,null,528," "," "," "," "," "," "," "," "," "," "," "," "," "," "," ",null,null,528," "," "," "," "," "," "," "," "," "," "," "," "," "," "," "]
[null,null,null,null,null,null,null,null,null,null,null,null,null,null,null,null,null,null,null,null,null,null,null,null,null,null,null,null,null,null,null,null,null,null,null,null,null,null,null,null,null,null,null,null,null,null,null,null,null,null,null,null,533," "," "," "," "," "," "," "," "," "," "," "," "," "," "," ",null,null,533," "," "," "," "," "," "," "," "," "," "," "," "," "," "," "]
[null,null,null,null,null,null,null,null,null,null,null,null,null,null,null,null,null,null,null,null,null,null,null,null,null,null,null,null,null,null,null,null,null,null,null,null,null,null,null,null,null,null,null,null,null,null,null,null,null,null,null,null,539," "," "," "," "," "," "," "," "," "," "," "," "," "," "," ",null,null,539," "," "," "," "," "," "," "," "," "," "," "," "," "," "," "]
[null,null,null,null,null,null,null,null,null,null,null,null,null,null,null,null,null,null,null,null,null,null,null,null,null,null,null,null,null,null,null,null,null,null,null,null,null,null,null,null,null,null,null,null,null,null,null,null,null,null,null,null,543," "," "," "," "," "," "," "," "," "," "," "," "," "," "," ",null,null,543," "," "," "," "," "," "," "," "," "," "," "," "," "," "," "]
[null,null,null,null,null,null,null,null,null,null,null,null,null,null,null,null,null,null,null,null,null,null,null,null,null,null,null,null,null,null,null,null,null,null,null,null,null,null,null,null,null,null,null,null,null,null,null,null,null,null,null,null,548," "," "," "," "," "," "," "," "," "," "," "," "," "," "," ",null,null,548," "," "," "," "," "," "," "," "," "," "," "," "," "," "," "]
[null,null,null,null,null,null,null,null,null,null,null,null,null,null,null,null,null,null,null,null,null,null,null,null,null,null,null,null,null,null,null,null,null,null,null,null,null,null,null,null,null,null,null,null,null,null,null,null,null,null,null,null,554," "," "," "," "," "," "," "," "," "," "," "," "," "," "," ",null,null,554," "," "," "," "," "," "," "," "," "," "," "," "," "," "," "]
[null,null,null,null,null,null,null,null,null,null,null,null,null,null,null,null,null,null,null,null,null,null,null,null,null,null,null,null,null,null,null,null,null,null,null,null,null,null,null,null,null,null,null,null,null,null,null,null,null,null,null,null,559," "," "," "," "," "," "," "," "," "," "," "," "," "," "," ",null,null,559," "," "," "," "," "," "," "," "," "," "," "," "," "," "," "]
[null,null,null,null,null,null,null,null,null,null,null,null,null,null,null,null,null,null,null,null,null,null,null,null,null,null,null,null,null,null,null,null,null,null,null,null,null,null,null,null,null,null,null,null,null,null,null,null,null,null,null,null,565," "," "," "," "," "," "," "," "," "," "," "," "," "," "," ",null,null,565," "," "," "," "," "," "," "," "," "," "," "," "," "," "," "]
[null,null,null,null,null,null,null,null,null,null,null,null,null,null,null,null,null,null,null,null,null,null,null,null,null,null,null,null,null,null,null,null,null,null,null,null,null,null,null,null,null,null,null,null,null,null,null,null,null,null,null,null,570," "," "," "," "," "," "," "," "," "," "," "," "," "," "," ",null,null,570," "," "," "," "," "," "," "," "," "," "," "," "," "," "," "]
[null,null,null,null,null,null,null,null,null,null,null,null,null,null,null,null,null,null,null,null,null,null,null,null,null,null,null,null,null,null,null,null,null,null,null,null,null,null,null,null,null,null,null,null,null,null,null,null,null,null,null,null,575," "," "," "," "," "," "," "," "," "," "," "," "," "," "," ",null,null,575," "," "," "," "," "," "," "," "," "," "," "," "," "," "," "]
[null,null,null,null,null,null,null,null,null,null,null,null,null,null,null,null,null,null,null,null,null,null,null,null,null,null,null,null,null,null,null,null,null,null,null,null,null,null,null,null,null,null,null,null,null,null,null,null,null,null,null,null,581," "," "," "," "," "," "," "," "," "," "," "," "," "," "," ",null,null,581," "," "," "," "," "," "," "," "," "," "," "," "," "," "," "]
[null,null,null,null,null,null,null,null,null,null,null,null,null,null,null,null,null,null,null,null,null,null,null,null,null,null,null,null,null,null,null,null,null,null,null,null,null,null,null,null,null,null,null,null,null,null,null,null,null,null,null,null,586," "," "," "," "," "," "," "," "," "," "," "," "," "," "," ",null,null,586," "," "," "," "," "," "," "," "," "," "," "," "," "," "," "]
[null,null,null,null,null,null,null,null,null,null,null,null,null,null,null,null,null,null,null,null,null,null,null,null,null,null,null,null,null,null,null,null,null,null,null,null,null,null,null,null,null,null,null,null,null,null,null,null,null,null,null,null,588," "," "," "," "," "," "," "," "," "," "," "," "," "," "," ",null,null,588," "," "," "," "," "," "," "," "," "," "," "," "," "," "," "]
[null,null,null,null,null,null,null,null,null,null,null,null,null,null,null,null,null,null,null,null,null,null,null,null,null,null,null,null,null,null,null,null,null,null,null,null,null,null,null,null,null,null,null,null,null,null,null,null,null,null,null,null,591," "," "," "," "," "," "," "," "," "," "," "," "," "," "," ",null,null,591," "," "," "," "," "," "," "," "," "," "," "," "," "," "," "]
[null,null,null,null,null,null,null,null,null,null,null,null,null,null,null,null,null,null,null,null,null,null,null,null,null,null,null,null,null,null,null,null,null,null,null,null,null,null,null,null,null,null,null,null,null,null,null,null,null,null,null,null,596," "," "," "," "," "," "," "," "," "," "," "," "," "," "," ",null,null,596," "," "," "," "," "," "," "," "," "," "," "," "," "," "," "]
[null,null,null,null,null,null,null,null,null,null,null,null,null,null,null,null,null,null,null,null,null,null,null,null,null,null,null,null,null,null,null,null,null,null,null,null,null,null,null,null,null,null,null,null,null,null,null,null,null,null,null,null,602," "," "," "," "," "," "," "," "," "," "," "," "," "," "," ",null,null,602," "," "," "," "," "," "," "," "," "," "," "," "," "," "," "]
[null,null,null,null,null,null,null,null,null,null,null,null,null,null,null,null,null,null,null,null,null,null,null,null,null,null,null,null,null,null,null,null,null,null,null,null,null,null,null,null,null,null,null,null,null,null,null,null,null,null,null,null,607," "," "," "," "," "," "," "," "," "," "," "," "," "," "," ",null,null,607," "," "," "," "," "," "," "," "," "," "," "," "," "," "," "]
[null,null,null,null,null,null,null,null,null,null,null,null,null,null,null,null,null,null,null,null,null,null,null,null,null,null,null,null,null,null,null,null,null,null,null,null,null,null,null,null,null,null,null,null,null,null,null,null,null,null,null,null,612," "," "," "," "," "," "," "," "," "," "," "," "," "," "," ",null,null,612," "," "," "," "," "," "," "," "," "," "," "," "," "," "," "]
[null,null,null,null,null,null,null,null,null,null,null,null,null,null,null,null,null,null,null,null,null,null,null,null,null,null,null,null,null,null,null,null,null,null,null,null,null,null,null,null,null,null,null,null,null,null,null,null,null,null,null,null,618," "," "," "," "," "," "," "," "," "," "," "," "," "," "," ",null,null,618," "," "," "," "," "," "," "," "," "," "," "," "," "," "," "]
[null,null,null,null,null,null,null,null,null,null,null,null,null,null,null,null,null,null,null,null,null,null,null,null,null,null,null,null,null,null,null,null,null,null,null,null,null,null,null,null,null,null,null,null,null,null,null,null,null,null,null,null,623," "," "," "," "," "," "," "," "," "," "," "," "," "," "," ",null,null,623," "," "," "," "," "," "," "," "," "," "," "," "," "," "," "]
[null,null,null,null,null,null,null,null,null,null,null,null,null,null,null,null,null,null,null,null,null,null,null,null,null,null,null,null,null,null,null,null,null,null,null,null,null,null,null,null,null,null,null,null,null,null,null,null,null,null,null,null,629," "," "," "," "," "," "," "," "," "," "," "," "," "," "," ",null,null,629," "," "," "," "," "," "," "," "," "," "," "," "," "," "," "]
[null,null,null,null,null,null,null,null,null,null,null,null,null,null,null,null,null,null,null,null,null,null,null,null,null,null,null,null,null,null,null,null,null,null,null,null,null,null,null,null,null,null,null,null,null,null,null,null,null,null,null,null,634," "," "," "," "," "," "," "," "," "," "," "," "," "," "," ",null,null,634," "," "," "," "," "," "," "," "," "," "," "," "," "," "," "]
[null,null,null,null,null,null,null,null,null,null,null,null,null,null,null,null,null,null,null,null,null,null,null,null,null,null,null,null,null,null,null,null,null,null,null,null,null,null,null,null,null,null,null,null,null,null,null,null,null,null,null,null,639," "," "," "," "," "," "," "," "," "," "," "," "," "," "," ",null,null,639," "," "," "," "," "," "," "," "," "," "," "," "," "," "," "]
[null,null,null,null,null,null,null,null,null,null,null,null,null,null,null,null,null,null,null,null,null,null,null,null,null,null,null,null,null,null,null,null,null,null,null,null,null,null,null,null,null,null,null,null,null,null,null,null,null,null,null,null,644," "," "," "," "," "," "," "," "," "," "," "," "," "," "," ",null,null,644," "," "," "," "," "," "," "," "," "," "," "," "," "," "," "]
[null,null,null,null,null,null,null,null,null,null,null,null,null,null,null,null,null,null,null,null,null,null,null,null,null,null,null,null,null,null,null,null,null,null,null,null,null,null,null,null,null,null,null,null,null,null,null,null,null,null,null,null,649," "," "," "," "," "," "," "," "," "," "," "," "," "," "," ",null,null,649," "," "," "," "," "," "," "," "," "," "," "," "," "," "," "]
[null,null,null,null,null,null,null,null,null,null,null,null,null,null,null,null,null,null,null,null,null,null,null,null,null,null,null,null,null,null,null,null,null,null,null,null,null,null,null,null,null,null,null,null,null,null,null,null,null,null,null,null,654," "," "," "," "," "," "," "," "," "," "," "," "," "," "," ",null,null,654," "," "," "," "," "," "," "," "," "," "," "," "," "," "," "]
[null,null,null,null,null,null,null,null,null,null,null,null,null,null,null,null,null,null,null,null,null,null,null,null,null,null,null,null,null,null,null,null,null,null,null,null,null,null,null,null,null,null,null,null,null,null,null,null,null,null,null,null,655," "," "," "," "," "," "," "," "," "," "," "," "," "," "," ",null,null,655," "," "," "," "," "," "," "," "," "," "," "," "," "," "," "]
[null,null,null,null,null,null,null,null,null,null,null,null,null,null,null,null,null,null,null,null,null,null,null,null,null,null,null,null,null,null,null,null,null,null,null,null,null,null,null,null,null,null,null,null,null,null,null,null,null,null,null,null,660," "," "," "," "," "," "," "," "," "," "," "," "," "," "," ",null,null,660," "," "," "," "," "," "," "," "," "," "," "," "," "," "," "]
[null,null,null,null,null,null,null,null,null,null,null,null,null,null,null,null,null,null,null,null,null,null,null,null,null,null,null,null,null,null,null,null,null,null,null,null,null,null,null,null,null,null,null,null,null,null,null,null,null,null,null,null,666," "," "," "," "," "," "," "," "," "," "," "," "," "," "," ",null,null,666," "," "," "," "," "," "," "," "," "," "," "," "," "," "," "]
[null,null,null,null,null,null,null,null,null,null,null,null,null,null,null,null,null,null,null,null,null,null,null,null,null,null,null,null,null,null,null,null,null,null,null,null,null,null,null,null,null,null,null,null,null,null,null,null,null,null,null,null,671," "," "," "," "," "," "," "," "," "," "," "," "," "," "," ",null,null,671," "," "," "," "," "," "," "," "," "," "," "," "," "," "," "]
[null,null,null,null,null,null,null,null,null,null,null,null,null,null,null,null,null,null,null,null,null,null,null,null,null,null,null,null,null,null,null,null,null,null,null,null,null,null,null,null,null,null,null,null,null,null,null,null,null,null,null,null,676," "," "," "," "," "," "," "," "," "," "," "," "," "," "," ",null,null,676," "," "," "," "," "," "," "," "," "," "," "," "," "," "," "]
[null,null,null,null,null,null,null,null,null,null,null,null,null,null,null,null,null,null,null,null,null,null,null,null,null,null,null,null,null,null,null,null,null,null,null,null,null,null,null,null,null,null,null,null,null,null,null,null,null,null,null,null,682," "," "," "," "," "," "," "," "," "," "," "," "," "," "," ",null,null,682," "," "," "," "," "," "," "," "," "," "," "," "," "," "," "]
[null,null,null,null,null,null,null,null,null,null,null,null,null,null,null,null,null,null,null,null,null,null,null,null,null,null,null,null,null,null,null,null,null,null,null,null,null,null,null,null,null,null,null,null,null,null,null,null,null,null,null,null,686," "," "," "," "," "," "," "," "," "," "," "," "," "," "," ",null,null,686," "," "," "," "," "," "," "," "," "," "," "," "," "," "," "]
[null,null,null,null,null,null,null,null,null,null,null,null,null,null,null,null,null,null,null,null,null,null,null,null,null,null,null,null,null,null,null,null,null,null,null,null,null,null,null,null,null,null,null,null,null,null,null,null,null,null,null,null,692," "," "," "," "," "," "," "," "," "," "," "," "," "," "," ",null,null,692," "," "," "," "," "," "," "," "," "," "," "," "," "," "," "]
[null,null,null,null,null,null,null,null,null,null,null,null,null,null,null,null,null,null,null,null,null,null,null,null,null,null,null,null,null,null,null,null,null,null,null,null,null,null,null,null,null,null,null,null,null,null,null,null,null,null,null,null,697," "," "," "," "," "," "," "," "," "," "," "," "," "," "," ",null,null,697," "," "," "," "," "," "," "," "," "," "," "," "," "," "," "]
[null,null,null,null,null,null,null,null,null,null,null,null,null,null,null,null,null,null,null,null,null,null,null,null,null,null,null,null,null,null,null,null,null,null,null,null,null,null,null,null,null,null,null,null,null,null,null,null,null,null,null,null,702," "," "," "," "," "," "," "," "," "," "," "," "," "," "," ",null,null,702," "," "," "," "," "," "," "," "," "," "," "," "," "," "," "]
[null,null,null,null,null,null,null,null,null,null,null,null,null,null,null,null,null,null,null,null,null,null,null,null,null,null,null,null,null,null,null,null,null,null,null,null,null,null,null,null,null,null,null,null,null,null,null,null,null,null,null,null,708," "," "," "," "," "," "," "," "," "," "," "," "," "," "," ",null,null,708," "," "," "," "," "," "," "," "," "," "," "," "," "," "," "]
[null,null,null,null,null,null,null,null,null,null,null,null,null,null,null,null,null,null,null,null,null,null,null,null,null,null,null,null,null,null,null,null,null,null,null,null,null,null,null,null,null,null,null,null,null,null,null,null,null,null,null,null,713," "," "," "," "," "," "," "," "," "," "," "," "," "," "," ",null,null,713," "," "," "," "," "," "," "," "," "," "," "," "," "," "," "]
[null,null,null,null,null,null,null,null,null,null,null,null,null,null,null,null,null,null,null,null,null,null,null,null,null,null,null,null,null,null,null,null,null,null,null,null,null,null,null,null,null,null,null,null,null,null,null,null,null,null,null,null,718," "," "," "," "," "," "," "," "," "," "," "," "," "," "," ",null,null,718," "," "," "," "," "," "," "," "," "," "," "," "," "," "," "]
[null,null,null,null,null,null,null,null,null,null,null,null,null,null,null,null,null,null,null,null,null,null,null,null,null,null,null,null,null,null,null,null,null,null,null,null,null,null,null,null,null,null,null,null,null,null,null,null,null,null,null,null,719," "," "," "," "," "," "," "," "," "," "," "," "," "," "," ",null,null,719," "," "," "," "," "," "," "," "," "," "," "," "," "," "," "]
[null,null,null,null,null,null,null,null,null,null,null,null,null,null,null,null,null,null,null,null,null,null,null,null,null,null,null,null,null,null,null,null,null,null,null,null,null,null,null,null,null,null,null,null,null,null,null,null,null,null,null,null,724," "," "," "," "," "," "," "," "," "," "," "," "," "," "," ",null,null,724," "," "," "," "," "," "," "," "," "," "," "," "," "," "," "]
[null,null,null,null,null,null,null,null,null,null,null,null,null,null,null,null,null,null,null,null,null,null,null,null,null,null,null,null,null,null,null,null,null,null,null,null,null,null,null,null,null,null,null,null,null,null,null,null,null,null,null,null,731," "," "," "," "," "," "," "," "," "," "," "," "," "," "," ",null,null,731," "," "," "," "," "," "," "," "," "," "," "," "," "," "," "]
[null,null,null,null,null,null,null,null,null,null,null,null,null,null,null,null,null,null,null,null,null,null,null,null,null,null,null,null,null,null,null,null,null,null,null,null,null,null,null,null,null,null,null,null,null,null,null,null,null,null,null,null,734," "," "," "," "," "," "," "," "," "," "," "," "," "," "," ",null,null,734," "," "," "," "," "," "," "," "," "," "," "," "," "," "," "]
[null,null,null,null,null,null,null,null,null,null,null,null,null,null,null,null,null,null,null,null,null,null,null,null,null,null,null,null,null,null,null,null,null,null,null,null,null,null,null,null,null,null,null,null,null,null,null,null,null,null,null,null,739," "," "," "," "," "," "," "," "," "," "," "," "," "," "," ",null,null,739," "," "," "," "," "," "," "," "," "," "," "," "," "," "," "]
[null,null,null,null,null,null,null,null,null,null,null,null,null,null,null,null,null,null,null,null,null,null,null,null,null,null,null,null,null,null,null,null,null,null,null,null,null,null,null,null,null,null,null,null,null,null,null,null,null,null,null,null,745," "," "," "," "," "," "," "," "," "," "," "," "," "," "," ",null,null,745," "," "," "," "," "," "," "," "," "," "," "," "," "," "," "]
[null,null,null,null,null,null,null,null,null,null,null,null,null,null,null,null,null,null,null,null,null,null,null,null,null,null,null,null,null,null,null,null,null,null,null,null,null,null,null,null,null,null,null,null,null,null,null,null,null,null,null,null,750," "," "," "," "," "," "," "," "," "," "," "," "," "," "," ",null,null,750," "," "," "," "," "," "," "," "," "," "," "," "," "," "," "]
[null,null,null,null,null,null,null,null,null,null,null,null,null,null,null,null,null,null,null,null,null,null,null,null,null,null,null,null,null,null,null,null,null,null,null,null,null,null,null,null,null,null,null,null,null,null,null,null,null,null,null,null,756," "," "," "," "," "," "," "," "," "," "," "," "," "," "," ",null,null,756," "," "," "," "," "," "," "," "," "," "," "," "," "," "," "]
[null,null,null,null,null,null,null,null,null,null,null,null,null,null,null,null,null,null,null,null,null,null,null,null,null,null,null,null,null,null,null,null,null,null,null,null,null,null,null,null,null,null,null,null,null,null,null,null,null,null,null,null,761," "," "," "," "," "," "," "," "," "," "," "," "," "," "," ",null,null,761," "," "," "," "," "," "," "," "," "," "," "," "," "," "," "]
[null,null,null,null,null,null,null,null,null,null,null,null,null,null,null,null,null,null,null,null,null,null,null,null,null,null,null,null,null,null,null,null,null,null,null,null,null,null,null,null,null,null,null,null,null,null,null,null,null,null,null,null,766," "," "," "," "," "," "," "," "," "," "," "," "," "," "," ",null,null,766," "," "," "," "," "," "," "," "," "," "," "," "," "," "," "]
[null,null,null,null,null,null,null,null,null,null,null,null,null,null,null,null,null,null,null,null,null,null,null,null,null,null,null,null,null,null,null,null,null,null,null,null,null,null,null,null,null,null,null,null,null,null,null,null,null,null,null,null,772," "," "," "," "," "," "," "," "," "," "," "," "," "," "," ",null,null,772," "," "," "," "," "," "," "," "," "," "," "," "," "," "," "]
[null,null,null,null,null,null,null,null,null,null,null,null,null,null,null,null,null,null,null,null,null,null,null,null,null,null,null,null,null,null,null,null,null,null,null,null,null,null,null,null,null,null,null,null,null,null,null,null,null,null,null,null,777," "," "," "," "," "," "," "," "," "," "," "," "," "," "," ",null,null,777," "," "," "," "," "," "," "," "," "," "," "," "," "," "," "]
[null,null,null,null,null,null,null,null,null,null,null,null,null,null,null,null,null,null,null,null,null,null,null,null,null,null,null,null,null,null,null,null,null,null,null,null,null,null,null,null,null,null,null,null,null,null,null,null,null,null,null,null,778," "," "," "," "," "," "," "," "," "," "," "," "," "," "," ",null,null,778," "," "," "," "," "," "," "," "," "," "," "," "," "," "," "]
[null,null,null,null,null,null,null,null,null,null,null,null,null,null,null,null,null,null,null,null,null,null,null,null,null,null,null,null,null,null,null,null,null,null,null,null,null,null,null,null,null,null,null,null,null,null,null,null,null,null,null,null,782," "," "," "," "," "," "," "," "," "," "," "," "," "," "," ",null,null,782," "," "," "," "," "," "," "," "," "," "," "," "," "," "," "]
[null,null,null,null,null,null,null,null,null,null,null,null,null,null,null,null,null,null,null,null,null,null,null,null,null,null,null,null,null,null,null,null,null,null,null,null,null,null,null,null,null,null,null,null,null,null,null,null,null,null,null,null,787," "," "," "," "," "," "," "," "," "," "," "," "," "," "," ",null,null,787," "," "," "," "," "," "," "," "," "," "," "," "," "," "," "]
[null,null,null,null,null,null,null,null,null,null,null,null,null,null,null,null,null,null,null,null,null,null,null,null,null,null,null,null,null,null,null,null,null,null,null,null,null,null,null,null,null,null,null,null,null,null,null,null,null,null,null,null,793," "," "," "," "," "," "," "," "," "," "," "," "," "," "," ",null,null,793," "," "," "," "," "," "," "," "," "," "," "," "," "," "," "]
[null,null,null,null,null,null,null,null,null,null,null,null,null,null,null,null,null,null,null,null,null,null,null,null,null,null,null,null,null,null,null,null,null,null,null,null,null,null,null,null,null,null,null,null,null,null,null,null,null,null,null,null,798," "," "," "," "," "," "," "," "," "," "," "," "," "," "," ",null,null,798," "," "," "," "," "," "," "," "," "," "," "," "," "," "," "]
[null,null,null,null,null,null,null,null,null,null,null,null,null,null,null,null,null,null,null,null,null,null,null,null,null,null,null,null,null,null,null,null,null,null,null,null,null,null,null,null,null,null,null,null,null,null,null,null,null,null,null,null,803," "," "," "," "," "," "," "," "," "," "," "," "," "," "," ",null,null,803," "," "," "," "," "," "," "," "," "," "," "," "," "," "," "]
[null,null,null,null,null,null,null,null,null,null,null,null,null,null,null,null,null,null,null,null,null,null,null,null,null,null,null,null,null,null,null,null,null,null,null,null,null,null,null,null,null,null,null,null,null,null,null,null,null,null,null,null,809," "," "," "," "," "," "," "," "," "," "," "," "," "," "," ",null,null,809," "," "," "," "," "," "," "," "," "," "," "," "," "," "," "]
[null,null,null,null,null,null,null,null,null,null,null,null,null,null,null,null,null,null,null,null,null,null,null,null,null,null,null,null,null,null,null,null,null,null,null,null,null,null,null,null,null,null,null,null,null,null,null,null,null,null,null,null,814," "," "," "," "," "," "," "," "," "," "," "," "," "," "," ",null,null,814," "," "," "," "," "," "," "," "," "," "," "," "," "," "," "]
[null,null,null,null,null,null,null,null,null,null,null,null,null,null,null,null,null,null,null,null,null,null,null,null,null,null,null,null,null,null,null,null,null,null,null,null,null,null,null,null,null,null,null,null,null,null,null,null,null,null,null,null,819," "," "," "," "," "," "," "," "," "," "," "," "," "," "," ",null,null,819," "," "," "," "," "," "," "," "," "," "," "," "," "," "," "]
[null,null,null,null,null,null,null,null,null,null,null,null,null,null,null,null,null,null,null,null,null,null,null,null,null,null,null,null,null,null,null,null,null,null,null,null,null,null,null,null,null,null,null,null,null,null,null,null,null,null,null,null,825," "," "," "," "," "," "," "," "," "," "," "," "," "," "," ",null,null,825," "," "," "," "," "," "," "," "," "," "," "," "," "," "," "]
[null,null,null,null,null,null,null,null,null,null,null,null,null,null,null,null,null,null,null,null,null,null,null,null,null,null,null,null,null,null,null,null,null,null,null,null,null,null,null,null,null,null,null,null,null,null,null,null,null,null,null,null,829," "," "," "," "," "," "," "," "," "," "," "," "," "," "," ",null,null,829," "," "," "," "," "," "," "," "," "," "," "," "," "," "," "]
[null,null,null,null,null,null,null,null,null,null,null,null,null,null,null,null,null,null,null,null,null,null,null,null,null,null,null,null,null,null,null,null,null,null,null,null,null,null,null,null,null,null,null,null,null,null,null,null,null,null,null,null,835," "," "," "," "," "," "," "," "," "," "," "," "," "," "," ",null,null,835," "," "," "," "," "," "," "," "," "," "," "," "," "," "," "]
[null,null,null,null,null,null,null,null,null,null,null,null,null,null,null,null,null,null,null,null,null,null,null,null,null,null,null,null,null,null,null,null,null,null,null,null,null,null,null,null,null,null,null,null,null,null,null,null,null,null,null,null,840," "," "," "," "," "," "," "," "," "," "," "," "," "," "," ",null,null,840," "," "," "," "," "," "," "," "," "," "," "," "," "," "," "]
[null,null,null,null,null,null,null,null,null,null,null,null,null,null,null,null,null,null,null,null,null,null,null,null,null,null,null,null,null,null,null,null,null,null,null,null,null,null,null,null,null,null,null,null,null,null,null,null,null,null,null,null,845," "," "," "," "," "," "," "," "," "," "," "," "," "," "," ",null,null,845," "," "," "," "," "," "," "," "," "," "," "," "," "," "," "]
[null,null,null,null,null,null,null,null,null,null,null,null,null,null,null,null,null,null,null,null,null,null,null,null,null,null,null,null,null,null,null,null,null,null,null,null,null,null,null,null,null,null,null,null,null,null,null,null,null,null,null,null,846," "," "," "," "," "," "," "," "," "," "," "," "," "," "," ",null,null,846," "," "," "," "," "," "," "," "," "," "," "," "," "," "," "]
[null,null,null,null,null,null,null,null,null,null,null,null,null,null,null,null,null,null,null,null,null,null,null,null,null,null,null,null,null,null,null,null,null,null,null,null,null,null,null,null,null,null,null,null,null,null,null,null,null,null,null,null,851," "," "," "," "," "," "," "," "," "," "," "," "," "," "," ",null,null,851," "," "," "," "," "," "," "," "," "," "," "," "," "," "," "]
[null,null,null,null,null,null,null,null,null,null,null,null,null,null,null,null,null,null,null,null,null,null,null,null,null,null,null,null,null,null,null,null,null,null,null,null,null,null,null,null,null,null,null,null,null,null,null,null,null,null,null,null,857," "," "," "," "," "," "," "," "," "," "," "," "," "," "," ",null,null,857," "," "," "," "," "," "," "," "," "," "," "," "," "," "," "]
[null,null,null,null,null,null,null,null,null,null,null,null,null,null,null,null,null,null,null,null,null,null,null,null,null,null,null,null,null,null,null,null,null,null,null,null,null,null,null,null,null,null,null,null,null,null,null,null,null,null,null,null,862," "," "," "," "," "," "," "," "," "," "," "," "," "," "," ",null,null,862," "," "," "," "," "," "," "," "," "," "," "," "," "," "," "]
[null,null,null,null,null,null,null,null,null,null,null,null,null,null,null,null,null,null,null,null,null,null,null,null,null,null,null,null,null,null,null,null,null,null,null,null,null,null,null,null,null,null,null,null,null,null,null,null,null,null,null,null,867," "," "," "," "," "," "," "," "," "," "," "," "," "," "," ",null,null,867," "," "," "," "," "," "," "," "," "," "," "," "," "," "," "]
[null,null,null,null,null,null,null,null,null,null,null,null,null,null,null,null,null,null,null,null,null,null,null,null,null,null,null,null,null,null,null,null,null,null,null,null,null,null,null,null,null,null,null,null,null,null,null,null,null,null,null,null,874," "," "," "," "," "," "," "," "," "," "," "," "," "," "," ",null,null,874," "," "," "," "," "," "," "," "," "," "," "," "," "," "," "]
[null,null,null,null,null,null,null,null,null,null,null,null,null,null,null,null,null,null,null,null,null,null,null,null,null,null,null,null,null,null,null,null,null,null,null,null,null,null,null,null,null,null,null,null,null,null,null,null,null,null,null,null,877," "," "," "," "," "," "," "," "," "," "," "," "," "," "," ",null,null,877," "," "," "," "," "," "," "," "," "," "," "," "," "," "," "]
[null,null,null,null,null,null,null,null,null,null,null,null,null,null,null,null,null,null,null,null,null,null,null,null,null,null,null,null,null,null,null,null,null,null,null,null,null,null,null,null,null,null,null,null,null,null,null,null,null,null,null,null,882," "," "," "," "," "," "," "," "," "," "," "," "," "," "," ",null,null,882," "," "," "," "," "," "," "," "," "," "," "," "," "," "," "]
[null,null,null,null,null,null,null,null,null,null,null,null,null,null,null,null,null,null,null,null,null,null,null,null,null,null,null,null,null,null,null,null,null,null,null,null,null,null,null,null,null,null,null,null,null,null,null,null,null,null,null,null,888," "," "," "," "," "," "," "," "," "," "," "," "," "," "," ",null,null,888," "," "," "," "," "," "," "," "," "," "," "," "," "," "," "]
[null,null,null,null,null,null,null,null,null,null,null,null,null,null,null,null,null,null,null,null,null,null,null,null,null,null,null,null,null,null,null,null,null,null,null,null,null,null,null,null,null,null,null,null,null,null,null,null,null,null,null,null,893," "," "," "," "," "," "," "," "," "," "," "," "," "," "," ",null,null,893," "," "," "," "," "," "," "," "," "," "," "," "," "," "," "]
[null,null,null,null,null,null,null,null,null,null,null,null,null,null,null,null,null,null,null,null,null,null,null,null,null,null,null,null,null,null,null,null,null,null,null,null,null,null,null,null,null,null,null,null,null,null,null,null,null,null,null,null,899," "," "," "," "," "," "," "," "," "," "," "," "," "," "," ",null,null,899," "," "," "," "," "," "," "," "," "," "," "," "," "," "," "]
[null,null,null,null,null,null,null,null,null,null,null,null,null,null,null,null,null,null,null,null,null,null,null,null,null,null,null,null,null,null,null,null,null,null,null,null,null,null,null,null,null,null,null,null,null,null,null,null,null,null,null,null,904," "," "," "," "," "," "," "," "," "," "," "," "," "," "," ",null,null,904," "," "," "," "," "," "," "," "," "," "," "," "," "," "," "]
[null,null,null,null,null,null,null,null,null,null,null,null,null,null,null,null,null,null,null,null,null,null,null,null,null,null,null,null,null,null,null,null,null,null,null,null,null,null,null,null,null,null,null,null,null,null,null,null,null,null,null,null,909," "," "," "," "," "," "," "," "," "," "," "," "," "," "," ",null,null,909," "," "," "," "," "," "," "," "," "," "," "," "," "," "," "]
[null,null,null,null,null,null,null,null,null,null,null,null,null,null,null,null,null,null,null,null,null,null,null,null,null,null,null,null,null,null,null,null,null,null,null,null,null,null,null,null,null,null,null,null,null,null,null,null,null,null,null,null,910," "," "," "," "," "," "," "," "," "," "," "," "," "," "," ",null,null,910," "," "," "," "," "," "," "," "," "," "," "," "," "," "," "]
[null,null,null,null,null,null,null,null,null,null,null,null,null,null,null,null,null,null,null,null,null,null,null,null,null,null,null,null,null,null,null,null,null,null,null,null,null,null,null,null,null,null,null,null,null,null,null,null,null,null,null,null,915," "," "," "," "," "," "," "," "," "," "," "," "," "," "," ",null,null,915," "," "," "," "," "," "," "," "," "," "," "," "," "," "," "]
[null,null,null,null,null,null,null,null,null,null,null,null,null,null,null,null,null,null,null,null,null,null,null,null,null,null,null,null,null,null,null,null,null,null,null,null,null,null,null,null,null,null,null,null,null,null,null,null,null,null,null,null,921," "," "," "," "," "," "," "," "," "," "," "," "," "," "," ",null,null,921," "," "," "," "," "," "," "," "," "," "," "," "," "," "," "]
[null,null,null,null,null,null,null,null,null,null,null,null,null,null,null,null,null,null,null,null,null,null,null,null,null,null,null,null,null,null,null,null,null,null,null,null,null,null,null,null,null,null,null,null,null,null,null,null,null,null,null,null,925," "," "," "," "," "," "," "," "," "," "," "," "," "," "," ",null,null,925," "," "," "," "," "," "," "," "," "," "," "," "," "," "," "]
[null,null,null,null,null,null,null,null,null,null,null,null,null,null,null,null,null,null,null,null,null,null,null,null,null,null,null,null,null,null,null,null,null,null,null,null,null,null,null,null,null,null,null,null,null,null,null,null,null,null,null,null,930," "," "," "," "," "," "," "," "," "," "," "," "," "," "," ",null,null,930," "," "," "," "," "," "," "," "," "," "," "," "," "," "," "]
[null,null,null,null,null,null,null,null,null,null,null,null,null,null,null,null,null,null,null,null,null,null,null,null,null,null,null,null,null,null,null,null,null,null,null,null,null,null,null,null,null,null,null,null,null,null,null,null,null,null,null,null,936," "," "," "," "," "," "," "," "," "," "," "," "," "," "," ",null,null,936," "," "," "," "," "," "," "," "," "," "," "," "," "," "," "]
[null,null,null,null,null,null,null,null,null,null,null,null,null,null,null,null,null,null,null,null,null,null,null,null,null,null,null,null,null,null,null,null,null,null,null,null,null,null,null,null,null,null,null,null,null,null,null,null,null,null,null,null,941," "," "," "," "," "," "," "," "," "," "," "," "," "," "," ",null,null,941," "," "," "," "," "," "," "," "," "," "," "," "," "," "," "]
[null,null,null,null,null,null,null,null,null,null,null,null,null,null,null,null,null,null,null,null,null,null,null,null,null,null,null,null,null,null,null,null,null,null,null,null,null,null,null,null,null,null,null,null,null,null,null,null,null,null,null,null,946," "," "," "," "," "," "," "," "," "," "," "," "," "," "," ",null,null,946," "," "," "," "," "," "," "," "," "," "," "," "," "," "," "]
[null,null,null,null,null,null,null,null,null,null,null,null,null,null,null,null,null,null,null,null,null,null,null,null,null,null,null,null,null,null,null,null,null,null,null,null,null,null,null,null,null,null,null,null,null,null,null,null,null,null,null,null,952," "," "," "," "," "," "," "," "," "," "," "," "," "," "," ",null,null,952," "," "," "," "," "," "," "," "," "," "," "," "," "," "," "]
[null,null,null,null,null,null,null,null,null,null,null,null,null,null,null,null,null,null,null,null,null,null,null,null,null,null,null,null,null,null,null,null,null,null,null,null,null,null,null,null,null,null,null,null,null,null,null,null,null,null,null,null,957," "," "," "," "," "," "," "," "," "," "," "," "," "," "," ",null,null,957," "," "," "," "," "," "," "," "," "," "," "," "," "," "," "]
[null,null,null,null,null,null,null,null,null,null,null,null,null,null,null,null,null,null,null,null,null,null,null,null,null,null,null,null,null,null,null,null,null,null,null,null,null,null,null,null,null,null,null,null,null,null,null,null,null,null,null,null,963," "," "," "," "," "," "," "," "," "," "," "," "," "," "," ",null,null,963," "," "," "," "," "," "," "," "," "," "," "," "," "," "," "]
[null,null,null,null,null,null,null,null,null,null,null,null,null,null,null,null,null,null,null,null,null,null,null,null,null,null,null,null,null,null,null,null,null,null,null,null,null,null,null,null,null,null,null,null,null,null,null,null,null,null,null,null,966," "," "," "," "," "," "," "," "," "," "," "," "," "," "," ",null,null,966," "," "," "," "," "," "," "," "," "," "," "," "," "," "," "]
[null,null,null,null,null,null,null,null,null,null,null,null,null,null,null,null,null,null,null,null,null,null,null,null,null,null,null,null,null,null,null,null,null,null,null,null,null,null,null,null,null,null,null,null,null,null,null,null,null,null,null,null,972," "," "," "," "," "," "," "," "," "," "," "," "," "," "," ",null,null,972," "," "," "," "," "," "," "," "," "," "," "," "," "," "," "]
[null,null,null,null,null,null,null,null,null,null,null,null,null,null,null,null,null,null,null,null,null,null,null,null,null,null,null,null,null,null,null,null,null,null,null,null,null,null,null,null,null,null,null,null,null,null,null,null,null,null,null,null,973," "," "," "," "," "," "," "," "," "," "," "," "," "," "," ",null,null,973," "," "," "," "," "," "," "," "," "," "," "," "," "," "," "]
[null,null,null,null,null,null,null,null,null,null,null,null,null,null,null,null,null,null,null,null,null,null,null,null,null,null,null,null,null,null,null,null,null,null,null,null,null,null,null,null,null,null,null,null,null,null,null,null,null,null,null,null,978," "," "," "," "," "," "," "," "," "," "," "," "," "," "," ",null,null,978," "," "," "," "," "," "," "," "," "," "," "," "," "," "," "]
[null,null,null,null,null,null,null,null,null,null,null,null,null,null,null,null,null,null,null,null,null,null,null,null,null,null,null,null,null,null,null,null,null,null,null,null,null,null,null,null,null,null,null,null,null,null,null,null,null,null,null,null,983," "," "," "," "," "," "," "," "," "," "," "," "," "," "," ",null,null,983," "," "," "," "," "," "," "," "," "," "," "," "," "," "," "]
[null,null,null,null,null,null,null,null,null,null,null,null,null,null,null,null,null,null,null,null,null,null,null,null,null,null,null,null,null,null,null,null,null,null,null,null,null,null,null,null,null,null,null,null,null,null,null,null,null,null,null,null,989," "," "," "," "," "," "," "," "," "," "," "," "," "," "," ",null,null,989," "," "," "," "," "," "," "," "," "," "," "," "," "," "," "]
[null,null,null,null,null,null,null,null,null,null,null,null,null,null,null,null,null,null,null,null,null,null,null,null,null,null,null,null,null,null,null,null,null,null,null,null,null,null,null,null,null,null,null,null,null,null,null,null,null,null,null,null,994," "," "," "," "," "," "," "," "," "," "," "," "," "," "," ",null,null,994," "," "," "," "," "," "," "," "," "," "," "," "," "," "," "]
[null,null,null,null,null,null,null,null,null,null,null,null,null,null,null,null,null,null,null,null,null,null,null,null,null,null,null,null,null,null,null,null,null,null,null,null,null,null,null,null,null,null,null,null,null,null,null,null,null,null,null,null,1000," "," "," "," "," "," "," "," "," "," "," "," "," "," "," ",null,null,1000," "," "," "," "," "," "," "," "," "," "," "," "," "," "," "]
[null,null,null,null,null,null,null,null,null,null,null,null,null,null,null,null,null,null,null,null,null,null,null,null,null,null,null,null,null,null,null,null,null,null,null,null,null,null,null,null,null,null,null,null,null,null,null,null,null,null,null,null,1005," "," "," "," "," "," "," "," "," "," "," "," "," "," "," ",null,null,1005," "," "," "," "," "," "," "," "," "," "," "," "," "," "," "]
[null,null,null,null,null,null,null,null,null,null,null,null,null,null,null,null,null,null,null,null,null,null,null,null,null,null,null,null,null,null,null,null,null,null,null,null,null,null,null,null,null,null,null,null,null,null,null,null,null,null,null,null,1010," "," "," "," "," "," "," "," "," "," "," "," "," "," "," ",null,null,1010," "," "," "," "," "," "," "," "," "," "," "," "," "," "," "]
[null,null,null,null,null,null,null,null,null,null,null,null,null,null,null,null,null,null,null,null,null,null,null,null,null,null,null,null,null,null,null,null,null,null,null,null,null,null,null,null,null,null,null,null,null,null,null,null,null,null,null,null,1013," "," "," "," "," "," "," "," "," "," "," "," "," "," "," ",null,null,1013," "," "," "," "," "," "," "," "," "," "," "," "," "," "," "]
[null,null,null,null,null,null,null,null,null,null,null,null,null,null,null,null,null,null,null,null,null,null,null,null,null,null,null,null,null,null,null,null,null,null,null,null,null,null,null,null,null,null,null,null,null,null,null,null,null,null,null,null,1020," "," "," "," "," "," "," "," "," "," "," "," "," "," "," ",null,null,1020," "," "," "," "," "," "," "," "," "," "," "," "," "," "," "]
[null,null,null,null,null,null,null,null,null,null,null,null,null,null,null,null,null,null,null,null,null,null,null,null,null,null,null,null,null,null,null,null,null,null,null,null,null,null,null,null,null,null,null,null,null,null,null,null,null,null,null,null,1026," "," "," "," "," "," "," "," "," "," "," "," "," "," "," ",null,null,1026," "," "," "," "," "," "," "," "," "," "," "," "," "," "," "]
[null,null,null,null,null,null,null,null,null,null,null,null,null,null,null,null,null,null,null,null,null,null,null,null,null,null,null,null,null,null,null,null,null,null,null,null,null,null,null,null,null,null,null,null,null,null,null,null,null,null,null,null,1031," "," "," "," "," "," "," "," "," "," "," "," "," "," "," ",null,null,1031," "," "," "," "," "," "," "," "," "," "," "," "," "," "," "]
[null,null,null,null,null,null,null,null,null,null,null,null,null,null,null,null,null,null,null,null,null,null,null,null,null,null,null,null,null,null,null,null,null,null,null,null,null,null,null,null,null,null,null,null,null,null,null,null,null,null,null,null,1036," "," "," "," "," "," "," "," "," "," "," "," "," "," "," ",null,null,1036," "," "," "," "," "," "," "," "," "," "," "," "," "," "," "]
[null,null,null,null,null,null,null,null,null,null,null,null,null,null,null,null,null,null,null,null,null,null,null,null,null,null,null,null,null,null,null,null,null,null,null,null,null,null,null,null,null,null,null,null,null,null,null,null,null,null,null,null,1037," "," "," "," "," "," "," "," "," "," "," "," "," "," "," ",null,null,1037," "," "," "," "," "," "," "," "," "," "," "," "," "," "," "]
[null,null,null,null,null,null,null,null,null,null,null,null,null,null,null,null,null,null,null,null,null,null,null,null,null,null,null,null,null,null,null,null,null,null,null,null,null,null,null,null,null,null,null,null,null,null,null,null,null,null,null,null,1042," "," "," "," "," "," "," "," "," "," "," "," "," "," "," ",null,null,1042," "," "," "," "," "," "," "," "," "," "," "," "," "," "," "]
[null,null,null,null,null,null,null,null,null,null,null,null,null,null,null,null,null,null,null,null,null,null,null,null,null,null,null,null,null,null,null,null,null,null,null,null,null,null,null,null,null,null,null,null,null,null,null,null,null,null,null,null,1047," "," "," "," "," "," "," "," "," "," "," "," "," "," "," ",null,null,1047," "," "," "," "," "," "," "," "," "," "," "," "," "," "," "]
[null,null,null,null,null,null,null,null,null,null,null,null,null,null,null,null,null,null,null,null,null,null,null,null,null,null,null,null,null,null,null,null,null,null,null,null,null,null,null,null,null,null,null,null,null,null,null,null,null,null,null,null,1053," "," "," "," "," "," "," "," "," "," "," "," "," "," "," ",null,null,1053," "," "," "," "," "," "," "," "," "," "," "," "," "," "," "]
[null,null,null,null,null,null,null,null,null,null,null,null,null,null,null,null,null,null,null,null,null,null,null,null,null,null,null,null,null,null,null,null,null,null,null,null,null,null,null,null,null,null,null,null,null,null,null,null,null,null,null,null,1058," "," "," "," "," "," "," "," "," "," "," "," "," "," "," ",null,null,1058," "," "," "," "," "," "," "," "," "," "," "," "," "," "," "]
[null,null,null,null,null,null,null,null,null,null,null,null,null,null,null,null,null,null,null,null,null,null,null,null,null,null,null,null,null,null,null,null,null,null,null,null,null,null,null,null,null,null,null,null,null,null,null,null,null,null,null,null,1064," "," "," "," "," "," "," "," "," "," "," "," "," "," "," ",null,null,1064," "," "," "," "," "," "," "," "," "," "," "," "," "," "," "]
[null,null,null,null,null,null,null,null,null,null,null,null,null,null,null,null,null,null,null,null,null,null,null,null,null,null,null,null,null,null,null,null,null,null,null,null,null,null,null,null,null,null,null,null,null,null,null,null,null,null,null,null,1068," "," "," "," "," "," "," "," "," "," "," "," "," "," "," ",null,null,1068," "," "," "," "," "," "," "," "," "," "," "," "," "," "," "]
[null,null,null,null,null,null,null,null,null,null,null,null,null,null,null,null,null,null,null,null,null,null,null,null,null,null,null,null,null,null,null,null,null,null,null,null,null,null,null,null,null,null,null,null,null,null,null,null,null,null,null,null,1073," "," "," "," "," "," "," "," "," "," "," "," "," "," "," ",null,null,1073," "," "," "," "," "," "," "," "," "," "," "," "," "," "," "]
[null,null,null,null,null,null,null,null,null,null,null,null,null,null,null,null,null,null,null,null,null,null,null,null,null,null,null,null,null,null,null,null,null,null,null,null,null,null,null,null,null,null,null,null,null,null,null,null,null,null,null,null,1079," "," "," "," "," "," "," "," "," "," "," "," "," "," "," ",null,null,1079," "," "," "," "," "," "," "," "," "," "," "," "," "," "," "]
[null,null,null,null,null,null,null,null,null,null,null,null,null,null,null,null,null,null,null,null,null,null,null,null,null,null,null,null,null,null,null,null,null,null,null,null,null,null,null,null,null,null,null,null,null,null,null,null,null,null,null,null,1084," "," "," "," "," "," "," "," "," "," "," "," "," "," "," ",null,null,1084," "," "," "," "," "," "," "," "," "," "," "," "," "," "," "]
[null,null,null,null,null,null,null,null,null,null,null,null,null,null,null,null,null,null,null,null,null,null,null,null,null,null,null,null,null,null,null,null,null,null,null,null,null,null,null,null,null,null,null,null,null,null,null,null,null,null,null,null,1089," "," "," "," "," "," "," "," "," "," "," "," "," "," "," ",null,null,1089," "," "," "," "," "," "," "," "," "," "," "," "," "," "," "]
[null,null,null,null,null,null,null,null,null,null,null,null,null,null,null,null,null,null,null,null,null,null,null,null,null,null,null,null,null,null,null,null,null,null,null,null,null,null,null,null,null,null,null,null,null,null,null,null,null,null,null,null,1095," "," "," "," "," "," "," "," "," "," "," "," "," "," "," ",null,null,1095," "," "," "," "," "," "," "," "," "," "," "," "," "," "," "]
[null,null,null,null,null,null,null,null,null,null,null,null,null,null,null,null,null,null,null,null,null,null,null,null,null,null,null,null,null,null,null,null,null,null,null,null,null,null,null,null,null,null,null,null,null,null,null,null,null,null,null,null,1100," "," "," "," "," "," "," "," "," "," "," "," "," "," "," ",null,null,1100," "," "," "," "," "," "," "," "," "," "," "," "," "," "," "]
[null,null,null,null,null,null,null,null,null,null,null,null,null,null,null,null,null,null,null,null,null,null,null,null,null,null,null,null,null,null,null,null,null,null,null,null,null,null,null,null,null,null,null,null,null,null,null,null,null,null,null,null,1101," "," "," "," "," "," "," "," "," "," "," "," "," "," "," ",null,null,1101," "," "," "," "," "," "," "," "," "," "," "," "," "," "," "]
[null,null,null,null,null,null,null,null,null,null,null,null,null,null,null,null,null,null,null,null,null,null,null,null,null,null,null,null,null,null,null,null,null,null,null,null,null,null,null,null,null,null,null,null,null,null,null,null,null,null,null,null,1109," "," "," "," "," "," "," "," "," "," "," "," "," "," "," ",null,null,1109," "," "," "," "," "," "," "," "," "," "," "," "," "," "," "]
[null,null,null,null,null,null,null,null,null,null,null,null,null,null,null,null,null,null,null,null,null,null,null,null,null,null,null,null,null,null,null,null,null,null,null,null,null,null,null,null,null,null,null,null,null,null,null,null,null,null,null,null,1110," "," "," "," "," "," "," "," "," "," "," "," "," "," "," ",null,null,1110," "," "," "," "," "," "," "," "," "," "," "," "," "," "," "]
[null,null,null,null,null,null,null,null,null,null,null,null,null,null,null,null,null,null,null,null,null,null,null,null,null,null,null,null,null,null,null,null,null,null,null,null,null,null,null,null,null,null,null,null,null,null,null,null,null,null,null,null,1116," "," "," "," "," "," "," "," "," "," "," "," "," "," "," ",null,null,1116," "," "," "," "," "," "," "," "," "," "," "," "," "," "," "]
[null,null,null,null,null,null,null,null,null,null,null,null,null,null,null,null,null,null,null,null,null,null,null,null,null,null,null,null,null,null,null,null,null,null,null,null,null,null,null,null,null,null,null,null,null,null,null,null,null,null,null,null,1121," "," "," "," "," "," "," "," "," "," "," "," "," "," "," ",null,null,1121," "," "," "," "," "," "," "," "," "," "," "," "," "," "," "]
[null,null,null,null,null,null,null,null,null,null,null,null,null,null,null,null,null,null,null,null,null,null,null,null,null,null,null,null,null,null,null,null,null,null,null,null,null,null,null,null,null,null,null,null,null,null,null,null,null,null,null,null,1127," "," "," "," "," "," "," "," "," "," "," "," "," "," "," ",null,null,1127," "," "," "," "," "," "," "," "," "," "," "," "," "," "," "]
[null,null,null,null,null,null,null,null,null,null,null,null,null,null,null,null,null,null,null,null,null,null,null,null,null,null,null,null,null,null,null,null,null,null,null,null,null,null,null,null,null,null,null,null,null,null,null,null,null,null,null,null,1132," "," "," "," "," "," "," "," "," "," "," "," "," "," "," ",null,null,1132," "," "," "," "," "," "," "," "," "," "," "," "," "," "," "]
[null,null,null,null,null,null,null,null,null,null,null,null,null,null,null,null,null,null,null,null,null,null,null,null,null,null,null,null,null,null,null,null,null,null,null,null,null,null,null,null,null,null,null,null,null,null,null,null,null,null,null,null,1137," "," "," "," "," "," "," "," "," "," "," "," "," "," "," ",null,null,1137," "," "," "," "," "," "," "," "," "," "," "," "," "," "," "]
[null,null,null,null,null,null,null,null,null,null,null,null,null,null,null,null,null,null,null,null,null,null,null,null,null,null,null,null,null,null,null,null,null,null,null,null,null,null,null,null,null,null,null,null,null,null,null,null,null,null,null,null,1143," "," "," "," "," "," "," "," "," "," "," "," "," "," "," ",null,null,1143," "," "," "," "," "," "," "," "," "," "," "," "," "," "," "]
[null,null,null,null,null,null,null,null,null,null,null,null,null,null,null,null,null,null,null,null,null,null,null,null,null,null,null,null,null,null,null,null,null,null,null,null,null,null,null,null,null,null,null,null,null,null,null,null,null,null,null,null,1148," "," "," "," "," "," "," "," "," "," "," "," "," "," "," ",null,null,1148," "," "," "," "," "," "," "," "," "," "," "," "," "," "," "]
[null,null,null,null,null,null,null,null,null,null,null,null,null,null,null,null,null,null,null,null,null,null,null,null,null,null,null,null,null,null,null,null,null,null,null,null,null,null,null,null,null,null,null,null,null,null,null,null,null,null,null,null,1153," "," "," "," "," "," "," "," "," "," "," "," "," "," "," ",null,null,1153," "," "," "," "," "," "," "," "," "," "," "," "," "," "," "]
[null,null,null,null,null,null,null,null,null,null,null,null,null,null,null,null,null,null,null,null,null,null,null,null,null,null,null,null,null,null,null,null,null,null,null,null,null,null,null,null,null,null,null,null,null,null,null,null,null,null,null,null,1156," "," "," "," "," "," "," "," "," "," "," "," "," "," "," ",null,null,1156," "," "," "," "," "," "," "," "," "," "," "," "," "," "," "]
[null,null,null,null,null,null,null,null,null,null,null,null,null,null,null,null,null,null,null,null,null,null,null,null,null,null,null,null,null,null,null,null,null,null,null,null,null,null,null,null,null,null,null,null,null,null,null,null,null,null,null,null,1163," "," "," "," "," "," "," "," "," "," "," "," "," "," "," ",null,null,1163," "," "," "," "," "," "," "," "," "," "," "," "," "," "," "]
[null,null,null,null,null,null,null,null,null,null,null,null,null,null,null,null,null,null,null,null,null,null,null,null,null,null,null,null,null,null,null,null,null,null,null,null,null,null,null,null,null,null,null,null,null,null,null,null,null,null,null,null,1164," "," "," "," "," "," "," "," "," "," "," "," "," "," "," ",null,null,1164," "," "," "," "," "," "," "," "," "," "," "," "," "," "," "]
[null,null,null,null,null,null,null,null,null,null,null,null,null,null,null,null,null,null,null,null,null,null,null,null,null,null,null,null,null,null,null,null,null,null,null,null,null,null,null,null,null,null,null,null,null,null,null,null,null,null,null,null,1169," "," "," "," "," "," "," "," "," "," "," "," "," "," "," ",null,null,1169," "," "," "," "," "," "," "," "," "," "," "," "," "," "," "]
[null,null,null,null,null,null,null,null,null,null,null,null,null,null,null,null,null,null,null,null,null,null,null,null,null,null,null,null,null,null,null,null,null,null,null,null,null,null,null,null,null,null,null,null,null,null,null,null,null,null,null,null,1174," "," "," "," "," "," "," "," "," "," "," "," "," "," "," ",null,null,1174," "," "," "," "," "," "," "," "," "," "," "," "," "," "," "]
[null,null,null,null,null,null,null,null,null,null,null,null,null,null,null,null,null,null,null,null,null,null,null,null,null,null,null,null,null,null,null,null,null,null,null,null,null,null,null,null,null,null,null,null,null,null,null,null,null,null,null,null,1180," "," "," "," "," "," "," "," "," "," "," "," "," "," "," ",null,null,1180," "," "," "," "," "," "," "," "," "," "," "," "," "," "," "]
[null,null,null,null,null,null,null,null,null,null,null,null,null,null,null,null,null,null,null,null,null,null,null,null,null,null,null,null,null,null,null,null,null,null,null,null,null,null,null,null,null,null,null,null,null,null,null,null,null,null,null,null,1185," "," "," "," "," "," "," "," "," "," "," "," "," "," "," ",null,null,1185," "," "," "," "," "," "," "," "," "," "," "," "," "," "," "]
[null,null,null,null,null,null,null,null,null,null,null,null,null,null,null,null,null,null,null,null,null,null,null,null,null,null,null,null,null,null,null,null,null,null,null,null,null,null,null,null,null,null,null,null,null,null,null,null,null,null,null,null,1191," "," "," "," "," "," "," "," "," "," "," "," "," "," "," ",null,null,1191," "," "," "," "," "," "," "," "," "," "," "," "," "," "," "]
[null,null,null,null,null,null,null,null,null,null,null,null,null,null,null,null,null,null,null,null,null,null,null,null,null,null,null,null,null,null,null,null,null,null,null,null,null,null,null,null,null,null,null,null,null,null,null,null,null,null,null,null,1196," "," "," "," "," "," "," "," "," "," "," "," "," "," "," ",null,null,1196," "," "," "," "," "," "," "," "," "," "," "," "," "," "," "]
[null,null,null,null,null,null,null,null,null,null,null,null,null,null,null,null,null,null,null,null,null,null,null,null,null,null,null,null,null,null,null,null,null,null,null,null,null,null,null,null,null,null,null,null,null,null,null,null,null,null,null,null,1201," "," "," "," "," "," "," "," "," "," "," "," "," "," "," ",null,null,1201," "," "," "," "," "," "," "," "," "," "," "," "," "," "," "]
[null,null,null,null,null,null,null,null,null,null,null,null,null,null,null,null,null,null,null,null,null,null,null,null,null,null,null,null,null,null,null,null,null,null,null,null,null,null,null,null,null,null,null,null,null,null,null,null,null,null,null,null,1206," "," "," "," "," "," "," "," "," "," "," "," "," "," "," ",null,null,1206," "," "," "," "," "," "," "," "," "," "," "," "," "," "," "]
[null,null,null,null,null,null,null,null,null,null,null,null,null,null,null,null,null,null,null,null,null,null,null,null,null,null,null,null,null,null,null,null,null,null,null,null,null,null,null,null,null,null,null,null,null,null,null,null,null,null,null,null,1211," "," "," "," "," "," "," "," "," "," "," "," "," "," "," ",null,null,1211," "," "," "," "," "," "," "," "," "," "," "," "," "," "," "]
[null,null,null,null,null,null,null,null,null,null,null,null,null,null,null,null,null,null,null,null,null,null,null,null,null,null,null,null,null,null,null,null,null,null,null,null,null,null,null,null,null,null,null,null,null,null,null,null,null,null,null,null,1216," "," "," "," "," "," "," "," "," "," "," "," "," "," "," ",null,null,1216," "," "," "," "," "," "," "," "," "," "," "," "," "," "," "]
[null,null,null,null,null,null,null,null,null,null,null,null,null,null,null,null,null,null,null,null,null,null,null,null,null,null,null,null,null,null,null,null,null,null,null,null,null,null,null,null,null,null,null,null,null,null,null,null,null,null,null,null,1222," "," "," "," "," "," "," "," "," "," "," "," "," "," "," ",null,null,1222," "," "," "," "," "," "," "," "," "," "," "," "," "," "," "]
[null,null,null,null,null,null,null,null,null,null,null,null,null,null,null,null,null,null,null,null,null,null,null,null,null,null,null,null,null,null,null,null,null,null,null,null,null,null,null,null,null,null,null,null,null,null,null,null,null,null,null,null,1227," "," "," "," "," "," "," "," "," "," "," "," "," "," "," ",null,null,1227," "," "," "," "," "," "," "," "," "," "," "," "," "," "," "]
[null,null,null,null,null,null,null,null,null,null,null,null,null,null,null,null,null,null,null,null,null,null,null,null,null,null,null,null,null,null,null,null,null,null,null,null,null,null,null,null,null,null,null,null,null,null,null,null,null,null,null,null,1228," "," "," "," "," "," "," "," "," "," "," "," "," "," "," ",null,null,1228," "," "," "," "," "," "," "," "," "," "," "," "," "," "," "]
[null,null,null,null,null,null,null,null,null,null,null,null,null,null,null,null,null,null,null,null,null,null,null,null,null,null,null,null,null,null,null,null,null,null,null,null,null,null,null,null,null,null,null,null,null,null,null,null,null,null,null,null,1233," "," "," "," "," "," "," "," "," "," "," "," "," "," "," ",null,null,1233," "," "," "," "," "," "," "," "," "," "," "," "," "," "," "]
[null,null,null,null,null,null,null,null,null,null,null,null,null,null,null,null,null,null,null,null,null,null,null,null,null,null,null,null,null,null,null,null,null,null,null,null,null,null,null,null,null,null,null,null,null,null,null,null,null,null,null,null,1238," "," "," "," "," "," "," "," "," "," "," "," "," "," "," ",null,null,1238," "," "," "," "," "," "," "," "," "," "," "," "," "," "," "]
[null,null,null,null,null,null,null,null,null,null,null,null,null,null,null,null,null,null,null,null,null,null,null,null,null,null,null,null,null,null,null,null,null,null,null,null,null,null,null,null,null,null,null,null,null,null,null,null,null,null,null,null,1244," "," "," "," "," "," "," "," "," "," "," "," "," "," "," ",null,null,1244," "," "," "," "," "," "," "," "," "," "," "," "," "," "," "]
[null,null,null,null,null,null,null,null,null,null,null,null,null,null,null,null,null,null,null,null,null,null,null,null,null,null,null,null,null,null,null,null,null,null,null,null,null,null,null,null,null,null,null,null,null,null,null,null,null,null,null,null,1248," "," "," "," "," "," "," "," "," "," "," "," "," "," "," ",null,null,1248," "," "," "," "," "," "," "," "," "," "," "," "," "," "," "]
[null,null,null,null,null,null,null,null,null,null,null,null,null,null,null,null,null,null,null,null,null,null,null,null,null,null,null,null,null,null,null,null,null,null,null,null,null,null,null,null,null,null,null,null,null,null,null,null,null,null,null,null,1253," "," "," "," "," "," "," "," "," "," "," "," "," "," "," ",null,null,1253," "," "," "," "," "," "," "," "," "," "," "," "," "," "," "]
[null,null,null,null,null,null,null,null,null,null,null,null,null,null,null,null,null,null,null,null,null,null,null,null,null,null,null,null,null,null,null,null,null,null,null,null,null,null,null,null,null,null,null,null,null,null,null,null,null,null,null,null,1259," "," "," "," "," "," "," "," "," "," "," "," "," "," "," ",null,null,1259," "," "," "," "," "," "," "," "," "," "," "," "," "," "," "]
[null,null,null,null,null,null,null,null,null,null,null,null,null,null,null,null,null,null,null,null,null,null,null,null,null,null,null,null,null,null,null,null,null,null,null,null,null,null,null,null,null,null,null,null,null,null,null,null,null,null,null,null,1264," "," "," "," "," "," "," "," "," "," "," "," "," "," "," ",null,null,1264," "," "," "," "," "," "," "," "," "," "," "," "," "," "," "]
[null,null,null,null,null,null,null,null,null,null,null,null,null,null,null,null,null,null,null,null,null,null,null,null,null,null,null,null,null,null,null,null,null,null,null,null,null,null,null,null,null,null,null,null,null,null,null,null,null,null,null,null,1270," "," "," "," "," "," "," "," "," "," "," "," "," "," "," ",null,null,1270," "," "," "," "," "," "," "," "," "," "," "," "," "," "," "]
[null,null,null,null,null,null,null,null,null,null,null,null,null,null,null,null,null,null,null,null,null,null,null,null,null,null,null,null,null,null,null,null,null,null,null,null,null,null,null,null,null,null,null,null,null,null,null,null,null,null,null,null,1275," "," "," "," "," "," "," "," "," "," "," "," "," "," "," ",null,null,1275," "," "," "," "," "," "," "," "," "," "," "," "," "," "," "]
[null,null,null,null,null,null,null,null,null,null,null,null,null,null,null,null,null,null,null,null,null,null,null,null,null,null,null,null,null,null,null,null,null,null,null,null,null,null,null,null,null,null,null,null,null,null,null,null,null,null,null,null,1280," "," "," "," "," "," "," "," "," "," "," "," "," "," "," ",null,null,1280," "," "," "," "," "," "," "," "," "," "," "," "," "," "," "]
[null,null,null,null,null,null,null,null,null,null,null,null,null,null,null,null,null,null,null,null,null,null,null,null,null,null,null,null,null,null,null,null,null,null,null,null,null,null,null,null,null,null,null,null,null,null,null,null,null,null,null,null,1286," "," "," "," "," "," "," "," "," "," "," "," "," "," "," ",null,null,1286," "," "," "," "," "," "," "," "," "," "," "," "," "," "," "]
[null,null,null,null,null,null,null,null,null,null,null,null,null,null,null,null,null,null,null,null,null,null,null,null,null,null,null,null,null,null,null,null,null,null,null,null,null,null,null,null,null,null,null,null,null,null,null,null,null,null,null,null,1291," "," "," "," "," "," "," "," "," "," "," "," "," "," "," ",null,null,1291," "," "," "," "," "," "," "," "," "," "," "," "," "," "," "]
[null,null,null,null,null,null,null,null,null,null,null,null,null,null,null,null,null,null,null,null,null,null,null,null,null,null,null,null,null,null,null,null,null,null,null,null,null,null,null,null,null,null,null,null,null,null,null,null,null,null,null,null,1292," "," "," "," "," "," "," "," "," "," "," "," "," "," "," ",null,null,1292," "," "," "," "," "," "," "," "," "," "," "," "," "," "," "]
[null,null,null,null,null,null,null,null,null,null,null,null,null,null,null,null,null,null,null,null,null,null,null,null,null,null,null,null,null,null,null,null,null,null,null,null,null,null,null,null,null,null,null,null,null,null,null,null,null,null,null,null,1299," "," "," "," "," "," "," "," "," "," "," "," "," "," "," ",null,null,1299," "," "," "," "," "," "," "," "," "," "," "," "," "," "," "]
[null,null,null,null,null,null,null,null,null,null,null,null,null,null,null,null,null,null,null,null,null,null,null,null,null,null,null,null,null,null,null,null,null,null,null,null,null,null,null,null,null,null,null,null,null,null,null,null,null,null,null,null,1301," "," "," "," "," "," "," "," "," "," "," "," "," "," "," ",null,null,1301," "," "," "," "," "," "," "," "," "," "," "," "," "," "," "]
[null,null,null,null,null,null,null,null,null,null,null,null,null,null,null,null,null,null,null,null,null,null,null,null,null,null,null,null,null,null,null,null,null,null,null,null,null,null,null,null,null,null,null,null,null,null,null,null,null,null,null,null,1307," "," "," "," "," "," "," "," "," "," "," "," "," "," "," ",null,null,1307," "," "," "," "," "," "," "," "," "," "," "," "," "," "," "]
[null,null,null,null,null,null,null,null,null,null,null,null,null,null,null,null,null,null,null,null,null,null,null,null,null,null,null,null,null,null,null,null,null,null,null,null,null,null,null,null,null,null,null,null,null,null,null,null,null,null,null,null,1312," "," "," "," "," "," "," "," "," "," "," "," "," "," "," ",null,null,1312," "," "," "," "," "," "," "," "," "," "," "," "," "," "," "]
[null,null,null,null,null,null,null,null,null,null,null,null,null,null,null,null,null,null,null,null,null,null,null,null,null,null,null,null,null,null,null,null,null,null,null,null,null,null,null,null,null,null,null,null,null,null,null,null,null,null,null,null,1317," "," "," "," "," "," "," "," "," "," "," "," "," "," "," ",null,null,1317," "," "," "," "," "," "," "," "," "," "," "," "," "," "," "]
[null,null,null,null,null,null,null,null,null,null,null,null,null,null,null,null,null,null,null,null,null,null,null,null,null,null,null,null,null,null,null,null,null,null,null,null,null,null,null,null,null,null,null,null,null,null,null,null,null,null,null,null,1323," "," "," "," "," "," "," "," "," "," "," "," "," "," "," ",null,null,1323," "," "," "," "," "," "," "," "," "," "," "," "," "," "," "]
[null,null,null,null,null,null,null,null,null,null,null,null,null,null,null,null,null,null,null,null,null,null,null,null,null,null,null,null,null,null,null,null,null,null,null,null,null,null,null,null,null,null,null,null,null,null,null,null,null,null,null,null,1328," "," "," "," "," "," "," "," "," "," "," "," "," "," "," ",null,null,1328," "," "," "," "," "," "," "," "," "," "," "," "," "," "," "]
[null,null,null,null,null,null,null,null,null,null,null,null,null,null,null,null,null,null,null,null,null,null,null,null,null,null,null,null,null,null,null,null,null,null,null,null,null,null,null,null,null,null,null,null,null,null,null,null,null,null,null,null,1334," "," "," "," "," "," "," "," "," "," "," "," "," "," "," ",null,null,1334," "," "," "," "," "," "," "," "," "," "," "," "," "," "," "]
[null,null,null,null,null,null,null,null,null,null,null,null,null,null,null,null,null,null,null,null,null,null,null,null,null,null,null,null,null,null,null,null,null,null,null,null,null,null,null,null,null,null,null,null,null,null,null,null,null,null,null,null,1339," "," "," "," "," "," "," "," "," "," "," "," "," "," "," ",null,null,1339," "," "," "," "," "," "," "," "," "," "," "," "," "," "," "]
[null,null,null,null,null,null,null,null,null,null,null,null,null,null,null,null,null,null,null,null,null,null,null,null,null,null,null,null,null,null,null,null,null,null,null,null,null,null,null,null,null,null,null,null,null,null,null,null,null,null,null,null,1344," "," "," "," "," "," "," "," "," "," "," "," "," "," "," ",null,null,1344," "," "," "," "," "," "," "," "," "," "," "," "," "," "," "]
[null,null,null,null,null,null,null,null,null,null,null,null,null,null,null,null,null,null,null,null,null,null,null,null,null,null,null,null,null,null,null,null,null,null,null,null,null,null,null,null,null,null,null,null,null,null,null,null,null,null,null,null,1349," "," "," "," "," "," "," "," "," "," "," "," "," "," "," ",null,null,1349," "," "," "," "," "," "," "," "," "," "," "," "," "," "," "]
[null,null,null,null,null,null,null,null,null,null,null,null,null,null,null,null,null,null,null,null,null,null,null,null,null,null,null,null,null,null,null,null,null,null,null,null,null,null,null,null,null,null,null,null,null,null,null,null,null,null,null,null,1354," "," "," "," "," "," "," "," "," "," "," "," "," "," "," ",null,null,1354," "," "," "," "," "," "," "," "," "," "," "," "," "," "," "]
[null,null,null,null,null,null,null,null,null,null,null,null,null,null,null,null,null,null,null,null,null,null,null,null,null,null,null,null,null,null,null,null,null,null,null,null,null,null,null,null,null,null,null,null,null,null,null,null,null,null,null,null,1359," "," "," "," "," "," "," "," "," "," "," "," "," "," "," ",null,null,1359," "," "," "," "," "," "," "," "," "," "," "," "," "," "," "]
[null,null,null,null,null,null,null,null,null,null,null,null,null,null,null,null,null,null,null,null,null,null,null,null,null,null,null,null,null,null,null,null,null,null,null,null,null,null,null,null,null,null,null,null,null,null,null,null,null,null,null,null,1360," "," "," "," "," "," "," "," "," "," "," "," "," "," "," ",null,null,1360," "," "," "," "," "," "," "," "," "," "," "," "," "," "," "]
[null,null,null,null,null,null,null,null,null,null,null,null,null,null,null,null,null,null,null,null,null,null,null,null,null,null,null,null,null,null,null,null,null,null,null,null,null,null,null,null,null,null,null,null,null,null,null,null,null,null,null,null,1365," "," "," "," "," "," "," "," "," "," "," "," "," "," "," ",null,null,1365," "," "," "," "," "," "," "," "," "," "," "," "," "," "," "]
[null,null,null,null,null,null,null,null,null,null,null,null,null,null,null,null,null,null,null,null,null,null,null,null,null,null,null,null,null,null,null,null,null,null,null,null,null,null,null,null,null,null,null,null,null,null,null,null,null,null,null,null,1371," "," "," "," "," "," "," "," "," "," "," "," "," "," "," ",null,null,1371," "," "," "," "," "," "," "," "," "," "," "," "," "," "," "]
[null,null,null,null,null,null,null,null,null,null,null,null,null,null,null,null,null,null,null,null,null,null,null,null,null,null,null,null,null,null,null,null,null,null,null,null,null,null,null,null,null,null,null,null,null,null,null,null,null,null,null,null,1376," "," "," "," "," "," "," "," "," "," "," "," "," "," "," ",null,null,1376," "," "," "," "," "," "," "," "," "," "," "," "," "," "," "]
[null,null,null,null,null,null,null,null,null,null,null,null,null,null,null,null,null,null,null,null,null,null,null,null,null,null,null,null,null,null,null,null,null,null,null,null,null,null,null,null,null,null,null,null,null,null,null,null,null,null,null,null,1381," "," "," "," "," "," "," "," "," "," "," "," "," "," "," ",null,null,1381," "," "," "," "," "," "," "," "," "," "," "," "," "," "," "]
[null,null,null,null,null,null,null,null,null,null,null,null,null,null,null,null,null,null,null,null,null,null,null,null,null,null,null,null,null,null,null,null,null,null,null,null,null,null,null,null,null,null,null,null,null,null,null,null,null,null,null,null,1387," "," "," "," "," "," "," "," "," "," "," "," "," "," "," ",null,null,1387," "," "," "," "," "," "," "," "," "," "," "," "," "," "," "]
[null,null,null,null,null,null,null,null,null,null,null,null,null,null,null,null,null,null,null,null,null,null,null,null,null,null,null,null,null,null,null,null,null,null,null,null,null,null,null,null,null,null,null,null,null,null,null,null,null,null,null,null,1391," "," "," "," "," "," "," "," "," "," "," "," "," "," "," ",null,null,1391," "," "," "," "," "," "," "," "," "," "," "," "," "," "," "]
[null,null,null,null,null,null,null,null,null,null,null,null,null,null,null,null,null,null,null,null,null,null,null,null,null,null,null,null,null,null,null,null,null,null,null,null,null,null,null,null,null,null,null,null,null,null,null,null,null,null,null,null,1397," "," "," "," "," "," "," "," "," "," "," "," "," "," "," ",null,null,1397," "," "," "," "," "," "," "," "," "," "," "," "," "," "," "]
[null,null,null,null,null,null,null,null,null,null,null,null,null,null,null,null,null,null,null,null,null,null,null,null,null,null,null,null,null,null,null,null,null,null,null,null,null,null,null,null,null,null,null,null,null,null,null,null,null,null,null,null,1402," "," "," "," "," "," "," "," "," "," "," "," "," "," "," ",null,null,1402," "," "," "," "," "," "," "," "," "," "," "," "," "," "," "]
[null,null,null,null,null,null,null,null,null,null,null,null,null,null,null,null,null,null,null,null,null,null,null,null,null,null,null,null,null,null,null,null,null,null,null,null,null,null,null,null,null,null,null,null,null,null,null,null,null,null,null,null,1407," "," "," "," "," "," "," "," "," "," "," "," "," "," "," ",null,null,1407," "," "," "," "," "," "," "," "," "," "," "," "," "," "," "]
[null,null,null,null,null,null,null,null,null,null,null,null,null,null,null,null,null,null,null,null,null,null,null,null,null,null,null,null,null,null,null,null,null,null,null,null,null,null,null,null,null,null,null,null,null,null,null,null,null,null,null,null,1413," "," "," "," "," "," "," "," "," "," "," "," "," "," "," ",null,null,1413," "," "," "," "," "," "," "," "," "," "," "," "," "," "," "]
[null,null,null,null,null,null,null,null,null,null,null,null,null,null,null,null,null,null,null,null,null,null,null,null,null,null,null,null,null,null,null,null,null,null,null,null,null,null,null,null,null,null,null,null,null,null,null,null,null,null,null,null,1418," "," "," "," "," "," "," "," "," "," "," "," "," "," "," ",null,null,1418," "," "," "," "," "," "," "," "," "," "," "," "," "," "," "]
[null,null,null,null,null,null,null,null,null,null,null,null,null,null,null,null,null,null,null,null,null,null,null,null,null,null,null,null,null,null,null,null,null,null,null,null,null,null,null,null,null,null,null,null,null,null,null,null,null,null,null,null,1423," "," "," "," "," "," "," "," "," "," "," "," "," "," "," ",null,null,1423," "," "," "," "," "," "," "," "," "," "," "," "," "," "," "]
[null,null,null,null,null,null,null,null,null,null,null,null,null,null,null,null,null,null,null,null,null,null,null,null,null,null,null,null,null,null,null,null,null,null,null,null,null,null,null,null,null,null,null,null,null,null,null,null,null,null,null,null,1424," "," "," "," "," "," "," "," "," "," "," "," "," "," "," ",null,null,1424," "," "," "," "," "," "," "," "," "," "," "," "," "," "," "]
[null,null,null,null,null,null,null,null,null,null,null,null,null,null,null,null,null,null,null,null,null,null,null,null,null,null,null,null,null,null,null,null,null,null,null,null,null,null,null,null,null,null,null,null,null,null,null,null,null,null,null,null,1429," "," "," "," "," "," "," "," "," "," "," "," "," "," "," ",null,null,1429," "," "," "," "," "," "," "," "," "," "," "," "," "," "," "]
[null,null,null,null,null,null,null,null,null,null,null,null,null,null,null,null,null,null,null,null,null,null,null,null,null,null,null,null,null,null,null,null,null,null,null,null,null,null,null,null,null,null,null,null,null,null,null,null,null,null,null,null,1435," "," "," "," "," "," "," "," "," "," "," "," "," "," "," ",null,null,1435," "," "," "," "," "," "," "," "," "," "," "," "," "," "," "]
[null,null,null,null,null,null,null,null,null,null,null,null,null,null,null,null,null,null,null,null,null,null,null,null,null,null,null,null,null,null,null,null,null,null,null,null,null,null,null,null,null,null,null,null,null,null,null,null,null,null,null,null,1439," "," "," "," "," "," "," "," "," "," "," "," "," "," "," ",null,null,1439," "," "," "," "," "," "," "," "," "," "," "," "," "," "," "]
[null,null,null,null,null,null,null,null,null,null,null,null,null,null,null,null,null,null,null,null,null,null,null,null,null,null,null,null,null,null,null,null,null,null,null,null,null,null,null,null,null,null,null,null,null,null,null,null,null,null,null,null,1440," "," "," "," "," "," "," "," "," "," "," "," "," "," "," ",null,null,1440," "," "," "," "," "," "," "," "," "," "," "," "," "," "," "]
[null,null,null,null,null,null,null,null,null,null,null,null,null,null,null,null,null,null,null,null,null,null,null,null,null,null,null,null,null,null,null,null,null,null,null,null,null,null,null,null,null,null,null,null,null,null,null,null,null,null,null,null,1441," "," "," "," "," "," "," "," "," "," "," "," "," "," "," ",null,null,1441," "," "," "," "," "," "," "," "," "," "," "," "," "," "," "]
[null,null,null,null,null,null,null,null,null,null,null,null,null,null,null,null,null,null,null,null,null,null,null,null,null,null,null,null,null,null,null,null,null,null,null,null,null,null,null,null,null,null,null,null,null,null,null,null,null,null,null,null,1442," "," "," "," "," "," "," "," "," "," "," "," "," "," "," ",null,null,1442," "," "," "," "," "," "," "," "," "," "," "," "," "," "," "]
[null,null,null,null,null,null,null,null,null,null,null,null,null,null,null,null,null,null,null,null,null,null,null,null,null,null,null,null,null,null,null,null,null,null,null,null,null,null,null,null,null,null,null,null,null,null,null,null,null,null,null,null,1443," "," "," "," "," "," "," "," "," "," "," "," "," "," "," ",null,null,1443," "," "," "," "," "," "," "," "," "," "," "," "," "," "," "]
[null,null,null,null,null,null,null,null,null,null,null,null,null,null,null,null,null,null,null,null,null,null,null,null,null,null,null,null,null,null,null,null,null,null,null,null,null,null,null,null,null,null,null,null,null,null,null,null,null,null,null,null,1444," "," "," "," "," "," "," "," "," "," "," "," "," "," "," ",null,null,1444," "," "," "," "," "," "," "," "," "," "," "," "," "," "," "]
[null,null,null,null,null,null,null,null,null,null,null,null,null,null,null,null,null,null,null,null,null,null,null,null,null,null,null,null,null,null,null,null,null,null,null,null,null,null,null,null,null,null,null,null,null,null,null,null,null,null,null,null,1445," "," "," "," "," "," "," "," "," "," "," "," "," "," "," ",null,null,1445," "," "," "," "," "," "," "," "," "," "," "," "," "," "," "]
[null,null,null,null,null,null,null,null,null,null,null,null,null,null,null,null,null,null,null,null,null,null,null,null,null,null,null,null,null,null,null,null,null,null,null,null,null,null,null,null,null,null,null,null,null,null,null,null,null,null,null,null,1446," "," "," "," "," "," "," "," "," "," "," "," "," "," "," ",null,null,1446," "," "," "," "," "," "," "," "," "," "," "," "," "," "," "]
[null,null,null,null,null,null,null,null,null,null,null,null,null,null,null,null,null,null,null,null,null,null,null,null,null,null,null,null,null,null,null,null,null,null,null,null,null,null,null,null,null,null,null,null,null,null,null,null,null,null,null,null,1447," "," "," "," "," "," "," "," "," "," "," "," "," "," "," ",null,null,1447," "," "," "," "," "," "," "," "," "," "," "," "," "," "," "]
[null,null,null,null,null,null,null,null,null,null,null,null,null,null,null,null,null,null,null,null,null,null,null,null,null,null,null,null,null,null,null,null,null,null,null,null,null,null,null,null,null,null,null,null,null,null,null,null,null,null,null,null,1448," "," "," "," "," "," "," "," "," "," "," "," "," "," "," ",null,null,1448," "," "," "," "," "," "," "," "," "," "," "," "," "," "," "]
[null,null,null,null,null,null,null,null,null,null,null,null,null,null,null,null,null,null,null,null,null,null,null,null,null,null,null,null,null,null,null,null,null,null,null,null,null,null,null,null,null,null,null,null,null,null,null,null,null,null,null,null,1449," "," "," "," "," "," "," "," "," "," "," "," "," "," "," ",null,null,1449," "," "," "," "," "," "," "," "," "," "," "," "," "," "," "]
[null,null,null,null,null,null,null,null,null,null,null,null,null,null,null,null,null,null,null,null,null,null,null,null,null,null,null,null,null,null,null,null,null,null,null,null,null,null,null,null,null,null,null,null,null,null,null,null,null,null,null,null,1450," "," "," "," "," "," "," "," "," "," "," "," "," "," "," ",null,null,1450," "," "," "," "," "," "," "," "," "," "," "," "," "," "," "]
[null,null,null,null,null,null,null,null,null,null,null,null,null,null,null,null,null,null,null,null,null,null,null,null,null,null,null,null,null,null,null,null,null,null,null,null,null,null,null,null,null,null,null,null,null,null,null,null,null,null,null,null,1451," "," "," "," "," "," "," "," "," "," "," "," "," "," "," ",null,null,1451," "," "," "," "," "," "," "," "," "," "," "," "," "," "," "]
[null,null,null,null,null,null,null,null,null,null,null,null,null,null,null,null,null,null,null,null,null,null,null,null,null,null,null,null,null,null,null,null,null,null,null,null,null,null,null,null,null,null,null,null,null,null,null,null,null,null,null,null,1452," "," "," "," "," "," "," "," "," "," "," "," "," "," "," ",null,null,1452," "," "," "," "," "," "," "," "," "," "," "," "," "," "," "]
[null,null,null,null,null,null,null,null,null,null,null,null,null,null,null,null,null,null,null,null,null,null,null,null,null,null,null,null,null,null,null,null,null,null,null,null,null,null,null,null,null,null,null,null,null,null,null,null,null,null,null,null,1453," "," "," "," "," "," "," "," "," "," "," "," "," "," "," ",null,null,1453," "," "," "," "," "," "," "," "," "," "," "," "," "," "," "]
[null,null,null,null,null,null,null,null,null,null,null,null,null,null,null,null,null,null,null,null,null,null,null,null,null,null,null,null,null,null,null,null,null,null,null,null,null,null,null,null,null,null,null,null,null,null,null,null,null,null,null,null,1454," "," "," "," "," "," "," "," "," "," "," "," "," "," "," ",null,null,1454," "," "," "," "," "," "," "," "," "," "," "," "," "," "," "]
[null,null,null,null,null,null,null,null,null,null,null,null,null,null,null,null,null,null,null,null,null,null,null,null,null,null,null,null,null,null,null,null,null,null,null,null,null,null,null,null,null,null,null,null,null,null,null,null,null,null,null,null,1455," "," "," "," "," "," "," "," "," "," "," "," "," "," "," ",null,null,1455," "," "," "," "," "," "," "," "," "," "," "," "," "," "," "]
[null,null,null,null,null,null,null,null,null,null,null,null,null,null,null,null,null,null,null,null,null,null,null,null,null,null,null,null,null,null,null,null,null,null,null,null,null,null,null,null,null,null,null,null,null,null,null,null,null,null,null,null,1456," "," "," "," "," "," "," "," "," "," "," "," "," "," "," ",null,null,1456," "," "," "," "," "," "," "," "," "," "," "," "," "," "," "]
[null,null,null,null,null,null,null,null,null,null,null,null,null,null,null,null,null,null,null,null,null,null,null,null,null,null,null,null,null,null,null,null,null,null,null,null,null,null,null,null,null,null,null,null,null,null,null,null,null,null,null,null,1457," "," "," "," "," "," "," "," "," "," "," "," "," "," "," ",null,null,1457," "," "," "," "," "," "," "," "," "," "," "," "," "," "," "]
[null,null,null,null,null,null,null,null,null,null,null,null,null,null,null,null,null,null,null,null,null,null,null,null,null,null,null,null,null,null,null,null,null,null,null,null,null,null,null,null,null,null,null,null,null,null,null,null,null,null,null,null,1458," "," "," "," "," "," "," "," "," "," "," "," "," "," "," ",null,null,1458," "," "," "," "," "," "," "," "," "," "," "," "," "," "," "]
[null,null,null,null,null,null,null,null,null,null,null,null,null,null,null,null,null,null,null,null,null,null,null,null,null,null,null,null,null,null,null,null,null,null,null,null,null,null,null,null,null,null,null,null,null,null,null,null,null,null,null,null,1459," "," "," "," "," "," "," "," "," "," "," "," "," "," "," ",null,null,1459," "," "," "," "," "," "," "," "," "," "," "," "," "," "," "]
[null,null,null,null,null,null,null,null,null,null,null,null,null,null,null,null,null,null,null,null,null,null,null,null,null,null,null,null,null,null,null,null,null,null,null,null,null,null,null,null,null,null,null,null,null,null,null,null,null,null,null,null,1460," "," "," "," "," "," "," "," "," "," "," "," "," "," "," ",null,null,1460," "," "," "," "," "," "," "," "," "," "," "," "," "," "," "]
[null,null,null,null,null,null,null,null,null,null,null,null,null,null,null,null,null,null,null,null,null,null,null,null,null,null,null,null,null,null,null,null,null,null,null,null,null,null,null,null,null,null,null,null,null,null,null,null,null,null,null,null,1461," "," "," "," "," "," "," "," "," "," "," "," "," "," "," ",null,null,1461," "," "," "," "," "," "," "," "," "," "," "," "," "," "," "]
[null,null,null,null,null,null,null,null,null,null,null,null,null,null,null,null,null,null,null,null,null,null,null,null,null,null,null,null,null,null,null,null,null,null,null,null,null,null,null,null,null,null,null,null,null,null,null,null,null,null,null,null,1462," "," "," "," "," "," "," "," "," "," "," "," "," "," "," ",null,null,1462," "," "," "," "," "," "," "," "," "," "," "," "," "," "," "]
[null,null,null,null,null,null,null,null,null,null,null,null,null,null,null,null,null,null,null,null,null,null,null,null,null,null,null,null,null,null,null,null,null,null,null,null,null,null,null,null,null,null,null,null,null,null,null,null,null,null,null,null,1463," "," "," "," "," "," "," "," "," "," "," "," "," "," "," ",null,null,1463," "," "," "," "," "," "," "," "," "," "," "," "," "," "," "]
[null,null,null,null,null,null,null,null,null,null,null,null,null,null,null,null,null,null,null,null,null,null,null,null,null,null,null,null,null,null,null,null,null,null,null,null,null,null,null,null,null,null,null,null,null,null,null,null,null,null,null,null,1464," "," "," "," "," "," "," "," "," "," "," "," "," "," "," ",null,null,1464," "," "," "," "," "," "," "," "," "," "," "," "," "," "," "]
[null,null,null,null,null,null,null,null,null,null,null,null,null,null,null,null,null,null,null,null,null,null,null,null,null,null,null,null,null,null,null,null,null,null,null,null,null,null,null,null,null,null,null,null,null,null,null,null,null,null,null,null,1465," "," "," "," "," "," "," "," "," "," "," "," "," "," "," ",null,null,1465," "," "," "," "," "," "," "," "," "," "," "," "," "," "," "]
[null,null,null,null,null,null,null,null,null,null,null,null,null,null,null,null,null,null,null,null,null,null,null,null,null,null,null,null,null,null,null,null,null,null,null,null,null,null,null,null,null,null,null,null,null,null,null,null,null,null,null,null,1466," "," "," "," "," "," "," "," "," "," "," "," "," "," "," ",null,null,1466," "," "," "," "," "," "," "," "," "," "," "," "," "," "," "]
[null,null,null,null,null,null,null,null,null,null,null,null,null,null,null,null,null,null,null,null,null,null,null,null,null,null,null,null,null,null,null,null,null,null,null,null,null,null,null,null,null,null,null,null,null,null,null,null,null,null,null,null,1467," "," "," "," "," "," "," "," "," "," "," "," "," "," "," ",null,null,1467," "," "," "," "," "," "," "," "," "," "," "," "," "," "," "]
[null,null,null,null,null,null,null,null,null,null,null,null,null,null,null,null,null,null,null,null,null,null,null,null,null,null,null,null,null,null,null,null,null,null,null,null,null,null,null,null,null,null,null,null,null,null,null,null,null,null,null,null,1468," "," "," "," "," "," "," "," "," "," "," "," "," "," "," ",null,null,1468," "," "," "," "," "," "," "," "," "," "," "," "," "," "," "]
[null,null,null,null,null,null,null,null,null,null,null,null,null,null,null,null,null,null,null,null,null,null,null,null,null,null,null,null,null,null,null,null,null,null,null,null,null,null,null,null,null,null,null,null,null,null,null,null,null,null,null,null,1469," "," "," "," "," "," "," "," "," "," "," "," "," "," "," ",null,null,1469," "," "," "," "," "," "," "," "," "," "," "," "," "," "," "]
[null,null,null,null,null,null,null,null,null,null,null,null,null,null,null,null,null,null,null,null,null,null,null,null,null,null,null,null,null,null,null,null,null,null,null,null,null,null,null,null,null,null,null,null,null,null,null,null,null,null,null,null,1470," "," "," "," "," "," "," "," "," "," "," "," "," "," "," ",null,null,1470," "," "," "," "," "," "," "," "," "," "," "," "," "," "," "]
[null,null,null,null,null,null,null,null,null,null,null,null,null,null,null,null,null,null,null,null,null,null,null,null,null,null,null,null,null,null,null,null,null,null,null,null,null,null,null,null,null,null,null,null,null,null,null,null,null,null,null,null,1471," "," "," "," "," "," "," "," "," "," "," "," "," "," "," ",null,null,1471," "," "," "," "," "," "," "," "," "," "," "," "," "," "," "]
[null,null,null,null,null,null,null,null,null,null,null,null,null,null,null,null,null,null,null,null,null,null,null,null,null,null,null,null,null,null,null,null,null,null,null,null,null,null,null,null,null,null,null,null,null,null,null,null,null,null,null,null,1472," "," "," "," "," "," "," "," "," "," "," "," "," "," "," ",null,null,1472," "," "," "," "," "," "," "," "," "," "," "," "," "," "," "]
[null,null,null,null,null,null,null,null,null,null,null,null,null,null,null,null,null,null,null,null,null,null,null,null,null,null,null,null,null,null,null,null,null,null,null,null,null,null,null,null,null,null,null,null,null,null,null,null,null,null,null,null,1473," "," "," "," "," "," "," "," "," "," "," "," "," "," "," ",null,null,1473," "," "," "," "," "," "," "," "," "," "," "," "," "," "," "]
[null,null,null,null,null,null,null,null,null,null,null,null,null,null,null,null,null,null,null,null,null,null,null,null,null,null,null,null,null,null,null,null,null,null,null,null,null,null,null,null,null,null,null,null,null,null,null,null,null,null,null,null,1474," "," "," "," "," "," "," "," "," "," "," "," "," "," "," ",null,null,1474," "," "," "," "," "," "," "," "," "," "," "," "," "," "," "]
[null,null,null,null,null,null,null,null,null,null,null,null,null,null,null,null,null,null,null,null,null,null,null,null,null,null,null,null,null,null,null,null,null,null,null,null,null,null,null,null,null,null,null,null,null,null,null,null,null,null,null,null,1475," "," "," "," "," "," "," "," "," "," "," "," "," "," "," ",null,null,1475," "," "," "," "," "," "," "," "," "," "," "," "," "," "," "]
[null,null,null,null,null,null,null,null,null,null,null,null,null,null,null,null,null,null,null,null,null,null,null,null,null,null,null,null,null,null,null,null,null,null,null,null,null,null,null,null,null,null,null,null,null,null,null,null,null,null,null,null,1476," "," "," "," "," "," "," "," "," "," "," "," "," "," "," ",null,null,1476," "," "," "," "," "," "," "," "," "," "," "," "," "," "," "]
[null,null,null,null,null,null,null,null,null,null,null,null,null,null,null,null,null,null,null,null,null,null,null,null,null,null,null,null,null,null,null,null,null,null,null,null,null,null,null,null,null,null,null,null,null,null,null,null,null,null,null,null,1477," "," "," "," "," "," "," "," "," "," "," "," "," "," "," ",null,null,1477," "," "," "," "," "," "," "," "," "," "," "," "," "," "," "]
[null,null,null,null,null,null,null,null,null,null,null,null,null,null,null,null,null,null,null,null,null,null,null,null,null,null,null,null,null,null,null,null,null,null,null,null,null,null,null,null,null,null,null,null,null,null,null,null,null,null,null,null,1478," "," "," "," "," "," "," "," "," "," "," "," "," "," "," ",null,null,1478," "," "," "," "," "," "," "," "," "," "," "," "," "," "," "]
[null,null,null,null,null,null,null,null,null,null,null,null,null,null,null,null,null,null,null,null,null,null,null,null,null,null,null,null,null,null,null,null,null,null,null,null,null,null,null,null,null,null,null,null,null,null,null,null,null,null,null,null,1479," "," "," "," "," "," "," "," "," "," "," "," "," "," "," ",null,null,1479," "," "," "," "," "," "," "," "," "," "," "," "," "," "," "]
[null,null,null,null,null,null,null,null,null,null,null,null,null,null,null,null,null,null,null,null,null,null,null,null,null,null,null,null,null,null,null,null,null,null,null,null,null,null,null,null,null,null,null,null,null,null,null,null,null,null,null,null,1480," "," "," "," "," "," "," "," "," "," "," "," "," "," "," ",null,null,1480," "," "," "," "," "," "," "," "," "," "," "," "," "," "," "]
[null,null,null,null,null,null,null,null,null,null,null,null,null,null,null,null,null,null,null,null,null,null,null,null,null,null,null,null,null,null,null,null,null,null,null,null,null,null,null,null,null,null,null,null,null,null,null,null,null,null,null,null,1481," "," "," "," "," "," "," "," "," "," "," "," "," "," "," ",null,null,1481," "," "," "," "," "," "," "," "," "," "," "," "," "," "," "]
[null,null,null,null,null,null,null,null,null,null,null,null,null,null,null,null,null,null,null,null,null,null,null,null,null,null,null,null,null,null,null,null,null,null,null,null,null,null,null,null,null,null,null,null,null,null,null,null,null,null,null,null,1482," "," "," "," "," "," "," "," "," "," "," "," "," "," "," ",null,null,1482," "," "," "," "," "," "," "," "," "," "," "," "," "," "," "]
[null,null,null,null,null,null,null,null,null,null,null,null,null,null,null,null,null,null,null,null,null,null,null,null,null,null,null,null,null,null,null,null,null,null,null,null,null,null,null,null,null,null,null,null,null,null,null,null,null,null,null,null,1483," "," "," "," "," "," "," "," "," "," "," "," "," "," "," ",null,null,1483," "," "," "," "," "," "," "," "," "," "," "," "," "," "," "]
[null,null,null,null,null,null,null,null,null,null,null,null,null,null,null,null,null,null,null,null,null,null,null,null,null,null,null,null,null,null,null,null,null,null,null,null,null,null,null,null,null,null,null,null,null,null,null,null,null,null,null,null,1484," "," "," "," "," "," "," "," "," "," "," "," "," "," "," ",null,null,1484," "," "," "," "," "," "," "," "," "," "," "," "," "," "," "]
[null,null,null,null,null,null,null,null,null,null,null,null,null,null,null,null,null,null,null,null,null,null,null,null,null,null,null,null,null,null,null,null,null,null,null,null,null,null,null,null,null,null,null,null,null,null,null,null,null,null,null,null,1485," "," "," "," "," "," "," "," "," "," "," "," "," "," "," ",null,null,1485," "," "," "," "," "," "," "," "," "," "," "," "," "," "," "]
[null,null,null,null,null,null,null,null,null,null,null,null,null,null,null,null,null,null,null,null,null,null,null,null,null,null,null,null,null,null,null,null,null,null,null,null,null,null,null,null,null,null,null,null,null,null,null,null,null,null,null,null,1486," "," "," "," "," "," "," "," "," "," "," "," "," "," "," ",null,null,1486," "," "," "," "," "," "," "," "," "," "," "," "," "," "," "]
[null,null,null,null,null,null,null,null,null,null,null,null,null,null,null,null,null,null,null,null,null,null,null,null,null,null,null,null,null,null,null,null,null,null,null,null,null,null,null,null,null,null,null,null,null,null,null,null,null,null,null,null,1487," "," "," "," "," "," "," "," "," "," "," "," "," "," "," ",null,null,1487," "," "," "," "," "," "," "," "," "," "," "," "," "," "," "]
[null,null,null,null,null,null,null,null,null,null,null,null,null,null,null,null,null,null,null,null,null,null,null,null,null,null,null,null,null,null,null,null,null,null,null,null,null,null,null,null,null,null,null,null,null,null,null,null,null,null,null,null,1488," "," "," "," "," "," "," "," "," "," "," "," "," "," "," ",null,null,1488," "," "," "," "," "," "," "," "," "," "," "," "," "," "," "]
[null,null,null,null,null,null,null,null,null,null,null,null,null,null,null,null,null,null,null,null,null,null,null,null,null,null,null,null,null,null,null,null,null,null,null,null,null,null,null,null,null,null,null,null,null,null,null,null,null,null,null,null,1489," "," "," "," "," "," "," "," "," "," "," "," "," "," "," ",null,null,1489," "," "," "," "," "," "," "," "," "," "," "," "," "," "," "]
[null,null,null,null,null,null,null,null,null,null,null,null,null,null,null,null,null,null,null,null,null,null,null,null,null,null,null,null,null,null,null,null,null,null,null,null,null,null,null,null,null,null,null,null,null,null,null,null,null,null,null,null,1490," "," "," "," "," "," "," "," "," "," "," "," "," "," "," ",null,null,1490," "," "," "," "," "," "," "," "," "," "," "," "," "," "," "]
[null,null,null,null,null,null,null,null,null,null,null,null,null,null,null,null,null,null,null,null,null,null,null,null,null,null,null,null,null,null,null,null,null,null,null,null,null,null,null,null,null,null,null,null,null,null,null,null,null,null,null,null,1491," "," "," "," "," "," "," "," "," "," "," "," "," "," "," ",null,null,1491," "," "," "," "," "," "," "," "," "," "," "," "," "," "," "]
[null,null,null,null,null,null,null,null,null,null,null,null,null,null,null,null,null,null,null,null,null,null,null,null,null,null,null,null,null,null,null,null,null,null,null,null,null,null,null,null,null,null,null,null,null,null,null,null,null,null,null,null,1492," "," "," "," "," "," "," "," "," "," "," "," "," "," "," ",null,null,1492," "," "," "," "," "," "," "," "," "," "," "," "," "," "," "]
[null,null,null,null,null,null,null,null,null,null,null,null,null,null,null,null,null,null,null,null,null,null,null,null,null,null,null,null,null,null,null,null,null,null,null,null,null,null,null,null,null,null,null,null,null,null,null,null,null,null,null,null,1493," "," "," "," "," "," "," "," "," "," "," "," "," "," "," ",null,null,1493," "," "," "," "," "," "," "," "," "," "," "," "," "," "," "]
[null,null,null,null,null,null,null,null,null,null,null,null,null,null,null,null,null,null,null,null,null,null,null,null,null,null,null,null,null,null,null,null,null,null,null,null,null,null,null,null,null,null,null,null,null,null,null,null,null,null,null,null,1494," "," "," "," "," "," "," "," "," "," "," "," "," "," "," ",null,null,1494," "," "," "," "," "," "," "," "," "," "," "," "," "," "," "]
[null,null,null,null,null,null,null,null,null,null,null,null,null,null,null,null,null,null,null,null,null,null,null,null,null,null,null,null,null,null,null,null,null,null,null,null,null,null,null,null,null,null,null,null,null,null,null,null,null,null,null,null,1495," "," "," "," "," "," "," "," "," "," "," "," "," "," "," ",null,null,1495," "," "," "," "," "," "," "," "," "," "," "," "," "," "," "]
[null,null,null,null,null,null,null,null,null,null,null,null,null,null,null,null,null,null,null,null,null,null,null,null,null,null,null,null,null,null,null,null,null,null,null,null,null,null,null,null,null,null,null,null,null,null,null,null,null,null,null,null,1496," "," "," "," "," "," "," "," "," "," "," "," "," "," "," ",null,null,1496," "," "," "," "," "," "," "," "," "," "," "," "," "," "," "]
[null,null,null,null,null,null,null,null,null,null,null,null,null,null,null,null,null,null,null,null,null,null,null,null,null,null,null,null,null,null,null,null,null,null,null,null,null,null,null,null,null,null,null,null,null,null,null,null,null,null,null,null,1497," "," "," "," "," "," "," "," "," "," "," "," "," "," "," ",null,null,1497," "," "," "," "," "," "," "," "," "," "," "," "," "," "," "]
[null,null,null,null,null,null,null,null,null,null,null,null,null,null,null,null,null,null,null,null,null,null,null,null,null,null,null,null,null,null,null,null,null,null,null,null,null,null,null,null,null,null,null,null,null,null,null,null,null,null,null,null,1498," "," "," "," "," "," "," "," "," "," "," "," "," "," "," ",null,null,1498," "," "," "," "," "," "," "," "," "," "," "," "," "," "," "]
[null,null,null,null,null,null,null,null,null,null,null,null,null,null,null,null,null,null,null,null,null,null,null,null,null,null,null,null,null,null,null,null,null,null,null,null,null,null,null,null,null,null,null,null,null,null,null,null,null,null,null,null,1499," "," "," "," "," "," "," "," "," "," "," "," "," "," "," ",null,null,1499," "," "," "," "," "," "," "," "," "," "," "," "," "," "," "]
[null,null,null,null,null,null,null,null,null,null,null,null,null,null,null,null,null,null,null,null,null,null,null,null,null,null,null,null,null,null,null,null,null,null,null,null,null,null,null,null,null,null,null,null,null,null,null,null,null,null,null,null,1500," "," "," "," "," "," "," "," "," "," "," "," "," "," "," ",null,null,1500," "," "," "," "," "," "," "," "," "," "," "," "," "," "," "]

{"sheet":"DM103","index":10,"n_rows":65,"n_cols":298,"rows_kept":65,"cut":false,"hidden":false,"merged":[[0,3,1,9],[0,47,0,48],[3,4,5,10],[7,6,7,9],[9,2,9,4],[9,5,9,9],[10,12,22,12],[11,2,11,5],[12,2,12,5],[13,2,13,5],[14,2,14,5],[15,2,15,5],[21,2,21,5],[10,0,22,0],[10,2,10,5],[10,7,22,9],[10,10,22,10],[16,2,16,5],[17,2,17,5],[18,2,18,5],[19,2,19,5],[20,2,20,5],[22,2,22,5],[25,2,25,4],[25,5,25,9],[26,0,38,0],[26,2,26,5],[26,7,38,9],[35,2,35,5],[36,2,36,5],[37,2,37,5],[38,2,38,5],[26,10,38,10],[26,12,38,12],[27,2,27,5],[28,2,28,5],[29,2,29,5],[30,2,30,5],[31,2,31,5],[32,2,32,5],[33,2,33,5],[34,2,34,5],[41,2,41,4],[41,5,41,9],[42,0,54,0],[42,2,42,5],[42,7,54,9],[52,2,52,5],[53,2,53,5],[54,2,54,5],[42,12,54,12],[43,2,43,5],[44,2,44,5],[45,2,45,5],[46,2,46,5],[47,2,47,5],[48,2,48,5],[49,2,49,5],[50,2,50,5],[51,2,51,5],[42,10,54,10]]}
[null,"SIMPLE RANKING Simpeo Benchmarks Series",null,{"$f":"Home!H16","v":"SAMPEL CORPORATION LTD"}]
[null,{"$f":"KPICreate!A4","v":2020}]
[null,null,null,"ID KPI:","DM103"]
[null,"Nama:",{"$f":"Home!H6","v":"ADAM NAUFAL HASMADI"},"Deskripsi KPI:",{"$f":"IF(ISBLANK(VLOOKUP(E3,KPICreate!B5:C36,2)),\"\",VLOOKUP(E3,KPICreate!B5:C36,2))","v":"BP49 Mengekalkan Penghantaran shipment Pelanggan menepati sasaran"},null,null,null,null,null,null,null,null,null,null,null,null,null,null,null,null,null,null,null,null,null,null,null,null,null,null,null,null,null,null,null,null,null,null,null,null,null,null,null,null,null,null,{"$f":"IF(AV6=\"N/A\",\"N/A\",\"Ok\")","v":"Ok"}]
[null,"Jawatan:",{"$f":"Home!H10","v":"PEN. KETUA PEMASARAN DAN PERKHIDMATAN"},null,null,null,null,null,null,null,null,null,null,null,null,null,null,null,null,null,null,null,null,null,null,null,null,null,null,null,null,null,null,null,null,null,null,null,null,null,null,null,null,null,null,null,null,{"$f":"IF(AV7=\"N/A\",\"N/A\",\"Ok\")","v":"Ok"}]
[null,"Bahagian:",{"$f":"Home!H12","v":"PEMASARAN DAN PERKHIDMATAN"},null,null,null,null,null,null,null,null,null,null,null,null,null,null,null,null,null,null,null,null,null,null,null,null,null,null,null,null,null,null,null,null,null,null,null,null,null,null,null,null,null,null,null,null,{"$f":"IFERROR(CHOOSE(E7,\"L\",\"M\",\"N\",\"O\",\"P\",\"Q\",\"R\",\"S\",\"T\",\"U\",\"V\",\"W\",\"X\",\"Y\",\"Z\",\"AA\",\"AB\",\"AC\",\"AD\",\"AE\",\"AF\",\"AG\",\"AH\",\"AI\",\"AJ\",\"AK\",\"AL\",\"AM\",\"AN\",\"AO\",\"AP\",\"AQ\",\"AR\",\"AS\",\"AT\",\"AU\",\"AV\",\"AW\",\"AX\",\"AY\",\"AZ\",\"BA\",\"BB\",\"BC\",\"BD\",\"BE\",\"BF\",\"BG\",\"BH\",\"BI\",\"BJ\",\"BK\",\"BK\"),\"N/A\")","v":"L"}]
[null,"Skor:",null,"Minggu Pilihan:",{"$f":"'Wk Input'!BM4","v":1},null,null,null,null,null,null,null,null,null,null,null,null,null,null,null,null,null,null,null,null,null,null,null,null,null,null,null,null,null,null,null,null,null,null,null,null,null,null,null,null,null,null,{"$f":"IFERROR(CHOOSE(RIGHT(E3,2),5,6,7,8,9,10,11,12,13,14,15,16,17,18,19),\"N/A\")","v":7}]
[null,{"$f":"IFERROR(K56/100*K58,\"\")","v":90},"Deskripsi Rank",null,null,null,"Wajaran %",null,null,null,"Jumlah %",null,"Catatan"]
[null,null,null,null,null,"Off","1«","2«","3«","4«"]
[null,"A","Taipkan Deskripsi Tajuk A di sini",null,null,"3x ⍟⍟⍟",null,null,null,null,null,null,null,null,null,null,null,null,null,null,null,null,null,null,null,null,null,null,null,null,null,null,null,null,null,null,null,null,null,null,null,null,null,null,null,null,null,"Sel Wgt",{"$f":"IFERROR(VALUE(LEFT(F10,1))+1,1)","v":4},{"$f":"AW10-1","v":3},{"$f":"AX10/AX61*100","v":75},{"$f":"IFERROR(AY10,\"N/A\")","v":75}]
["(Zero)Worst <--- Rank ---> Best(Full)","Best = 1","Kesemua Penghantaran shipment berjaya menepati masa",null,null,null,null,{"$f":"IF(AZ10=0,\"N/A\",AZ10)","v":75},null,null,{"$f":"IF(H11=\"N/A\",\"N/A\",AZ11)","v":75},null,null,null,null,null,null,null,null,null,null,null,null,null,null,null,null,null,null,null,null,null,null,null,null,null,null,null,null,null,null,null,null,null,null,null,null,"Sel Rank",13,{"$f":"IF(C11=\"\",0,1)","v":1},{"$f":"AW11-(14-AX24)","v":5},{"$f":"IFERROR(AY10*AY12/AY24,\"N/A\")","v":75},{"$f":"IF(AZ11=\"N/A\",0,AZ11)","v":75}]
[null,2,"3 atau kurang Penghantaran shipment terlewat",null,null,null,null,null,null,null,null,null,null,null,null,null,null,null,null,null,null,null,null,null,null,null,null,null,null,null,null,null,null,null,null,null,null,null,null,null,null,null,null,null,null,null,null,null,null,{"$f":"IF(C12=\"\",0,1)","v":1},{"$f":"IF(AY11<0,0,AY11)","v":5}]
[null,3,"6 atau kurang Penghantaran shipment terlewat",null,null,null,null,null,null,null,null,null,null,null,null,null,null,null,null,null,null,null,null,null,null,null,null,null,null,null,null,null,null,null,null,null,null,null,null,null,null,null,null,null,null,null,null,null,null,1]
[null,4,"9 atau kurang Penghantaran shipment terlewat",null,null,null,null,null,null,null,null,null,null,null,null,null,null,null,null,null,null,null,null,null,null,null,null,null,null,null,null,null,null,null,null,null,null,null,null,null,null,null,null,null,null,null,null,null,null,1]
[null,5,"12 atau kurang Penghantaran shipment terlewat",null,null,null,null,null,null,null,null,null,null,null,null,null,null,null,null,null,null,null,null,null,null,null,null,null,null,null,null,null,null,null,null,null,null,null,null,null,null,null,null,null,null,null,null,null,null,1]
[null,6,"Lebih dari 12 Penghantaran shipment terlewat",null,null,null,null,null,null,null,null,null,null,null,null,null,null,null,null,null,null,null,null,null,null,null,null,null,null,null,null,null,null,null,null,null,null,null,null,null,null,null,null,null,null,null,null,null,null,1]
[null,7,null,null,null,null,null,null,null,null,null,null,null,null,null,null,null,null,null,null,null,null,null,null,null,null,null,null,null,null,null,null,null,null,null,null,null,null,null,null,null,null,null,null,null,null,null,null,null,0]
[null,8,null,null,null,null,null,null,null,null,null,null,null,null,null,null,null,null,null,null,null,null,null,null,null,null,null,null,null,null,null,null,null,null,null,null,null,null,null,null,null,null,null,null,null,null,null,null,null,0]
[null,9,null,null,null,null,null,null,null,null,null,null,null,null,null,null,null,null,null,null,null,null,null,null,null,null,null,null,null,null,null,null,null,null,null,null,null,null,null,null,null,null,null,null,null,null,null,null,null,0]
[null,10,null,null,null,null,null,null,null,null,null,null,null,null,null,null,null,null,null,null,null,null,null,null,null,null,null,null,null,null,null,null,null,null,null,null,null,null,null,null,null,null,null,null,null,null,null,null,null,0,null,null,null,null,null,null,null,null,null,null,null,null,null,null,null,null,null,null,null,null,null,null,null,null,null,null,null,null,null,null,null,null,null,null,null,null,null,null,null,null,null,null,null,null,null,null,null,null,null,null,null,null,null,null,null,null,null,null,null,null,null,null,null,null,null,null,null,null,null,null,null,null,null,null,null,null,null,null,null,null,null,null,null,null,null,null,null,null,null,null,null,null,null,null,null,null,null,null,null,null,null,null,null,null,null,null,null,null,null,null,null,null,null,null,null,null,null,null,null,null,null,null,null,null,null,null,null,null,null,null,null,null,null,null,null,null,null,null,null,null,null,null,null,null,null,null,null,null,null,null,null,null,null,null,null,null,null,null,null,null,null,null,null,null,null,null,null,null,null,null,null,null,null,null,null,null,null,null,null,null,null,null,null,null,null,null,null,null,null,null,null,null,null,null,null,null,null,null,null,null,null,null,null,null,null,null,null,null,null,null,null,null,null,null,null,null,null,null,null,null,null,null,null,null,null,null,null,null,null,null,null,null,null,null,null,null,null,null,null,null,null,null,null,null,null,null,null,true]
[null,11,null,null,null,null,null,null,null,null,null,null,null,null,null,null,null,null,null,null,null,null,null,null,null,null,null,null,null,null,null,null,null,null,null,null,null,null,null,null,null,null,null,null,null,null,null,null,null,0]
[null,12,null,null,null,null,null,null,null,null,null,null,null,null,null,null,null,null,null,null,null,null,null,null,null,null,null,null,null,null,null,null,null,null,null,null,null,null,null,null,null,null,null,null,null,null,null,null,null,0]
[null,13,null,null,null,null,null,null,null,null,null,null,null,null,null,null,null,null,null,null,null,null,null,null,null,null,null,null,null,null,null,null,null,null,null,null,null,null,null,null,null,null,null,null,null,null,null,null,null,0]
[null,null,null,null,null,null,null,null,null,null,null,null,null,null,null,null,null,null,null,null,null,null,null,null,null,null,null,null,null,null,null,null,null,null,null,null,null,null,null,null,null,null,null,null,null,null,null,null,null,{"$f":"SUM(AX11:AX23)","v":6},{"$f":"AX24-1","v":5}]
[null,null,null,null,null,"Off","1«","2«","3«","4«"]
[null,"B","Taipkan Deskripsi Tajuk B di sini",null,null,"1x ⍟",null,null,null,null,null,null,null,null,null,null,null,null,null,null,null,null,null,null,null,null,null,null,null,null,null,null,null,null,null,null,null,null,null,null,null,null,null,null,null,null,null,"Sel Wgt",{"$f":"IFERROR(VALUE(LEFT(F26,1))+1,1)","v":2},{"$f":"AW26-1","v":1},{"$f":"AX26/AX61*100","v":25},{"$f":"IFERROR(AY26,\"N/A\")","v":25}]
["(Zero)Worst <--- Rank ---> Best(Full)","Best = 1","Tiada pemulangan atau pecah sewaktu dalam transit",null,null,null,null,{"$f":"IF(AZ26=0,\"N/A\",AZ26)","v":25},null,null,{"$f":"IF(H27=\"N/A\",\"N/A\",AZ27)","v":15},null,null,null,null,null,null,null,null,null,null,null,null,null,null,null,null,null,null,null,null,null,null,null,null,null,null,null,null,null,null,null,null,null,null,null,null,"Sel Rank",11,{"$f":"IF(C27=\"\",0,1)","v":1},{"$f":"AW27-(14-AX40)","v":3},{"$f":"IFERROR(AY26*AY28/AY40,\"N/A\")","v":15},{"$f":"IF(AZ27=\"N/A\",0,1)","v":1}]
[null,2,"2 atau kurang Pemulangan atau pecah sewaktu dalam transit",null,null,null,null,null,null,null,null,null,null,null,null,null,null,null,null,null,null,null,null,null,null,null,null,null,null,null,null,null,null,null,null,null,null,null,null,null,null,null,null,null,null,null,null,null,null,1,{"$f":"IF(AY27<0,0,AY27)","v":3}]
[null,3,"4 atau kurang Pemulangan atau pecah sewaktu dalam transit",null,null,null,null,null,null,null,null,null,null,null,null,null,null,null,null,null,null,null,null,null,null,null,null,null,null,null,null,null,null,null,null,null,null,null,null,null,null,null,null,null,null,null,null,null,null,1]
[null,4,"6 atau kurang Pemulangan atau pecah sewaktu dalam transit",null,null,null,null,null,null,null,null,null,null,null,null,null,null,null,null,null,null,null,null,null,null,null,null,null,null,null,null,null,null,null,null,null,null,null,null,null,null,null,null,null,null,null,null,null,null,1]
[null,5,"8 atau kurang Pemulangan atau pecah sewaktu dalam transit",null,null,null,null,null,null,null,null,null,null,null,null,null,null,null,null,null,null,null,null,null,null,null,null,null,null,null,null,null,null,null,null,null,null,null,null,null,null,null,null,null,null,null,null,null,null,1]
[null,6,"Lebih dari 8 Pemulangan atau pecah sewaktu dalam transit",null,null,null,null,null,null,null,null,null,null,null,null,null,null,null,null,null,null,null,null,null,null,null,null,null,null,null,null,null,null,null,null,null,null,null,null,null,null,null,null,null,null,null,null,null,null,1]
[null,7,null,null,null,null,null,null,null,null,null,null,null,null,null,null,null,null,null,null,null,null,null,null,null,null,null,null,null,null,null,null,null,null,null,null,null,null,null,null,null,null,null,null,null,null,null,null,null,0]
[null,8,null,null,null,null,null,null,null,null,null,null,null,null,null,null,null,null,null,null,null,null,null,null,null,null,null,null,null,null,null,null,null,null,null,null,null,null,null,null,null,null,null,null,null,null,null,null,null,0]
[null,9,null,null,null,null,null,null,null,null,null,null,null,null,null,null,null,null,null,null,null,null,null,null,null,null,null,null,null,null,null,null,null,null,null,null,null,null,null,null,null,null,null,null,null,null,null,null,null,0]
[null,10,null,null,null,null,null,null,null,null,null,null,null,null,null,null,null,null,null,null,null,null,null,null,null,null,null,null,null,null,null,null,null,null,null,null,null,null,null,null,null,null,null,null,null,null,null,null,null,0]
[null,11,null,null,null,null,null,null,null,null,null,null,null,null,null,null,null,null,null,null,null,null,null,null,null,null,null,null,null,null,null,null,null,null,null,null,null,null,null,null,null,null,null,null,null,null,null,null,null,0]
[null,12,null,null,null,null,null,null,null,null,null,null,null,null,null,null,null,null,null,null,null,null,null,null,null,null,null,null,null,null,null,null,null,null,null,null,null,null,null,null,null,null,null,null,null,null,null,null,null,0]
[null,13,null,null,null,null,null,null,null,null,null,null,null,null,null,null,null,null,null,null,null,null,null,null,null,null,null,null,null,null,null,null,null,null,null,null,null,null,null,null,null,null,null,null,null,null,null,null,null,0]
[null,null,null,null,null,null,null,null,null,null,null,null,null,null,null,null,null,null,null,null,null,null,null,null,null,null,null,null,null,null,null,null,null,null,null,null,null,null,null,null,null,null,null,null,null,null,null,null,null,{"$f":"SUM(AX27:AX39)","v":6},{"$f":"AX40-1","v":5}]
[null,null,null,null,null,"Off","1«","2«","3«","4«"]
[null,"C","Taipkan Deskripsi Tajuk C di sini",null,null,"Off",null,null,null,null,null,null,null,null,null,null,null,null,null,null,null,null,null,null,null,null,null,null,null,null,null,null,null,null,null,null,null,null,null,null,null,null,null,null,null,null,null,"Sel Wgt",{"$f":"IFERROR(VALUE(LEFT(F42,1))+1,1)","v":1},{"$f":"AW42-1","v":0},{"$f":"AX42/AX61*100","v":0},{"$f":"IFERROR(AY42,\"N/A\")","v":0}]
["(Zero)Worst <--- Rank ---> Best(Full)","Best = 1",null,null,null,null,null,{"$f":"IF(AZ42=0,\"N/A\",AZ42)","v":"N/A"},null,null,{"$f":"IF(H43=\"N/A\",\"N/A\",AZ43)","v":"N/A"},null,null,null,null,null,null,null,null,null,null,null,null,null,null,null,null,null,null,null,null,null,null,null,null,null,null,null,null,null,null,null,null,null,null,null,null,"Sel Rank",1,{"$f":"IF(C43=\"\",0,1)","v":0},{"$f":"AW43-(14-AX60)","v":-13},{"$f":"IFERROR(AY42*AY44/AY60,\"N/A\")","v":0},{"$f":"IF(AZ43=\"N/A\",0,1)","v":1}]
[null,2,null,null,null,null,null,null,null,null,null,null,null,null,null,null,null,null,null,null,null,null,null,null,null,null,null,null,null,null,null,null,null,null,null,null,null,null,null,null,null,null,null,null,null,null,null,null,null,0,{"$f":"IF(AY43<0,0,AY43)","v":0}]
[null,3,null,null,null,null,null,null,null,null,null,null,null,null,null,null,null,null,null,null,null,null,null,null,null,null,null,null,null,null,null,null,null,null,null,null,null,null,null,null,null,null,null,null,null,null,null,null,null,0]
[null,4,null,null,null,null,null,null,null,null,null,null,null,null,null,null,null,null,null,null,null,null,null,null,null,null,null,null,null,null,null,null,null,null,null,null,null,null,null,null,null,null,null,null,null,null,null,null,null,0]
[null,5,null,null,null,null,null,null,null,null,null,null,null,null,null,null,null,null,null,null,null,null,null,null,null,null,null,null,null,null,null,null,null,null,null,null,null,null,null,null,null,null,null,null,null,null,null,null,null,0]
[null,6,null,null,null,null,null,null,null,null,null,null,null,null,null,null,null,null,null,null,null,null,null,null,null,null,null,null,null,null,null,null,null,null,null,null,null,null,null,null,null,null,null,null,null,null,null,null,null,0]
[null,7,null,null,null,null,null,null,null,null,null,null,null,null,null,null,null,null,null,null,null,null,null,null,null,null,null,null,null,null,null,null,null,null,null,null,null,null,null,null,null,null,null,null,null,null,null,null,null,0]
[null,8,null,null,null,null,null,null,null,null,null,null,null,null,null,null,null,null,null,null,null,null,null,null,null,null,null,null,null,null,null,null,null,null,null,null,null,null,null,null,null,null,null,null,null,null,null,null,null,0]
[null,9,null,null,null,null,null,null,null,null,null,null,null,null,null,null,null,null,null,null,null,null,null,null,null,null,null,null,null,null,null,null,null,null,null,null,null,null,null,null,null,null,null,null,null,null,null,null,null,0]
[null,10,null,null,null,null,null,null,null,null,null,null,null,null,null,null,null,null,null,null,null,null,null,null,null,null,null,null,null,null,null,null,null,null,null,null,null,null,null,null,null,null,null,null,null,null,null,null,null,0]
[null,11,null,null,null,null,null,null,null,null,null,null,null,null,null,null,null,null,null,null,null,null,null,null,null,null,null,null,null,null,null,null,null,null,null,null,null,null,null,null,null,null,null,null,null,null,null,null,null,0]
[null,12,null,null,null,null,null,null,null,null,null,null,null,null,null,null,null,null,null,null,null,null,null,null,null,null,null,null,null,null,null,null,null,null,null,null,null,null,null,null,null,null,null,null,null,null,null,null,null,0]
[null,13,null,null,null,null,null,null,null,null,null,null,null,null,null,null,null,null,null,null,null,null,null,null,null,null,null,null,null,null,null,null,null,null,null,null,null,null,null,null,null,null,null,null,null,null,null,null,null,0]
[null,null,null,null,null,null,null,null,null,null,{"$f":"BA62","v":90}]
[]
[null,null,null,null,null,null,null,null,null,"Use Base:",100]
[]
[null,null,null,null,null,null,"A Form by Leadersense Consulting & Systems Sdn Bhd",null,null,null,null,null,null,null,null,null,null,null,null,null,null,null,null,null,null,null,null,null,null,null,null,null,null,null,null,null,null,null,null,null,null,null,null,null,null,null,null,null,null,{"$f":"SUM(AX43:AX55)","v":0},{"$f":"AX60-1","v":-1}]
[null,null,null,null,null,"Off",null,null,null,null,null,null,null,null,null,null,null,null,null,null,null,null,null,null,null,null,null,null,null,null,null,null,null,null,null,null,null,null,null,null,null,null,null,null,null,null,null,null,"Weight x",{"$f":"AX10+AX26+AX42","v":4},null,null,{"$f":"BA11+BA27+BA43","v":77}]
[null,null,null,null,null,"1x ⍟",null,null,null,null,null,null,null,null,null,null,null,null,null,null,null,null,null,null,null,null,null,null,null,null,null,null,null,null,null,null,null,null,null,null,null,null,null,null,null,null,null,null,null,null,null,{"$f":"(AZ11+AZ27+AZ43)*BA61/BA61","v":90},{"$f":"IFERROR(AZ62,\"N/A\")","v":90}]
[null,null,null,null,null,"2x ⍟⍟"]
[null,null,null,null,null,"3x ⍟⍟⍟"]
[null,null,null,null,null,"4x ⍟⍟⍟⍟"]

{"sheet":"DM104","index":11,"n_rows":54,"n_cols":298,"rows_kept":54,"cut":false,"hidden":false,"merged":[[7,6,7,9],[7,13,7,17],[7,19,7,22],[7,24,7,27],[0,5,0,9],[0,13,0,26],[1,11,1,13],[2,11,3,26],[4,20,4,21],[4,25,4,26],[14,2,14,4],[14,6,14,9],[7,29,8,29],[7,31,8,31],[7,33,8,33],[8,2,8,4],[9,2,9,4],[9,6,9,9],[9,33,43,33],[10,2,10,4],[10,6,10,9],[11,2,11,4],[5,2,7,2],[5,14,5,16],[5,20,5,21],[5,25,5,26],[11,6,11,9],[12,2,12,4],[12,6,12,9],[13,2,13,4],[13,6,13,9],[15,2,15,4],[15,6,15,9],[16,2,16,4],[16,6,16,9],[17,2,17,4],[17,6,17,9],[18,2,18,4],[18,6,18,9],[19,2,19,4],[19,6,19,9],[20,2,20,4],[20,6,20,9],[21,2,21,4],[21,6,21,9],[22,2,22,4],[22,6,22,9],[23,2,23,4],[23,6,23,9],[24,2,24,4],[24,6,24,9],[25,2,25,4],[25,6,25,9],[26,2,26,4],[26,6,26,9],[27,2,27,4],[27,6,27,9],[28,2,28,4],[28,6,28,9],[29,2,29,4],[29,6,29,9],[30,2,30,4],[30,6,30,9],[31,2,31,4],[31,6,31,9],[32,2,32,4],[32,6,32,9],[33,2,33,4],[33,6,33,9],[34,2,34,4],[34,6,34,9],[35,2,35,4],[35,6,35,9],[36,2,36,4],[36,6,36,9],[37,2,37,4],[37,6,37,9],[38,2,38,4],[38,6,38,9],[42,2,42,4],[42,6,42,9],[43,2,43,4],[43,6,43,9],[39,2,39,4],[39,6,39,9],[40,2,40,4],[40,6,40,9],[41,2,41,4],[41,6,41,9]]}
[null,null,"Simple PROJECT Simpeo Benchmarks Series",null,null,{"$f":"KPICreate!A4","v":2020},null,null,null,null,null,null,null,{"$f":"Home!$H$16","v":"SAMPEL CORPORATION LTD"}]
[null,null,"Nama:",{"$f":"Home!H6","v":"ADAM NAUFAL HASMADI"},null,null,null,null,null,null,"ID KPI:","DM104",null,null,null,null,null,null,null,null,null,null,null,null,null,null,null,null,null,null,null,null,null,null,null,null,{"$f":"IF(AK4=\"N/A\",\"N/A\",\"Ok\")","v":"Ok"}]
[null,null,"Jawatan:",{"$f":"Home!H10","v":"PEN. KETUA PEMASARAN DAN PERKHIDMATAN"},null,null,null,null,null,null,"Deskripsi KPI:",{"$f":"IF(ISBLANK(VLOOKUP(L2,KPICreate!B5:C36,2)),\"\",VLOOKUP(L2,KPICreate!B5:C36,2))","v":"BP19 Mencapai penyempurnaan survei kajian penyelidikan 5 Klien-Produk"},null,null,null,null,null,null,null,null,null,null,null,null,null,null,null,null,null,null,null,null,null,null,null,null,{"$f":"IF(AK5=\"N/A\",\"N/A\",\"Ok\")","v":"Ok"}]
[null,null,"Bahagian:",{"$f":"Home!H12","v":"PEMASARAN DAN PERKHIDMATAN"},null,null,null,null,null,null,null,null,null,null,null,null,null,null,null,null,null,null,null,null,null,null,null,null,null,null,null,null,null,null,null,null,{"$f":"IFERROR(CHOOSE(L5,\"L\",\"M\",\"N\",\"O\",\"P\",\"Q\",\"R\",\"S\",\"T\",\"U\",\"V\",\"W\",\"X\",\"Y\",\"Z\",\"AA\",\"AB\",\"AC\",\"AD\",\"AE\",\"AF\",\"AG\",\"AH\",\"AI\",\"AJ\",\"AK\",\"AL\",\"AM\",\"AN\",\"AO\",\"AP\",\"AQ\",\"AR\",\"AS\",\"AT\",\"AU\",\"AV\",\"AW\",\"AX\",\"AY\",\"AZ\",\"BA\",\"BB\",\"BC\",\"BD\",\"BE\",\"BF\",\"BG\",\"BH\",\"BI\",\"BJ\",\"BK\",\"BK\"),\"N/A\")","v":"L"}]
[null,null,"Skor:","Minggu Deadline:",{"$f":"IF(ISBLANK(VLOOKUP(L2,KPICreate!B5:I36,8)),\"\",VLOOKUP(L2,KPICreate!B5:I36,8))","v":44},null,null,null,null,null,"Minggu Pilihan:",{"$f":"'Wk Input'!BM4","v":1},null,null,null,"%",null,null,null,null,"%",null,null,null,null,"%",null,null,null,null,null,"%",null,null,null,null,{"$f":"IFERROR(CHOOSE(RIGHT(L2,2),5,6,7,8,9,10,11,12,13,14,15,16,17,18,19),\"N/A\")","v":8}]
[null,null,{"$f":"IFERROR(AF45/100*AF47,\"\")","v":1.3157894736842106},null,null,null,null,null,null,null,null,null,null,null,80,null,null,null,null,null,10,null,null,null,null,10,null,null,null,null,null,{"$f":"O6+U6+Z6","v":100}]
[]
[null,null,null,null,null,null,"Saiz Wajaran",null,null,null,null,null,null,"Selesai Tugas",null,null,null,null,null,"Kualiti Kerja",null,null,null,null,"Ikut Bajet/Masa",null,null,null,null,"Lupakan",null,"Skor\nBaris",null,"Catatan"]
["Tajuk","No","Deskripsi Tugasan",null,null,null,"⍟   1x","⍟⍟  2x","⍟⍟⍟ 3x","⍟⍟⍟⍟ 4x",null,"Wajar\n%",null,"Belum Mula","Permulaan","DalamProgres","Lanjut","Selesai",null,"Tidak Diguna","«  Poor","«« Fair","«««Meet",null,"Tidak Diguna","«  Poor","«« Fair","«««Meet",null,null,null,null,null,null,null,"H","W","C","Q","B","F","H","C","Q","B","Full Line Total","C","Q","B"]
["þ",null,"Projek survei Kajian penyelidikan Klien-Produk",null,null,null,null,null,null,null,{"$f":"IF(OR(C10=\"\",AJ10,AO10),0,AK10)","v":0},{"$f":"K10/K$45*100","v":0},null,null,null,null,null,null,null,null,null,null,null,null,null,null,null,null,null,null,null,{"$f":"IFERROR(L10*AY10,\"N/A\")","v":0},null,null,null,{"$f":"IF($A10=\"þ\",TRUE,FALSE)","v":true},{"$f":"IFERROR(VALUE(LEFT($G10,1)),0)","v":0},1,4,4,false,{"$f":"IF(AJ10,0,1)","v":0},{"$f":"O$6","v":80},{"$f":"IF(AM10=1,0,U$6)","v":10},{"$f":"IF(AN10=1,0,Z$6)","v":10},{"$f":"SUM(AQ10:AS10)","v":100},{"$f":"(AL10-1)/4*AQ10","v":0},{"$f":"(AL10-1)/4*(AM10-1)/3*AR10","v":0},{"$f":"(AL10-1)/4*(AN10-1)/3*AS10","v":0},{"$f":"SUM(AU10:AW10)","v":0},{"$f":"IFERROR(AX10/AT10,\"N/A\")","v":0}]
["¨",1,"Kenalpasti 5 produk untuk tujuan penyelidikan",null,null,null,"1x ⍟",null,null,null,1,5.2631578947368416,null,null,null,null,null,null,null,null,null,null,null,null,null,null,null,null,null,null,null,1.3157894736842104,null,null,null,{"$f":"IF($A11=\"þ\",TRUE,FALSE)","v":false},{"$f":"IFERROR(VALUE(LEFT($G11,1)),0)","v":1},2,4,4,false,1,80,10,10,100,{"$f":"(AL11-1)/4*AQ11","v":20},{"$f":"(AL11-1)/4*(AM11-1)/3*AR11","v":2.5},{"$f":"(AL11-1)/4*(AN11-1)/3*AS11","v":2.5},25,0.25]
["¨",2,"Sediakan soalan-selidik kajian & metoda",null,null,null,"2x ⍟⍟",null,null,null,2,10.526315789473683,null,null,null,null,null,null,null,null,null,null,null,null,null,null,null,null,null,null,null,0,null,null,null,false,2,1,4,4,false,1,80,10,10,100,0,0,0,0,0]
["¨",3,"Kenalpasti segmen pasaran untuk menjalankan penyelidikan",null,null,null,"1x ⍟",null,null,null,1,5.2631578947368416,null,null,null,null,null,null,null,null,null,null,null,null,null,null,null,null,null,null,null,0,null,null,null,false,1,1,4,4,false,1,80,10,10,100,0,0,0,0,0]
["¨",4,"Lakukan kajian penyelidikan Klien-produk no. 1",null,null,null,"3x ⍟⍟⍟",null,null,null,3,15.789473684210526,null,null,null,null,null,null,null,null,null,null,null,null,null,null,null,null,null,null,null,0,null,null,null,false,3,1,4,4,false,1,80,10,10,100,0,0,0,0,0]
["¨",5,"Lakukan kajian penyelidikan Klien-produk no. 2",null,null,null,"3x ⍟⍟⍟",null,null,null,3,15.789473684210526,null,null,null,null,null,null,null,null,null,null,null,null,null,null,null,null,null,null,null,0,null,null,null,false,3,1,4,4,false,1,80,10,10,100,0,0,0,0,0]
["¨",6,"Lakukan kajian penyelidikan Klien-produk no. 3",null,null,null,"3x ⍟⍟⍟",null,null,null,3,15.789473684210526,null,null,null,null,null,null,null,null,null,null,null,null,null,null,null,null,null,null,null,0,null,null,null,false,3,1,4,4,false,1,80,10,10,100,0,0,0,0,0]
["¨",7,"Lakukan kajian penyelidikan Klien-produk no. 4",null,null,null,"3x ⍟⍟⍟",null,null,null,3,15.789473684210526,null,null,null,null,null,null,null,null,null,null,null,null,null,null,null,null,null,null,null,0,null,null,null,false,3,1,4,4,false,1,80,10,10,100,0,0,0,0,0]
["¨",8,"Lakukan kajian penyelidikan Klien-produk no. 5",null,null,null,"3x ⍟⍟⍟",null,null,null,3,15.789473684210526,null,null,null,null,null,null,null,null,null,null,null,null,null,null,null,null,null,null,null,0,null,null,null,false,3,1,4,4,false,1,80,10,10,100,0,0,0,0,0]
["¨",null,null,null,null,null,null,null,null,null,0,0,null,null,null,null,null,null,null,null,null,null,null,null,null,null,null,null,null,null,null,0,null,null,null,false,0,1,4,4,false,1,80,10,10,100,0,0,0,0,0]
["¨",null,null,null,null,null,null,null,null,null,0,0,null,null,null,null,null,null,null,null,null,null,null,null,null,null,null,null,null,null,null,0,null,null,null,false,0,1,4,4,false,1,80,10,10,100,0,0,0,0,0,null,null,null,null,null,null,null,null,null,null,null,null,null,null,null,null,null,null,null,null,null,null,null,null,null,null,null,null,null,null,null,null,null,null,null,null,null,null,null,null,null,null,null,null,null,null,null,null,null,null,null,null,null,null,null,null,null,null,null,null,null,null,null,null,null,null,null,null,null,null,null,null,null,null,null,null,null,null,null,null,null,null,null,null,null,null,null,null,null,null,null,null,null,null,null,null,null,null,null,null,null,null,null,null,null,null,null,null,null,null,null,null,null,null,null,null,null,null,null,null,null,null,null,null,null,null,null,null,null,null,null,null,null,null,null,null,null,null,null,null,null,null,null,null,null,null,null,null,null,null,null,null,null,null,null,null,null,null,null,null,null,null,null,null,null,null,null,null,null,null,null,null,null,null,null,null,null,null,null,null,null,null,null,null,null,null,null,null,null,null,null,null,null,null,null,null,null,null,null,null,null,null,null,null,null,null,null,null,null,null,null,null,null,null,null,null,null,null,null,null,null,null,null,null,null,null,null,null,null,null,null,null,null,null,null,null,null,null,null,null,null,null,null,null,null,null,true]
["¨",null,null,null,null,null,null,null,null,null,0,0,null,null,null,null,null,null,null,null,null,null,null,null,null,null,null,null,null,null,null,0,null,null,null,false,0,1,4,4,false,1,80,10,10,100,0,0,0,0,0]
["¨",null,null,null,null,null,null,null,null,null,0,0,null,null,null,null,null,null,null,null,null,null,null,null,null,null,null,null,null,null,null,0,null,null,null,false,0,1,4,4,false,1,80,10,10,100,0,0,0,0,0]
["¨",null,null,null,null,null,null,null,null,null,0,0,null,null,null,null,null,null,null,null,null,null,null,null,null,null,null,null,null,null,null,0,null,null,null,false,0,1,4,4,false,1,80,10,10,100,0,0,0,0,0]
["¨",null,null,null,null,null,null,null,null,null,0,0,null,null,null,null,null,null,null,null,null,null,null,null,null,null,null,null,null,null,null,0,null,null,null,false,0,1,4,4,false,1,80,10,10,100,0,0,0,0,0]
["¨",null,null,null,null,null,null,null,null,null,0,0,null,null,null,null,null,null,null,null,null,null,null,null,null,null,null,null,null,null,null,0,null,null,null,false,0,1,4,4,false,1,80,10,10,100,0,0,0,0,0]
["¨",null,null,null,null,null,null,null,null,null,0,0,null,null,null,null,null,null,null,null,null,null,null,null,null,null,null,null,null,null,null,0,null,null,null,false,0,1,4,4,false,1,80,10,10,100,0,0,0,0,0]
["¨",null,null,null,null,null,null,null,null,null,0,0,null,null,null,null,null,null,null,null,null,null,null,null,null,null,null,null,null,null,null,0,null,null,null,false,0,1,4,4,false,1,80,10,10,100,0,0,0,0,0]
["¨",null,null,null,null,null,null,null,null,null,0,0,null,null,null,null,null,null,null,null,null,null,null,null,null,null,null,null,null,null,null,0,null,null,null,false,0,1,4,4,false,1,80,10,10,100,0,0,0,0,0]
["¨",null,null,null,null,null,null,null,null,null,0,0,null,null,null,null,null,null,null,null,null,null,null,null,null,null,null,null,null,null,null,0,null,null,null,false,0,1,4,4,false,1,80,10,10,100,0,0,0,0,0]
["¨",null,null,null,null,null,null,null,null,null,0,0,null,null,null,null,null,null,null,null,null,null,null,null,null,null,null,null,null,null,null,0,null,null,null,false,0,1,4,4,false,1,80,10,10,100,0,0,0,0,0]
["¨",null,null,null,null,null,null,null,null,null,0,0,null,null,null,null,null,null,null,null,null,null,null,null,null,null,null,null,null,null,null,0,null,null,null,false,0,1,4,4,false,1,80,10,10,100,0,0,0,0,0]
["¨",null,null,null,null,null,null,null,null,null,0,0,null,null,null,null,null,null,null,null,null,null,null,null,null,null,null,null,null,null,null,0,null,null,null,false,0,1,4,4,false,1,80,10,10,100,0,0,0,0,0]
["¨",null,null,null,null,null,null,null,null,null,0,0,null,null,null,null,null,null,null,null,null,null,null,null,null,null,null,null,null,null,null,0,null,null,null,false,0,1,4,4,false,1,80,10,10,100,0,0,0,0,0]
["¨",null,null,null,null,null,null,null,null,null,0,0,null,null,null,null,null,null,null,null,null,null,null,null,null,null,null,null,null,null,null,0,null,null,null,false,0,1,4,4,false,1,80,10,10,100,0,0,0,0,0]
["¨",null,null,null,null,null,null,null,null,null,0,0,null,null,null,null,null,null,null,null,null,null,null,null,null,null,null,null,null,null,null,0,null,null,null,false,0,1,4,4,false,1,80,10,10,100,0,0,0,0,0]
["¨",null,null,null,null,null,null,null,null,null,0,0,null,null,null,null,null,null,null,null,null,null,null,null,null,null,null,null,null,null,null,0,null,null,null,false,0,1,4,4,false,1,80,10,10,100,0,0,0,0,0]
["¨",null,null,null,null,null,null,null,null,null,0,0,null,null,null,null,null,null,null,null,null,null,null,null,null,null,null,null,null,null,null,0,null,null,null,false,0,1,4,4,false,1,80,10,10,100,0,0,0,0,0]
["¨",null,null,null,null,null,null,null,null,null,0,0,null,null,null,null,null,null,null,null,null,null,null,null,null,null,null,null,null,null,null,0,null,null,null,false,0,1,4,4,false,1,80,10,10,100,0,0,0,0,0]
["¨",null,null,null,null,null,null,null,null,null,0,0,null,null,null,null,null,null,null,null,null,null,null,null,null,null,null,null,null,null,null,0,null,null,null,false,0,1,4,4,false,1,80,10,10,100,0,0,0,0,0]
["¨",null,null,null,null,null,null,null,null,null,0,0,null,null,null,null,null,null,null,null,null,null,null,null,null,null,null,null,null,null,null,0,null,null,null,false,0,1,4,4,false,1,80,10,10,100,0,0,0,0,0]
["¨",null,null,null,null,null,null,null,null,null,0,0,null,null,null,null,null,null,null,null,null,null,null,null,null,null,null,null,null,null,null,0,null,null,null,false,0,1,4,4,false,1,80,10,10,100,0,0,0,0,0]
["¨",null,null,null,null,null,null,null,null,null,0,0,null,null,null,null,null,null,null,null,null,null,null,null,null,null,null,null,null,null,null,0,null,null,null,false,0,1,4,4,false,1,80,10,10,100,0,0,0,0,0]
["¨",null,null,null,null,null,null,null,null,null,0,0,null,null,null,null,null,null,null,null,null,null,null,null,null,null,null,null,null,null,null,0,null,null,null,false,0,1,4,4,false,1,80,10,10,100,0,0,0,0,0]
["¨",null,null,null,null,null,null,null,null,null,0,0,null,null,null,null,null,null,null,null,null,null,null,null,null,null,null,null,null,null,null,0,null,null,null,false,0,1,4,4,false,1,80,10,10,100,0,0,0,0,0]
[null,null,null,null,null,null,null,null,null,null,{"$f":"IF(SUM(K10:K44)=0,1,SUM(K10:K44))","v":19},{"$f":"SUM(L10:L44)","v":99.999999999999986},null,null,null,null,null,null,null,null,null,null,null,null,null,null,null,null,null,null,null,{"$f":"IFERROR(SUM(AF10:AF44)/L45*100,\"N/A\")","v":1.3157894736842106}]
[]
[null,null,null,null,null,null,null,null,null,null,null,null,null,null,null,null,null,null,null,null,null,null,null,null,null,null,null,null,null,"Use Base:",null,100]
[]
[null,null,null,null,null,null,null,null,null,null,null,null,null,null,null,null,null,"A form by Leadersense Consulting & Systems Sdn Bhd @2017"]
[null,null,null,null,null,null,0]
[null,null,null,null,null,null,"1x ⍟"]
[null,null,null,null,null,null,"2x ⍟⍟"]
[null,null,null,null,null,null,"3x ⍟⍟⍟"]
[null,null,null,null,null,null,"4x ⍟⍟⍟⍟"]

{"sheet":"DM105","index":12,"n_rows":48,"n_cols":298,"rows_kept":48,"cut":false,"hidden":false,"merged":[[0,4,0,8],[0,11,0,25],[1,11,1,12],[2,11,3,26],[4,15,4,16],[4,19,4,20],[4,24,4,25],[7,28,8,28],[7,30,8,30],[7,32,8,32],[8,1,8,2],[9,1,9,2],[9,4,9,7],[9,14,9,16],[9,18,9,21],[9,23,9,26],[9,32,38,32],[5,1,7,1],[5,15,5,16],[5,19,5,20],[5,24,5,25],[7,4,7,7],[7,11,7,12],[7,14,7,16],[7,18,7,21],[7,23,7,26],[10,1,10,2],[10,4,10,7],[10,14,10,16],[10,18,10,21],[10,23,10,26],[11,1,11,2],[11,4,11,7],[11,14,11,16],[11,18,11,21],[11,23,11,26],[12,1,12,2],[12,4,12,7],[12,14,12,16],[12,18,12,21],[12,23,12,26],[13,1,13,2],[13,4,13,7],[13,14,13,16],[13,18,13,21],[13,23,13,26],[14,1,14,2],[14,4,14,7],[14,14,14,16],[14,18,14,21],[14,23,14,26],[15,1,15,2],[15,4,15,7],[15,14,15,16],[15,18,15,21],[15,23,15,26],[16,1,16,2],[16,4,16,7],[16,14,16,16],[16,18,16,21],[16,23,16,26],[17,1,17,2],[17,4,17,7],[17,14,17,16],[17,18,17,21],[17,23,17,26],[18,1,18,2],[18,4,18,7],[18,14,18,16],[18,18,18,21],[18,23,18,26],[19,1,19,2],[19,4,19,7],[19,14,19,16],[19,18,19,21],[19,23,19,26],[20,1,20,2],[20,4,20,7],[20,14,20,16],[20,18,20,21],[20,23,20,26],[21,1,21,2],[21,4,21,7],[21,14,21,16],[21,18,21,21],[21,23,21,26],[22,1,22,2],[22,4,22,7],[22,14,22,16],[22,18,22,21],[22,23,22,26],[23,1,23,2],[23,4,23,7],[23,14,23,16],[23,18,23,21],[23,23,23,26],[24,1,24,2],[24,4,24,7],[24,14,24,16],[24,18,24,21],[24,23,24,26],[25,1,25,2],[25,4,25,7],[25,14,25,16],[25,18,25,21],[25,23,25,26],[26,1,26,2],[26,4,26,7],[26,14,26,16],[26,18,26,21],[26,23,26,26],[27,1,27,2],[27,4,27,7],[27,14,27,16],[27,18,27,21],[27,23,27,26],[28,1,28,2],[28,4,28,7],[28,14,28,16],[28,18,28,21],[28,23,28,26],[29,1,29,2],[29,4,29,7],[29,14,29,16],[29,18,29,21],[29,23,29,26],[30,1,30,2],[30,4,30,7],[30,14,30,16],[30,18,30,21],[30,23,30,26],[31,1,31,2],[31,4,31,7],[31,14,31,16],[31,18,31,21],[31,23,31,26],[32,1,32,2],[32,4,32,7],[32,14,32,16],[32,18,32,21],[32,23,32,26],[33,1,33,2],[33,4,33,7],[33,14,33,16],[33,18,33,21],[33,23,33,26],[34,1,34,2],[34,4,34,7],[34,14,34,16],[34,18,34,21],[34,23,34,26],[35,1,35,2],[35,4,35,7],[35,14,35,16],[35,18,35,21],[35,23,35,26],[38,1,38,2],[38,4,38,7],[38,14,38,16],[38,18,38,21],[38,23,38,26],[36,1,36,2],[36,4,36,7],[36,14,36,16],[36,18,36,21],[36,23,36,26],[37,1,37,2],[37,4,37,7],[37,14,37,16],[37,18,37,21],[37,23,37,26]]}
[null,"Simple CHECKLIST Simpeo Benchmarks Series",null,null,{"$f":"KPICreate!A4","v":2020},null,null,null,null,null,null,{"$f":"Home!$H$16","v":"SAMPEL CORPORATION LTD"}]
[null,"Nama:",{"$f":"Home!H6","v":"ADAM NAUFAL HASMADI"},null,null,null,null,null,null,"ID KPI:",null,"DM105",null,null,null,null,null,null,null,null,null,null,null,null,null,null,null,null,null,null,null,null,null,null,{"$f":"IF(AI4=\"N/A\",\"N/A\",\"Ok\")","v":"Ok"}]
[null,"Jawatan:",{"$f":"Home!H10","v":"PEN. KETUA PEMASARAN DAN PERKHIDMATAN"},null,null,null,null,null,null,"Deskripsi KPI:",null,{"$f":"IF(ISBLANK(VLOOKUP(L2,KPICreate!B5:C36,2)),\"\",VLOOKUP(L2,KPICreate!B5:C36,2))","v":"OR04 Mengekalkan penyempurnaan kerja-kerja adhoc pemasaran dan perkhidmatan seperti yang diperlukan oleh Jabatan"},null,null,null,null,null,null,null,null,null,null,null,null,null,null,null,null,null,null,null,null,null,null,{"$f":"IF(AI5=\"N/A\",\"N/A\",\"Ok\")","v":"Ok"}]
[null,"Bahagian:",{"$f":"Home!H12","v":"PEMASARAN DAN PERKHIDMATAN"},null,null,null,null,null,null,null,null,null,null,null,null,null,null,null,null,null,null,null,null,null,null,null,null,null,null,null,null,null,null,null,{"$f":"IFERROR(CHOOSE(L5,\"L\",\"M\",\"N\",\"O\",\"P\",\"Q\",\"R\",\"S\",\"T\",\"U\",\"V\",\"W\",\"X\",\"Y\",\"Z\",\"AA\",\"AB\",\"AC\",\"AD\",\"AE\",\"AF\",\"AG\",\"AH\",\"AI\",\"AJ\",\"AK\",\"AL\",\"AM\",\"AN\",\"AO\",\"AP\",\"AQ\",\"AR\",\"AS\",\"AT\",\"AU\",\"AV\",\"AW\",\"AX\",\"AY\",\"AZ\",\"BA\",\"BB\",\"BC\",\"BD\",\"BE\",\"BF\",\"BG\",\"BH\",\"BI\",\"BJ\",\"BK\",\"BK\"),\"N/A\")","v":"L"}]
[null,"Skor:",null,null,null,null,null,null,null,"Minggu Pilihan:",null,{"$f":"'Wk Input'!BM4","v":1},"%",null,null,"%",null,null,null,"%",null,null,null,null,"%",null,null,null,null,null,"%",null,null,null,{"$f":"IFERROR(CHOOSE(RIGHT(L2,2),5,6,7,8,9,10,11,12,13,14,15,16,17,18,19),\"N/A\")","v":9}]
[null,{"$f":"IFERROR(AE40/100*AE42,\"\")","v":57.142857142857139},null,null,null,null,null,null,null,null,null,null,70,null,null,10,null,null,null,10,null,null,null,null,10,null,null,null,null,null,{"$f":"M6+P6+T6+Y6","v":100},null,null,null,null,null,null,null,null,null,null,null,null,null,null,null,null,null,null,null,null,null,"L5"]
[]
[null,null,null,null,"Saiz Wajaran",null,null,null,null,null,null,"Penyelesaian",null,null,"Tepati Masa",null,null,null,"Kualiti Kerja",null,null,null,null,"Ikut Bajet",null,null,null,null,"  Lupakan",null,"Skor\nBaris",null,"Catatan"]
["No","Deskripsi Tugasan",null,null,"⍟ 1x","⍟⍟ 2x","⍟⍟⍟ 3x","⍟⍟⍟⍟ 4x",null,"Wajar\n%",null,"Deadline","Selesai",null,"✪  Poor","✪✪ Fair","✪✪✪Meet",null,"Not Used","✪  Poor","✪✪ Fair","✪✪✪Meet",null,"Not Used","✪  Poor","✪✪ Fair","✪✪✪Meet"]
[1,"Menyelesaikan masalah bekalan untuk Kesatuan Pengguna Taman Aman Jaya",null,null,"3x ⍟⍟⍟",null,null,null,{"$f":"IF(OR(B10=\"\",AM10),0,AI10)","v":0},{"$f":"I10/I$40*100","v":0},null,"2020-01-25",null,null,"2✪✪",null,null,null,"3✪✪✪",null,null,null,null,null,null,null,null,null,null,null,{"$f":"IFERROR(J10*AW10,\"N/A\")","v":0},null,null,null,{"$f":"IFERROR(VALUE(LEFT($E10,1)),0)","v":3},{"$f":"IFERROR(VALUE(LEFT($O10,1)),0)","v":2},{"$f":"IFERROR(VALUE(LEFT($S10,1)),0)","v":3},{"$f":"IFERROR(VALUE(LEFT($X10,1)),0)","v":0},true,{"$f":"IF($AX10,M$6,0)","v":70},{"$f":"P$6","v":10},{"$f":"IF(AK10=0,0,T$6)","v":10},{"$f":"IF(AL10=0,0,Y$6)","v":0},{"$f":"SUM(AN10:AQ10)","v":90},{"$f":"AJ10/3*AO10","v":6.6666666666666661},{"$f":"AK10/3*AP10","v":10},{"$f":"AL10/3*AQ10","v":0},{"$f":"IF(AN10<>0,AN10+AS10+AT10+AU10,0)","v":86.666666666666671},{"$f":"IFERROR(AV10/AR10,\"N/A\")","v":0.96296296296296302},true]
[2,"Menjayakan program terima kunjungan lawatan dari Goodhope Medical ke pejabat",null,null,"2x ⍟⍟",null,null,null,0,{"$f":"I11/I$40*100","v":0},null,"2020-02-13",null,null,"3✪✪✪",null,null,null,"3✪✪✪",null,null,null,null,null,null,null,null,null,null,null,{"$f":"IFERROR(J11*AW11,\"N/A\")","v":0},null,null,null,{"$f":"IFERROR(VALUE(LEFT($E11,1)),0)","v":2},{"$f":"IFERROR(VALUE(LEFT($O11,1)),0)","v":3},{"$f":"IFERROR(VALUE(LEFT($S11,1)),0)","v":3},{"$f":"IFERROR(VALUE(LEFT($X11,1)),0)","v":0},true,{"$f":"IF($AX11,M$6,0)","v":70},{"$f":"P$6","v":10},{"$f":"IF(AK11=0,0,T$6)","v":10},{"$f":"IF(AL11=0,0,Y$6)","v":0},{"$f":"SUM(AN11:AQ11)","v":90},{"$f":"AJ11/3*AO11","v":10},10,0,{"$f":"IF(AN11<>0,AN11+AS11+AT11+AU11,0)","v":90},{"$f":"IFERROR(AV11/AR11,\"N/A\")","v":1},true]
[3,"Membantu Jabatan dalam pengelolaan Pameran Inovasi 3 hari di PICC",null,null,"4x ⍟⍟⍟⍟",null,null,null,0,0,null,"2020-03-28",null,null,"3✪✪✪",null,null,null,"3✪✪✪",null,null,null,null,"2✪✪",null,null,null,null,null,null,0,null,null,null,4,3,3,2,true,70,10,10,10,100,10,10,6.6666666666666661,96.666666666666671,0.96666666666666667,true]
[4,"Memantau kerja-kerja penyiapan bekalan perkhidmatan di Taman Desa",null,null,"2x ⍟⍟",null,null,null,0,0,null,"2020-05-15",null,null,"3✪✪✪",null,null,null,"3✪✪✪",null,null,null,null,null,null,null,null,null,null,null,0,null,null,null,2,3,3,0,true,70,10,10,0,90,10,10,0,90,1,true]
[5,"Membantu menyelesaikan masalah bekalan kepada Koperasi Pekerja Eastern Union",null,null,"4x ⍟⍟⍟⍟",null,null,null,0,0,null,"2020-06-11",null,null,"3✪✪✪",null,null,null,"2✪✪",null,null,null,null,"2✪✪",null,null,null,null,null,null,0,null,null,null,4,3,2,2,true,70,10,10,10,100,10,6.6666666666666661,6.6666666666666661,93.333333333333343,0.93333333333333346,true]
[6,"Membantu Jabatan dalam pengelolaan Pameran New Age Marketing 3 hari di PWTC",null,null,"4x ⍟⍟⍟⍟",null,null,null,0,0,null,"2020-07-01",null,null,"3✪✪✪",null,null,null,"3✪✪✪",null,null,null,null,null,null,null,null,null,null,null,0,null,null,null,4,3,3,0,true,70,10,10,0,90,10,10,0,90,1,true]
[7,"Membantu menyelesaikan masalah bekalan kepada Koperasi Pengguna Gombak Setia",null,null,"3x ⍟⍟⍟",null,null,null,0,0,null,"2020-07-24",null,null,"2✪✪",null,null,null,"3✪✪✪",null,null,null,null,"2✪✪",null,null,null,null,null,null,0,null,null,null,3,2,3,2,true,70,10,10,10,100,6.6666666666666661,10,6.6666666666666661,93.333333333333343,0.93333333333333346,true]
[8,"Memantau kerja-kerja penyiapan bekalan perkhidmatan di Ukay Heights",null,null,"2x ⍟⍟",null,null,null,2,28.571428571428569,null,"2020-09-18",null,null,"3✪✪✪",null,null,null,"3✪✪✪",null,null,null,null,null,null,null,null,null,null,null,28.571428571428569,null,null,null,2,3,3,0,false,70,10,10,0,90,10,10,0,90,1,true]
[9,"Menjayakan program terima kunjungan lawatan dari Performa Incorporation ke pejabat",null,null,"2x ⍟⍟",null,null,null,2,28.571428571428569,null,"2020-10-08",null,null,"3✪✪✪",null,null,null,"3✪✪✪",null,null,null,null,null,null,null,null,null,null,null,28.571428571428569,null,null,null,2,3,3,0,false,70,10,10,0,90,10,10,0,90,1,true]
[10,"Membantu menyelesaikan masalah bekalan kepada Kesatuan Pengguna di Baling Jaya",null,null,"3x ⍟⍟⍟",null,null,null,3,42.857142857142854,null,"2020-11-13",null,null,null,null,null,null,null,null,null,null,null,null,null,null,null,null,null,null,0,null,null,null,3,0,0,0,false,0,10,0,0,10,0,0,0,0,0,false]
[11,null,null,null,null,null,null,null,0,0,null,null,null,null,null,null,null,null,null,null,null,null,null,null,null,null,null,null,null,null,0,null,null,null,0,0,0,0,false,0,10,0,0,10,0,0,0,0,0,false,null,null,null,null,null,null,null,null,null,null,null,null,null,null,null,null,null,null,null,null,null,null,null,null,null,null,null,null,null,null,null,null,null,null,null,null,null,null,null,null,null,null,null,null,null,null,null,null,null,null,null,null,null,null,null,null,null,null,null,null,null,null,null,null,null,null,null,null,null,null,null,null,null,null,null,null,null,null,null,null,null,null,null,null,null,null,null,null,null,null,null,null,null,null,null,null,null,null,null,null,null,null,null,null,null,null,null,null,null,null,null,null,null,null,null,null,null,null,null,null,null,null,null,null,null,null,null,null,null,null,null,null,null,null,null,null,null,null,null,null,null,null,null,null,null,null,null,null,null,null,null,null,null,null,null,null,null,null,null,null,null,null,null,null,null,null,null,null,null,null,null,null,null,null,null,null,null,null,null,null,null,null,null,null,null,null,null,null,null,null,null,null,null,null,null,null,null,null,null,null,null,null,null,null,null,null,null,null,null,null,null,null,null,null,null,null,null,null,null,null,null,null,null,null,null,null,null,null,null,null,null,null,null,null,null,null,null,null,null,null,null,null,null,null,null,null,null,true]
[12,null,null,null,null,null,null,null,0,0,null,null,null,null,null,null,null,null,null,null,null,null,null,null,null,null,null,null,null,null,0,null,null,null,0,0,0,0,false,0,10,0,0,10,0,0,0,0,0,false]
[13,null,null,null,null,null,null,null,0,0,null,null,null,null,null,null,null,null,null,null,null,null,null,null,null,null,null,null,null,null,0,null,null,null,0,0,0,0,false,0,10,0,0,10,0,0,0,0,0,false]
[14,null,null,null,null,null,null,null,0,0,null,null,null,null,null,null,null,null,null,null,null,null,null,null,null,null,null,null,null,null,0,null,null,null,0,0,0,0,false,0,10,0,0,10,0,0,0,0,0,false]
[15,null,null,null,null,null,null,null,0,0,null,null,null,null,null,null,null,null,null,null,null,null,null,null,null,null,null,null,null,null,0,null,null,null,0,0,0,0,false,0,10,0,0,10,0,0,0,0,0,false]
[16,null,null,null,null,null,null,null,0,0,null,null,null,null,null,null,null,null,null,null,null,null,null,null,null,null,null,null,null,null,0,null,null,null,0,0,0,0,false,0,10,0,0,10,0,0,0,0,0,false]
[17,null,null,null,null,null,null,null,0,0,null,null,null,null,null,null,null,null,null,null,null,null,null,null,null,null,null,null,null,null,0,null,null,null,0,0,0,0,false,0,10,0,0,10,0,0,0,0,0,false]
[18,null,null,null,null,null,null,null,0,0,null,null,null,null,null,null,null,null,null,null,null,null,null,null,null,null,null,null,null,null,0,null,null,null,0,0,0,0,false,0,10,0,0,10,0,0,0,0,0,false]
[19,null,null,null,null,null,null,null,0,0,null,null,null,null,null,null,null,null,null,null,null,null,null,null,null,null,null,null,null,null,0,null,null,null,0,0,0,0,false,0,10,0,0,10,0,0,0,0,0,false]
[20,null,null,null,null,null,null,null,0,0,null,null,null,null,null,null,null,null,null,null,null,null,null,null,null,null,null,null,null,null,0,null,null,null,0,0,0,0,false,0,10,0,0,10,0,0,0,0,0,false]
[21,null,null,null,null,null,null,null,0,0,null,null,null,null,null,null,null,null,null,null,null,null,null,null,null,null,null,null,null,null,0,null,null,null,0,0,0,0,false,0,10,0,0,10,0,0,0,0,0,false]
[22,null,null,null,null,null,null,null,0,0,null,null,null,null,null,null,null,null,null,null,null,null,null,null,null,null,null,null,null,null,0,null,null,null,0,0,0,0,false,0,10,0,0,10,0,0,0,0,0,false]
[23,null,null,null,null,null,null,null,0,0,null,null,null,null,null,null,null,null,null,null,null,null,null,null,null,null,null,null,null,null,0,null,null,null,0,0,0,0,false,0,10,0,0,10,0,0,0,0,0,false]
[24,null,null,null,null,null,null,null,0,0,null,null,null,null,null,null,null,null,null,null,null,null,null,null,null,null,null,null,null,null,0,null,null,null,0,0,0,0,false,0,10,0,0,10,0,0,0,0,0,false]
[25,null,null,null,null,null,null,null,0,0,null,null,null,null,null,null,null,null,null,null,null,null,null,null,null,null,null,null,null,null,0,null,null,null,0,0,0,0,false,0,10,0,0,10,0,0,0,0,0,false]
[26,null,null,null,null,null,null,null,0,0,null,null,null,null,null,null,null,null,null,null,null,null,null,null,null,null,null,null,null,null,0,null,null,null,0,0,0,0,false,0,10,0,0,10,0,0,0,0,0,false]
[27,null,null,null,null,null,null,null,0,0,null,null,null,null,null,null,null,null,null,null,null,null,null,null,null,null,null,null,null,null,0,null,null,null,0,0,0,0,false,0,10,0,0,10,0,0,0,0,0,false]
[28,null,null,null,null,null,null,null,0,0,null,null,null,null,null,null,null,null,null,null,null,null,null,null,null,null,null,null,null,null,0,null,null,null,0,0,0,0,false,0,10,0,0,10,0,0,0,0,0,false]
[29,null,null,null,null,null,null,null,0,0,null,null,null,null,null,null,null,null,null,null,null,null,null,null,null,null,null,null,null,null,0,null,null,null,0,0,0,0,false,0,10,0,0,10,0,0,0,0,0,false]
[30,null,null,null,null,null,null,null,0,0,null,null,null,null,null,null,null,null,null,null,null,null,null,null,null,null,null,null,null,null,0,null,null,null,0,0,0,0,false,0,10,0,0,10,0,0,0,0,0,false]
[null,null,null,null,null,null,null,null,{"$f":"IF(SUM(I10:I39)=0,1,SUM(I10:I39))","v":7},{"$f":"SUM(J10:J39)","v":100},null,null,null,null,null,null,null,null,null,null,null,null,null,null,null,null,null,null,null,null,{"$f":"IFERROR(SUM(AE10:AE39)/J40*100,\"N/A\")","v":57.142857142857139}]
[]
[null,null,null,null,null,null,null,null,null,null,null,null,null,null,null,null,null,null,null,null,null,null,null,null,null,null,null,null,"Use Base:",null,100]
[]
[null,null,null,null,null,null,null,null,null,null,null,null,null,null,null,null,"A form by Leadersense Consulting & Systems Sdn Bhd @2017"]
[null,null,null,null,"1x ⍟",null,null,null,null,null,null,null,null,null,"1✪",null,null,null,"Not Used",null,null,null,null,"Not Used"]
[null,null,null,null,"2x ⍟⍟",null,null,null,null,null,null,null,null,null,"2✪✪",null,null,null,"1✪",null,null,null,null,"1✪"]
[null,null,null,null,"3x ⍟⍟⍟",null,null,null,null,null,null,null,null,null,"3✪✪✪",null,null,null,"2✪✪",null,null,null,null,"2✪✪"]
[null,null,null,null,"4x ⍟⍟⍟⍟",null,null,null,null,null,null,null,null,null,null,null,null,null,"3✪✪✪",null,null,null,null,"3✪✪✪"]

{"sheet":"StaffCharts","index":13,"n_rows":84,"n_cols":117,"rows_kept":84,"cut":false,"hidden":false,"merged":[[5,72,5,73],[47,72,47,73],[1,0,1,1],[43,0,43,1],[47,4,48,4],[0,2,1,2],[1,12,1,15],[5,4,6,4],[42,2,43,2],[43,12,43,15]]}
[null,null,"Staff Chart #1",null,null,null,null,null,null,null,null,null,null,null,null,null,null,null,null,null,null,null,null,null,null,null,null,null,null,null,null,null,null,null,null,null,null,null,null,null,null,null,null,null,null,null,null,null,null,null,null,null,null,null,null,null,null,null,null,null,null,null,null,null,null,"","","","","",1.1499999999999999,"","","","","","","","","","","","","","","",2.75,"","","","","","",4.21,"","","","","","","","","","",6.6400000000000006,"","","","","","","","","","","",10.14]
[{"$f":"KPICreate!A4","v":2020},null,null,null,null,null,null,null,null,null,null,"Minggu Ini:",{"$f":"'Wk Input'!J2","v":53},null,null,null,{"$f":"IF(M2<1,1,IF(M2>52,52,M2))","v":52},null,null,null,null,null,null,null,null,null,null,null,null,null,null,null,null,null,null,null,null,null,null,null,null,null,null,null,null,null,null,null,null,null,null,null,null,null,null,null,null,null,null,null,null,null,null,null,null,100,100,85,100,100,100,85,100,100,95,100,100,90,100,95,85,100,100,100,100,95,60,100,100,80,100,100,100,100,85,100,100,100,95,90,100,100,100,90,85,100,100,100,95,85,100,100,100,100,90,100,100]
["ID","CG8","RAYMOND CHARLES",null,null,{"$f":"IF(F$40='Wk Input'!$J$2,sample!FI98,\"\")","v":""},{"$f":"IF(G$40='Wk Input'!$J$2,sample!FJ98,\"\")","v":""},{"$f":"IF(H$40='Wk Input'!$J$2,sample!FK98,\"\")","v":""},{"$f":"IF(I$40='Wk Input'!$J$2,sample!FL98,\"\")","v":""},{"$f":"IF(J$40='Wk Input'!$J$2,sample!FM98,\"\")","v":""},{"$f":"IF(K$40='Wk Input'!$J$2,sample!FN98,\"\")","v":""},{"$f":"IF(L$40='Wk Input'!$J$2,sample!FO98,\"\")","v":""},{"$f":"IF(M$40='Wk Input'!$J$2,sample!FP98,\"\")","v":""},{"$f":"IF(N$40='Wk Input'!$J$2,sample!FQ98,\"\")","v":""},{"$f":"IF(O$40='Wk Input'!$J$2,sample!FR98,\"\")","v":""},{"$f":"IF(P$40='Wk Input'!$J$2,sample!FS98,\"\")","v":""},{"$f":"IF(Q$40='Wk Input'!$J$2,sample!FT98,\"\")","v":""},{"$f":"IF(R$40='Wk Input'!$J$2,sample!FU98,\"\")","v":""},{"$f":"IF(S$40='Wk Input'!$J$2,sample!FV98,\"\")","v":""},{"$f":"IF(T$40='Wk Input'!$J$2,sample!FW98,\"\")","v":""},{"$f":"IF(U$40='Wk Input'!$J$2,sample!FX98,\"\")","v":""},{"$f":"IF(V$40='Wk Input'!$J$2,sample!FY98,\"\")","v":""},{"$f":"IF(W$40='Wk Input'!$J$2,sample!FZ98,\"\")","v":""},{"$f":"IF(X$40='Wk Input'!$J$2,sample!GA98,\"\")","v":""},{"$f":"IF(Y$40='Wk Input'!$J$2,sample!GB98,\"\")","v":""},{"$f":"IF(Z$40='Wk Input'!$J$2,sample!GC98,\"\")","v":""},{"$f":"IF(AA$40='Wk Input'!$J$2,sample!GD98,\"\")","v":""},{"$f":"IF(AB$40='Wk Input'!$J$2,sample!GE98,\"\")","v":""},{"$f":"IF(AC$40='Wk Input'!$J$2,sample!GF98,\"\")","v":""},{"$f":"IF(AD$40='Wk Input'!$J$2,sample!GG98,\"\")","v":""},{"$f":"IF(AE$40='Wk Input'!$J$2,sample!GH98,\"\")","v":""},{"$f":"IF(AF$40='Wk Input'!$J$2,sample!GI98,\"\")","v":""},{"$f":"IF(AG$40='Wk Input'!$J$2,sample!GJ98,\"\")","v":""},{"$f":"IF(AH$40='Wk Input'!$J$2,sample!GK98,\"\")","v":""},{"$f":"IF(AI$40='Wk Input'!$J$2,sample!GL98,\"\")","v":""},{"$f":"IF(AJ$40='Wk Input'!$J$2,sample!GM98,\"\")","v":""},{"$f":"IF(AK$40='Wk Input'!$J$2,sample!GN98,\"\")","v":""},{"$f":"IF(AL$40='Wk Input'!$J$2,sample!GO98,\"\")","v":""},{"$f":"IF(AM$40='Wk Input'!$J$2,sample!GP98,\"\")","v":""},{"$f":"IF(AN$40='Wk Input'!$J$2,sample!GQ98,\"\")","v":""},{"$f":"IF(AO$40='Wk Input'!$J$2,sample!GR98,\"\")","v":""},{"$f":"IF(AP$40='Wk Input'!$J$2,sample!GS98,\"\")","v":""},{"$f":"IF(AQ$40='Wk Input'!$J$2,sample!GT98,\"\")","v":""},{"$f":"IF(AR$40='Wk Input'!$J$2,sample!GU98,\"\")","v":""},{"$f":"IF(AS$40='Wk Input'!$J$2,sample!GV98,\"\")","v":""},{"$f":"IF(AT$40='Wk Input'!$J$2,sample!GW98,\"\")","v":""},{"$f":"IF(AU$40='Wk Input'!$J$2,sample!GX98,\"\")","v":""},{"$f":"IF(AV$40='Wk Input'!$J$2,sample!GY98,\"\")","v":""},{"$f":"IF(AW$40='Wk Input'!$J$2,sample!GZ98,\"\")","v":""},{"$f":"IF(AX$40='Wk Input'!$J$2,sample!HA98,\"\")","v":""},{"$f":"IF(AY$40='Wk Input'!$J$2,sample!HB98,\"\")","v":""},{"$f":"IF(AZ$40='Wk Input'!$J$2,sample!HC98,\"\")","v":""},{"$f":"IF(BA$40='Wk Input'!$J$2,sample!HD98,\"\")","v":""},{"$f":"IF(BB$40='Wk Input'!$J$2,sample!HE98,\"\")","v":""},{"$f":"IF(BC$40='Wk Input'!$J$2,sample!HF98,\"\")","v":""},{"$f":"IF(BD$40='Wk Input'!$J$2,sample!HG98,\"\")","v":""},{"$f":"IF(BE$40='Wk Input'!$J$2,sample!HH98,\"\")","v":""},null,null,null,null,null,null,null,null,"",75.2,"",70.599999999999994,"",71.2,"",71.2,"",75.8,"",69.7,"",76.400000000000006,"",76.900000000000006,"",80.3,"",79.099999999999994,"",73.900000000000006,"",79.7,"",78.5,"",81.400000000000006,"",80.199999999999989,"",83.699999999999989,"",79.800000000000011,"",78,"",82,"",76.300000000000011,"",83.3,"",78.099999999999994,"",84.3,"",77.7,"",81.5,"",78.5]
[null,{"$f":"Home!$Z$1","v":"DM1"},"EKSEKUTIF PEMASARAN & LOGISTIK",null,null,{"$f":"IF(sample!FI90,sample!FI91,\"\")","v":""},{"$f":"IF(sample!FJ90,sample!FJ91,\"\")","v":""},{"$f":"IF(sample!FK90,sample!FK91,\"\")","v":""},{"$f":"IF(sample!FL90,sample!FL91,\"\")","v":""},{"$f":"IF(sample!FM90,sample!FM91,\"\")","v":""},{"$f":"IF(sample!FN90,sample!FN91,\"\")","v":""},{"$f":"IF(sample!FO90,sample!FO91,\"\")","v":""},{"$f":"IF(sample!FP90,sample!FP91,\"\")","v":""},{"$f":"IF(sample!FQ90,sample!FQ91,\"\")","v":""},{"$f":"IF(sample!FR90,sample!FR91,\"\")","v":""},{"$f":"IF(sample!FS90,sample!FS91,\"\")","v":""},{"$f":"IF(sample!FT90,sample!FT91,\"\")","v":""},{"$f":"IF(sample!FU90,sample!FU91,\"\")","v":""},{"$f":"IF(sample!FV90,sample!FV91,\"\")","v":""},{"$f":"IF(sample!FW90,sample!FW91,\"\")","v":""},{"$f":"IF(sample!FX90,sample!FX91,\"\")","v":""},{"$f":"IF(sample!FY90,sample!FY91,\"\")","v":""},{"$f":"IF(sample!FZ90,sample!FZ91,\"\")","v":""},{"$f":"IF(sample!GA90,sample!GA91,\"\")","v":""},{"$f":"IF(sample!GB90,sample!GB91,\"\")","v":""},{"$f":"IF(sample!GC90,sample!GC91,\"\")","v":""},{"$f":"IF(sample!GD90,sample!GD91,\"\")","v":""},{"$f":"IF(sample!GE90,sample!GE91,\"\")","v":4},{"$f":"IF(sample!GF90,sample!GF91,\"\")","v":""},{"$f":"IF(sample!GG90,sample!GG91,\"\")","v":""},{"$f":"IF(sample!GH90,sample!GH91,\"\")","v":""},{"$f":"IF(sample!GI90,sample!GI91,\"\")","v":""},{"$f":"IF(sample!GJ90,sample!GJ91,\"\")","v":""},{"$f":"IF(sample!GK90,sample!GK91,\"\")","v":""},{"$f":"IF(sample!GL90,sample!GL91,\"\")","v":""},{"$f":"IF(sample!GM90,sample!GM91,\"\")","v":""},{"$f":"IF(sample!GN90,sample!GN91,\"\")","v":""},{"$f":"IF(sample!GO90,sample!GO91,\"\")","v":""},{"$f":"IF(sample!GP90,sample!GP91,\"\")","v":""},{"$f":"IF(sample!GQ90,sample!GQ91,\"\")","v":""},{"$f":"IF(sample!GR90,sample!GR91,\"\")","v":""},{"$f":"IF(sample!GS90,sample!GS91,\"\")","v":""},{"$f":"IF(sample!GT90,sample!GT91,\"\")","v":""},{"$f":"IF(sample!GU90,sample!GU91,\"\")","v":""},{"$f":"IF(sample!GV90,sample!GV91,\"\")","v":""},{"$f":"IF(sample!GW90,sample!GW91,\"\")","v":""},{"$f":"IF(sample!GX90,sample!GX91,\"\")","v":""},{"$f":"IF(sample!GY90,sample!GY91,\"\")","v":""},{"$f":"IF(sample!GZ90,sample!GZ91,\"\")","v":""},{"$f":"IF(sample!HA90,sample!HA91,\"\")","v":""},{"$f":"IF(sample!HB90,sample!HB91,\"\")","v":""},{"$f":"IF(sample!HC90,sample!HC91,\"\")","v":""},{"$f":"IF(sample!HD90,sample!HD91,\"\")","v":""},{"$f":"IF(sample!HE90,sample!HE91,\"\")","v":""},{"$f":"IF(sample!HF90,sample!HF91,\"\")","v":""},{"$f":"IF(sample!HG90,sample!HG91,\"\")","v":""},{"$f":"IF(sample!HH90,sample!HH91,\"\")","v":""},null,null,null,null,null,null,null,null,75,80,70,60,55.000000000000007,55.000000000000007,55.000000000000007,60,75,75,70,55.000000000000007,75,80,80,80,85,85,90,90,90,85,85,90,80,85,90,90,95,90,90,90,80,80,85,85,85,80,90,90,95,95,90,95,90,95,85,85,85,80,80,85]
[null,{"$f":"ISNUMBER(FIND($B$4,$DO$4))","v":false},"PEMASARAN & PERKHIDMATAN",null,null,{"$f":"IF(OR(sample!FI90,sample!FI94),\"P\",\" \")","v":" "},{"$f":"IF(OR(sample!FJ90,sample!FJ94),\"P\",\" \")","v":" "},{"$f":"IF(OR(sample!FK90,sample!FK94),\"P\",\" \")","v":" "},{"$f":"IF(OR(sample!FL90,sample!FL94),\"P\",\" \")","v":" "},{"$f":"IF(OR(sample!FM90,sample!FM94),\"P\",\" \")","v":" "},{"$f":"IF(OR(sample!FN90,sample!FN94),\"P\",\" \")","v":" "},{"$f":"IF(OR(sample!FO90,sample!FO94),\"P\",\" \")","v":" "},{"$f":"IF(OR(sample!FP90,sample!FP94),\"P\",\" \")","v":" "},{"$f":"IF(OR(sample!FQ90,sample!FQ94),\"P\",\" \")","v":" "},{"$f":"IF(OR(sample!FR90,sample!FR94),\"P\",\" \")","v":" "},{"$f":"IF(OR(sample!FS90,sample!FS94),\"P\",\" \")","v":" "},{"$f":"IF(OR(sample!FT90,sample!FT94),\"P\",\" \")","v":" "},{"$f":"IF(OR(sample!FU90,sample!FU94),\"P\",\" \")","v":" "},{"$f":"IF(OR(sample!FV90,sample!FV94),\"P\",\" \")","v":" "},{"$f":"IF(OR(sample!FW90,sample!FW94),\"P\",\" \")","v":" "},{"$f":"IF(OR(sample!FX90,sample!FX94),\"P\",\" \")","v":" "},{"$f":"IF(OR(sample!FY90,sample!FY94),\"P\",\" \")","v":" "},{"$f":"IF(OR(sample!FZ90,sample!FZ94),\"P\",\" \")","v":" "},{"$f":"IF(OR(sample!GA90,sample!GA94),\"P\",\" \")","v":" "},{"$f":"IF(OR(sample!GB90,sample!GB94),\"P\",\" \")","v":" "},{"$f":"IF(OR(sample!GC90,sample!GC94),\"P\",\" \")","v":" "},{"$f":"IF(OR(sample!GD90,sample!GD94),\"P\",\" \")","v":" "},{"$f":"IF(OR(sample!GE90,sample!GE94),\"P\",\" \")","v":"P"},{"$f":"IF(OR(sample!GF90,sample!GF94),\"P\",\" \")","v":" "},{"$f":"IF(OR(sample!GG90,sample!GG94),\"P\",\" \")","v":" "},{"$f":"IF(OR(sample!GH90,sample!GH94),\"P\",\" \")","v":" "},{"$f":"IF(OR(sample!GI90,sample!GI94),\"P\",\" \")","v":" "},{"$f":"IF(OR(sample!GJ90,sample!GJ94),\"P\",\" \")","v":" "},{"$f":"IF(OR(sample!GK90,sample!GK94),\"P\",\" \")","v":" "},{"$f":"IF(OR(sample!GL90,sample!GL94),\"P\",\" \")","v":" "},{"$f":"IF(OR(sample!GM90,sample!GM94),\"P\",\" \")","v":" "},{"$f":"IF(OR(sample!GN90,sample!GN94),\"P\",\" \")","v":" "},{"$f":"IF(OR(sample!GO90,sample!GO94),\"P\",\" \")","v":"P"},{"$f":"IF(OR(sample!GP90,sample!GP94),\"P\",\" \")","v":" "},{"$f":"IF(OR(sample!GQ90,sample!GQ94),\"P\",\" \")","v":" "},{"$f":"IF(OR(sample!GR90,sample!GR94),\"P\",\" \")","v":" "},{"$f":"IF(OR(sample!GS90,sample!GS94),\"P\",\" \")","v":" "},{"$f":"IF(OR(sample!GT90,sample!GT94),\"P\",\" \")","v":" "},{"$f":"IF(OR(sample!GU90,sample!GU94),\"P\",\" \")","v":" "},{"$f":"IF(OR(sample!GV90,sample!GV94),\"P\",\" \")","v":" "},{"$f":"IF(OR(sample!GW90,sample!GW94),\"P\",\" \")","v":" "},{"$f":"IF(OR(sample!GX90,sample!GX94),\"P\",\" \")","v":" "},{"$f":"IF(OR(sample!GY90,sample!GY94),\"P\",\" \")","v":" "},{"$f":"IF(OR(sample!GZ90,sample!GZ94),\"P\",\" \")","v":" "},{"$f":"IF(OR(sample!HA90,sample!HA94),\"P\",\" \")","v":" "},{"$f":"IF(OR(sample!HB90,sample!HB94),\"P\",\" \")","v":" "},{"$f":"IF(OR(sample!HC90,sample!HC94),\"P\",\" \")","v":" "},{"$f":"IF(OR(sample!HD90,sample!HD94),\"P\",\" \")","v":" "},{"$f":"IF(OR(sample!HE90,sample!HE94),\"P\",\" \")","v":" "},{"$f":"IF(OR(sample!HF90,sample!HF94),\"P\",\" \")","v":" "},{"$f":"IF(OR(sample!HG90,sample!HG94),\"P\",\" \")","v":" "},{"$f":"IF(OR(sample!HH90,sample!HH94),\"P\",\" \")","v":" "},null,null,null,null,null,null,null,null,"","","","","","","","","","","","","","","","","","","","","","","","","","","","","","","","","","","Yes","","","","","","","","","","","","","","","","",""]
[null,null,null,null,"Nilai Wk Konsol",{"$f":"IF(sample!FI94,sample!FI95,\"\")","v":""},{"$f":"IF(sample!FJ94,sample!FJ95,\"\")","v":""},{"$f":"IF(sample!FK94,sample!FK95,\"\")","v":""},{"$f":"IF(sample!FL94,sample!FL95,\"\")","v":""},{"$f":"IF(sample!FM94,sample!FM95,\"\")","v":""},{"$f":"IF(sample!FN94,sample!FN95,\"\")","v":""},{"$f":"IF(sample!FO94,sample!FO95,\"\")","v":""},{"$f":"IF(sample!FP94,sample!FP95,\"\")","v":""},{"$f":"IF(sample!FQ94,sample!FQ95,\"\")","v":""},{"$f":"IF(sample!FR94,sample!FR95,\"\")","v":""},{"$f":"IF(sample!FS94,sample!FS95,\"\")","v":""},{"$f":"IF(sample!FT94,sample!FT95,\"\")","v":""},{"$f":"IF(sample!FU94,sample!FU95,\"\")","v":""},{"$f":"IF(sample!FV94,sample!FV95,\"\")","v":""},{"$f":"IF(sample!FW94,sample!FW95,\"\")","v":""},{"$f":"IF(sample!FX94,sample!FX95,\"\")","v":""},{"$f":"IF(sample!FY94,sample!FY95,\"\")","v":""},{"$f":"IF(sample!FZ94,sample!FZ95,\"\")","v":""},{"$f":"IF(sample!GA94,sample!GA95,\"\")","v":""},{"$f":"IF(sample!GB94,sample!GB95,\"\")","v":""},{"$f":"IF(sample!GC94,sample!GC95,\"\")","v":""},{"$f":"IF(sample!GD94,sample!GD95,\"\")","v":""},{"$f":"IF(sample!GE94,sample!GE95,\"\")","v":""},{"$f":"IF(sample!GF94,sample!GF95,\"\")","v":""},{"$f":"IF(sample!GG94,sample!GG95,\"\")","v":""},{"$f":"IF(sample!GH94,sample!GH95,\"\")","v":""},{"$f":"IF(sample!GI94,sample!GI95,\"\")","v":""},{"$f":"IF(sample!GJ94,sample!GJ95,\"\")","v":""},{"$f":"IF(sample!GK94,sample!GK95,\"\")","v":""},{"$f":"IF(sample!GL94,sample!GL95,\"\")","v":""},{"$f":"IF(sample!GM94,sample!GM95,\"\")","v":""},{"$f":"IF(sample!GN94,sample!GN95,\"\")","v":""},{"$f":"IF(sample!GO94,sample!GO95,\"\")","v":-2},{"$f":"IF(sample!GP94,sample!GP95,\"\")","v":""},{"$f":"IF(sample!GQ94,sample!GQ95,\"\")","v":""},{"$f":"IF(sample!GR94,sample!GR95,\"\")","v":""},{"$f":"IF(sample!GS94,sample!GS95,\"\")","v":""},{"$f":"IF(sample!GT94,sample!GT95,\"\")","v":""},{"$f":"IF(sample!GU94,sample!GU95,\"\")","v":""},{"$f":"IF(sample!GV94,sample!GV95,\"\")","v":""},{"$f":"IF(sample!GW94,sample!GW95,\"\")","v":""},{"$f":"IF(sample!GX94,sample!GX95,\"\")","v":""},{"$f":"IF(sample!GY94,sample!GY95,\"\")","v":""},{"$f":"IF(sample!GZ94,sample!GZ95,\"\")","v":""},{"$f":"IF(sample!HA94,sample!HA95,\"\")","v":""},{"$f":"IF(sample!HB94,sample!HB95,\"\")","v":""},{"$f":"IF(sample!HC94,sample!HC95,\"\")","v":""},{"$f":"IF(sample!HD94,sample!HD95,\"\")","v":""},{"$f":"IF(sample!HE94,sample!HE95,\"\")","v":""},{"$f":"IF(sample!HF94,sample!HF95,\"\")","v":""},{"$f":"IF(sample!HG94,sample!HG95,\"\")","v":""},{"$f":"IF(sample!HH94,sample!HH95,\"\")","v":""},null,"HUBUNG-KAIT",null,null,null,null,null,null,"DATA INPUT TERAKHIR STAF",null,null,null,null,null,"Last Input Date:",{"$f":"TODAY()-1","v":"2020-12-30"}]
[null,"ID KPI","Deskripsi Spesifik KPI","Sasaran",null,null,null,null,null,null,null,null,null,null,null,null,null,null,null,null,null,null,null,null,null,null,null,null,null,null,null,null,null,null,null,null,null,null,null,null,null,null,null,null,null,null,null,null,null,null,null,null,null,null,null,null,null,null,"Terima","Cascade1","Cascade2","Cascade3","Cascade4","Cascade5",null,"Wk 1","Wk 2","Wk 3","Wk 4","Wk 5","Wk 6","Wk 7","Wk 8","Wk 9","Wk 10","Wk 11","Wk 12","Wk 13","Wk 14","Wk 15","Wk 16","Wk 17","Wk 18","Wk 19","Wk 20","Wk 21","Wk 22","Wk 23","Wk 24","Wk 25","Wk 26","Wk 27","Wk 28","Wk 29","Wk 30","Wk 31","Wk 32","Wk 33","Wk 34","Wk 35","Wk 36","Wk 37","Wk 38","Wk 39","Wk 40","Wk 41","Wk 42","Wk 43","Wk 44","Wk 45","Wk 46","Wk 47","Wk 48","Wk 49","Wk 50","Wk 51","Wk 52"]
[{"$f":"sample!K90","v":0},"CG801","WK01 Mencapai sasaran pendapatan korporat yang meningkat bagi Sektor Perumahan (RM Juta)",10,{"$f":"HLOOKUP($Q$2,sample!$BN$2:$DM$105,89,FALSE)","v":10.14},{"$f":"sample!L90","v":0},{"$f":"sample!M90","v":0},{"$f":"sample!N90","v":0},{"$f":"sample!O90","v":0},{"$f":"sample!P90","v":0},{"$f":"sample!Q90","v":11.5},{"$f":"sample!R90","v":11.5},{"$f":"sample!S90","v":11.5},{"$f":"sample!T90","v":11.5},{"$f":"sample!U90","v":11.5},{"$f":"sample!V90","v":11.5},{"$f":"sample!W90","v":11.5},{"$f":"sample!X90","v":11.5},{"$f":"sample!Y90","v":11.5},{"$f":"sample!Z90","v":11.5},{"$f":"sample!AA90","v":11.5},{"$f":"sample!AB90","v":11.5},{"$f":"sample!AC90","v":11.5},{"$f":"sample!AD90","v":11.5},{"$f":"sample!AE90","v":11.5},{"$f":"sample!AF90","v":11.5},{"$f":"sample!AG90","v":27.5},{"$f":"sample!AH90","v":27.5},{"$f":"sample!AI90","v":27.5},{"$f":"sample!AJ90","v":27.5},{"$f":"sample!AK90","v":27.5},{"$f":"sample!AL90","v":27.5},{"$f":"sample!AM90","v":27.5},{"$f":"sample!AN90","v":42.1},{"$f":"sample!AO90","v":42.1},{"$f":"sample!AP90","v":42.1},{"$f":"sample!AQ90","v":42.1},{"$f":"sample!AR90","v":42.1},{"$f":"sample!AS90","v":42.1},{"$f":"sample!AT90","v":42.1},{"$f":"sample!AU90","v":42.1},{"$f":"sample!AV90","v":42.1},{"$f":"sample!AW90","v":42.1},{"$f":"sample!AX90","v":42.1},{"$f":"sample!AY90","v":66.400000000000006},{"$f":"sample!AZ90","v":66.400000000000006},{"$f":"sample!BA90","v":66.400000000000006},{"$f":"sample!BB90","v":66.400000000000006},{"$f":"sample!BC90","v":66.400000000000006},{"$f":"sample!BD90","v":66.400000000000006},{"$f":"sample!BE90","v":66.400000000000006},{"$f":"sample!BF90","v":66.400000000000006},{"$f":"sample!BG90","v":66.400000000000006},{"$f":"sample!BH90","v":66.400000000000006},{"$f":"sample!BI90","v":66.400000000000006},{"$f":"sample!BJ90","v":66.400000000000006},{"$f":"sample!BK90","v":100},null,"DM101",null,null,null,null,null,null,{"$f":"IF(BN$41>$M$2,\"\",BN1)","v":""},{"$f":"IF(BO$41>$M$2,\"\",BO1)","v":""},"","","",1.1499999999999999,"","","","","","","","","","","","","","","",2.75,"","","","","","",4.21,"","","","","","","","","","",6.6400000000000006,"","","","","","","","","","","",10.14]
[null,null,null,null,null,null,null,null,null,null,null,null,null,null,null,null,null,null,null,null,null,null,null,null,null,null,null,null,null,null,null,null,null,null,null,null,null,null,null,null,null,null,null,null,null,null,null,null,null,null,null,null,null,null,null,null,null,null,{"$f":"sample!BZ90","v":1.1499999999999999}]
[{"$f":"sample!K91","v":0},"CG802","BP49 Mengekalkan Penghantaran shipment Pelanggan menepati sasaran - Zon Timur",95,{"$f":"HLOOKUP($Q$2,sample!$BN$2:$DM$105,90,FALSE)","v":95.865384615384613},{"$f":"sample!L91","v":100},{"$f":"sample!M91","v":100},{"$f":"sample!N91","v":89.473684210000002},{"$f":"sample!O91","v":100},{"$f":"sample!P91","v":100},{"$f":"sample!Q91","v":100},{"$f":"sample!R91","v":89.473684210000002},{"$f":"sample!S91","v":100},{"$f":"sample!T91","v":100},{"$f":"sample!U91","v":100},{"$f":"sample!V91","v":100},{"$f":"sample!W91","v":100},{"$f":"sample!X91","v":94.736842109999998},{"$f":"sample!Y91","v":100},{"$f":"sample!Z91","v":100},{"$f":"sample!AA91","v":89.473684210000002},{"$f":"sample!AB91","v":100},{"$f":"sample!AC91","v":100},{"$f":"sample!AD91","v":100},{"$f":"sample!AE91","v":100},{"$f":"sample!AF91","v":100},{"$f":"sample!AG91","v":63.157894740000003},{"$f":"sample!AH91","v":100},{"$f":"sample!AI91","v":100},{"$f":"sample!AJ91","v":84.21052632},{"$f":"sample!AK91","v":100},{"$f":"sample!AL91","v":100},{"$f":"sample!AM91","v":100},{"$f":"sample!AN91","v":100},{"$f":"sample!AO91","v":89.473684210000002},{"$f":"sample!AP91","v":100},{"$f":"sample!AQ91","v":100},{"$f":"sample!AR91","v":100},{"$f":"sample!AS91","v":100},{"$f":"sample!AT91","v":94.736842109999998},{"$f":"sample!AU91","v":100},{"$f":"sample!AV91","v":100},{"$f":"sample!AW91","v":100},{"$f":"sample!AX91","v":94.736842109999998},{"$f":"sample!AY91","v":89.473684210000002},{"$f":"sample!AZ91","v":100},{"$f":"sample!BA91","v":100},{"$f":"sample!BB91","v":100},{"$f":"sample!BC91","v":100},{"$f":"sample!BD91","v":89.473684210000002},{"$f":"sample!BE91","v":100},{"$f":"sample!BF91","v":100},{"$f":"sample!BG91","v":100},{"$f":"sample!BH91","v":100},{"$f":"sample!BI91","v":94.736842109999998},{"$f":"sample!BJ91","v":100},{"$f":"sample!BK91","v":100},null,"DM103",null,null,null,null,null,null,{"$f":"IF(BN$41>$M$2,\"\",BN2)","v":100},{"$f":"IF(BO$41>$M$2,\"\",BO2)","v":100},85,100,100,100,85,100,100,95,100,100,90,100,95,85,100,100,100,100,95,60,100,100,80,100,100,100,100,85,100,100,100,95,90,100,100,100,90,85,100,100,100,95,85,100,100,100,100,90,100,100]
[null,null,null,null,null,null,null,null,null,null,null,null,null,null,null,null,null,null,null,null,null,null,null,null,null,null,null,null,null,null,null,null,null,null,null,null,null,null,null,null,null,null,null,null,null,null,null,null,null,null,null,null,null,null,null,null,null,null,{"$f":"sample!BZ91","v":96.538461538461533}]
[{"$f":"sample!K92","v":0},"CG803","BP20 Mengekalkan tahap tinggi peratusan Servis Aduan diselesai menepati sasaran (peratusan)",80,{"$f":"HLOOKUP($Q$2,sample!$BN$2:$DM$105,91,FALSE)","v":77.58461538461539},{"$f":"sample!L92","v":""},{"$f":"sample!M92","v":70},{"$f":"sample!N92","v":""},{"$f":"sample!O92","v":41.25},{"$f":"sample!P92","v":""},{"$f":"sample!Q92","v":45},{"$f":"sample!R92","v":""},{"$f":"sample!S92","v":45},{"$f":"sample!T92","v":""},{"$f":"sample!U92","v":73.75},{"$f":"sample!V92","v":""},{"$f":"sample!W92","v":35.625},{"$f":"sample!X92","v":""},{"$f":"sample!Y92","v":77.5},{"$f":"sample!Z92","v":""},{"$f":"sample!AA92","v":80.625},{"$f":"sample!AB92","v":""},{"$f":"sample!AC92","v":100},{"$f":"sample!AD92","v":""},{"$f":"sample!AE92","v":94.375},{"$f":"sample!AF92","v":""},{"$f":"sample!AG92","v":61.875},{"$f":"sample!AH92","v":""},{"$f":"sample!AI92","v":98.125},{"$f":"sample!AJ92","v":""},{"$f":"sample!AK92","v":90.625},{"$f":"sample!AL92","v":""},{"$f":"sample!AM92","v":100},{"$f":"sample!AN92","v":""},{"$f":"sample!AO92","v":100},{"$f":"sample!AP92","v":""},{"$f":"sample!AQ92","v":100},{"$f":"sample!AR92","v":""},{"$f":"sample!AS92","v":98.75},{"$f":"sample!AT92","v":""},{"$f":"sample!AU92","v":87.5},{"$f":"sample!AV92","v":""},{"$f":"sample!AW92","v":100},{"$f":"sample!AX92","v":""},{"$f":"sample!AY92","v":76.875},{"$f":"sample!AZ92","v":""},{"$f":"sample!BA92","v":100},{"$f":"sample!BB92","v":""},{"$f":"sample!BC92","v":88.125},{"$f":"sample!BD92","v":""},{"$f":"sample!BE92","v":100},{"$f":"sample!BF92","v":""},{"$f":"sample!BG92","v":85.625},{"$f":"sample!BH92","v":""},{"$f":"sample!BI92","v":100},{"$f":"sample!BJ92","v":""},{"$f":"sample!BK92","v":90.625},null,null,null,null,null,null,null,null,{"$f":"IF(BN$41>$M$2,\"\",BN3)","v":""},{"$f":"IF(BO$41>$M$2,\"\",BO3)","v":75.2},"",70.599999999999994,"",71.2,"",71.2,"",75.8,"",69.7,"",76.400000000000006,"",76.900000000000006,"",80.3,"",79.099999999999994,"",73.900000000000006,"",79.7,"",78.5,"",81.400000000000006,"",80.199999999999989,"",83.699999999999989,"",79.800000000000011,"",78,"",82,"",76.300000000000011,"",83.3,"",78.099999999999994,"",84.3,"",77.7,"",81.5,"",78.5]
[]
[{"$f":"sample!K93","v":0},"CG804","BP34 Mengekalkan Penghantaran shipment Pelanggan menepati sasaran – servis Penjejakan Penghantaran",95,{"$f":"HLOOKUP($Q$2,sample!$BN$2:$DM$105,92,FALSE)","v":81.634615384615387},{"$f":"sample!L93","v":78.947368420000004},{"$f":"sample!M93","v":84.21052632},{"$f":"sample!N93","v":73.684210530000001},{"$f":"sample!O93","v":63.157894740000003},{"$f":"sample!P93","v":57.89473684},{"$f":"sample!Q93","v":57.89473684},{"$f":"sample!R93","v":57.89473684},{"$f":"sample!S93","v":63.157894740000003},{"$f":"sample!T93","v":78.947368420000004},{"$f":"sample!U93","v":78.947368420000004},{"$f":"sample!V93","v":73.684210530000001},{"$f":"sample!W93","v":57.89473684},{"$f":"sample!X93","v":78.947368420000004},{"$f":"sample!Y93","v":84.21052632},{"$f":"sample!Z93","v":84.21052632},{"$f":"sample!AA93","v":84.21052632},{"$f":"sample!AB93","v":89.473684210000002},{"$f":"sample!AC93","v":89.473684210000002},{"$f":"sample!AD93","v":94.736842109999998},{"$f":"sample!AE93","v":94.736842109999998},{"$f":"sample!AF93","v":94.736842109999998},{"$f":"sample!AG93","v":89.473684210000002},{"$f":"sample!AH93","v":89.473684210000002},{"$f":"sample!AI93","v":94.736842109999998},{"$f":"sample!AJ93","v":84.21052632},{"$f":"sample!AK93","v":89.473684210000002},{"$f":"sample!AL93","v":94.736842109999998},{"$f":"sample!AM93","v":94.736842109999998},{"$f":"sample!AN93","v":100},{"$f":"sample!AO93","v":94.736842109999998},{"$f":"sample!AP93","v":94.736842109999998},{"$f":"sample!AQ93","v":94.736842109999998},{"$f":"sample!AR93","v":84.21052632},{"$f":"sample!AS93","v":84.21052632},{"$f":"sample!AT93","v":89.473684210000002},{"$f":"sample!AU93","v":89.473684210000002},{"$f":"sample!AV93","v":89.473684210000002},{"$f":"sample!AW93","v":84.21052632},{"$f":"sample!AX93","v":94.736842109999998},{"$f":"sample!AY93","v":94.736842109999998},{"$f":"sample!AZ93","v":100},{"$f":"sample!BA93","v":100},{"$f":"sample!BB93","v":94.736842109999998},{"$f":"sample!BC93","v":100},{"$f":"sample!BD93","v":94.736842109999998},{"$f":"sample!BE93","v":100},{"$f":"sample!BF93","v":89.473684210000002},{"$f":"sample!BG93","v":89.473684210000002},{"$f":"sample!BH93","v":89.473684210000002},{"$f":"sample!BI93","v":84.21052632},{"$f":"sample!BJ93","v":84.21052632},{"$f":"sample!BK93","v":89.473684210000002},null,null,null,null,null,null,null,null,{"$f":"IF(BN$41>$M$2,\"\",BN4)","v":75},{"$f":"IF(BO$41>$M$2,\"\",BO4)","v":80},70,60,55.000000000000007,55.000000000000007,55.000000000000007,60,75,75,70,55.000000000000007,75,80,80,80,85,85,90,90,90,85,85,90,80,85,90,90,95,90,90,90,80,80,85,85,85,80,90,90,95,95,90,95,90,95,85,85,85,80,80,85]
[]
[{"$f":"sample!K94","v":0},"CG805","BR55 Mencapai pelaksanaan Sistem Tiket Aduan STARSYS yang baru","Yes",{"$f":"HLOOKUP($Q$2,sample!$BN$2:$DM$105,93,FALSE)","v":"Yes"},{"$f":"sample!L94","v":""},{"$f":"sample!M94","v":""},{"$f":"sample!N94","v":""},{"$f":"sample!O94","v":""},{"$f":"sample!P94","v":0},{"$f":"sample!Q94","v":0},{"$f":"sample!R94","v":0},{"$f":"sample!S94","v":0},{"$f":"sample!T94","v":0},{"$f":"sample!U94","v":0},{"$f":"sample!V94","v":0},{"$f":"sample!W94","v":0},{"$f":"sample!X94","v":0},{"$f":"sample!Y94","v":0},{"$f":"sample!Z94","v":0},{"$f":"sample!AA94","v":0},{"$f":"sample!AB94","v":0},{"$f":"sample!AC94","v":0},{"$f":"sample!AD94","v":0},{"$f":"sample!AE94","v":0},{"$f":"sample!AF94","v":0},{"$f":"sample!AG94","v":0},{"$f":"sample!AH94","v":0},{"$f":"sample!AI94","v":0},{"$f":"sample!AJ94","v":0},{"$f":"sample!AK94","v":0},{"$f":"sample!AL94","v":0},{"$f":"sample!AM94","v":0},{"$f":"sample!AN94","v":0},{"$f":"sample!AO94","v":0},{"$f":"sample!AP94","v":0},{"$f":"sample!AQ94","v":0},{"$f":"sample!AR94","v":0},{"$f":"sample!AS94","v":0},{"$f":"sample!AT94","v":100},{"$f":"sample!AU94","v":100},{"$f":"sample!AV94","v":100},{"$f":"sample!AW94","v":100},{"$f":"sample!AX94","v":100},{"$f":"sample!AY94","v":100},{"$f":"sample!AZ94","v":100},{"$f":"sample!BA94","v":100},{"$f":"sample!BB94","v":100},{"$f":"sample!BC94","v":100},{"$f":"sample!BD94","v":100},{"$f":"sample!BE94","v":100},{"$f":"sample!BF94","v":100},{"$f":"sample!BG94","v":100},{"$f":"sample!BH94","v":100},{"$f":"sample!BI94","v":100},{"$f":"sample!BJ94","v":100},{"$f":"sample!BK94","v":100},null,null,null,null,null,null,null,null,{"$f":"IF(BN$41>$M$2,\"\",BN5)","v":""},{"$f":"IF(BO$41>$M$2,\"\",BO5)","v":""},"","","","","","","","","","","","","","","","","","","","","","","","","","","","","","","","","Yes","","","","","","","","","","","","","","","","",""]
[]
[{"$f":"sample!K95","v":0},"CG806","N/A",0,{"$f":"HLOOKUP($Q$2,sample!$BN$2:$DM$105,94,FALSE)","v":""},{"$f":"sample!L95","v":""},{"$f":"sample!M95","v":""},{"$f":"sample!N95","v":""},{"$f":"sample!O95","v":""},{"$f":"sample!P95","v":""},{"$f":"sample!Q95","v":""},{"$f":"sample!R95","v":""},{"$f":"sample!S95","v":""},{"$f":"sample!T95","v":""},{"$f":"sample!U95","v":""},{"$f":"sample!V95","v":""},{"$f":"sample!W95","v":""},{"$f":"sample!X95","v":""},{"$f":"sample!Y95","v":""},{"$f":"sample!Z95","v":""},{"$f":"sample!AA95","v":""},{"$f":"sample!AB95","v":""},{"$f":"sample!AC95","v":""},{"$f":"sample!AD95","v":""},{"$f":"sample!AE95","v":""},{"$f":"sample!AF95","v":""},{"$f":"sample!AG95","v":""},{"$f":"sample!AH95","v":""},{"$f":"sample!AI95","v":""},{"$f":"sample!AJ95","v":""},{"$f":"sample!AK95","v":""},{"$f":"sample!AL95","v":""},{"$f":"sample!AM95","v":""},{"$f":"sample!AN95","v":""},{"$f":"sample!AO95","v":""},{"$f":"sample!AP95","v":""},{"$f":"sample!AQ95","v":""},{"$f":"sample!AR95","v":""},{"$f":"sample!AS95","v":""},{"$f":"sample!AT95","v":""},{"$f":"sample!AU95","v":""},{"$f":"sample!AV95","v":""},{"$f":"sample!AW95","v":""},{"$f":"sample!AX95","v":""},{"$f":"sample!AY95","v":""},{"$f":"sample!AZ95","v":""},{"$f":"sample!BA95","v":""},{"$f":"sample!BB95","v":""},{"$f":"sample!BC95","v":""},{"$f":"sample!BD95","v":""},{"$f":"sample!BE95","v":""},{"$f":"sample!BF95","v":""},{"$f":"sample!BG95","v":""},{"$f":"sample!BH95","v":""},{"$f":"sample!BI95","v":""},{"$f":"sample!BJ95","v":""},{"$f":"sample!BK95","v":""},null,null,null,null,null,null,null,null,{"$f":"IF(sample!X235=\"\",\"\",sample!X235)","v":""},{"$f":"IF(sample!Y235=\"\",\"\",sample!Y235)","v":""},{"$f":"IF(sample!Z235=\"\",\"\",sample!Z235)","v":""},{"$f":"IF(sample!AA235=\"\",\"\",sample!AA235)","v":""},{"$f":"IF(sample!AB235=\"\",\"\",sample!AB235)","v":""},{"$f":"IF(sample!AC235=\"\",\"\",sample!AC235)","v":""},{"$f":"IF(sample!AD235=\"\",\"\",sample!AD235)","v":""},{"$f":"IF(sample!AE235=\"\",\"\",sample!AE235)","v":""},{"$f":"IF(sample!AF235=\"\",\"\",sample!AF235)","v":""},{"$f":"IF(sample!AG235=\"\",\"\",sample!AG235)","v":""},{"$f":"IF(sample!AH235=\"\",\"\",sample!AH235)","v":""},{"$f":"IF(sample!AI235=\"\",\"\",sample!AI235)","v":""},{"$f":"IF(sample!AJ235=\"\",\"\",sample!AJ235)","v":""},{"$f":"IF(sample!AK235=\"\",\"\",sample!AK235)","v":""},{"$f":"IF(sample!AL235=\"\",\"\",sample!AL235)","v":""},{"$f":"IF(sample!AM235=\"\",\"\",sample!AM235)","v":""},{"$f":"IF(sample!AN235=\"\",\"\",sample!AN235)","v":""},{"$f":"IF(sample!AO235=\"\",\"\",sample!AO235)","v":""},{"$f":"IF(sample!AP235=\"\",\"\",sample!AP235)","v":""},{"$f":"IF(sample!AQ235=\"\",\"\",sample!AQ235)","v":""},{"$f":"IF(sample!AR235=\"\",\"\",sample!AR235)","v":""},{"$f":"IF(sample!AS235=\"\",\"\",sample!AS235)","v":""},{"$f":"IF(sample!AT235=\"\",\"\",sample!AT235)","v":""},{"$f":"IF(sample!AU235=\"\",\"\",sample!AU235)","v":""},{"$f":"IF(sample!AV235=\"\",\"\",sample!AV235)","v":""},{"$f":"IF(sample!AW235=\"\",\"\",sample!AW235)","v":""},{"$f":"IF(sample!AX235=\"\",\"\",sample!AX235)","v":""},{"$f":"IF(sample!AY235=\"\",\"\",sample!AY235)","v":""},{"$f":"IF(sample!AZ235=\"\",\"\",sample!AZ235)","v":""},{"$f":"IF(sample!BA235=\"\",\"\",sample!BA235)","v":""},{"$f":"IF(sample!BB235=\"\",\"\",sample!BB235)","v":""},{"$f":"IF(sample!BC235=\"\",\"\",sample!BC235)","v":""},{"$f":"IF(sample!BD235=\"\",\"\",sample!BD235)","v":""},{"$f":"IF(sample!BE235=\"\",\"\",sample!BE235)","v":""},{"$f":"IF(sample!BF235=\"\",\"\",sample!BF235)","v":""},{"$f":"IF(sample!BG235=\"\",\"\",sample!BG235)","v":""},{"$f":"IF(sample!BH235=\"\",\"\",sample!BH235)","v":""},{"$f":"IF(sample!BI235=\"\",\"\",sample!BI235)","v":""},{"$f":"IF(sample!BJ235=\"\",\"\",sample!BJ235)","v":""},{"$f":"IF(sample!BK235=\"\",\"\",sample!BK235)","v":""},{"$f":"IF(sample!BL235=\"\",\"\",sample!BL235)","v":""},{"$f":"IF(sample!BM235=\"\",\"\",sample!BM235)","v":""},{"$f":"IF(sample!BN235=\"\",\"\",sample!BN235)","v":""},{"$f":"IF(sample!BO235=\"\",\"\",sample!BO235)","v":""},{"$f":"IF(sample!BP235=\"\",\"\",sample!BP235)","v":""},{"$f":"IF(sample!BQ235=\"\",\"\",sample!BQ235)","v":""},{"$f":"IF(sample!BR235=\"\",\"\",sample!BR235)","v":""},{"$f":"IF(sample!BS235=\"\",\"\",sample!BS235)","v":""},{"$f":"IF(sample!BT235=\"\",\"\",sample!BT235)","v":""},{"$f":"IF(sample!BU235=\"\",\"\",sample!BU235)","v":""},{"$f":"IF(sample!BV235=\"\",\"\",sample!BV235)","v":""},{"$f":"IF(sample!BW235=\"\",\"\",sample!BW235)","v":""}]
[]
[{"$f":"sample!K96","v":0},"CG807","N/A",0,{"$f":"HLOOKUP($Q$2,sample!$BN$2:$DM$105,95,FALSE)","v":""},{"$f":"sample!L96","v":""},{"$f":"sample!M96","v":""},{"$f":"sample!N96","v":""},{"$f":"sample!O96","v":""},{"$f":"sample!P96","v":""},{"$f":"sample!Q96","v":""},{"$f":"sample!R96","v":""},{"$f":"sample!S96","v":""},{"$f":"sample!T96","v":""},{"$f":"sample!U96","v":""},{"$f":"sample!V96","v":""},{"$f":"sample!W96","v":""},{"$f":"sample!X96","v":""},{"$f":"sample!Y96","v":""},{"$f":"sample!Z96","v":""},{"$f":"sample!AA96","v":""},{"$f":"sample!AB96","v":""},{"$f":"sample!AC96","v":""},{"$f":"sample!AD96","v":""},{"$f":"sample!AE96","v":""},{"$f":"sample!AF96","v":""},{"$f":"sample!AG96","v":""},{"$f":"sample!AH96","v":""},{"$f":"sample!AI96","v":""},{"$f":"sample!AJ96","v":""},{"$f":"sample!AK96","v":""},{"$f":"sample!AL96","v":""},{"$f":"sample!AM96","v":""},{"$f":"sample!AN96","v":""},{"$f":"sample!AO96","v":""},{"$f":"sample!AP96","v":""},{"$f":"sample!AQ96","v":""},{"$f":"sample!AR96","v":""},{"$f":"sample!AS96","v":""},{"$f":"sample!AT96","v":""},{"$f":"sample!AU96","v":""},{"$f":"sample!AV96","v":""},{"$f":"sample!AW96","v":""},{"$f":"sample!AX96","v":""},{"$f":"sample!AY96","v":""},{"$f":"sample!AZ96","v":""},{"$f":"sample!BA96","v":""},{"$f":"sample!BB96","v":""},{"$f":"sample!BC96","v":""},{"$f":"sample!BD96","v":""},{"$f":"sample!BE96","v":""},{"$f":"sample!BF96","v":""},{"$f":"sample!BG96","v":""},{"$f":"sample!BH96","v":""},{"$f":"sample!BI96","v":""},{"$f":"sample!BJ96","v":""},{"$f":"sample!BK96","v":""},null,null,null,null,null,null,null,null,{"$f":"IF(sample!X236=\"\",\"\",sample!X236)","v":""},{"$f":"IF(sample!Y236=\"\",\"\",sample!Y236)","v":""},{"$f":"IF(sample!Z236=\"\",\"\",sample!Z236)","v":""},{"$f":"IF(sample!AA236=\"\",\"\",sample!AA236)","v":""},{"$f":"IF(sample!AB236=\"\",\"\",sample!AB236)","v":""},{"$f":"IF(sample!AC236=\"\",\"\",sample!AC236)","v":""},{"$f":"IF(sample!AD236=\"\",\"\",sample!AD236)","v":""},{"$f":"IF(sample!AE236=\"\",\"\",sample!AE236)","v":""},{"$f":"IF(sample!AF236=\"\",\"\",sample!AF236)","v":""},{"$f":"IF(sample!AG236=\"\",\"\",sample!AG236)","v":""},{"$f":"IF(sample!AH236=\"\",\"\",sample!AH236)","v":""},{"$f":"IF(sample!AI236=\"\",\"\",sample!AI236)","v":""},{"$f":"IF(sample!AJ236=\"\",\"\",sample!AJ236)","v":""},{"$f":"IF(sample!AK236=\"\",\"\",sample!AK236)","v":""},{"$f":"IF(sample!AL236=\"\",\"\",sample!AL236)","v":""},{"$f":"IF(sample!AM236=\"\",\"\",sample!AM236)","v":""},{"$f":"IF(sample!AN236=\"\",\"\",sample!AN236)","v":""},{"$f":"IF(sample!AO236=\"\",\"\",sample!AO236)","v":""},{"$f":"IF(sample!AP236=\"\",\"\",sample!AP236)","v":""},{"$f":"IF(sample!AQ236=\"\",\"\",sample!AQ236)","v":""},{"$f":"IF(sample!AR236=\"\",\"\",sample!AR236)","v":""},{"$f":"IF(sample!AS236=\"\",\"\",sample!AS236)","v":""},{"$f":"IF(sample!AT236=\"\",\"\",sample!AT236)","v":""},{"$f":"IF(sample!AU236=\"\",\"\",sample!AU236)","v":""},{"$f":"IF(sample!AV236=\"\",\"\",sample!AV236)","v":""},{"$f":"IF(sample!AW236=\"\",\"\",sample!AW236)","v":""},{"$f":"IF(sample!AX236=\"\",\"\",sample!AX236)","v":""},{"$f":"IF(sample!AY236=\"\",\"\",sample!AY236)","v":""},{"$f":"IF(sample!AZ236=\"\",\"\",sample!AZ236)","v":""},{"$f":"IF(sample!BA236=\"\",\"\",sample!BA236)","v":""},{"$f":"IF(sample!BB236=\"\",\"\",sample!BB236)","v":""},{"$f":"IF(sample!BC236=\"\",\"\",sample!BC236)","v":""},{"$f":"IF(sample!BD236=\"\",\"\",sample!BD236)","v":""},{"$f":"IF(sample!BE236=\"\",\"\",sample!BE236)","v":""},{"$f":"IF(sample!BF236=\"\",\"\",sample!BF236)","v":""},{"$f":"IF(sample!BG236=\"\",\"\",sample!BG236)","v":""},{"$f":"IF(sample!BH236=\"\",\"\",sample!BH236)","v":""},{"$f":"IF(sample!BI236=\"\",\"\",sample!BI236)","v":""},{"$f":"IF(sample!BJ236=\"\",\"\",sample!BJ236)","v":""},{"$f":"IF(sample!BK236=\"\",\"\",sample!BK236)","v":""},{"$f":"IF(sample!BL236=\"\",\"\",sample!BL236)","v":""},{"$f":"IF(sample!BM236=\"\",\"\",sample!BM236)","v":""},{"$f":"IF(sample!BN236=\"\",\"\",sample!BN236)","v":""},{"$f":"IF(sample!BO236=\"\",\"\",sample!BO236)","v":""},{"$f":"IF(sample!BP236=\"\",\"\",sample!BP236)","v":""},{"$f":"IF(sample!BQ236=\"\",\"\",sample!BQ236)","v":""},{"$f":"IF(sample!BR236=\"\",\"\",sample!BR236)","v":""},{"$f":"IF(sample!BS236=\"\",\"\",sample!BS236)","v":""},{"$f":"IF(sample!BT236=\"\",\"\",sample!BT236)","v":""},{"$f":"IF(sample!BU236=\"\",\"\",sample!BU236)","v":""},{"$f":"IF(sample!BV236=\"\",\"\",sample!BV236)","v":""},{"$f":"IF(sample!BW236=\"\",\"\",sample!BW236)","v":""}]
[]
[{"$f":"sample!K97","v":0},"CG808","N/A",0,{"$f":"HLOOKUP($Q$2,sample!$BN$2:$DM$105,96,FALSE)","v":""},{"$f":"sample!L97","v":""},{"$f":"sample!M97","v":""},{"$f":"sample!N97","v":""},{"$f":"sample!O97","v":""},{"$f":"sample!P97","v":""},{"$f":"sample!Q97","v":""},{"$f":"sample!R97","v":""},{"$f":"sample!S97","v":""},{"$f":"sample!T97","v":""},{"$f":"sample!U97","v":""},{"$f":"sample!V97","v":""},{"$f":"sample!W97","v":""},{"$f":"sample!X97","v":""},{"$f":"sample!Y97","v":""},{"$f":"sample!Z97","v":""},{"$f":"sample!AA97","v":""},{"$f":"sample!AB97","v":""},{"$f":"sample!AC97","v":""},{"$f":"sample!AD97","v":""},{"$f":"sample!AE97","v":""},{"$f":"sample!AF97","v":""},{"$f":"sample!AG97","v":""},{"$f":"sample!AH97","v":""},{"$f":"sample!AI97","v":""},{"$f":"sample!AJ97","v":""},{"$f":"sample!AK97","v":""},{"$f":"sample!AL97","v":""},{"$f":"sample!AM97","v":""},{"$f":"sample!AN97","v":""},{"$f":"sample!AO97","v":""},{"$f":"sample!AP97","v":""},{"$f":"sample!AQ97","v":""},{"$f":"sample!AR97","v":""},{"$f":"sample!AS97","v":""},{"$f":"sample!AT97","v":""},{"$f":"sample!AU97","v":""},{"$f":"sample!AV97","v":""},{"$f":"sample!AW97","v":""},{"$f":"sample!AX97","v":""},{"$f":"sample!AY97","v":""},{"$f":"sample!AZ97","v":""},{"$f":"sample!BA97","v":""},{"$f":"sample!BB97","v":""},{"$f":"sample!BC97","v":""},{"$f":"sample!BD97","v":""},{"$f":"sample!BE97","v":""},{"$f":"sample!BF97","v":""},{"$f":"sample!BG97","v":""},{"$f":"sample!BH97","v":""},{"$f":"sample!BI97","v":""},{"$f":"sample!BJ97","v":""},{"$f":"sample!BK97","v":""},null,null,null,null,null,null,null,null,{"$f":"IF(sample!X237=\"\",\"\",sample!X237)","v":""},{"$f":"IF(sample!Y237=\"\",\"\",sample!Y237)","v":""},{"$f":"IF(sample!Z237=\"\",\"\",sample!Z237)","v":""},{"$f":"IF(sample!AA237=\"\",\"\",sample!AA237)","v":""},{"$f":"IF(sample!AB237=\"\",\"\",sample!AB237)","v":""},{"$f":"IF(sample!AC237=\"\",\"\",sample!AC237)","v":""},{"$f":"IF(sample!AD237=\"\",\"\",sample!AD237)","v":""},{"$f":"IF(sample!AE237=\"\",\"\",sample!AE237)","v":""},{"$f":"IF(sample!AF237=\"\",\"\",sample!AF237)","v":""},{"$f":"IF(sample!AG237=\"\",\"\",sample!AG237)","v":""},{"$f":"IF(sample!AH237=\"\",\"\",sample!AH237)","v":""},{"$f":"IF(sample!AI237=\"\",\"\",sample!AI237)","v":""},{"$f":"IF(sample!AJ237=\"\",\"\",sample!AJ237)","v":""},{"$f":"IF(sample!AK237=\"\",\"\",sample!AK237)","v":""},{"$f":"IF(sample!AL237=\"\",\"\",sample!AL237)","v":""},{"$f":"IF(sample!AM237=\"\",\"\",sample!AM237)","v":""},{"$f":"IF(sample!AN237=\"\",\"\",sample!AN237)","v":""},{"$f":"IF(sample!AO237=\"\",\"\",sample!AO237)","v":""},{"$f":"IF(sample!AP237=\"\",\"\",sample!AP237)","v":""},{"$f":"IF(sample!AQ237=\"\",\"\",sample!AQ237)","v":""},{"$f":"IF(sample!AR237=\"\",\"\",sample!AR237)","v":""},{"$f":"IF(sample!AS237=\"\",\"\",sample!AS237)","v":""},{"$f":"IF(sample!AT237=\"\",\"\",sample!AT237)","v":""},{"$f":"IF(sample!AU237=\"\",\"\",sample!AU237)","v":""},{"$f":"IF(sample!AV237=\"\",\"\",sample!AV237)","v":""},{"$f":"IF(sample!AW237=\"\",\"\",sample!AW237)","v":""},{"$f":"IF(sample!AX237=\"\",\"\",sample!AX237)","v":""},{"$f":"IF(sample!AY237=\"\",\"\",sample!AY237)","v":""},{"$f":"IF(sample!AZ237=\"\",\"\",sample!AZ237)","v":""},{"$f":"IF(sample!BA237=\"\",\"\",sample!BA237)","v":""},{"$f":"IF(sample!BB237=\"\",\"\",sample!BB237)","v":""},{"$f":"IF(sample!BC237=\"\",\"\",sample!BC237)","v":""},{"$f":"IF(sample!BD237=\"\",\"\",sample!BD237)","v":""},{"$f":"IF(sample!BE237=\"\",\"\",sample!BE237)","v":""},{"$f":"IF(sample!BF237=\"\",\"\",sample!BF237)","v":""},{"$f":"IF(sample!BG237=\"\",\"\",sample!BG237)","v":""},{"$f":"IF(sample!BH237=\"\",\"\",sample!BH237)","v":""},{"$f":"IF(sample!BI237=\"\",\"\",sample!BI237)","v":""},{"$f":"IF(sample!BJ237=\"\",\"\",sample!BJ237)","v":""},{"$f":"IF(sample!BK237=\"\",\"\",sample!BK237)","v":""},{"$f":"IF(sample!BL237=\"\",\"\",sample!BL237)","v":""},{"$f":"IF(sample!BM237=\"\",\"\",sample!BM237)","v":""},{"$f":"IF(sample!BN237=\"\",\"\",sample!BN237)","v":""},{"$f":"IF(sample!BO237=\"\",\"\",sample!BO237)","v":""},{"$f":"IF(sample!BP237=\"\",\"\",sample!BP237)","v":""},{"$f":"IF(sample!BQ237=\"\",\"\",sample!BQ237)","v":""},{"$f":"IF(sample!BR237=\"\",\"\",sample!BR237)","v":""},{"$f":"IF(sample!BS237=\"\",\"\",sample!BS237)","v":""},{"$f":"IF(sample!BT237=\"\",\"\",sample!BT237)","v":""},{"$f":"IF(sample!BU237=\"\",\"\",sample!BU237)","v":""},{"$f":"IF(sample!BV237=\"\",\"\",sample!BV237)","v":""},{"$f":"IF(sample!BW237=\"\",\"\",sample!BW237)","v":""}]
[]
[{"$f":"sample!K98","v":0},"CG809","N/A",0,{"$f":"HLOOKUP($Q$2,sample!$BN$2:$DM$105,97,FALSE)","v":""},{"$f":"sample!L98","v":""},{"$f":"sample!M98","v":""},{"$f":"sample!N98","v":""},{"$f":"sample!O98","v":""},{"$f":"sample!P98","v":""},{"$f":"sample!Q98","v":""},{"$f":"sample!R98","v":""},{"$f":"sample!S98","v":""},{"$f":"sample!T98","v":""},{"$f":"sample!U98","v":""},{"$f":"sample!V98","v":""},{"$f":"sample!W98","v":""},{"$f":"sample!X98","v":""},{"$f":"sample!Y98","v":""},{"$f":"sample!Z98","v":""},{"$f":"sample!AA98","v":""},{"$f":"sample!AB98","v":""},{"$f":"sample!AC98","v":""},{"$f":"sample!AD98","v":""},{"$f":"sample!AE98","v":""},{"$f":"sample!AF98","v":""},{"$f":"sample!AG98","v":""},{"$f":"sample!AH98","v":""},{"$f":"sample!AI98","v":""},{"$f":"sample!AJ98","v":""},{"$f":"sample!AK98","v":""},{"$f":"sample!AL98","v":""},{"$f":"sample!AM98","v":""},{"$f":"sample!AN98","v":""},{"$f":"sample!AO98","v":""},{"$f":"sample!AP98","v":""},{"$f":"sample!AQ98","v":""},{"$f":"sample!AR98","v":""},{"$f":"sample!AS98","v":""},{"$f":"sample!AT98","v":""},{"$f":"sample!AU98","v":""},{"$f":"sample!AV98","v":""},{"$f":"sample!AW98","v":""},{"$f":"sample!AX98","v":""},{"$f":"sample!AY98","v":""},{"$f":"sample!AZ98","v":""},{"$f":"sample!BA98","v":""},{"$f":"sample!BB98","v":""},{"$f":"sample!BC98","v":""},{"$f":"sample!BD98","v":""},{"$f":"sample!BE98","v":""},{"$f":"sample!BF98","v":""},{"$f":"sample!BG98","v":""},{"$f":"sample!BH98","v":""},{"$f":"sample!BI98","v":""},{"$f":"sample!BJ98","v":""},{"$f":"sample!BK98","v":""},null,null,null,null,null,null,null,null,{"$f":"IF(sample!X238=\"\",\"\",sample!X238)","v":""},{"$f":"IF(sample!Y238=\"\",\"\",sample!Y238)","v":""},{"$f":"IF(sample!Z238=\"\",\"\",sample!Z238)","v":""},{"$f":"IF(sample!AA238=\"\",\"\",sample!AA238)","v":""},{"$f":"IF(sample!AB238=\"\",\"\",sample!AB238)","v":""},{"$f":"IF(sample!AC238=\"\",\"\",sample!AC238)","v":""},{"$f":"IF(sample!AD238=\"\",\"\",sample!AD238)","v":""},{"$f":"IF(sample!AE238=\"\",\"\",sample!AE238)","v":""},{"$f":"IF(sample!AF238=\"\",\"\",sample!AF238)","v":""},{"$f":"IF(sample!AG238=\"\",\"\",sample!AG238)","v":""},{"$f":"IF(sample!AH238=\"\",\"\",sample!AH238)","v":""},{"$f":"IF(sample!AI238=\"\",\"\",sample!AI238)","v":""},{"$f":"IF(sample!AJ238=\"\",\"\",sample!AJ238)","v":""},{"$f":"IF(sample!AK238=\"\",\"\",sample!AK238)","v":""},{"$f":"IF(sample!AL238=\"\",\"\",sample!AL238)","v":""},{"$f":"IF(sample!AM238=\"\",\"\",sample!AM238)","v":""},{"$f":"IF(sample!AN238=\"\",\"\",sample!AN238)","v":""},{"$f":"IF(sample!AO238=\"\",\"\",sample!AO238)","v":""},{"$f":"IF(sample!AP238=\"\",\"\",sample!AP238)","v":""},{"$f":"IF(sample!AQ238=\"\",\"\",sample!AQ238)","v":""},{"$f":"IF(sample!AR238=\"\",\"\",sample!AR238)","v":""},{"$f":"IF(sample!AS238=\"\",\"\",sample!AS238)","v":""},{"$f":"IF(sample!AT238=\"\",\"\",sample!AT238)","v":""},{"$f":"IF(sample!AU238=\"\",\"\",sample!AU238)","v":""},{"$f":"IF(sample!AV238=\"\",\"\",sample!AV238)","v":""},{"$f":"IF(sample!AW238=\"\",\"\",sample!AW238)","v":""},{"$f":"IF(sample!AX238=\"\",\"\",sample!AX238)","v":""},{"$f":"IF(sample!AY238=\"\",\"\",sample!AY238)","v":""},{"$f":"IF(sample!AZ238=\"\",\"\",sample!AZ238)","v":""},{"$f":"IF(sample!BA238=\"\",\"\",sample!BA238)","v":""},{"$f":"IF(sample!BB238=\"\",\"\",sample!BB238)","v":""},{"$f":"IF(sample!BC238=\"\",\"\",sample!BC238)","v":""},{"$f":"IF(sample!BD238=\"\",\"\",sample!BD238)","v":""},{"$f":"IF(sample!BE238=\"\",\"\",sample!BE238)","v":""},{"$f":"IF(sample!BF238=\"\",\"\",sample!BF238)","v":""},{"$f":"IF(sample!BG238=\"\",\"\",sample!BG238)","v":""},{"$f":"IF(sample!BH238=\"\",\"\",sample!BH238)","v":""},{"$f":"IF(sample!BI238=\"\",\"\",sample!BI238)","v":""},{"$f":"IF(sample!BJ238=\"\",\"\",sample!BJ238)","v":""},{"$f":"IF(sample!BK238=\"\",\"\",sample!BK238)","v":""},{"$f":"IF(sample!BL238=\"\",\"\",sample!BL238)","v":""},{"$f":"IF(sample!BM238=\"\",\"\",sample!BM238)","v":""},{"$f":"IF(sample!BN238=\"\",\"\",sample!BN238)","v":""},{"$f":"IF(sample!BO238=\"\",\"\",sample!BO238)","v":""},{"$f":"IF(sample!BP238=\"\",\"\",sample!BP238)","v":""},{"$f":"IF(sample!BQ238=\"\",\"\",sample!BQ238)","v":""},{"$f":"IF(sample!BR238=\"\",\"\",sample!BR238)","v":""},{"$f":"IF(sample!BS238=\"\",\"\",sample!BS238)","v":""},{"$f":"IF(sample!BT238=\"\",\"\",sample!BT238)","v":""},{"$f":"IF(sample!BU238=\"\",\"\",sample!BU238)","v":""},{"$f":"IF(sample!BV238=\"\",\"\",sample!BV238)","v":""},{"$f":"IF(sample!BW238=\"\",\"\",sample!BW238)","v":""}]
[]
[{"$f":"sample!K99","v":0},"CG810","N/A",0,{"$f":"HLOOKUP($Q$2,sample!$BN$2:$DM$105,98,FALSE)","v":""},{"$f":"sample!L99","v":""},{"$f":"sample!M99","v":""},{"$f":"sample!N99","v":""},{"$f":"sample!O99","v":""},{"$f":"sample!P99","v":""},{"$f":"sample!Q99","v":""},{"$f":"sample!R99","v":""},{"$f":"sample!S99","v":""},{"$f":"sample!T99","v":""},{"$f":"sample!U99","v":""},{"$f":"sample!V99","v":""},{"$f":"sample!W99","v":""},{"$f":"sample!X99","v":""},{"$f":"sample!Y99","v":""},{"$f":"sample!Z99","v":""},{"$f":"sample!AA99","v":""},{"$f":"sample!AB99","v":""},{"$f":"sample!AC99","v":""},{"$f":"sample!AD99","v":""},{"$f":"sample!AE99","v":""},{"$f":"sample!AF99","v":""},{"$f":"sample!AG99","v":""},{"$f":"sample!AH99","v":""},{"$f":"sample!AI99","v":""},{"$f":"sample!AJ99","v":""},{"$f":"sample!AK99","v":""},{"$f":"sample!AL99","v":""},{"$f":"sample!AM99","v":""},{"$f":"sample!AN99","v":""},{"$f":"sample!AO99","v":""},{"$f":"sample!AP99","v":""},{"$f":"sample!AQ99","v":""},{"$f":"sample!AR99","v":""},{"$f":"sample!AS99","v":""},{"$f":"sample!AT99","v":""},{"$f":"sample!AU99","v":""},{"$f":"sample!AV99","v":""},{"$f":"sample!AW99","v":""},{"$f":"sample!AX99","v":""},{"$f":"sample!AY99","v":""},{"$f":"sample!AZ99","v":""},{"$f":"sample!BA99","v":""},{"$f":"sample!BB99","v":""},{"$f":"sample!BC99","v":""},{"$f":"sample!BD99","v":""},{"$f":"sample!BE99","v":""},{"$f":"sample!BF99","v":""},{"$f":"sample!BG99","v":""},{"$f":"sample!BH99","v":""},{"$f":"sample!BI99","v":""},{"$f":"sample!BJ99","v":""},{"$f":"sample!BK99","v":""},null,null,null,null,null,null,null,null,{"$f":"IF(sample!X239=\"\",\"\",sample!X239)","v":""},{"$f":"IF(sample!Y239=\"\",\"\",sample!Y239)","v":""},{"$f":"IF(sample!Z239=\"\",\"\",sample!Z239)","v":""},{"$f":"IF(sample!AA239=\"\",\"\",sample!AA239)","v":""},{"$f":"IF(sample!AB239=\"\",\"\",sample!AB239)","v":""},{"$f":"IF(sample!AC239=\"\",\"\",sample!AC239)","v":""},{"$f":"IF(sample!AD239=\"\",\"\",sample!AD239)","v":""},{"$f":"IF(sample!AE239=\"\",\"\",sample!AE239)","v":""},{"$f":"IF(sample!AF239=\"\",\"\",sample!AF239)","v":""},{"$f":"IF(sample!AG239=\"\",\"\",sample!AG239)","v":""},{"$f":"IF(sample!AH239=\"\",\"\",sample!AH239)","v":""},{"$f":"IF(sample!AI239=\"\",\"\",sample!AI239)","v":""},{"$f":"IF(sample!AJ239=\"\",\"\",sample!AJ239)","v":""},{"$f":"IF(sample!AK239=\"\",\"\",sample!AK239)","v":""},{"$f":"IF(sample!AL239=\"\",\"\",sample!AL239)","v":""},{"$f":"IF(sample!AM239=\"\",\"\",sample!AM239)","v":""},{"$f":"IF(sample!AN239=\"\",\"\",sample!AN239)","v":""},{"$f":"IF(sample!AO239=\"\",\"\",sample!AO239)","v":""},{"$f":"IF(sample!AP239=\"\",\"\",sample!AP239)","v":""},{"$f":"IF(sample!AQ239=\"\",\"\",sample!AQ239)","v":""},{"$f":"IF(sample!AR239=\"\",\"\",sample!AR239)","v":""},{"$f":"IF(sample!AS239=\"\",\"\",sample!AS239)","v":""},{"$f":"IF(sample!AT239=\"\",\"\",sample!AT239)","v":""},{"$f":"IF(sample!AU239=\"\",\"\",sample!AU239)","v":""},{"$f":"IF(sample!AV239=\"\",\"\",sample!AV239)","v":""},{"$f":"IF(sample!AW239=\"\",\"\",sample!AW239)","v":""},{"$f":"IF(sample!AX239=\"\",\"\",sample!AX239)","v":""},{"$f":"IF(sample!AY239=\"\",\"\",sample!AY239)","v":""},{"$f":"IF(sample!AZ239=\"\",\"\",sample!AZ239)","v":""},{"$f":"IF(sample!BA239=\"\",\"\",sample!BA239)","v":""},{"$f":"IF(sample!BB239=\"\",\"\",sample!BB239)","v":""},{"$f":"IF(sample!BC239=\"\",\"\",sample!BC239)","v":""},{"$f":"IF(sample!BD239=\"\",\"\",sample!BD239)","v":""},{"$f":"IF(sample!BE239=\"\",\"\",sample!BE239)","v":""},{"$f":"IF(sample!BF239=\"\",\"\",sample!BF239)","v":""},{"$f":"IF(sample!BG239=\"\",\"\",sample!BG239)","v":""},{"$f":"IF(sample!BH239=\"\",\"\",sample!BH239)","v":""},{"$f":"IF(sample!BI239=\"\",\"\",sample!BI239)","v":""},{"$f":"IF(sample!BJ239=\"\",\"\",sample!BJ239)","v":""},{"$f":"IF(sample!BK239=\"\",\"\",sample!BK239)","v":""},{"$f":"IF(sample!BL239=\"\",\"\",sample!BL239)","v":""},{"$f":"IF(sample!BM239=\"\",\"\",sample!BM239)","v":""},{"$f":"IF(sample!BN239=\"\",\"\",sample!BN239)","v":""},{"$f":"IF(sample!BO239=\"\",\"\",sample!BO239)","v":""},{"$f":"IF(sample!BP239=\"\",\"\",sample!BP239)","v":""},{"$f":"IF(sample!BQ239=\"\",\"\",sample!BQ239)","v":""},{"$f":"IF(sample!BR239=\"\",\"\",sample!BR239)","v":""},{"$f":"IF(sample!BS239=\"\",\"\",sample!BS239)","v":""},{"$f":"IF(sample!BT239=\"\",\"\",sample!BT239)","v":""},{"$f":"IF(sample!BU239=\"\",\"\",sample!BU239)","v":""},{"$f":"IF(sample!BV239=\"\",\"\",sample!BV239)","v":""},{"$f":"IF(sample!BW239=\"\",\"\",sample!BW239)","v":""}]
[]
[{"$f":"sample!K100","v":0},"CG811","N/A",0,{"$f":"HLOOKUP($Q$2,sample!$BN$2:$DM$105,99,FALSE)","v":""},{"$f":"sample!L100","v":""},{"$f":"sample!M100","v":""},{"$f":"sample!N100","v":""},{"$f":"sample!O100","v":""},{"$f":"sample!P100","v":""},{"$f":"sample!Q100","v":""},{"$f":"sample!R100","v":""},{"$f":"sample!S100","v":""},{"$f":"sample!T100","v":""},{"$f":"sample!U100","v":""},{"$f":"sample!V100","v":""},{"$f":"sample!W100","v":""},{"$f":"sample!X100","v":""},{"$f":"sample!Y100","v":""},{"$f":"sample!Z100","v":""},{"$f":"sample!AA100","v":""},{"$f":"sample!AB100","v":""},{"$f":"sample!AC100","v":""},{"$f":"sample!AD100","v":""},{"$f":"sample!AE100","v":""},{"$f":"sample!AF100","v":""},{"$f":"sample!AG100","v":""},{"$f":"sample!AH100","v":""},{"$f":"sample!AI100","v":""},{"$f":"sample!AJ100","v":""},{"$f":"sample!AK100","v":""},{"$f":"sample!AL100","v":""},{"$f":"sample!AM100","v":""},{"$f":"sample!AN100","v":""},{"$f":"sample!AO100","v":""},{"$f":"sample!AP100","v":""},{"$f":"sample!AQ100","v":""},{"$f":"sample!AR100","v":""},{"$f":"sample!AS100","v":""},{"$f":"sample!AT100","v":""},{"$f":"sample!AU100","v":""},{"$f":"sample!AV100","v":""},{"$f":"sample!AW100","v":""},{"$f":"sample!AX100","v":""},{"$f":"sample!AY100","v":""},{"$f":"sample!AZ100","v":""},{"$f":"sample!BA100","v":""},{"$f":"sample!BB100","v":""},{"$f":"sample!BC100","v":""},{"$f":"sample!BD100","v":""},{"$f":"sample!BE100","v":""},{"$f":"sample!BF100","v":""},{"$f":"sample!BG100","v":""},{"$f":"sample!BH100","v":""},{"$f":"sample!BI100","v":""},{"$f":"sample!BJ100","v":""},{"$f":"sample!BK100","v":""},null,null,null,null,null,null,null,null,{"$f":"IF(sample!X240=\"\",\"\",sample!X240)","v":""},{"$f":"IF(sample!Y240=\"\",\"\",sample!Y240)","v":""},{"$f":"IF(sample!Z240=\"\",\"\",sample!Z240)","v":""},{"$f":"IF(sample!AA240=\"\",\"\",sample!AA240)","v":""},{"$f":"IF(sample!AB240=\"\",\"\",sample!AB240)","v":""},{"$f":"IF(sample!AC240=\"\",\"\",sample!AC240)","v":""},{"$f":"IF(sample!AD240=\"\",\"\",sample!AD240)","v":""},{"$f":"IF(sample!AE240=\"\",\"\",sample!AE240)","v":""},{"$f":"IF(sample!AF240=\"\",\"\",sample!AF240)","v":""},{"$f":"IF(sample!AG240=\"\",\"\",sample!AG240)","v":""},{"$f":"IF(sample!AH240=\"\",\"\",sample!AH240)","v":""},{"$f":"IF(sample!AI240=\"\",\"\",sample!AI240)","v":""},{"$f":"IF(sample!AJ240=\"\",\"\",sample!AJ240)","v":""},{"$f":"IF(sample!AK240=\"\",\"\",sample!AK240)","v":""},{"$f":"IF(sample!AL240=\"\",\"\",sample!AL240)","v":""},{"$f":"IF(sample!AM240=\"\",\"\",sample!AM240)","v":""},{"$f":"IF(sample!AN240=\"\",\"\",sample!AN240)","v":""},{"$f":"IF(sample!AO240=\"\",\"\",sample!AO240)","v":""},{"$f":"IF(sample!AP240=\"\",\"\",sample!AP240)","v":""},{"$f":"IF(sample!AQ240=\"\",\"\",sample!AQ240)","v":""},{"$f":"IF(sample!AR240=\"\",\"\",sample!AR240)","v":""},{"$f":"IF(sample!AS240=\"\",\"\",sample!AS240)","v":""},{"$f":"IF(sample!AT240=\"\",\"\",sample!AT240)","v":""},{"$f":"IF(sample!AU240=\"\",\"\",sample!AU240)","v":""},{"$f":"IF(sample!AV240=\"\",\"\",sample!AV240)","v":""},{"$f":"IF(sample!AW240=\"\",\"\",sample!AW240)","v":""},{"$f":"IF(sample!AX240=\"\",\"\",sample!AX240)","v":""},{"$f":"IF(sample!AY240=\"\",\"\",sample!AY240)","v":""},{"$f":"IF(sample!AZ240=\"\",\"\",sample!AZ240)","v":""},{"$f":"IF(sample!BA240=\"\",\"\",sample!BA240)","v":""},{"$f":"IF(sample!BB240=\"\",\"\",sample!BB240)","v":""},{"$f":"IF(sample!BC240=\"\",\"\",sample!BC240)","v":""},{"$f":"IF(sample!BD240=\"\",\"\",sample!BD240)","v":""},{"$f":"IF(sample!BE240=\"\",\"\",sample!BE240)","v":""},{"$f":"IF(sample!BF240=\"\",\"\",sample!BF240)","v":""},{"$f":"IF(sample!BG240=\"\",\"\",sample!BG240)","v":""},{"$f":"IF(sample!BH240=\"\",\"\",sample!BH240)","v":""},{"$f":"IF(sample!BI240=\"\",\"\",sample!BI240)","v":""},{"$f":"IF(sample!BJ240=\"\",\"\",sample!BJ240)","v":""},{"$f":"IF(sample!BK240=\"\",\"\",sample!BK240)","v":""},{"$f":"IF(sample!BL240=\"\",\"\",sample!BL240)","v":""},{"$f":"IF(sample!BM240=\"\",\"\",sample!BM240)","v":""},{"$f":"IF(sample!BN240=\"\",\"\",sample!BN240)","v":""},{"$f":"IF(sample!BO240=\"\",\"\",sample!BO240)","v":""},{"$f":"IF(sample!BP240=\"\",\"\",sample!BP240)","v":""},{"$f":"IF(sample!BQ240=\"\",\"\",sample!BQ240)","v":""},{"$f":"IF(sample!BR240=\"\",\"\",sample!BR240)","v":""},{"$f":"IF(sample!BS240=\"\",\"\",sample!BS240)","v":""},{"$f":"IF(sample!BT240=\"\",\"\",sample!BT240)","v":""},{"$f":"IF(sample!BU240=\"\",\"\",sample!BU240)","v":""},{"$f":"IF(sample!BV240=\"\",\"\",sample!BV240)","v":""},{"$f":"IF(sample!BW240=\"\",\"\",sample!BW240)","v":""}]
[]
[{"$f":"sample!K101","v":0},"CG812","N/A",0,{"$f":"HLOOKUP($Q$2,sample!$BN$2:$DM$105,100,FALSE)","v":""},{"$f":"sample!L101","v":""},{"$f":"sample!M101","v":""},{"$f":"sample!N101","v":""},{"$f":"sample!O101","v":""},{"$f":"sample!P101","v":""},{"$f":"sample!Q101","v":""},{"$f":"sample!R101","v":""},{"$f":"sample!S101","v":""},{"$f":"sample!T101","v":""},{"$f":"sample!U101","v":""},{"$f":"sample!V101","v":""},{"$f":"sample!W101","v":""},{"$f":"sample!X101","v":""},{"$f":"sample!Y101","v":""},{"$f":"sample!Z101","v":""},{"$f":"sample!AA101","v":""},{"$f":"sample!AB101","v":""},{"$f":"sample!AC101","v":""},{"$f":"sample!AD101","v":""},{"$f":"sample!AE101","v":""},{"$f":"sample!AF101","v":""},{"$f":"sample!AG101","v":""},{"$f":"sample!AH101","v":""},{"$f":"sample!AI101","v":""},{"$f":"sample!AJ101","v":""},{"$f":"sample!AK101","v":""},{"$f":"sample!AL101","v":""},{"$f":"sample!AM101","v":""},{"$f":"sample!AN101","v":""},{"$f":"sample!AO101","v":""},{"$f":"sample!AP101","v":""},{"$f":"sample!AQ101","v":""},{"$f":"sample!AR101","v":""},{"$f":"sample!AS101","v":""},{"$f":"sample!AT101","v":""},{"$f":"sample!AU101","v":""},{"$f":"sample!AV101","v":""},{"$f":"sample!AW101","v":""},{"$f":"sample!AX101","v":""},{"$f":"sample!AY101","v":""},{"$f":"sample!AZ101","v":""},{"$f":"sample!BA101","v":""},{"$f":"sample!BB101","v":""},{"$f":"sample!BC101","v":""},{"$f":"sample!BD101","v":""},{"$f":"sample!BE101","v":""},{"$f":"sample!BF101","v":""},{"$f":"sample!BG101","v":""},{"$f":"sample!BH101","v":""},{"$f":"sample!BI101","v":""},{"$f":"sample!BJ101","v":""},{"$f":"sample!BK101","v":""},null,null,null,null,null,null,null,null,{"$f":"IF(sample!X241=\"\",\"\",sample!X241)","v":""},{"$f":"IF(sample!Y241=\"\",\"\",sample!Y241)","v":""},{"$f":"IF(sample!Z241=\"\",\"\",sample!Z241)","v":""},{"$f":"IF(sample!AA241=\"\",\"\",sample!AA241)","v":""},{"$f":"IF(sample!AB241=\"\",\"\",sample!AB241)","v":""},{"$f":"IF(sample!AC241=\"\",\"\",sample!AC241)","v":""},{"$f":"IF(sample!AD241=\"\",\"\",sample!AD241)","v":""},{"$f":"IF(sample!AE241=\"\",\"\",sample!AE241)","v":""},{"$f":"IF(sample!AF241=\"\",\"\",sample!AF241)","v":""},{"$f":"IF(sample!AG241=\"\",\"\",sample!AG241)","v":""},{"$f":"IF(sample!AH241=\"\",\"\",sample!AH241)","v":""},{"$f":"IF(sample!AI241=\"\",\"\",sample!AI241)","v":""},{"$f":"IF(sample!AJ241=\"\",\"\",sample!AJ241)","v":""},{"$f":"IF(sample!AK241=\"\",\"\",sample!AK241)","v":""},{"$f":"IF(sample!AL241=\"\",\"\",sample!AL241)","v":""},{"$f":"IF(sample!AM241=\"\",\"\",sample!AM241)","v":""},{"$f":"IF(sample!AN241=\"\",\"\",sample!AN241)","v":""},{"$f":"IF(sample!AO241=\"\",\"\",sample!AO241)","v":""},{"$f":"IF(sample!AP241=\"\",\"\",sample!AP241)","v":""},{"$f":"IF(sample!AQ241=\"\",\"\",sample!AQ241)","v":""},{"$f":"IF(sample!AR241=\"\",\"\",sample!AR241)","v":""},{"$f":"IF(sample!AS241=\"\",\"\",sample!AS241)","v":""},{"$f":"IF(sample!AT241=\"\",\"\",sample!AT241)","v":""},{"$f":"IF(sample!AU241=\"\",\"\",sample!AU241)","v":""},{"$f":"IF(sample!AV241=\"\",\"\",sample!AV241)","v":""},{"$f":"IF(sample!AW241=\"\",\"\",sample!AW241)","v":""},{"$f":"IF(sample!AX241=\"\",\"\",sample!AX241)","v":""},{"$f":"IF(sample!AY241=\"\",\"\",sample!AY241)","v":""},{"$f":"IF(sample!AZ241=\"\",\"\",sample!AZ241)","v":""},{"$f":"IF(sample!BA241=\"\",\"\",sample!BA241)","v":""},{"$f":"IF(sample!BB241=\"\",\"\",sample!BB241)","v":""},{"$f":"IF(sample!BC241=\"\",\"\",sample!BC241)","v":""},{"$f":"IF(sample!BD241=\"\",\"\",sample!BD241)","v":""},{"$f":"IF(sample!BE241=\"\",\"\",sample!BE241)","v":""},{"$f":"IF(sample!BF241=\"\",\"\",sample!BF241)","v":""},{"$f":"IF(sample!BG241=\"\",\"\",sample!BG241)","v":""},{"$f":"IF(sample!BH241=\"\",\"\",sample!BH241)","v":""},{"$f":"IF(sample!BI241=\"\",\"\",sample!BI241)","v":""},{"$f":"IF(sample!BJ241=\"\",\"\",sample!BJ241)","v":""},{"$f":"IF(sample!BK241=\"\",\"\",sample!BK241)","v":""},{"$f":"IF(sample!BL241=\"\",\"\",sample!BL241)","v":""},{"$f":"IF(sample!BM241=\"\",\"\",sample!BM241)","v":""},{"$f":"IF(sample!BN241=\"\",\"\",sample!BN241)","v":""},{"$f":"IF(sample!BO241=\"\",\"\",sample!BO241)","v":""},{"$f":"IF(sample!BP241=\"\",\"\",sample!BP241)","v":""},{"$f":"IF(sample!BQ241=\"\",\"\",sample!BQ241)","v":""},{"$f":"IF(sample!BR241=\"\",\"\",sample!BR241)","v":""},{"$f":"IF(sample!BS241=\"\",\"\",sample!BS241)","v":""},{"$f":"IF(sample!BT241=\"\",\"\",sample!BT241)","v":""},{"$f":"IF(sample!BU241=\"\",\"\",sample!BU241)","v":""},{"$f":"IF(sample!BV241=\"\",\"\",sample!BV241)","v":""},{"$f":"IF(sample!BW241=\"\",\"\",sample!BW241)","v":""}]
[]
[{"$f":"sample!K102","v":0},"CG813","N/A",0,{"$f":"HLOOKUP($Q$2,sample!$BN$2:$DM$105,101,FALSE)","v":""},{"$f":"sample!L102","v":""},{"$f":"sample!M102","v":""},{"$f":"sample!N102","v":""},{"$f":"sample!O102","v":""},{"$f":"sample!P102","v":""},{"$f":"sample!Q102","v":""},{"$f":"sample!R102","v":""},{"$f":"sample!S102","v":""},{"$f":"sample!T102","v":""},{"$f":"sample!U102","v":""},{"$f":"sample!V102","v":""},{"$f":"sample!W102","v":""},{"$f":"sample!X102","v":""},{"$f":"sample!Y102","v":""},{"$f":"sample!Z102","v":""},{"$f":"sample!AA102","v":""},{"$f":"sample!AB102","v":""},{"$f":"sample!AC102","v":""},{"$f":"sample!AD102","v":""},{"$f":"sample!AE102","v":""},{"$f":"sample!AF102","v":""},{"$f":"sample!AG102","v":""},{"$f":"sample!AH102","v":""},{"$f":"sample!AI102","v":""},{"$f":"sample!AJ102","v":""},{"$f":"sample!AK102","v":""},{"$f":"sample!AL102","v":""},{"$f":"sample!AM102","v":""},{"$f":"sample!AN102","v":""},{"$f":"sample!AO102","v":""},{"$f":"sample!AP102","v":""},{"$f":"sample!AQ102","v":""},{"$f":"sample!AR102","v":""},{"$f":"sample!AS102","v":""},{"$f":"sample!AT102","v":""},{"$f":"sample!AU102","v":""},{"$f":"sample!AV102","v":""},{"$f":"sample!AW102","v":""},{"$f":"sample!AX102","v":""},{"$f":"sample!AY102","v":""},{"$f":"sample!AZ102","v":""},{"$f":"sample!BA102","v":""},{"$f":"sample!BB102","v":""},{"$f":"sample!BC102","v":""},{"$f":"sample!BD102","v":""},{"$f":"sample!BE102","v":""},{"$f":"sample!BF102","v":""},{"$f":"sample!BG102","v":""},{"$f":"sample!BH102","v":""},{"$f":"sample!BI102","v":""},{"$f":"sample!BJ102","v":""},{"$f":"sample!BK102","v":""},null,null,null,null,null,null,null,null,{"$f":"IF(sample!X242=\"\",\"\",sample!X242)","v":""},{"$f":"IF(sample!Y242=\"\",\"\",sample!Y242)","v":""},{"$f":"IF(sample!Z242=\"\",\"\",sample!Z242)","v":""},{"$f":"IF(sample!AA242=\"\",\"\",sample!AA242)","v":""},{"$f":"IF(sample!AB242=\"\",\"\",sample!AB242)","v":""},{"$f":"IF(sample!AC242=\"\",\"\",sample!AC242)","v":""},{"$f":"IF(sample!AD242=\"\",\"\",sample!AD242)","v":""},{"$f":"IF(sample!AE242=\"\",\"\",sample!AE242)","v":""},{"$f":"IF(sample!AF242=\"\",\"\",sample!AF242)","v":""},{"$f":"IF(sample!AG242=\"\",\"\",sample!AG242)","v":""},{"$f":"IF(sample!AH242=\"\",\"\",sample!AH242)","v":""},{"$f":"IF(sample!AI242=\"\",\"\",sample!AI242)","v":""},{"$f":"IF(sample!AJ242=\"\",\"\",sample!AJ242)","v":""},{"$f":"IF(sample!AK242=\"\",\"\",sample!AK242)","v":""},{"$f":"IF(sample!AL242=\"\",\"\",sample!AL242)","v":""},{"$f":"IF(sample!AM242=\"\",\"\",sample!AM242)","v":""},{"$f":"IF(sample!AN242=\"\",\"\",sample!AN242)","v":""},{"$f":"IF(sample!AO242=\"\",\"\",sample!AO242)","v":""},{"$f":"IF(sample!AP242=\"\",\"\",sample!AP242)","v":""},{"$f":"IF(sample!AQ242=\"\",\"\",sample!AQ242)","v":""},{"$f":"IF(sample!AR242=\"\",\"\",sample!AR242)","v":""},{"$f":"IF(sample!AS242=\"\",\"\",sample!AS242)","v":""},{"$f":"IF(sample!AT242=\"\",\"\",sample!AT242)","v":""},{"$f":"IF(sample!AU242=\"\",\"\",sample!AU242)","v":""},{"$f":"IF(sample!AV242=\"\",\"\",sample!AV242)","v":""},{"$f":"IF(sample!AW242=\"\",\"\",sample!AW242)","v":""},{"$f":"IF(sample!AX242=\"\",\"\",sample!AX242)","v":""},{"$f":"IF(sample!AY242=\"\",\"\",sample!AY242)","v":""},{"$f":"IF(sample!AZ242=\"\",\"\",sample!AZ242)","v":""},{"$f":"IF(sample!BA242=\"\",\"\",sample!BA242)","v":""},{"$f":"IF(sample!BB242=\"\",\"\",sample!BB242)","v":""},{"$f":"IF(sample!BC242=\"\",\"\",sample!BC242)","v":""},{"$f":"IF(sample!BD242=\"\",\"\",sample!BD242)","v":""},{"$f":"IF(sample!BE242=\"\",\"\",sample!BE242)","v":""},{"$f":"IF(sample!BF242=\"\",\"\",sample!BF242)","v":""},{"$f":"IF(sample!BG242=\"\",\"\",sample!BG242)","v":""},{"$f":"IF(sample!BH242=\"\",\"\",sample!BH242)","v":""},{"$f":"IF(sample!BI242=\"\",\"\",sample!BI242)","v":""},{"$f":"IF(sample!BJ242=\"\",\"\",sample!BJ242)","v":""},{"$f":"IF(sample!BK242=\"\",\"\",sample!BK242)","v":""},{"$f":"IF(sample!BL242=\"\",\"\",sample!BL242)","v":""},{"$f":"IF(sample!BM242=\"\",\"\",sample!BM242)","v":""},{"$f":"IF(sample!BN242=\"\",\"\",sample!BN242)","v":""},{"$f":"IF(sample!BO242=\"\",\"\",sample!BO242)","v":""},{"$f":"IF(sample!BP242=\"\",\"\",sample!BP242)","v":""},{"$f":"IF(sample!BQ242=\"\",\"\",sample!BQ242)","v":""},{"$f":"IF(sample!BR242=\"\",\"\",sample!BR242)","v":""},{"$f":"IF(sample!BS242=\"\",\"\",sample!BS242)","v":""},{"$f":"IF(sample!BT242=\"\",\"\",sample!BT242)","v":""},{"$f":"IF(sample!BU242=\"\",\"\",sample!BU242)","v":""},{"$f":"IF(sample!BV242=\"\",\"\",sample!BV242)","v":""},{"$f":"IF(sample!BW242=\"\",\"\",sample!BW242)","v":""}]
[]
[{"$f":"sample!K103","v":0},"CG814","N/A",0,{"$f":"HLOOKUP($Q$2,sample!$BN$2:$DM$105,102,FALSE)","v":""},{"$f":"sample!L103","v":""},{"$f":"sample!M103","v":""},{"$f":"sample!N103","v":""},{"$f":"sample!O103","v":""},{"$f":"sample!P103","v":""},{"$f":"sample!Q103","v":""},{"$f":"sample!R103","v":""},{"$f":"sample!S103","v":""},{"$f":"sample!T103","v":""},{"$f":"sample!U103","v":""},{"$f":"sample!V103","v":""},{"$f":"sample!W103","v":""},{"$f":"sample!X103","v":""},{"$f":"sample!Y103","v":""},{"$f":"sample!Z103","v":""},{"$f":"sample!AA103","v":""},{"$f":"sample!AB103","v":""},{"$f":"sample!AC103","v":""},{"$f":"sample!AD103","v":""},{"$f":"sample!AE103","v":""},{"$f":"sample!AF103","v":""},{"$f":"sample!AG103","v":""},{"$f":"sample!AH103","v":""},{"$f":"sample!AI103","v":""},{"$f":"sample!AJ103","v":""},{"$f":"sample!AK103","v":""},{"$f":"sample!AL103","v":""},{"$f":"sample!AM103","v":""},{"$f":"sample!AN103","v":""},{"$f":"sample!AO103","v":""},{"$f":"sample!AP103","v":""},{"$f":"sample!AQ103","v":""},{"$f":"sample!AR103","v":""},{"$f":"sample!AS103","v":""},{"$f":"sample!AT103","v":""},{"$f":"sample!AU103","v":""},{"$f":"sample!AV103","v":""},{"$f":"sample!AW103","v":""},{"$f":"sample!AX103","v":""},{"$f":"sample!AY103","v":""},{"$f":"sample!AZ103","v":""},{"$f":"sample!BA103","v":""},{"$f":"sample!BB103","v":""},{"$f":"sample!BC103","v":""},{"$f":"sample!BD103","v":""},{"$f":"sample!BE103","v":""},{"$f":"sample!BF103","v":""},{"$f":"sample!BG103","v":""},{"$f":"sample!BH103","v":""},{"$f":"sample!BI103","v":""},{"$f":"sample!BJ103","v":""},{"$f":"sample!BK103","v":""},null,null,null,null,null,null,null,null,{"$f":"IF(sample!X243=\"\",\"\",sample!X243)","v":""},{"$f":"IF(sample!Y243=\"\",\"\",sample!Y243)","v":""},{"$f":"IF(sample!Z243=\"\",\"\",sample!Z243)","v":""},{"$f":"IF(sample!AA243=\"\",\"\",sample!AA243)","v":""},{"$f":"IF(sample!AB243=\"\",\"\",sample!AB243)","v":""},{"$f":"IF(sample!AC243=\"\",\"\",sample!AC243)","v":""},{"$f":"IF(sample!AD243=\"\",\"\",sample!AD243)","v":""},{"$f":"IF(sample!AE243=\"\",\"\",sample!AE243)","v":""},{"$f":"IF(sample!AF243=\"\",\"\",sample!AF243)","v":""},{"$f":"IF(sample!AG243=\"\",\"\",sample!AG243)","v":""},{"$f":"IF(sample!AH243=\"\",\"\",sample!AH243)","v":""},{"$f":"IF(sample!AI243=\"\",\"\",sample!AI243)","v":""},{"$f":"IF(sample!AJ243=\"\",\"\",sample!AJ243)","v":""},{"$f":"IF(sample!AK243=\"\",\"\",sample!AK243)","v":""},{"$f":"IF(sample!AL243=\"\",\"\",sample!AL243)","v":""},{"$f":"IF(sample!AM243=\"\",\"\",sample!AM243)","v":""},{"$f":"IF(sample!AN243=\"\",\"\",sample!AN243)","v":""},{"$f":"IF(sample!AO243=\"\",\"\",sample!AO243)","v":""},{"$f":"IF(sample!AP243=\"\",\"\",sample!AP243)","v":""},{"$f":"IF(sample!AQ243=\"\",\"\",sample!AQ243)","v":""},{"$f":"IF(sample!AR243=\"\",\"\",sample!AR243)","v":""},{"$f":"IF(sample!AS243=\"\",\"\",sample!AS243)","v":""},{"$f":"IF(sample!AT243=\"\",\"\",sample!AT243)","v":""},{"$f":"IF(sample!AU243=\"\",\"\",sample!AU243)","v":""},{"$f":"IF(sample!AV243=\"\",\"\",sample!AV243)","v":""},{"$f":"IF(sample!AW243=\"\",\"\",sample!AW243)","v":""},{"$f":"IF(sample!AX243=\"\",\"\",sample!AX243)","v":""},{"$f":"IF(sample!AY243=\"\",\"\",sample!AY243)","v":""},{"$f":"IF(sample!AZ243=\"\",\"\",sample!AZ243)","v":""},{"$f":"IF(sample!BA243=\"\",\"\",sample!BA243)","v":""},{"$f":"IF(sample!BB243=\"\",\"\",sample!BB243)","v":""},{"$f":"IF(sample!BC243=\"\",\"\",sample!BC243)","v":""},{"$f":"IF(sample!BD243=\"\",\"\",sample!BD243)","v":""},{"$f":"IF(sample!BE243=\"\",\"\",sample!BE243)","v":""},{"$f":"IF(sample!BF243=\"\",\"\",sample!BF243)","v":""},{"$f":"IF(sample!BG243=\"\",\"\",sample!BG243)","v":""},{"$f":"IF(sample!BH243=\"\",\"\",sample!BH243)","v":""},{"$f":"IF(sample!BI243=\"\",\"\",sample!BI243)","v":""},{"$f":"IF(sample!BJ243=\"\",\"\",sample!BJ243)","v":""},{"$f":"IF(sample!BK243=\"\",\"\",sample!BK243)","v":""},{"$f":"IF(sample!BL243=\"\",\"\",sample!BL243)","v":""},{"$f":"IF(sample!BM243=\"\",\"\",sample!BM243)","v":""},{"$f":"IF(sample!BN243=\"\",\"\",sample!BN243)","v":""},{"$f":"IF(sample!BO243=\"\",\"\",sample!BO243)","v":""},{"$f":"IF(sample!BP243=\"\",\"\",sample!BP243)","v":""},{"$f":"IF(sample!BQ243=\"\",\"\",sample!BQ243)","v":""},{"$f":"IF(sample!BR243=\"\",\"\",sample!BR243)","v":""},{"$f":"IF(sample!BS243=\"\",\"\",sample!BS243)","v":""},{"$f":"IF(sample!BT243=\"\",\"\",sample!BT243)","v":""},{"$f":"IF(sample!BU243=\"\",\"\",sample!BU243)","v":""},{"$f":"IF(sample!BV243=\"\",\"\",sample!BV243)","v":""},{"$f":"IF(sample!BW243=\"\",\"\",sample!BW243)","v":""}]
[]
[{"$f":"sample!K104","v":0},"CG815","N/A",0,{"$f":"HLOOKUP($Q$2,sample!$BN$2:$DM$105,103,FALSE)","v":""},{"$f":"sample!L104","v":""},{"$f":"sample!M104","v":""},{"$f":"sample!N104","v":""},{"$f":"sample!O104","v":""},{"$f":"sample!P104","v":""},{"$f":"sample!Q104","v":""},{"$f":"sample!R104","v":""},{"$f":"sample!S104","v":""},{"$f":"sample!T104","v":""},{"$f":"sample!U104","v":""},{"$f":"sample!V104","v":""},{"$f":"sample!W104","v":""},{"$f":"sample!X104","v":""},{"$f":"sample!Y104","v":""},{"$f":"sample!Z104","v":""},{"$f":"sample!AA104","v":""},{"$f":"sample!AB104","v":""},{"$f":"sample!AC104","v":""},{"$f":"sample!AD104","v":""},{"$f":"sample!AE104","v":""},{"$f":"sample!AF104","v":""},{"$f":"sample!AG104","v":""},{"$f":"sample!AH104","v":""},{"$f":"sample!AI104","v":""},{"$f":"sample!AJ104","v":""},{"$f":"sample!AK104","v":""},{"$f":"sample!AL104","v":""},{"$f":"sample!AM104","v":""},{"$f":"sample!AN104","v":""},{"$f":"sample!AO104","v":""},{"$f":"sample!AP104","v":""},{"$f":"sample!AQ104","v":""},{"$f":"sample!AR104","v":""},{"$f":"sample!AS104","v":""},{"$f":"sample!AT104","v":""},{"$f":"sample!AU104","v":""},{"$f":"sample!AV104","v":""},{"$f":"sample!AW104","v":""},{"$f":"sample!AX104","v":""},{"$f":"sample!AY104","v":""},{"$f":"sample!AZ104","v":""},{"$f":"sample!BA104","v":""},{"$f":"sample!BB104","v":""},{"$f":"sample!BC104","v":""},{"$f":"sample!BD104","v":""},{"$f":"sample!BE104","v":""},{"$f":"sample!BF104","v":""},{"$f":"sample!BG104","v":""},{"$f":"sample!BH104","v":""},{"$f":"sample!BI104","v":""},{"$f":"sample!BJ104","v":""},{"$f":"sample!BK104","v":""},null,null,null,null,null,null,null,null,{"$f":"IF(sample!X244=\"\",\"\",sample!X244)","v":""},{"$f":"IF(sample!Y244=\"\",\"\",sample!Y244)","v":""},{"$f":"IF(sample!Z244=\"\",\"\",sample!Z244)","v":""},{"$f":"IF(sample!AA244=\"\",\"\",sample!AA244)","v":""},{"$f":"IF(sample!AB244=\"\",\"\",sample!AB244)","v":""},{"$f":"IF(sample!AC244=\"\",\"\",sample!AC244)","v":""},{"$f":"IF(sample!AD244=\"\",\"\",sample!AD244)","v":""},{"$f":"IF(sample!AE244=\"\",\"\",sample!AE244)","v":""},{"$f":"IF(sample!AF244=\"\",\"\",sample!AF244)","v":""},{"$f":"IF(sample!AG244=\"\",\"\",sample!AG244)","v":""},{"$f":"IF(sample!AH244=\"\",\"\",sample!AH244)","v":""},{"$f":"IF(sample!AI244=\"\",\"\",sample!AI244)","v":""},{"$f":"IF(sample!AJ244=\"\",\"\",sample!AJ244)","v":""},{"$f":"IF(sample!AK244=\"\",\"\",sample!AK244)","v":""},{"$f":"IF(sample!AL244=\"\",\"\",sample!AL244)","v":""},{"$f":"IF(sample!AM244=\"\",\"\",sample!AM244)","v":""},{"$f":"IF(sample!AN244=\"\",\"\",sample!AN244)","v":""},{"$f":"IF(sample!AO244=\"\",\"\",sample!AO244)","v":""},{"$f":"IF(sample!AP244=\"\",\"\",sample!AP244)","v":""},{"$f":"IF(sample!AQ244=\"\",\"\",sample!AQ244)","v":""},{"$f":"IF(sample!AR244=\"\",\"\",sample!AR244)","v":""},{"$f":"IF(sample!AS244=\"\",\"\",sample!AS244)","v":""},{"$f":"IF(sample!AT244=\"\",\"\",sample!AT244)","v":""},{"$f":"IF(sample!AU244=\"\",\"\",sample!AU244)","v":""},{"$f":"IF(sample!AV244=\"\",\"\",sample!AV244)","v":""},{"$f":"IF(sample!AW244=\"\",\"\",sample!AW244)","v":""},{"$f":"IF(sample!AX244=\"\",\"\",sample!AX244)","v":""},{"$f":"IF(sample!AY244=\"\",\"\",sample!AY244)","v":""},{"$f":"IF(sample!AZ244=\"\",\"\",sample!AZ244)","v":""},{"$f":"IF(sample!BA244=\"\",\"\",sample!BA244)","v":""},{"$f":"IF(sample!BB244=\"\",\"\",sample!BB244)","v":""},{"$f":"IF(sample!BC244=\"\",\"\",sample!BC244)","v":""},{"$f":"IF(sample!BD244=\"\",\"\",sample!BD244)","v":""},{"$f":"IF(sample!BE244=\"\",\"\",sample!BE244)","v":""},{"$f":"IF(sample!BF244=\"\",\"\",sample!BF244)","v":""},{"$f":"IF(sample!BG244=\"\",\"\",sample!BG244)","v":""},{"$f":"IF(sample!BH244=\"\",\"\",sample!BH244)","v":""},{"$f":"IF(sample!BI244=\"\",\"\",sample!BI244)","v":""},{"$f":"IF(sample!BJ244=\"\",\"\",sample!BJ244)","v":""},{"$f":"IF(sample!BK244=\"\",\"\",sample!BK244)","v":""},{"$f":"IF(sample!BL244=\"\",\"\",sample!BL244)","v":""},{"$f":"IF(sample!BM244=\"\",\"\",sample!BM244)","v":""},{"$f":"IF(sample!BN244=\"\",\"\",sample!BN244)","v":""},{"$f":"IF(sample!BO244=\"\",\"\",sample!BO244)","v":""},{"$f":"IF(sample!BP244=\"\",\"\",sample!BP244)","v":""},{"$f":"IF(sample!BQ244=\"\",\"\",sample!BQ244)","v":""},{"$f":"IF(sample!BR244=\"\",\"\",sample!BR244)","v":""},{"$f":"IF(sample!BS244=\"\",\"\",sample!BS244)","v":""},{"$f":"IF(sample!BT244=\"\",\"\",sample!BT244)","v":""},{"$f":"IF(sample!BU244=\"\",\"\",sample!BU244)","v":""},{"$f":"IF(sample!BV244=\"\",\"\",sample!BV244)","v":""},{"$f":"IF(sample!BW244=\"\",\"\",sample!BW244)","v":""}]
[]
[{"$f":"sample!K105","v":0},"CG816","N/A",0,{"$f":"HLOOKUP($Q$2,sample!$BN$2:$DM$105,104,FALSE)","v":""},{"$f":"sample!L105","v":""},{"$f":"sample!M105","v":""},{"$f":"sample!N105","v":""},{"$f":"sample!O105","v":""},{"$f":"sample!P105","v":""},{"$f":"sample!Q105","v":""},{"$f":"sample!R105","v":""},{"$f":"sample!S105","v":""},{"$f":"sample!T105","v":""},{"$f":"sample!U105","v":""},{"$f":"sample!V105","v":""},{"$f":"sample!W105","v":""},{"$f":"sample!X105","v":""},{"$f":"sample!Y105","v":""},{"$f":"sample!Z105","v":""},{"$f":"sample!AA105","v":""},{"$f":"sample!AB105","v":""},{"$f":"sample!AC105","v":""},{"$f":"sample!AD105","v":""},{"$f":"sample!AE105","v":""},{"$f":"sample!AF105","v":""},{"$f":"sample!AG105","v":""},{"$f":"sample!AH105","v":""},{"$f":"sample!AI105","v":""},{"$f":"sample!AJ105","v":""},{"$f":"sample!AK105","v":""},{"$f":"sample!AL105","v":""},{"$f":"sample!AM105","v":""},{"$f":"sample!AN105","v":""},{"$f":"sample!AO105","v":""},{"$f":"sample!AP105","v":""},{"$f":"sample!AQ105","v":""},{"$f":"sample!AR105","v":""},{"$f":"sample!AS105","v":""},{"$f":"sample!AT105","v":""},{"$f":"sample!AU105","v":""},{"$f":"sample!AV105","v":""},{"$f":"sample!AW105","v":""},{"$f":"sample!AX105","v":""},{"$f":"sample!AY105","v":""},{"$f":"sample!AZ105","v":""},{"$f":"sample!BA105","v":""},{"$f":"sample!BB105","v":""},{"$f":"sample!BC105","v":""},{"$f":"sample!BD105","v":""},{"$f":"sample!BE105","v":""},{"$f":"sample!BF105","v":""},{"$f":"sample!BG105","v":""},{"$f":"sample!BH105","v":""},{"$f":"sample!BI105","v":""},{"$f":"sample!BJ105","v":""},{"$f":"sample!BK105","v":""},null,null,null,null,null,null,null,null,{"$f":"IF(sample!X245=\"\",\"\",sample!X245)","v":""},{"$f":"IF(sample!Y245=\"\",\"\",sample!Y245)","v":""},{"$f":"IF(sample!Z245=\"\",\"\",sample!Z245)","v":""},{"$f":"IF(sample!AA245=\"\",\"\",sample!AA245)","v":""},{"$f":"IF(sample!AB245=\"\",\"\",sample!AB245)","v":""},{"$f":"IF(sample!AC245=\"\",\"\",sample!AC245)","v":""},{"$f":"IF(sample!AD245=\"\",\"\",sample!AD245)","v":""},{"$f":"IF(sample!AE245=\"\",\"\",sample!AE245)","v":""},{"$f":"IF(sample!AF245=\"\",\"\",sample!AF245)","v":""},{"$f":"IF(sample!AG245=\"\",\"\",sample!AG245)","v":""},{"$f":"IF(sample!AH245=\"\",\"\",sample!AH245)","v":""},{"$f":"IF(sample!AI245=\"\",\"\",sample!AI245)","v":""},{"$f":"IF(sample!AJ245=\"\",\"\",sample!AJ245)","v":""},{"$f":"IF(sample!AK245=\"\",\"\",sample!AK245)","v":""},{"$f":"IF(sample!AL245=\"\",\"\",sample!AL245)","v":""},{"$f":"IF(sample!AM245=\"\",\"\",sample!AM245)","v":""},{"$f":"IF(sample!AN245=\"\",\"\",sample!AN245)","v":""},{"$f":"IF(sample!AO245=\"\",\"\",sample!AO245)","v":""},{"$f":"IF(sample!AP245=\"\",\"\",sample!AP245)","v":""},{"$f":"IF(sample!AQ245=\"\",\"\",sample!AQ245)","v":""},{"$f":"IF(sample!AR245=\"\",\"\",sample!AR245)","v":""},{"$f":"IF(sample!AS245=\"\",\"\",sample!AS245)","v":""},{"$f":"IF(sample!AT245=\"\",\"\",sample!AT245)","v":""},{"$f":"IF(sample!AU245=\"\",\"\",sample!AU245)","v":""},{"$f":"IF(sample!AV245=\"\",\"\",sample!AV245)","v":""},{"$f":"IF(sample!AW245=\"\",\"\",sample!AW245)","v":""},{"$f":"IF(sample!AX245=\"\",\"\",sample!AX245)","v":""},{"$f":"IF(sample!AY245=\"\",\"\",sample!AY245)","v":""},{"$f":"IF(sample!AZ245=\"\",\"\",sample!AZ245)","v":""},{"$f":"IF(sample!BA245=\"\",\"\",sample!BA245)","v":""},{"$f":"IF(sample!BB245=\"\",\"\",sample!BB245)","v":""},{"$f":"IF(sample!BC245=\"\",\"\",sample!BC245)","v":""},{"$f":"IF(sample!BD245=\"\",\"\",sample!BD245)","v":""},{"$f":"IF(sample!BE245=\"\",\"\",sample!BE245)","v":""},{"$f":"IF(sample!BF245=\"\",\"\",sample!BF245)","v":""},{"$f":"IF(sample!BG245=\"\",\"\",sample!BG245)","v":""},{"$f":"IF(sample!BH245=\"\",\"\",sample!BH245)","v":""},{"$f":"IF(sample!BI245=\"\",\"\",sample!BI245)","v":""},{"$f":"IF(sample!BJ245=\"\",\"\",sample!BJ245)","v":""},{"$f":"IF(sample!BK245=\"\",\"\",sample!BK245)","v":""},{"$f":"IF(sample!BL245=\"\",\"\",sample!BL245)","v":""},{"$f":"IF(sample!BM245=\"\",\"\",sample!BM245)","v":""},{"$f":"IF(sample!BN245=\"\",\"\",sample!BN245)","v":""},{"$f":"IF(sample!BO245=\"\",\"\",sample!BO245)","v":""},{"$f":"IF(sample!BP245=\"\",\"\",sample!BP245)","v":""},{"$f":"IF(sample!BQ245=\"\",\"\",sample!BQ245)","v":""},{"$f":"IF(sample!BR245=\"\",\"\",sample!BR245)","v":""},{"$f":"IF(sample!BS245=\"\",\"\",sample!BS245)","v":""},{"$f":"IF(sample!BT245=\"\",\"\",sample!BT245)","v":""},{"$f":"IF(sample!BU245=\"\",\"\",sample!BU245)","v":""},{"$f":"IF(sample!BV245=\"\",\"\",sample!BV245)","v":""},{"$f":"IF(sample!BW245=\"\",\"\",sample!BW245)","v":""}]
[null,null,null,null,null,null,null,null,null,null,null,null,null,null,null,null,null,null,null,null,null,null,null,null,null,null,null,null,null,null,null,null,null,null,null,null,null,null,null,null,null,null,null,null,null,null,null,null,null,null,null,null,null,null,null,null,null,null,{"$f":"sample!BZ105","v":""},{"$f":"sample!CA105","v":""},{"$f":"sample!CB105","v":""},{"$f":"sample!CC105","v":""},{"$f":"sample!CD105","v":""},{"$f":"sample!CE105","v":""}]
[null,null,null,null,"Minggu",1,2,3,4,5,6,7,8,9,10,11,12,13,14,15,16,17,18,19,20,21,22,23,24,25,26,27,28,29,30,31,32,33,34,35,36,37,38,39,40,41,42,43,44,45,46,47,48,49,50,51,52,null,"Nota: Lakaran Merah/Oren menunjukkan tidak konsisten dengan parent KPI"]
[null,null,null,null,null,null,null,null,null,null,null,null,null,null,null,null,null,null,null,null,null,null,null,null,null,null,null,null,null,null,null,null,null,null,null,null,null,null,null,null,null,null,null,null,null,null,null,null,null,null,null,null,null,null,null,null,null,null,null,null,null,null,null,null,null,1,2,3,4,5,6,7,8,9,10,11,12,13,14,15,16,17,18,19,20,21,22,23,24,25,26,27,28,29,30,31,32,33,34,35,36,37,38,39,40,41,42,43,44,45,46,47,48,49,50,51,52]
[null,null,"Form design by LEADERSENSE CONSULTING & SYSTEMS SDN BHD © 2017",null,null,null,null,null,{"$f":"KPICreate!N38","v":0},{"$f":"KPICreate!O38","v":0},{"$f":"KPICreate!P38","v":0},{"$f":"KPICreate!Q38","v":0},{"$f":"KPICreate!R38","v":0},{"$f":"KPICreate!S38","v":0},{"$f":"KPICreate!T38","v":0},{"$f":"KPICreate!U38","v":0},{"$f":"CONCATENATE($J$42,$R$42)","v":"0SAMPELCG8Output.xlsx"},{"$f":"CONCATENATE(Home!$Y$1,$B$3,\"Output.xlsx\")","v":"SAMPELCG8Output.xlsx"},{"$f":"CONCATENATE($J$42,$T$42)","v":"0SAMPELDK6Output.xlsx"},{"$f":"CONCATENATE(Home!$Y$1,$B$45,\"Output.xlsx\")","v":"SAMPELDK6Output.xlsx"}]
[null,null,"Staff Chart #2",null,null,null,null,null,null,null,null,null,null,null,null,null,null,null,null,null,null,null,null,null,null,null,null,null,null,null,null,null,null,null,null,null,null,null,null,null,null,null,null,null,null,null,null,null,null,null,null,null,null,null,null,null,null,null,null,null,null,null,null,null,null,"","","","","","","","","","","","","","","","","","",2,"","","","","","","","",3,"","","","","","","","","","","","","",6,"","","","","","","","","",""]
[{"$f":"KPICreate!A4","v":2020},null,null,null,null,null,null,null,null,null,null,"Minggu Ini:",{"$f":"'Wk Input'!J2","v":53},null,null,null,null,null,null,null,null,null,null,null,null,null,null,null,null,null,null,null,null,null,null,null,null,null,null,null,null,null,null,null,null,null,null,null,null,null,null,null,null,null,null,null,null,null,null,null,null,null,null,null,null,"","","",2.52,"","","","","","","","","","","","","",3.87,"","","","","","","",5.93,"","","","",7.36,"","","","",7.54,"","","","","","","","","","","","",9.09,"","",""]
["ID","DK6","NUR AZLINDAH TASHRIQ",null,null,{"$f":"IF(F$40='Wk Input'!$J$2,sample!FI132,\"\")","v":""},{"$f":"IF(G$40='Wk Input'!$J$2,sample!FJ132,\"\")","v":""},{"$f":"IF(H$40='Wk Input'!$J$2,sample!FK132,\"\")","v":""},{"$f":"IF(I$40='Wk Input'!$J$2,sample!FL132,\"\")","v":""},{"$f":"IF(J$40='Wk Input'!$J$2,sample!FM132,\"\")","v":""},{"$f":"IF(K$40='Wk Input'!$J$2,sample!FN132,\"\")","v":""},{"$f":"IF(L$40='Wk Input'!$J$2,sample!FO132,\"\")","v":""},{"$f":"IF(M$40='Wk Input'!$J$2,sample!FP132,\"\")","v":""},{"$f":"IF(N$40='Wk Input'!$J$2,sample!FQ132,\"\")","v":""},{"$f":"IF(O$40='Wk Input'!$J$2,sample!FR132,\"\")","v":""},{"$f":"IF(P$40='Wk Input'!$J$2,sample!FS132,\"\")","v":""},{"$f":"IF(Q$40='Wk Input'!$J$2,sample!FT132,\"\")","v":""},{"$f":"IF(R$40='Wk Input'!$J$2,sample!FU132,\"\")","v":""},{"$f":"IF(S$40='Wk Input'!$J$2,sample!FV132,\"\")","v":""},{"$f":"IF(T$40='Wk Input'!$J$2,sample!FW132,\"\")","v":""},{"$f":"IF(U$40='Wk Input'!$J$2,sample!FX132,\"\")","v":""},{"$f":"IF(V$40='Wk Input'!$J$2,sample!FY132,\"\")","v":""},{"$f":"IF(W$40='Wk Input'!$J$2,sample!FZ132,\"\")","v":""},{"$f":"IF(X$40='Wk Input'!$J$2,sample!GA132,\"\")","v":""},{"$f":"IF(Y$40='Wk Input'!$J$2,sample!GB132,\"\")","v":""},{"$f":"IF(Z$40='Wk Input'!$J$2,sample!GC132,\"\")","v":""},{"$f":"IF(AA$40='Wk Input'!$J$2,sample!GD132,\"\")","v":""},{"$f":"IF(AB$40='Wk Input'!$J$2,sample!GE132,\"\")","v":""},{"$f":"IF(AC$40='Wk Input'!$J$2,sample!GF132,\"\")","v":""},{"$f":"IF(AD$40='Wk Input'!$J$2,sample!GG132,\"\")","v":""},{"$f":"IF(AE$40='Wk Input'!$J$2,sample!GH132,\"\")","v":""},{"$f":"IF(AF$40='Wk Input'!$J$2,sample!GI132,\"\")","v":""},{"$f":"IF(AG$40='Wk Input'!$J$2,sample!GJ132,\"\")","v":""},{"$f":"IF(AH$40='Wk Input'!$J$2,sample!GK132,\"\")","v":""},{"$f":"IF(AI$40='Wk Input'!$J$2,sample!GL132,\"\")","v":""},{"$f":"IF(AJ$40='Wk Input'!$J$2,sample!GM132,\"\")","v":""},{"$f":"IF(AK$40='Wk Input'!$J$2,sample!GN132,\"\")","v":""},{"$f":"IF(AL$40='Wk Input'!$J$2,sample!GO132,\"\")","v":""},{"$f":"IF(AM$40='Wk Input'!$J$2,sample!GP132,\"\")","v":""},{"$f":"IF(AN$40='Wk Input'!$J$2,sample!GQ132,\"\")","v":""},{"$f":"IF(AO$40='Wk Input'!$J$2,sample!GR132,\"\")","v":""},{"$f":"IF(AP$40='Wk Input'!$J$2,sample!GS132,\"\")","v":""},{"$f":"IF(AQ$40='Wk Input'!$J$2,sample!GT132,\"\")","v":""},{"$f":"IF(AR$40='Wk Input'!$J$2,sample!GU132,\"\")","v":""},{"$f":"IF(AS$40='Wk Input'!$J$2,sample!GV132,\"\")","v":""},{"$f":"IF(AT$40='Wk Input'!$J$2,sample!GW132,\"\")","v":""},{"$f":"IF(AU$40='Wk Input'!$J$2,sample!GX132,\"\")","v":""},{"$f":"IF(AV$40='Wk Input'!$J$2,sample!GY132,\"\")","v":""},{"$f":"IF(AW$40='Wk Input'!$J$2,sample!GZ132,\"\")","v":""},{"$f":"IF(AX$40='Wk Input'!$J$2,sample!HA132,\"\")","v":""},{"$f":"IF(AY$40='Wk Input'!$J$2,sample!HB132,\"\")","v":""},{"$f":"IF(AZ$40='Wk Input'!$J$2,sample!HC132,\"\")","v":""},{"$f":"IF(BA$40='Wk Input'!$J$2,sample!HD132,\"\")","v":""},{"$f":"IF(BB$40='Wk Input'!$J$2,sample!HE132,\"\")","v":""},{"$f":"IF(BC$40='Wk Input'!$J$2,sample!HF132,\"\")","v":""},{"$f":"IF(BD$40='Wk Input'!$J$2,sample!HG132,\"\")","v":""},{"$f":"IF(BE$40='Wk Input'!$J$2,sample!HH132,\"\")","v":""},null,null,null,null,null,null,null,null,95,88,90,88,87,83,87,88,79,87,82,83,87,88,84,88,93,93,94,86,86,89,81,86,80,73,70,66,67,58,58,58,60,60,61,57,57,56,58,58,67,71,74,87,86,87,85,81,81,84,88,85]
[null,{"$f":"Home!$Z$1","v":"DM1"},"EKSEKUTIF PEMASARAN",null,null,{"$f":"IF(sample!FI124,sample!FI125,\"\")","v":""},{"$f":"IF(sample!FJ124,sample!FJ125,\"\")","v":""},{"$f":"IF(sample!FK124,sample!FK125,\"\")","v":""},{"$f":"IF(sample!FL124,sample!FL125,\"\")","v":""},{"$f":"IF(sample!FM124,sample!FM125,\"\")","v":""},{"$f":"IF(sample!FN124,sample!FN125,\"\")","v":""},{"$f":"IF(sample!FO124,sample!FO125,\"\")","v":""},{"$f":"IF(sample!FP124,sample!FP125,\"\")","v":""},{"$f":"IF(sample!FQ124,sample!FQ125,\"\")","v":""},{"$f":"IF(sample!FR124,sample!FR125,\"\")","v":""},{"$f":"IF(sample!FS124,sample!FS125,\"\")","v":""},{"$f":"IF(sample!FT124,sample!FT125,\"\")","v":""},{"$f":"IF(sample!FU124,sample!FU125,\"\")","v":""},{"$f":"IF(sample!FV124,sample!FV125,\"\")","v":""},{"$f":"IF(sample!FW124,sample!FW125,\"\")","v":""},{"$f":"IF(sample!FX124,sample!FX125,\"\")","v":""},{"$f":"IF(sample!FY124,sample!FY125,\"\")","v":""},{"$f":"IF(sample!FZ124,sample!FZ125,\"\")","v":""},{"$f":"IF(sample!GA124,sample!GA125,\"\")","v":""},{"$f":"IF(sample!GB124,sample!GB125,\"\")","v":""},{"$f":"IF(sample!GC124,sample!GC125,\"\")","v":""},{"$f":"IF(sample!GD124,sample!GD125,\"\")","v":""},{"$f":"IF(sample!GE124,sample!GE125,\"\")","v":""},{"$f":"IF(sample!GF124,sample!GF125,\"\")","v":""},{"$f":"IF(sample!GG124,sample!GG125,\"\")","v":""},{"$f":"IF(sample!GH124,sample!GH125,\"\")","v":""},{"$f":"IF(sample!GI124,sample!GI125,\"\")","v":""},{"$f":"IF(sample!GJ124,sample!GJ125,\"\")","v":""},{"$f":"IF(sample!GK124,sample!GK125,\"\")","v":""},{"$f":"IF(sample!GL124,sample!GL125,\"\")","v":""},{"$f":"IF(sample!GM124,sample!GM125,\"\")","v":""},{"$f":"IF(sample!GN124,sample!GN125,\"\")","v":""},{"$f":"IF(sample!GO124,sample!GO125,\"\")","v":""},{"$f":"IF(sample!GP124,sample!GP125,\"\")","v":""},{"$f":"IF(sample!GQ124,sample!GQ125,\"\")","v":""},{"$f":"IF(sample!GR124,sample!GR125,\"\")","v":""},{"$f":"IF(sample!GS124,sample!GS125,\"\")","v":""},{"$f":"IF(sample!GT124,sample!GT125,\"\")","v":5},{"$f":"IF(sample!GU124,sample!GU125,\"\")","v":""},{"$f":"IF(sample!GV124,sample!GV125,\"\")","v":""},{"$f":"IF(sample!GW124,sample!GW125,\"\")","v":""},{"$f":"IF(sample!GX124,sample!GX125,\"\")","v":""},{"$f":"IF(sample!GY124,sample!GY125,\"\")","v":""},{"$f":"IF(sample!GZ124,sample!GZ125,\"\")","v":""},{"$f":"IF(sample!HA124,sample!HA125,\"\")","v":""},{"$f":"IF(sample!HB124,sample!HB125,\"\")","v":""},{"$f":"IF(sample!HC124,sample!HC125,\"\")","v":""},{"$f":"IF(sample!HD124,sample!HD125,\"\")","v":""},{"$f":"IF(sample!HE124,sample!HE125,\"\")","v":""},{"$f":"IF(sample!HF124,sample!HF125,\"\")","v":""},{"$f":"IF(sample!HG124,sample!HG125,\"\")","v":""},{"$f":"IF(sample!HH124,sample!HH125,\"\")","v":""},null,null,null,null,null,null,null,null,"","","","","",1.32,"",2.63,"",3.95,5.26,7.89,"",10.53,"",15.79,17.11,"",19.739999999999998,"",25,28.95,"",36.840000000000003,"",44.74,48.68,"",56.58,"",64.47,"","","",68.42,"",72.37,"",80.260000000000005,"","","",84.21,"",96.05,"",100,"","","","",""]
[null,{"$f":"ISNUMBER(FIND($B$46,$DO$46))","v":false},"PEMASARAN & PERKHIDMATAN",null,null,{"$f":"IF(OR(sample!FI124,sample!FI128),\"P\",\" \")","v":" "},{"$f":"IF(OR(sample!FJ124,sample!FJ128),\"P\",\" \")","v":" "},{"$f":"IF(OR(sample!FK124,sample!FK128),\"P\",\" \")","v":" "},{"$f":"IF(OR(sample!FL124,sample!FL128),\"P\",\" \")","v":" "},{"$f":"IF(OR(sample!FM124,sample!FM128),\"P\",\" \")","v":" "},{"$f":"IF(OR(sample!FN124,sample!FN128),\"P\",\" \")","v":" "},{"$f":"IF(OR(sample!FO124,sample!FO128),\"P\",\" \")","v":" "},{"$f":"IF(OR(sample!FP124,sample!FP128),\"P\",\" \")","v":" "},{"$f":"IF(OR(sample!FQ124,sample!FQ128),\"P\",\" \")","v":" "},{"$f":"IF(OR(sample!FR124,sample!FR128),\"P\",\" \")","v":" "},{"$f":"IF(OR(sample!FS124,sample!FS128),\"P\",\" \")","v":" "},{"$f":"IF(OR(sample!FT124,sample!FT128),\"P\",\" \")","v":" "},{"$f":"IF(OR(sample!FU124,sample!FU128),\"P\",\" \")","v":" "},{"$f":"IF(OR(sample!FV124,sample!FV128),\"P\",\" \")","v":" "},{"$f":"IF(OR(sample!FW124,sample!FW128),\"P\",\" \")","v":" "},{"$f":"IF(OR(sample!FX124,sample!FX128),\"P\",\" \")","v":" "},{"$f":"IF(OR(sample!FY124,sample!FY128),\"P\",\" \")","v":" "},{"$f":"IF(OR(sample!FZ124,sample!FZ128),\"P\",\" \")","v":" "},{"$f":"IF(OR(sample!GA124,sample!GA128),\"P\",\" \")","v":" "},{"$f":"IF(OR(sample!GB124,sample!GB128),\"P\",\" \")","v":" "},{"$f":"IF(OR(sample!GC124,sample!GC128),\"P\",\" \")","v":" "},{"$f":"IF(OR(sample!GD124,sample!GD128),\"P\",\" \")","v":" "},{"$f":"IF(OR(sample!GE124,sample!GE128),\"P\",\" \")","v":" "},{"$f":"IF(OR(sample!GF124,sample!GF128),\"P\",\" \")","v":" "},{"$f":"IF(OR(sample!GG124,sample!GG128),\"P\",\" \")","v":" "},{"$f":"IF(OR(sample!GH124,sample!GH128),\"P\",\" \")","v":" "},{"$f":"IF(OR(sample!GI124,sample!GI128),\"P\",\" \")","v":" "},{"$f":"IF(OR(sample!GJ124,sample!GJ128),\"P\",\" \")","v":" "},{"$f":"IF(OR(sample!GK124,sample!GK128),\"P\",\" \")","v":" "},{"$f":"IF(OR(sample!GL124,sample!GL128),\"P\",\" \")","v":" "},{"$f":"IF(OR(sample!GM124,sample!GM128),\"P\",\" \")","v":" "},{"$f":"IF(OR(sample!GN124,sample!GN128),\"P\",\" \")","v":" "},{"$f":"IF(OR(sample!GO124,sample!GO128),\"P\",\" \")","v":" "},{"$f":"IF(OR(sample!GP124,sample!GP128),\"P\",\" \")","v":" "},{"$f":"IF(OR(sample!GQ124,sample!GQ128),\"P\",\" \")","v":" "},{"$f":"IF(OR(sample!GR124,sample!GR128),\"P\",\" \")","v":" "},{"$f":"IF(OR(sample!GS124,sample!GS128),\"P\",\" \")","v":" "},{"$f":"IF(OR(sample!GT124,sample!GT128),\"P\",\" \")","v":"P"},{"$f":"IF(OR(sample!GU124,sample!GU128),\"P\",\" \")","v":" "},{"$f":"IF(OR(sample!GV124,sample!GV128),\"P\",\" \")","v":" "},{"$f":"IF(OR(sample!GW124,sample!GW128),\"P\",\" \")","v":" "},{"$f":"IF(OR(sample!GX124,sample!GX128),\"P\",\" \")","v":" "},{"$f":"IF(OR(sample!GY124,sample!GY128),\"P\",\" \")","v":" "},{"$f":"IF(OR(sample!GZ124,sample!GZ128),\"P\",\" \")","v":" "},{"$f":"IF(OR(sample!HA124,sample!HA128),\"P\",\" \")","v":" "},{"$f":"IF(OR(sample!HB124,sample!HB128),\"P\",\" \")","v":" "},{"$f":"IF(OR(sample!HC124,sample!HC128),\"P\",\" \")","v":" "},{"$f":"IF(OR(sample!HD124,sample!HD128),\"P\",\" \")","v":" "},{"$f":"IF(OR(sample!HE124,sample!HE128),\"P\",\" \")","v":" "},{"$f":"IF(OR(sample!HF124,sample!HF128),\"P\",\" \")","v":" "},{"$f":"IF(OR(sample!HG124,sample!HG128),\"P\",\" \")","v":" "},{"$f":"IF(OR(sample!HH124,sample!HH128),\"P\",\" \")","v":" "},null,null,null,null,null,null,null,null,null,null,null,null,null,null,null,null,null,"","","","","","","","","","","","","","","","","","","","","","","","","","","Yes","","","","","","","","","","","","","","","",""]
[null,null,null,null,"Nilai Wk Konsol",{"$f":"IF(sample!FI128,sample!FI129,\"\")","v":""},{"$f":"IF(sample!FJ128,sample!FJ129,\"\")","v":""},{"$f":"IF(sample!FK128,sample!FK129,\"\")","v":""},{"$f":"IF(sample!FL128,sample!FL129,\"\")","v":""},{"$f":"IF(sample!FM128,sample!FM129,\"\")","v":""},{"$f":"IF(sample!FN128,sample!FN129,\"\")","v":""},{"$f":"IF(sample!FO128,sample!FO129,\"\")","v":""},{"$f":"IF(sample!FP128,sample!FP129,\"\")","v":""},{"$f":"IF(sample!FQ128,sample!FQ129,\"\")","v":""},{"$f":"IF(sample!FR128,sample!FR129,\"\")","v":""},{"$f":"IF(sample!FS128,sample!FS129,\"\")","v":""},{"$f":"IF(sample!FT128,sample!FT129,\"\")","v":""},{"$f":"IF(sample!FU128,sample!FU129,\"\")","v":""},{"$f":"IF(sample!FV128,sample!FV129,\"\")","v":""},{"$f":"IF(sample!FW128,sample!FW129,\"\")","v":""},{"$f":"IF(sample!FX128,sample!FX129,\"\")","v":""},{"$f":"IF(sample!FY128,sample!FY129,\"\")","v":""},{"$f":"IF(sample!FZ128,sample!FZ129,\"\")","v":""},{"$f":"IF(sample!GA128,sample!GA129,\"\")","v":""},{"$f":"IF(sample!GB128,sample!GB129,\"\")","v":""},{"$f":"IF(sample!GC128,sample!GC129,\"\")","v":""},{"$f":"IF(sample!GD128,sample!GD129,\"\")","v":""},{"$f":"IF(sample!GE128,sample!GE129,\"\")","v":""},{"$f":"IF(sample!GF128,sample!GF129,\"\")","v":""},{"$f":"IF(sample!GG128,sample!GG129,\"\")","v":""},{"$f":"IF(sample!GH128,sample!GH129,\"\")","v":""},{"$f":"IF(sample!GI128,sample!GI129,\"\")","v":""},{"$f":"IF(sample!GJ128,sample!GJ129,\"\")","v":""},{"$f":"IF(sample!GK128,sample!GK129,\"\")","v":""},{"$f":"IF(sample!GL128,sample!GL129,\"\")","v":""},{"$f":"IF(sample!GM128,sample!GM129,\"\")","v":""},{"$f":"IF(sample!GN128,sample!GN129,\"\")","v":""},{"$f":"IF(sample!GO128,sample!GO129,\"\")","v":""},{"$f":"IF(sample!GP128,sample!GP129,\"\")","v":""},{"$f":"IF(sample!GQ128,sample!GQ129,\"\")","v":""},{"$f":"IF(sample!GR128,sample!GR129,\"\")","v":""},{"$f":"IF(sample!GS128,sample!GS129,\"\")","v":""},{"$f":"IF(sample!GT128,sample!GT129,\"\")","v":""},{"$f":"IF(sample!GU128,sample!GU129,\"\")","v":""},{"$f":"IF(sample!GV128,sample!GV129,\"\")","v":""},{"$f":"IF(sample!GW128,sample!GW129,\"\")","v":""},{"$f":"IF(sample!GX128,sample!GX129,\"\")","v":""},{"$f":"IF(sample!GY128,sample!GY129,\"\")","v":""},{"$f":"IF(sample!GZ128,sample!GZ129,\"\")","v":""},{"$f":"IF(sample!HA128,sample!HA129,\"\")","v":""},{"$f":"IF(sample!HB128,sample!HB129,\"\")","v":""},{"$f":"IF(sample!HC128,sample!HC129,\"\")","v":""},{"$f":"IF(sample!HD128,sample!HD129,\"\")","v":""},{"$f":"IF(sample!HE128,sample!HE129,\"\")","v":""},{"$f":"IF(sample!HF128,sample!HF129,\"\")","v":""},{"$f":"IF(sample!HG128,sample!HG129,\"\")","v":""},{"$f":"IF(sample!HH128,sample!HH129,\"\")","v":""},null,"HUBUNG-KAIT",null,null,null,null,null,null,"DATA INPUT TERAKHIR STAF",null,null,null,null,null,"Last Input Date:",{"$f":"TODAY()-3","v":"2020-12-28"}]
[null,"ID KPI","Deskripsi Spesifik KPI","Sasaran",null,null,null,null,null,null,null,null,null,null,null,null,null,null,null,null,null,null,null,null,null,null,null,null,null,null,null,null,null,null,null,null,null,null,null,null,null,null,null,null,null,null,null,null,null,null,null,null,null,null,null,null,null,null,"Terima","Cascade1","Cascade2","Cascade3","Cascade4","Cascade5",null,"Wk 1","Wk 2","Wk 3","Wk 4","Wk 5","Wk 6","Wk 7","Wk 8","Wk 9","Wk 10","Wk 11","Wk 12","Wk 13","Wk 14","Wk 15","Wk 16","Wk 17","Wk 18","Wk 19","Wk 20","Wk 21","Wk 22","Wk 23","Wk 24","Wk 25","Wk 26","Wk 27","Wk 28","Wk 29","Wk 30","Wk 31","Wk 32","Wk 33","Wk 34","Wk 35","Wk 36","Wk 37","Wk 38","Wk 39","Wk 40","Wk 41","Wk 42","Wk 43","Wk 44","Wk 45","Wk 46","Wk 47","Wk 48","Wk 49","Wk 50","Wk 51","Wk 52"]
[{"$f":"sample!K124","v":0},"DK601","BM57 Mencapai penyempurnaan kehadiran Value Competency Training (Bil. Hari)",7,{"$f":"HLOOKUP($Q$2,sample!$BN$2:$DM$139,123,FALSE)","v":6},{"$f":"sample!L124","v":0},{"$f":"sample!M124","v":0},{"$f":"sample!N124","v":0},{"$f":"sample!O124","v":0},{"$f":"sample!P124","v":0},{"$f":"sample!Q124","v":0},{"$f":"sample!R124","v":0},{"$f":"sample!S124","v":0},{"$f":"sample!T124","v":0},{"$f":"sample!U124","v":0},{"$f":"sample!V124","v":0},{"$f":"sample!W124","v":0},{"$f":"sample!X124","v":0},{"$f":"sample!Y124","v":0},{"$f":"sample!Z124","v":0},{"$f":"sample!AA124","v":0},{"$f":"sample!AB124","v":0},{"$f":"sample!AC124","v":0},{"$f":"sample!AD124","v":28.571428569999998},{"$f":"sample!AE124","v":28.571428569999998},{"$f":"sample!AF124","v":28.571428569999998},{"$f":"sample!AG124","v":28.571428569999998},{"$f":"sample!AH124","v":28.571428569999998},{"$f":"sample!AI124","v":28.571428569999998},{"$f":"sample!AJ124","v":28.571428569999998},{"$f":"sample!AK124","v":28.571428569999998},{"$f":"sample!AL124","v":28.571428569999998},{"$f":"sample!AM124","v":42.857142860000003},{"$f":"sample!AN124","v":42.857142860000003},{"$f":"sample!AO124","v":42.857142860000003},{"$f":"sample!AP124","v":42.857142860000003},{"$f":"sample!AQ124","v":42.857142860000003},{"$f":"sample!AR124","v":42.857142860000003},{"$f":"sample!AS124","v":42.857142860000003},{"$f":"sample!AT124","v":42.857142860000003},{"$f":"sample!AU124","v":42.857142860000003},{"$f":"sample!AV124","v":42.857142860000003},{"$f":"sample!AW124","v":42.857142860000003},{"$f":"sample!AX124","v":42.857142860000003},{"$f":"sample!AY124","v":42.857142860000003},{"$f":"sample!AZ124","v":42.857142860000003},{"$f":"sample!BA124","v":85.714285709999999},{"$f":"sample!BB124","v":85.714285709999999},{"$f":"sample!BC124","v":85.714285709999999},{"$f":"sample!BD124","v":85.714285709999999},{"$f":"sample!BE124","v":85.714285709999999},{"$f":"sample!BF124","v":85.714285709999999},{"$f":"sample!BG124","v":85.714285709999999},{"$f":"sample!BH124","v":85.714285709999999},{"$f":"sample!BI124","v":85.714285709999999},{"$f":"sample!BJ124","v":85.714285709999999},{"$f":"sample!BK124","v":85.714285709999999},null,null,null,null,null,null,null,null,{"$f":"IF(BN$83>$M$2,\"\",BN43)","v":""},{"$f":"IF(BO$83>$M$2,\"\",BO43)","v":""},"","","","","","","","","","","","","","","","",2,"","","","","","","","",3,"","","","","","","","","","","","","",6,"","","","","","","","","",""]
[null,null,null,null,null,null,null,null,null,null,null,null,null,null,null,null,null,null,null,null,null,null,null,null,null,null,null,null,null,null,null,null,null,null,null,null,null,null,null,null,null,null,null,null,null,null,null,null,null,null,null,null,null,null,null,null,null,null,{"$f":"sample!BZ124","v":0}]
[{"$f":"sample!K125","v":0},"DK602","WK01 Mencapai sasaran pendapatan korporat yang meningkat bagi Sektor Perumahan (RM Juta)",10,{"$f":"HLOOKUP($Q$2,sample!$BN$2:$DM$139,124,FALSE)","v":9.09},{"$f":"sample!L125","v":0},{"$f":"sample!M125","v":0},{"$f":"sample!N125","v":0},{"$f":"sample!O125","v":25.2},{"$f":"sample!P125","v":25.2},{"$f":"sample!Q125","v":25.2},{"$f":"sample!R125","v":25.2},{"$f":"sample!S125","v":25.2},{"$f":"sample!T125","v":25.2},{"$f":"sample!U125","v":25.2},{"$f":"sample!V125","v":25.2},{"$f":"sample!W125","v":25.2},{"$f":"sample!X125","v":25.2},{"$f":"sample!Y125","v":25.2},{"$f":"sample!Z125","v":25.2},{"$f":"sample!AA125","v":25.2},{"$f":"sample!AB125","v":25.2},{"$f":"sample!AC125","v":38.700000000000003},{"$f":"sample!AD125","v":38.700000000000003},{"$f":"sample!AE125","v":38.700000000000003},{"$f":"sample!AF125","v":38.700000000000003},{"$f":"sample!AG125","v":38.700000000000003},{"$f":"sample!AH125","v":38.700000000000003},{"$f":"sample!AI125","v":38.700000000000003},{"$f":"sample!AJ125","v":38.700000000000003},{"$f":"sample!AK125","v":59.3},{"$f":"sample!AL125","v":59.3},{"$f":"sample!AM125","v":59.3},{"$f":"sample!AN125","v":59.3},{"$f":"sample!AO125","v":59.3},{"$f":"sample!AP125","v":73.599999999999994},{"$f":"sample!AQ125","v":73.599999999999994},{"$f":"sample!AR125","v":73.599999999999994},{"$f":"sample!AS125","v":73.599999999999994},{"$f":"sample!AT125","v":73.599999999999994},{"$f":"sample!AU125","v":75.400000000000006},{"$f":"sample!AV125","v":75.400000000000006},{"$f":"sample!AW125","v":75.400000000000006},{"$f":"sample!AX125","v":75.400000000000006},{"$f":"sample!AY125","v":75.400000000000006},{"$f":"sample!AZ125","v":75.400000000000006},{"$f":"sample!BA125","v":75.400000000000006},{"$f":"sample!BB125","v":75.400000000000006},{"$f":"sample!BC125","v":75.400000000000006},{"$f":"sample!BD125","v":75.400000000000006},{"$f":"sample!BE125","v":75.400000000000006},{"$f":"sample!BF125","v":75.400000000000006},{"$f":"sample!BG125","v":75.400000000000006},{"$f":"sample!BH125","v":90.9},{"$f":"sample!BI125","v":90.9},{"$f":"sample!BJ125","v":90.9},{"$f":"sample!BK125","v":90.9},null,"DM101",null,null,null,null,null,null,{"$f":"IF(BN$83>$M$2,\"\",BN44)","v":""},{"$f":"IF(BO$83>$M$2,\"\",BO44)","v":""},"",2.52,"","","","","","","","","","","","","",3.87,"","","","","","","",5.93,"","","","",7.36,"","","","",7.54,"","","","","","","","","","","","",9.09,"","",""]
[null,null,null,null,null,null,null,null,null,null,null,null,null,null,null,null,null,null,null,null,null,null,null,null,null,null,null,null,null,null,null,null,null,null,null,null,null,null,null,null,null,null,null,null,null,null,null,null,null,null,null,null,null,null,null,null,null,null,{"$f":"sample!BZ125","v":2.52}]
[{"$f":"sample!K126","v":0},"DK603","BP49 Mengekalkan Penghantaran shipment Pelanggan menepati sasaran",95,{"$f":"HLOOKUP($Q$2,sample!$BN$2:$DM$139,125,FALSE)","v":78.17307692307692},{"$f":"sample!L126","v":100},{"$f":"sample!M126","v":63.157894740000003},{"$f":"sample!N126","v":73.684210530000001},{"$f":"sample!O126","v":63.157894740000003},{"$f":"sample!P126","v":57.89473684},{"$f":"sample!Q126","v":36.842105259999997},{"$f":"sample!R126","v":57.89473684},{"$f":"sample!S126","v":63.157894740000003},{"$f":"sample!T126","v":15.78947368},{"$f":"sample!U126","v":57.89473684},{"$f":"sample!V126","v":31.578947370000002},{"$f":"sample!W126","v":36.842105259999997},{"$f":"sample!X126","v":57.89473684},{"$f":"sample!Y126","v":63.157894740000003},{"$f":"sample!Z126","v":42.10526316},{"$f":"sample!AA126","v":63.157894740000003},{"$f":"sample!AB126","v":89.473684210000002},{"$f":"sample!AC126","v":89.473684210000002},{"$f":"sample!AD126","v":94.736842109999998},{"$f":"sample!AE126","v":52.631578949999998},{"$f":"sample!AF126","v":52.631578949999998},{"$f":"sample!AG126","v":68.421052630000005},{"$f":"sample!AH126","v":26.315789469999999},{"$f":"sample!AI126","v":52.631578949999998},{"$f":"sample!AJ126","v":21.05263158},{"$f":"sample!AK126","v":94.736842109999998},{"$f":"sample!AL126","v":52.631578949999998},{"$f":"sample!AM126","v":68.421052630000005},{"$f":"sample!AN126","v":26.315789469999999},{"$f":"sample!AO126","v":42.10526316},{"$f":"sample!AP126","v":52.631578949999998},{"$f":"sample!AQ126","v":68.421052630000005},{"$f":"sample!AR126","v":57.89473684},{"$f":"sample!AS126","v":94.736842109999998},{"$f":"sample!AT126","v":68.421052630000005},{"$f":"sample!AU126","v":52.631578949999998},{"$f":"sample!AV126","v":47.368421050000002},{"$f":"sample!AW126","v":47.368421050000002},{"$f":"sample!AX126","v":42.10526316},{"$f":"sample!AY126","v":57.89473684},{"$f":"sample!AZ126","v":52.631578949999998},{"$f":"sample!BA126","v":47.368421050000002},{"$f":"sample!BB126","v":57.89473684},{"$f":"sample!BC126","v":57.89473684},{"$f":"sample!BD126","v":52.631578949999998},{"$f":"sample!BE126","v":57.89473684},{"$f":"sample!BF126","v":47.368421050000002},{"$f":"sample!BG126","v":26.315789469999999},{"$f":"sample!BH126","v":26.315789469999999},{"$f":"sample!BI126","v":42.10526316},{"$f":"sample!BJ126","v":63.157894740000003},{"$f":"sample!BK126","v":47.368421050000002},null,null,null,null,null,null,null,null,{"$f":"IF(BN$83>$M$2,\"\",BN45)","v":95},{"$f":"IF(BO$83>$M$2,\"\",BO45)","v":88},90,88,87,83,87,88,79,87,82,83,87,88,84,88,93,93,94,86,86,89,81,86,80,73,70,66,67,58,58,58,60,60,61,57,57,56,58,58,67,71,74,87,86,87,85,81,81,84,88,85]
[null,null,null,null,null,null,null,null,null,null,null,null,null,null,null,null,null,null,null,null,null,null,null,null,null,null,null,null,null,null,null,null,null,null,null,null,null,null,null,null,null,null,null,null,null,null,null,null,null,null,null,null,null,null,null,null,null,null,{"$f":"sample!BZ126","v":86.461538461538453}]
[{"$f":"sample!K127","v":0},"DK604","BP19 Mencapai penyempurnaan survei kajian penyelidikan 5 Klien-Produk",90,{"$f":"HLOOKUP($Q$2,sample!$BN$2:$DM$139,126,FALSE)","v":100},{"$f":"sample!L127","v":0},{"$f":"sample!M127","v":0},{"$f":"sample!N127","v":0},{"$f":"sample!O127","v":0},{"$f":"sample!P127","v":0},{"$f":"sample!Q127","v":1.4619883039999999},{"$f":"sample!R127","v":1.4619883039999999},{"$f":"sample!S127","v":2.9239766079999998},{"$f":"sample!T127","v":2.9239766079999998},{"$f":"sample!U127","v":4.3859649120000004},{"$f":"sample!V127","v":5.8479532159999996},{"$f":"sample!W127","v":8.7719298250000008},{"$f":"sample!X127","v":8.7719298250000008},{"$f":"sample!Y127","v":11.695906430000001},{"$f":"sample!Z127","v":11.695906430000001},{"$f":"sample!AA127","v":17.543859650000002},{"$f":"sample!AB127","v":19.00584795},{"$f":"sample!AC127","v":19.00584795},{"$f":"sample!AD127","v":21.92982456},{"$f":"sample!AE127","v":21.92982456},{"$f":"sample!AF127","v":27.777777780000001},{"$f":"sample!AG127","v":32.163742689999999},{"$f":"sample!AH127","v":32.163742689999999},{"$f":"sample!AI127","v":40.935672510000003},{"$f":"sample!AJ127","v":40.935672510000003},{"$f":"sample!AK127","v":49.707602340000001},{"$f":"sample!AL127","v":54.09356725},{"$f":"sample!AM127","v":54.09356725},{"$f":"sample!AN127","v":62.865497079999997},{"$f":"sample!AO127","v":62.865497079999997},{"$f":"sample!AP127","v":71.637426899999994},{"$f":"sample!AQ127","v":71.637426899999994},{"$f":"sample!AR127","v":71.637426899999994},{"$f":"sample!AS127","v":71.637426899999994},{"$f":"sample!AT127","v":76.023391810000007},{"$f":"sample!AU127","v":76.023391810000007},{"$f":"sample!AV127","v":80.409356729999999},{"$f":"sample!AW127","v":80.409356729999999},{"$f":"sample!AX127","v":89.181286549999996},{"$f":"sample!AY127","v":89.181286549999996},{"$f":"sample!AZ127","v":89.181286549999996},{"$f":"sample!BA127","v":89.181286549999996},{"$f":"sample!BB127","v":93.567251459999994},{"$f":"sample!BC127","v":93.567251459999994},{"$f":"sample!BD127","v":100},{"$f":"sample!BE127","v":100},{"$f":"sample!BF127","v":100},{"$f":"sample!BG127","v":100},{"$f":"sample!BH127","v":100},{"$f":"sample!BI127","v":100},{"$f":"sample!BJ127","v":100},{"$f":"sample!BK127","v":100},null,"DM104",null,null,null,null,null,null,{"$f":"IF(BN$83>$M$2,\"\",BN46)","v":""},{"$f":"IF(BO$83>$M$2,\"\",BO46)","v":""},"","","",1.32,"",2.63,"",3.95,5.26,7.89,"",10.53,"",15.79,17.11,"",19.739999999999998,"",25,28.95,"",36.840000000000003,"",44.74,48.68,"",56.58,"",64.47,"","","",68.42,"",72.37,"",80.260000000000005,"","","",84.21,"",96.05,"",100,"","","","",""]
[null,null,null,null,null,null,null,null,null,null,null,null,null,null,null,null,null,null,null,null,null,null,null,null,null,null,null,null,null,null,null,null,null,null,null,null,null,null,null,null,null,null,null,null,null,null,null,null,null,null,null,null,null,null,null,null,null,null,{"$f":"sample!BZ127","v":7.8947368421052602},{"$f":"sample!CA127","v":10.526315789473699},{"$f":"sample!CB127","v":10.526315789473699},{"$f":"sample!CC127","v":15.789473684210503},{"$f":"sample!CD127","v":17.105263157894704},{"$f":"sample!CE127","v":17.105263157894701}]
[{"$f":"sample!K128","v":0},"DK605","BR54 Mencapai pelaksanaan Sistem Penjejakan Penghantaran LOGIX yang baru","Yes",{"$f":"HLOOKUP($Q$2,sample!$BN$2:$DM$139,127,FALSE)","v":"Yes"},{"$f":"sample!L128","v":""},{"$f":"sample!M128","v":""},{"$f":"sample!N128","v":""},{"$f":"sample!O128","v":""},{"$f":"sample!P128","v":""},{"$f":"sample!Q128","v":""},{"$f":"sample!R128","v":""},{"$f":"sample!S128","v":""},{"$f":"sample!T128","v":""},{"$f":"sample!U128","v":0},{"$f":"sample!V128","v":0},{"$f":"sample!W128","v":0},{"$f":"sample!X128","v":0},{"$f":"sample!Y128","v":0},{"$f":"sample!Z128","v":0},{"$f":"sample!AA128","v":0},{"$f":"sample!AB128","v":0},{"$f":"sample!AC128","v":0},{"$f":"sample!AD128","v":0},{"$f":"sample!AE128","v":0},{"$f":"sample!AF128","v":0},{"$f":"sample!AG128","v":0},{"$f":"sample!AH128","v":0},{"$f":"sample!AI128","v":0},{"$f":"sample!AJ128","v":0},{"$f":"sample!AK128","v":0},{"$f":"sample!AL128","v":0},{"$f":"sample!AM128","v":0},{"$f":"sample!AN128","v":0},{"$f":"sample!AO128","v":0},{"$f":"sample!AP128","v":0},{"$f":"sample!AQ128","v":0},{"$f":"sample!AR128","v":0},{"$f":"sample!AS128","v":0},{"$f":"sample!AT128","v":0},{"$f":"sample!AU128","v":100},{"$f":"sample!AV128","v":100},{"$f":"sample!AW128","v":100},{"$f":"sample!AX128","v":100},{"$f":"sample!AY128","v":100},{"$f":"sample!AZ128","v":100},{"$f":"sample!BA128","v":100},{"$f":"sample!BB128","v":100},{"$f":"sample!BC128","v":100},{"$f":"sample!BD128","v":100},{"$f":"sample!BE128","v":100},{"$f":"sample!BF128","v":100},{"$f":"sample!BG128","v":100},{"$f":"sample!BH128","v":100},{"$f":"sample!BI128","v":100},{"$f":"sample!BJ128","v":100},{"$f":"sample!BK128","v":100},null,null,null,null,null,null,null,null,null,null,null,null,null,null,null,null,null,{"$f":"IF(BW$83>$M$2,\"\",BW47)","v":""},"","","","","","","","","","","","","","","","","","","","","","","","","","Yes","","","","","","","","","","","","","","","",""]
[]
[{"$f":"sample!K129","v":0},"DK606","N/A",0,{"$f":"HLOOKUP($Q$2,sample!$BN$2:$DM$139,128,FALSE)","v":""},{"$f":"sample!L129","v":""},{"$f":"sample!M129","v":""},{"$f":"sample!N129","v":""},{"$f":"sample!O129","v":""},{"$f":"sample!P129","v":""},{"$f":"sample!Q129","v":""},{"$f":"sample!R129","v":""},{"$f":"sample!S129","v":""},{"$f":"sample!T129","v":""},{"$f":"sample!U129","v":""},{"$f":"sample!V129","v":""},{"$f":"sample!W129","v":""},{"$f":"sample!X129","v":""},{"$f":"sample!Y129","v":""},{"$f":"sample!Z129","v":""},{"$f":"sample!AA129","v":""},{"$f":"sample!AB129","v":""},{"$f":"sample!AC129","v":""},{"$f":"sample!AD129","v":""},{"$f":"sample!AE129","v":""},{"$f":"sample!AF129","v":""},{"$f":"sample!AG129","v":""},{"$f":"sample!AH129","v":""},{"$f":"sample!AI129","v":""},{"$f":"sample!AJ129","v":""},{"$f":"sample!AK129","v":""},{"$f":"sample!AL129","v":""},{"$f":"sample!AM129","v":""},{"$f":"sample!AN129","v":""},{"$f":"sample!AO129","v":""},{"$f":"sample!AP129","v":""},{"$f":"sample!AQ129","v":""},{"$f":"sample!AR129","v":""},{"$f":"sample!AS129","v":""},{"$f":"sample!AT129","v":""},{"$f":"sample!AU129","v":""},{"$f":"sample!AV129","v":""},{"$f":"sample!AW129","v":""},{"$f":"sample!AX129","v":""},{"$f":"sample!AY129","v":""},{"$f":"sample!AZ129","v":""},{"$f":"sample!BA129","v":""},{"$f":"sample!BB129","v":""},{"$f":"sample!BC129","v":""},{"$f":"sample!BD129","v":""},{"$f":"sample!BE129","v":""},{"$f":"sample!BF129","v":""},{"$f":"sample!BG129","v":""},{"$f":"sample!BH129","v":""},{"$f":"sample!BI129","v":""},{"$f":"sample!BJ129","v":""},{"$f":"sample!BK129","v":""},null,null,null,null,null,null,null,null,{"$f":"IF(sample!X129=\"\",\"\",sample!X129)","v":""},{"$f":"IF(sample!Y129=\"\",\"\",sample!Y129)","v":""},{"$f":"IF(sample!Z129=\"\",\"\",sample!Z129)","v":""},{"$f":"IF(sample!AA129=\"\",\"\",sample!AA129)","v":""},{"$f":"IF(sample!AB129=\"\",\"\",sample!AB129)","v":""},{"$f":"IF(sample!AC129=\"\",\"\",sample!AC129)","v":""},{"$f":"IF(sample!AD129=\"\",\"\",sample!AD129)","v":""},{"$f":"IF(sample!AE129=\"\",\"\",sample!AE129)","v":""},{"$f":"IF(sample!AF129=\"\",\"\",sample!AF129)","v":""},{"$f":"IF(sample!AG129=\"\",\"\",sample!AG129)","v":""},{"$f":"IF(sample!AH129=\"\",\"\",sample!AH129)","v":""},{"$f":"IF(sample!AI129=\"\",\"\",sample!AI129)","v":""},{"$f":"IF(sample!AJ129=\"\",\"\",sample!AJ129)","v":""},{"$f":"IF(sample!AK129=\"\",\"\",sample!AK129)","v":""},{"$f":"IF(sample!AL129=\"\",\"\",sample!AL129)","v":""},{"$f":"IF(sample!AM129=\"\",\"\",sample!AM129)","v":""},{"$f":"IF(sample!AN129=\"\",\"\",sample!AN129)","v":""},{"$f":"IF(sample!AO129=\"\",\"\",sample!AO129)","v":""},{"$f":"IF(sample!AP129=\"\",\"\",sample!AP129)","v":""},{"$f":"IF(sample!AQ129=\"\",\"\",sample!AQ129)","v":""},{"$f":"IF(sample!AR129=\"\",\"\",sample!AR129)","v":""},{"$f":"IF(sample!AS129=\"\",\"\",sample!AS129)","v":""},{"$f":"IF(sample!AT129=\"\",\"\",sample!AT129)","v":""},{"$f":"IF(sample!AU129=\"\",\"\",sample!AU129)","v":""},{"$f":"IF(sample!AV129=\"\",\"\",sample!AV129)","v":""},{"$f":"IF(sample!AW129=\"\",\"\",sample!AW129)","v":""},{"$f":"IF(sample!AX129=\"\",\"\",sample!AX129)","v":""},{"$f":"IF(sample!AY129=\"\",\"\",sample!AY129)","v":""},{"$f":"IF(sample!AZ129=\"\",\"\",sample!AZ129)","v":""},{"$f":"IF(sample!BA129=\"\",\"\",sample!BA129)","v":""},{"$f":"IF(sample!BB129=\"\",\"\",sample!BB129)","v":""},{"$f":"IF(sample!BC129=\"\",\"\",sample!BC129)","v":""},{"$f":"IF(sample!BD129=\"\",\"\",sample!BD129)","v":""},{"$f":"IF(sample!BE129=\"\",\"\",sample!BE129)","v":""},{"$f":"IF(sample!BF129=\"\",\"\",sample!BF129)","v":""},{"$f":"IF(sample!BG129=\"\",\"\",sample!BG129)","v":""},{"$f":"IF(sample!BH129=\"\",\"\",sample!BH129)","v":""},{"$f":"IF(sample!BI129=\"\",\"\",sample!BI129)","v":""},{"$f":"IF(sample!BJ129=\"\",\"\",sample!BJ129)","v":""},{"$f":"IF(sample!BK129=\"\",\"\",sample!BK129)","v":""},{"$f":"IF(sample!BL129=\"\",\"\",sample!BL129)","v":""},{"$f":"IF(sample!BM129=\"\",\"\",sample!BM129)","v":""},{"$f":"IF(sample!BN129=\"\",\"\",sample!BN129)","v":""},{"$f":"IF(sample!BO129=\"\",\"\",sample!BO129)","v":""},{"$f":"IF(sample!BP129=\"\",\"\",sample!BP129)","v":""},{"$f":"IF(sample!BQ129=\"\",\"\",sample!BQ129)","v":""},{"$f":"IF(sample!BR129=\"\",\"\",sample!BR129)","v":""},{"$f":"IF(sample!BS129=\"\",\"\",sample!BS129)","v":""},{"$f":"IF(sample!BT129=\"\",\"\",sample!BT129)","v":""},{"$f":"IF(sample!BU129=\"\",\"\",sample!BU129)","v":""},{"$f":"IF(sample!BV129=\"\",\"\",sample!BV129)","v":""},{"$f":"IF(sample!BW129=\"\",\"\",sample!BW129)","v":""}]
[]
[{"$f":"sample!K130","v":0},"DK607","N/A",0,{"$f":"HLOOKUP($Q$2,sample!$BN$2:$DM$139,129,FALSE)","v":""},{"$f":"sample!L130","v":""},{"$f":"sample!M130","v":""},{"$f":"sample!N130","v":""},{"$f":"sample!O130","v":""},{"$f":"sample!P130","v":""},{"$f":"sample!Q130","v":""},{"$f":"sample!R130","v":""},{"$f":"sample!S130","v":""},{"$f":"sample!T130","v":""},{"$f":"sample!U130","v":""},{"$f":"sample!V130","v":""},{"$f":"sample!W130","v":""},{"$f":"sample!X130","v":""},{"$f":"sample!Y130","v":""},{"$f":"sample!Z130","v":""},{"$f":"sample!AA130","v":""},{"$f":"sample!AB130","v":""},{"$f":"sample!AC130","v":""},{"$f":"sample!AD130","v":""},{"$f":"sample!AE130","v":""},{"$f":"sample!AF130","v":""},{"$f":"sample!AG130","v":""},{"$f":"sample!AH130","v":""},{"$f":"sample!AI130","v":""},{"$f":"sample!AJ130","v":""},{"$f":"sample!AK130","v":""},{"$f":"sample!AL130","v":""},{"$f":"sample!AM130","v":""},{"$f":"sample!AN130","v":""},{"$f":"sample!AO130","v":""},{"$f":"sample!AP130","v":""},{"$f":"sample!AQ130","v":""},{"$f":"sample!AR130","v":""},{"$f":"sample!AS130","v":""},{"$f":"sample!AT130","v":""},{"$f":"sample!AU130","v":""},{"$f":"sample!AV130","v":""},{"$f":"sample!AW130","v":""},{"$f":"sample!AX130","v":""},{"$f":"sample!AY130","v":""},{"$f":"sample!AZ130","v":""},{"$f":"sample!BA130","v":""},{"$f":"sample!BB130","v":""},{"$f":"sample!BC130","v":""},{"$f":"sample!BD130","v":""},{"$f":"sample!BE130","v":""},{"$f":"sample!BF130","v":""},{"$f":"sample!BG130","v":""},{"$f":"sample!BH130","v":""},{"$f":"sample!BI130","v":""},{"$f":"sample!BJ130","v":""},{"$f":"sample!BK130","v":""},null,null,null,null,null,null,null,null,{"$f":"IF(sample!X130=\"\",\"\",sample!X130)","v":""},{"$f":"IF(sample!Y130=\"\",\"\",sample!Y130)","v":""},{"$f":"IF(sample!Z130=\"\",\"\",sample!Z130)","v":""},{"$f":"IF(sample!AA130=\"\",\"\",sample!AA130)","v":""},{"$f":"IF(sample!AB130=\"\",\"\",sample!AB130)","v":""},{"$f":"IF(sample!AC130=\"\",\"\",sample!AC130)","v":""},{"$f":"IF(sample!AD130=\"\",\"\",sample!AD130)","v":""},{"$f":"IF(sample!AE130=\"\",\"\",sample!AE130)","v":""},{"$f":"IF(sample!AF130=\"\",\"\",sample!AF130)","v":""},{"$f":"IF(sample!AG130=\"\",\"\",sample!AG130)","v":""},{"$f":"IF(sample!AH130=\"\",\"\",sample!AH130)","v":""},{"$f":"IF(sample!AI130=\"\",\"\",sample!AI130)","v":""},{"$f":"IF(sample!AJ130=\"\",\"\",sample!AJ130)","v":""},{"$f":"IF(sample!AK130=\"\",\"\",sample!AK130)","v":""},{"$f":"IF(sample!AL130=\"\",\"\",sample!AL130)","v":""},{"$f":"IF(sample!AM130=\"\",\"\",sample!AM130)","v":""},{"$f":"IF(sample!AN130=\"\",\"\",sample!AN130)","v":""},{"$f":"IF(sample!AO130=\"\",\"\",sample!AO130)","v":""},{"$f":"IF(sample!AP130=\"\",\"\",sample!AP130)","v":""},{"$f":"IF(sample!AQ130=\"\",\"\",sample!AQ130)","v":""},{"$f":"IF(sample!AR130=\"\",\"\",sample!AR130)","v":""},{"$f":"IF(sample!AS130=\"\",\"\",sample!AS130)","v":""},{"$f":"IF(sample!AT130=\"\",\"\",sample!AT130)","v":""},{"$f":"IF(sample!AU130=\"\",\"\",sample!AU130)","v":""},{"$f":"IF(sample!AV130=\"\",\"\",sample!AV130)","v":""},{"$f":"IF(sample!AW130=\"\",\"\",sample!AW130)","v":""},{"$f":"IF(sample!AX130=\"\",\"\",sample!AX130)","v":""},{"$f":"IF(sample!AY130=\"\",\"\",sample!AY130)","v":""},{"$f":"IF(sample!AZ130=\"\",\"\",sample!AZ130)","v":""},{"$f":"IF(sample!BA130=\"\",\"\",sample!BA130)","v":""},{"$f":"IF(sample!BB130=\"\",\"\",sample!BB130)","v":""},{"$f":"IF(sample!BC130=\"\",\"\",sample!BC130)","v":""},{"$f":"IF(sample!BD130=\"\",\"\",sample!BD130)","v":""},{"$f":"IF(sample!BE130=\"\",\"\",sample!BE130)","v":""},{"$f":"IF(sample!BF130=\"\",\"\",sample!BF130)","v":""},{"$f":"IF(sample!BG130=\"\",\"\",sample!BG130)","v":""},{"$f":"IF(sample!BH130=\"\",\"\",sample!BH130)","v":""},{"$f":"IF(sample!BI130=\"\",\"\",sample!BI130)","v":""},{"$f":"IF(sample!BJ130=\"\",\"\",sample!BJ130)","v":""},{"$f":"IF(sample!BK130=\"\",\"\",sample!BK130)","v":""},{"$f":"IF(sample!BL130=\"\",\"\",sample!BL130)","v":""},{"$f":"IF(sample!BM130=\"\",\"\",sample!BM130)","v":""},{"$f":"IF(sample!BN130=\"\",\"\",sample!BN130)","v":""},{"$f":"IF(sample!BO130=\"\",\"\",sample!BO130)","v":""},{"$f":"IF(sample!BP130=\"\",\"\",sample!BP130)","v":""},{"$f":"IF(sample!BQ130=\"\",\"\",sample!BQ130)","v":""},{"$f":"IF(sample!BR130=\"\",\"\",sample!BR130)","v":""},{"$f":"IF(sample!BS130=\"\",\"\",sample!BS130)","v":""},{"$f":"IF(sample!BT130=\"\",\"\",sample!BT130)","v":""},{"$f":"IF(sample!BU130=\"\",\"\",sample!BU130)","v":""},{"$f":"IF(sample!BV130=\"\",\"\",sample!BV130)","v":""},{"$f":"IF(sample!BW130=\"\",\"\",sample!BW130)","v":""}]
[]
[{"$f":"sample!K131","v":0},"DK608","N/A",0,{"$f":"HLOOKUP($Q$2,sample!$BN$2:$DM$139,130,FALSE)","v":""},{"$f":"sample!L131","v":""},{"$f":"sample!M131","v":""},{"$f":"sample!N131","v":""},{"$f":"sample!O131","v":""},{"$f":"sample!P131","v":""},{"$f":"sample!Q131","v":""},{"$f":"sample!R131","v":""},{"$f":"sample!S131","v":""},{"$f":"sample!T131","v":""},{"$f":"sample!U131","v":""},{"$f":"sample!V131","v":""},{"$f":"sample!W131","v":""},{"$f":"sample!X131","v":""},{"$f":"sample!Y131","v":""},{"$f":"sample!Z131","v":""},{"$f":"sample!AA131","v":""},{"$f":"sample!AB131","v":""},{"$f":"sample!AC131","v":""},{"$f":"sample!AD131","v":""},{"$f":"sample!AE131","v":""},{"$f":"sample!AF131","v":""},{"$f":"sample!AG131","v":""},{"$f":"sample!AH131","v":""},{"$f":"sample!AI131","v":""},{"$f":"sample!AJ131","v":""},{"$f":"sample!AK131","v":""},{"$f":"sample!AL131","v":""},{"$f":"sample!AM131","v":""},{"$f":"sample!AN131","v":""},{"$f":"sample!AO131","v":""},{"$f":"sample!AP131","v":""},{"$f":"sample!AQ131","v":""},{"$f":"sample!AR131","v":""},{"$f":"sample!AS131","v":""},{"$f":"sample!AT131","v":""},{"$f":"sample!AU131","v":""},{"$f":"sample!AV131","v":""},{"$f":"sample!AW131","v":""},{"$f":"sample!AX131","v":""},{"$f":"sample!AY131","v":""},{"$f":"sample!AZ131","v":""},{"$f":"sample!BA131","v":""},{"$f":"sample!BB131","v":""},{"$f":"sample!BC131","v":""},{"$f":"sample!BD131","v":""},{"$f":"sample!BE131","v":""},{"$f":"sample!BF131","v":""},{"$f":"sample!BG131","v":""},{"$f":"sample!BH131","v":""},{"$f":"sample!BI131","v":""},{"$f":"sample!BJ131","v":""},{"$f":"sample!BK131","v":""},null,null,null,null,null,null,null,null,{"$f":"IF(sample!X131=\"\",\"\",sample!X131)","v":""},{"$f":"IF(sample!Y131=\"\",\"\",sample!Y131)","v":""},{"$f":"IF(sample!Z131=\"\",\"\",sample!Z131)","v":""},{"$f":"IF(sample!AA131=\"\",\"\",sample!AA131)","v":""},{"$f":"IF(sample!AB131=\"\",\"\",sample!AB131)","v":""},{"$f":"IF(sample!AC131=\"\",\"\",sample!AC131)","v":""},{"$f":"IF(sample!AD131=\"\",\"\",sample!AD131)","v":""},{"$f":"IF(sample!AE131=\"\",\"\",sample!AE131)","v":""},{"$f":"IF(sample!AF131=\"\",\"\",sample!AF131)","v":""},{"$f":"IF(sample!AG131=\"\",\"\",sample!AG131)","v":""},{"$f":"IF(sample!AH131=\"\",\"\",sample!AH131)","v":""},{"$f":"IF(sample!AI131=\"\",\"\",sample!AI131)","v":""},{"$f":"IF(sample!AJ131=\"\",\"\",sample!AJ131)","v":""},{"$f":"IF(sample!AK131=\"\",\"\",sample!AK131)","v":""},{"$f":"IF(sample!AL131=\"\",\"\",sample!AL131)","v":""},{"$f":"IF(sample!AM131=\"\",\"\",sample!AM131)","v":""},{"$f":"IF(sample!AN131=\"\",\"\",sample!AN131)","v":""},{"$f":"IF(sample!AO131=\"\",\"\",sample!AO131)","v":""},{"$f":"IF(sample!AP131=\"\",\"\",sample!AP131)","v":""},{"$f":"IF(sample!AQ131=\"\",\"\",sample!AQ131)","v":""},{"$f":"IF(sample!AR131=\"\",\"\",sample!AR131)","v":""},{"$f":"IF(sample!AS131=\"\",\"\",sample!AS131)","v":""},{"$f":"IF(sample!AT131=\"\",\"\",sample!AT131)","v":""},{"$f":"IF(sample!AU131=\"\",\"\",sample!AU131)","v":""},{"$f":"IF(sample!AV131=\"\",\"\",sample!AV131)","v":""},{"$f":"IF(sample!AW131=\"\",\"\",sample!AW131)","v":""},{"$f":"IF(sample!AX131=\"\",\"\",sample!AX131)","v":""},{"$f":"IF(sample!AY131=\"\",\"\",sample!AY131)","v":""},{"$f":"IF(sample!AZ131=\"\",\"\",sample!AZ131)","v":""},{"$f":"IF(sample!BA131=\"\",\"\",sample!BA131)","v":""},{"$f":"IF(sample!BB131=\"\",\"\",sample!BB131)","v":""},{"$f":"IF(sample!BC131=\"\",\"\",sample!BC131)","v":""},{"$f":"IF(sample!BD131=\"\",\"\",sample!BD131)","v":""},{"$f":"IF(sample!BE131=\"\",\"\",sample!BE131)","v":""},{"$f":"IF(sample!BF131=\"\",\"\",sample!BF131)","v":""},{"$f":"IF(sample!BG131=\"\",\"\",sample!BG131)","v":""},{"$f":"IF(sample!BH131=\"\",\"\",sample!BH131)","v":""},{"$f":"IF(sample!BI131=\"\",\"\",sample!BI131)","v":""},{"$f":"IF(sample!BJ131=\"\",\"\",sample!BJ131)","v":""},{"$f":"IF(sample!BK131=\"\",\"\",sample!BK131)","v":""},{"$f":"IF(sample!BL131=\"\",\"\",sample!BL131)","v":""},{"$f":"IF(sample!BM131=\"\",\"\",sample!BM131)","v":""},{"$f":"IF(sample!BN131=\"\",\"\",sample!BN131)","v":""},{"$f":"IF(sample!BO131=\"\",\"\",sample!BO131)","v":""},{"$f":"IF(sample!BP131=\"\",\"\",sample!BP131)","v":""},{"$f":"IF(sample!BQ131=\"\",\"\",sample!BQ131)","v":""},{"$f":"IF(sample!BR131=\"\",\"\",sample!BR131)","v":""},{"$f":"IF(sample!BS131=\"\",\"\",sample!BS131)","v":""},{"$f":"IF(sample!BT131=\"\",\"\",sample!BT131)","v":""},{"$f":"IF(sample!BU131=\"\",\"\",sample!BU131)","v":""},{"$f":"IF(sample!BV131=\"\",\"\",sample!BV131)","v":""},{"$f":"IF(sample!BW131=\"\",\"\",sample!BW131)","v":""}]
[]
[{"$f":"sample!K132","v":0},"DK609","N/A",0,{"$f":"HLOOKUP($Q$2,sample!$BN$2:$DM$139,131,FALSE)","v":""},{"$f":"sample!L132","v":""},{"$f":"sample!M132","v":""},{"$f":"sample!N132","v":""},{"$f":"sample!O132","v":""},{"$f":"sample!P132","v":""},{"$f":"sample!Q132","v":""},{"$f":"sample!R132","v":""},{"$f":"sample!S132","v":""},{"$f":"sample!T132","v":""},{"$f":"sample!U132","v":""},{"$f":"sample!V132","v":""},{"$f":"sample!W132","v":""},{"$f":"sample!X132","v":""},{"$f":"sample!Y132","v":""},{"$f":"sample!Z132","v":""},{"$f":"sample!AA132","v":""},{"$f":"sample!AB132","v":""},{"$f":"sample!AC132","v":""},{"$f":"sample!AD132","v":""},{"$f":"sample!AE132","v":""},{"$f":"sample!AF132","v":""},{"$f":"sample!AG132","v":""},{"$f":"sample!AH132","v":""},{"$f":"sample!AI132","v":""},{"$f":"sample!AJ132","v":""},{"$f":"sample!AK132","v":""},{"$f":"sample!AL132","v":""},{"$f":"sample!AM132","v":""},{"$f":"sample!AN132","v":""},{"$f":"sample!AO132","v":""},{"$f":"sample!AP132","v":""},{"$f":"sample!AQ132","v":""},{"$f":"sample!AR132","v":""},{"$f":"sample!AS132","v":""},{"$f":"sample!AT132","v":""},{"$f":"sample!AU132","v":""},{"$f":"sample!AV132","v":""},{"$f":"sample!AW132","v":""},{"$f":"sample!AX132","v":""},{"$f":"sample!AY132","v":""},{"$f":"sample!AZ132","v":""},{"$f":"sample!BA132","v":""},{"$f":"sample!BB132","v":""},{"$f":"sample!BC132","v":""},{"$f":"sample!BD132","v":""},{"$f":"sample!BE132","v":""},{"$f":"sample!BF132","v":""},{"$f":"sample!BG132","v":""},{"$f":"sample!BH132","v":""},{"$f":"sample!BI132","v":""},{"$f":"sample!BJ132","v":""},{"$f":"sample!BK132","v":""},null,null,null,null,null,null,null,null,{"$f":"IF(sample!X132=\"\",\"\",sample!X132)","v":""},{"$f":"IF(sample!Y132=\"\",\"\",sample!Y132)","v":""},{"$f":"IF(sample!Z132=\"\",\"\",sample!Z132)","v":""},{"$f":"IF(sample!AA132=\"\",\"\",sample!AA132)","v":""},{"$f":"IF(sample!AB132=\"\",\"\",sample!AB132)","v":""},{"$f":"IF(sample!AC132=\"\",\"\",sample!AC132)","v":""},{"$f":"IF(sample!AD132=\"\",\"\",sample!AD132)","v":""},{"$f":"IF(sample!AE132=\"\",\"\",sample!AE132)","v":""},{"$f":"IF(sample!AF132=\"\",\"\",sample!AF132)","v":""},{"$f":"IF(sample!AG132=\"\",\"\",sample!AG132)","v":""},{"$f":"IF(sample!AH132=\"\",\"\",sample!AH132)","v":""},{"$f":"IF(sample!AI132=\"\",\"\",sample!AI132)","v":""},{"$f":"IF(sample!AJ132=\"\",\"\",sample!AJ132)","v":""},{"$f":"IF(sample!AK132=\"\",\"\",sample!AK132)","v":""},{"$f":"IF(sample!AL132=\"\",\"\",sample!AL132)","v":""},{"$f":"IF(sample!AM132=\"\",\"\",sample!AM132)","v":""},{"$f":"IF(sample!AN132=\"\",\"\",sample!AN132)","v":""},{"$f":"IF(sample!AO132=\"\",\"\",sample!AO132)","v":""},{"$f":"IF(sample!AP132=\"\",\"\",sample!AP132)","v":""},{"$f":"IF(sample!AQ132=\"\",\"\",sample!AQ132)","v":""},{"$f":"IF(sample!AR132=\"\",\"\",sample!AR132)","v":""},{"$f":"IF(sample!AS132=\"\",\"\",sample!AS132)","v":""},{"$f":"IF(sample!AT132=\"\",\"\",sample!AT132)","v":""},{"$f":"IF(sample!AU132=\"\",\"\",sample!AU132)","v":""},{"$f":"IF(sample!AV132=\"\",\"\",sample!AV132)","v":""},{"$f":"IF(sample!AW132=\"\",\"\",sample!AW132)","v":""},{"$f":"IF(sample!AX132=\"\",\"\",sample!AX132)","v":""},{"$f":"IF(sample!AY132=\"\",\"\",sample!AY132)","v":""},{"$f":"IF(sample!AZ132=\"\",\"\",sample!AZ132)","v":""},{"$f":"IF(sample!BA132=\"\",\"\",sample!BA132)","v":""},{"$f":"IF(sample!BB132=\"\",\"\",sample!BB132)","v":""},{"$f":"IF(sample!BC132=\"\",\"\",sample!BC132)","v":""},{"$f":"IF(sample!BD132=\"\",\"\",sample!BD132)","v":""},{"$f":"IF(sample!BE132=\"\",\"\",sample!BE132)","v":""},{"$f":"IF(sample!BF132=\"\",\"\",sample!BF132)","v":""},{"$f":"IF(sample!BG132=\"\",\"\",sample!BG132)","v":""},{"$f":"IF(sample!BH132=\"\",\"\",sample!BH132)","v":""},{"$f":"IF(sample!BI132=\"\",\"\",sample!BI132)","v":""},{"$f":"IF(sample!BJ132=\"\",\"\",sample!BJ132)","v":""},{"$f":"IF(sample!BK132=\"\",\"\",sample!BK132)","v":""},{"$f":"IF(sample!BL132=\"\",\"\",sample!BL132)","v":""},{"$f":"IF(sample!BM132=\"\",\"\",sample!BM132)","v":""},{"$f":"IF(sample!BN132=\"\",\"\",sample!BN132)","v":""},{"$f":"IF(sample!BO132=\"\",\"\",sample!BO132)","v":""},{"$f":"IF(sample!BP132=\"\",\"\",sample!BP132)","v":""},{"$f":"IF(sample!BQ132=\"\",\"\",sample!BQ132)","v":""},{"$f":"IF(sample!BR132=\"\",\"\",sample!BR132)","v":""},{"$f":"IF(sample!BS132=\"\",\"\",sample!BS132)","v":""},{"$f":"IF(sample!BT132=\"\",\"\",sample!BT132)","v":""},{"$f":"IF(sample!BU132=\"\",\"\",sample!BU132)","v":""},{"$f":"IF(sample!BV132=\"\",\"\",sample!BV132)","v":""},{"$f":"IF(sample!BW132=\"\",\"\",sample!BW132)","v":""}]
[]
[{"$f":"sample!K133","v":0},"DK610","N/A",0,{"$f":"HLOOKUP($Q$2,sample!$BN$2:$DM$139,132,FALSE)","v":""},{"$f":"sample!L133","v":""},{"$f":"sample!M133","v":""},{"$f":"sample!N133","v":""},{"$f":"sample!O133","v":""},{"$f":"sample!P133","v":""},{"$f":"sample!Q133","v":""},{"$f":"sample!R133","v":""},{"$f":"sample!S133","v":""},{"$f":"sample!T133","v":""},{"$f":"sample!U133","v":""},{"$f":"sample!V133","v":""},{"$f":"sample!W133","v":""},{"$f":"sample!X133","v":""},{"$f":"sample!Y133","v":""},{"$f":"sample!Z133","v":""},{"$f":"sample!AA133","v":""},{"$f":"sample!AB133","v":""},{"$f":"sample!AC133","v":""},{"$f":"sample!AD133","v":""},{"$f":"sample!AE133","v":""},{"$f":"sample!AF133","v":""},{"$f":"sample!AG133","v":""},{"$f":"sample!AH133","v":""},{"$f":"sample!AI133","v":""},{"$f":"sample!AJ133","v":""},{"$f":"sample!AK133","v":""},{"$f":"sample!AL133","v":""},{"$f":"sample!AM133","v":""},{"$f":"sample!AN133","v":""},{"$f":"sample!AO133","v":""},{"$f":"sample!AP133","v":""},{"$f":"sample!AQ133","v":""},{"$f":"sample!AR133","v":""},{"$f":"sample!AS133","v":""},{"$f":"sample!AT133","v":""},{"$f":"sample!AU133","v":""},{"$f":"sample!AV133","v":""},{"$f":"sample!AW133","v":""},{"$f":"sample!AX133","v":""},{"$f":"sample!AY133","v":""},{"$f":"sample!AZ133","v":""},{"$f":"sample!BA133","v":""},{"$f":"sample!BB133","v":""},{"$f":"sample!BC133","v":""},{"$f":"sample!BD133","v":""},{"$f":"sample!BE133","v":""},{"$f":"sample!BF133","v":""},{"$f":"sample!BG133","v":""},{"$f":"sample!BH133","v":""},{"$f":"sample!BI133","v":""},{"$f":"sample!BJ133","v":""},{"$f":"sample!BK133","v":""},null,null,null,null,null,null,null,null,{"$f":"IF(sample!X133=\"\",\"\",sample!X133)","v":""},{"$f":"IF(sample!Y133=\"\",\"\",sample!Y133)","v":""},{"$f":"IF(sample!Z133=\"\",\"\",sample!Z133)","v":""},{"$f":"IF(sample!AA133=\"\",\"\",sample!AA133)","v":""},{"$f":"IF(sample!AB133=\"\",\"\",sample!AB133)","v":""},{"$f":"IF(sample!AC133=\"\",\"\",sample!AC133)","v":""},{"$f":"IF(sample!AD133=\"\",\"\",sample!AD133)","v":""},{"$f":"IF(sample!AE133=\"\",\"\",sample!AE133)","v":""},{"$f":"IF(sample!AF133=\"\",\"\",sample!AF133)","v":""},{"$f":"IF(sample!AG133=\"\",\"\",sample!AG133)","v":""},{"$f":"IF(sample!AH133=\"\",\"\",sample!AH133)","v":""},{"$f":"IF(sample!AI133=\"\",\"\",sample!AI133)","v":""},{"$f":"IF(sample!AJ133=\"\",\"\",sample!AJ133)","v":""},{"$f":"IF(sample!AK133=\"\",\"\",sample!AK133)","v":""},{"$f":"IF(sample!AL133=\"\",\"\",sample!AL133)","v":""},{"$f":"IF(sample!AM133=\"\",\"\",sample!AM133)","v":""},{"$f":"IF(sample!AN133=\"\",\"\",sample!AN133)","v":""},{"$f":"IF(sample!AO133=\"\",\"\",sample!AO133)","v":""},{"$f":"IF(sample!AP133=\"\",\"\",sample!AP133)","v":""},{"$f":"IF(sample!AQ133=\"\",\"\",sample!AQ133)","v":""},{"$f":"IF(sample!AR133=\"\",\"\",sample!AR133)","v":""},{"$f":"IF(sample!AS133=\"\",\"\",sample!AS133)","v":""},{"$f":"IF(sample!AT133=\"\",\"\",sample!AT133)","v":""},{"$f":"IF(sample!AU133=\"\",\"\",sample!AU133)","v":""},{"$f":"IF(sample!AV133=\"\",\"\",sample!AV133)","v":""},{"$f":"IF(sample!AW133=\"\",\"\",sample!AW133)","v":""},{"$f":"IF(sample!AX133=\"\",\"\",sample!AX133)","v":""},{"$f":"IF(sample!AY133=\"\",\"\",sample!AY133)","v":""},{"$f":"IF(sample!AZ133=\"\",\"\",sample!AZ133)","v":""},{"$f":"IF(sample!BA133=\"\",\"\",sample!BA133)","v":""},{"$f":"IF(sample!BB133=\"\",\"\",sample!BB133)","v":""},{"$f":"IF(sample!BC133=\"\",\"\",sample!BC133)","v":""},{"$f":"IF(sample!BD133=\"\",\"\",sample!BD133)","v":""},{"$f":"IF(sample!BE133=\"\",\"\",sample!BE133)","v":""},{"$f":"IF(sample!BF133=\"\",\"\",sample!BF133)","v":""},{"$f":"IF(sample!BG133=\"\",\"\",sample!BG133)","v":""},{"$f":"IF(sample!BH133=\"\",\"\",sample!BH133)","v":""},{"$f":"IF(sample!BI133=\"\",\"\",sample!BI133)","v":""},{"$f":"IF(sample!BJ133=\"\",\"\",sample!BJ133)","v":""},{"$f":"IF(sample!BK133=\"\",\"\",sample!BK133)","v":""},{"$f":"IF(sample!BL133=\"\",\"\",sample!BL133)","v":""},{"$f":"IF(sample!BM133=\"\",\"\",sample!BM133)","v":""},{"$f":"IF(sample!BN133=\"\",\"\",sample!BN133)","v":""},{"$f":"IF(sample!BO133=\"\",\"\",sample!BO133)","v":""},{"$f":"IF(sample!BP133=\"\",\"\",sample!BP133)","v":""},{"$f":"IF(sample!BQ133=\"\",\"\",sample!BQ133)","v":""},{"$f":"IF(sample!BR133=\"\",\"\",sample!BR133)","v":""},{"$f":"IF(sample!BS133=\"\",\"\",sample!BS133)","v":""},{"$f":"IF(sample!BT133=\"\",\"\",sample!BT133)","v":""},{"$f":"IF(sample!BU133=\"\",\"\",sample!BU133)","v":""},{"$f":"IF(sample!BV133=\"\",\"\",sample!BV133)","v":""},{"$f":"IF(sample!BW133=\"\",\"\",sample!BW133)","v":""}]
[]
[{"$f":"sample!K134","v":0},"DK611","N/A",0,{"$f":"HLOOKUP($Q$2,sample!$BN$2:$DM$139,133,FALSE)","v":""},{"$f":"sample!L134","v":""},{"$f":"sample!M134","v":""},{"$f":"sample!N134","v":""},{"$f":"sample!O134","v":""},{"$f":"sample!P134","v":""},{"$f":"sample!Q134","v":""},{"$f":"sample!R134","v":""},{"$f":"sample!S134","v":""},{"$f":"sample!T134","v":""},{"$f":"sample!U134","v":""},{"$f":"sample!V134","v":""},{"$f":"sample!W134","v":""},{"$f":"sample!X134","v":""},{"$f":"sample!Y134","v":""},{"$f":"sample!Z134","v":""},{"$f":"sample!AA134","v":""},{"$f":"sample!AB134","v":""},{"$f":"sample!AC134","v":""},{"$f":"sample!AD134","v":""},{"$f":"sample!AE134","v":""},{"$f":"sample!AF134","v":""},{"$f":"sample!AG134","v":""},{"$f":"sample!AH134","v":""},{"$f":"sample!AI134","v":""},{"$f":"sample!AJ134","v":""},{"$f":"sample!AK134","v":""},{"$f":"sample!AL134","v":""},{"$f":"sample!AM134","v":""},{"$f":"sample!AN134","v":""},{"$f":"sample!AO134","v":""},{"$f":"sample!AP134","v":""},{"$f":"sample!AQ134","v":""},{"$f":"sample!AR134","v":""},{"$f":"sample!AS134","v":""},{"$f":"sample!AT134","v":""},{"$f":"sample!AU134","v":""},{"$f":"sample!AV134","v":""},{"$f":"sample!AW134","v":""},{"$f":"sample!AX134","v":""},{"$f":"sample!AY134","v":""},{"$f":"sample!AZ134","v":""},{"$f":"sample!BA134","v":""},{"$f":"sample!BB134","v":""},{"$f":"sample!BC134","v":""},{"$f":"sample!BD134","v":""},{"$f":"sample!BE134","v":""},{"$f":"sample!BF134","v":""},{"$f":"sample!BG134","v":""},{"$f":"sample!BH134","v":""},{"$f":"sample!BI134","v":""},{"$f":"sample!BJ134","v":""},{"$f":"sample!BK134","v":""},null,null,null,null,null,null,null,null,{"$f":"IF(sample!X134=\"\",\"\",sample!X134)","v":""},{"$f":"IF(sample!Y134=\"\",\"\",sample!Y134)","v":""},{"$f":"IF(sample!Z134=\"\",\"\",sample!Z134)","v":""},{"$f":"IF(sample!AA134=\"\",\"\",sample!AA134)","v":""},{"$f":"IF(sample!AB134=\"\",\"\",sample!AB134)","v":""},{"$f":"IF(sample!AC134=\"\",\"\",sample!AC134)","v":""},{"$f":"IF(sample!AD134=\"\",\"\",sample!AD134)","v":""},{"$f":"IF(sample!AE134=\"\",\"\",sample!AE134)","v":""},{"$f":"IF(sample!AF134=\"\",\"\",sample!AF134)","v":""},{"$f":"IF(sample!AG134=\"\",\"\",sample!AG134)","v":""},{"$f":"IF(sample!AH134=\"\",\"\",sample!AH134)","v":""},{"$f":"IF(sample!AI134=\"\",\"\",sample!AI134)","v":""},{"$f":"IF(sample!AJ134=\"\",\"\",sample!AJ134)","v":""},{"$f":"IF(sample!AK134=\"\",\"\",sample!AK134)","v":""},{"$f":"IF(sample!AL134=\"\",\"\",sample!AL134)","v":""},{"$f":"IF(sample!AM134=\"\",\"\",sample!AM134)","v":""},{"$f":"IF(sample!AN134=\"\",\"\",sample!AN134)","v":""},{"$f":"IF(sample!AO134=\"\",\"\",sample!AO134)","v":""},{"$f":"IF(sample!AP134=\"\",\"\",sample!AP134)","v":""},{"$f":"IF(sample!AQ134=\"\",\"\",sample!AQ134)","v":""},{"$f":"IF(sample!AR134=\"\",\"\",sample!AR134)","v":""},{"$f":"IF(sample!AS134=\"\",\"\",sample!AS134)","v":""},{"$f":"IF(sample!AT134=\"\",\"\",sample!AT134)","v":""},{"$f":"IF(sample!AU134=\"\",\"\",sample!AU134)","v":""},{"$f":"IF(sample!AV134=\"\",\"\",sample!AV134)","v":""},{"$f":"IF(sample!AW134=\"\",\"\",sample!AW134)","v":""},{"$f":"IF(sample!AX134=\"\",\"\",sample!AX134)","v":""},{"$f":"IF(sample!AY134=\"\",\"\",sample!AY134)","v":""},{"$f":"IF(sample!AZ134=\"\",\"\",sample!AZ134)","v":""},{"$f":"IF(sample!BA134=\"\",\"\",sample!BA134)","v":""},{"$f":"IF(sample!BB134=\"\",\"\",sample!BB134)","v":""},{"$f":"IF(sample!BC134=\"\",\"\",sample!BC134)","v":""},{"$f":"IF(sample!BD134=\"\",\"\",sample!BD134)","v":""},{"$f":"IF(sample!BE134=\"\",\"\",sample!BE134)","v":""},{"$f":"IF(sample!BF134=\"\",\"\",sample!BF134)","v":""},{"$f":"IF(sample!BG134=\"\",\"\",sample!BG134)","v":""},{"$f":"IF(sample!BH134=\"\",\"\",sample!BH134)","v":""},{"$f":"IF(sample!BI134=\"\",\"\",sample!BI134)","v":""},{"$f":"IF(sample!BJ134=\"\",\"\",sample!BJ134)","v":""},{"$f":"IF(sample!BK134=\"\",\"\",sample!BK134)","v":""},{"$f":"IF(sample!BL134=\"\",\"\",sample!BL134)","v":""},{"$f":"IF(sample!BM134=\"\",\"\",sample!BM134)","v":""},{"$f":"IF(sample!BN134=\"\",\"\",sample!BN134)","v":""},{"$f":"IF(sample!BO134=\"\",\"\",sample!BO134)","v":""},{"$f":"IF(sample!BP134=\"\",\"\",sample!BP134)","v":""},{"$f":"IF(sample!BQ134=\"\",\"\",sample!BQ134)","v":""},{"$f":"IF(sample!BR134=\"\",\"\",sample!BR134)","v":""},{"$f":"IF(sample!BS134=\"\",\"\",sample!BS134)","v":""},{"$f":"IF(sample!BT134=\"\",\"\",sample!BT134)","v":""},{"$f":"IF(sample!BU134=\"\",\"\",sample!BU134)","v":""},{"$f":"IF(sample!BV134=\"\",\"\",sample!BV134)","v":""},{"$f":"IF(sample!BW134=\"\",\"\",sample!BW134)","v":""}]
[]
[{"$f":"sample!K135","v":0},"DK612","N/A",0,{"$f":"HLOOKUP($Q$2,sample!$BN$2:$DM$139,134,FALSE)","v":""},{"$f":"sample!L135","v":""},{"$f":"sample!M135","v":""},{"$f":"sample!N135","v":""},{"$f":"sample!O135","v":""},{"$f":"sample!P135","v":""},{"$f":"sample!Q135","v":""},{"$f":"sample!R135","v":""},{"$f":"sample!S135","v":""},{"$f":"sample!T135","v":""},{"$f":"sample!U135","v":""},{"$f":"sample!V135","v":""},{"$f":"sample!W135","v":""},{"$f":"sample!X135","v":""},{"$f":"sample!Y135","v":""},{"$f":"sample!Z135","v":""},{"$f":"sample!AA135","v":""},{"$f":"sample!AB135","v":""},{"$f":"sample!AC135","v":""},{"$f":"sample!AD135","v":""},{"$f":"sample!AE135","v":""},{"$f":"sample!AF135","v":""},{"$f":"sample!AG135","v":""},{"$f":"sample!AH135","v":""},{"$f":"sample!AI135","v":""},{"$f":"sample!AJ135","v":""},{"$f":"sample!AK135","v":""},{"$f":"sample!AL135","v":""},{"$f":"sample!AM135","v":""},{"$f":"sample!AN135","v":""},{"$f":"sample!AO135","v":""},{"$f":"sample!AP135","v":""},{"$f":"sample!AQ135","v":""},{"$f":"sample!AR135","v":""},{"$f":"sample!AS135","v":""},{"$f":"sample!AT135","v":""},{"$f":"sample!AU135","v":""},{"$f":"sample!AV135","v":""},{"$f":"sample!AW135","v":""},{"$f":"sample!AX135","v":""},{"$f":"sample!AY135","v":""},{"$f":"sample!AZ135","v":""},{"$f":"sample!BA135","v":""},{"$f":"sample!BB135","v":""},{"$f":"sample!BC135","v":""},{"$f":"sample!BD135","v":""},{"$f":"sample!BE135","v":""},{"$f":"sample!BF135","v":""},{"$f":"sample!BG135","v":""},{"$f":"sample!BH135","v":""},{"$f":"sample!BI135","v":""},{"$f":"sample!BJ135","v":""},{"$f":"sample!BK135","v":""},null,null,null,null,null,null,null,null,{"$f":"IF(sample!X135=\"\",\"\",sample!X135)","v":""},{"$f":"IF(sample!Y135=\"\",\"\",sample!Y135)","v":""},{"$f":"IF(sample!Z135=\"\",\"\",sample!Z135)","v":""},{"$f":"IF(sample!AA135=\"\",\"\",sample!AA135)","v":""},{"$f":"IF(sample!AB135=\"\",\"\",sample!AB135)","v":""},{"$f":"IF(sample!AC135=\"\",\"\",sample!AC135)","v":""},{"$f":"IF(sample!AD135=\"\",\"\",sample!AD135)","v":""},{"$f":"IF(sample!AE135=\"\",\"\",sample!AE135)","v":""},{"$f":"IF(sample!AF135=\"\",\"\",sample!AF135)","v":""},{"$f":"IF(sample!AG135=\"\",\"\",sample!AG135)","v":""},{"$f":"IF(sample!AH135=\"\",\"\",sample!AH135)","v":""},{"$f":"IF(sample!AI135=\"\",\"\",sample!AI135)","v":""},{"$f":"IF(sample!AJ135=\"\",\"\",sample!AJ135)","v":""},{"$f":"IF(sample!AK135=\"\",\"\",sample!AK135)","v":""},{"$f":"IF(sample!AL135=\"\",\"\",sample!AL135)","v":""},{"$f":"IF(sample!AM135=\"\",\"\",sample!AM135)","v":""},{"$f":"IF(sample!AN135=\"\",\"\",sample!AN135)","v":""},{"$f":"IF(sample!AO135=\"\",\"\",sample!AO135)","v":""},{"$f":"IF(sample!AP135=\"\",\"\",sample!AP135)","v":""},{"$f":"IF(sample!AQ135=\"\",\"\",sample!AQ135)","v":""},{"$f":"IF(sample!AR135=\"\",\"\",sample!AR135)","v":""},{"$f":"IF(sample!AS135=\"\",\"\",sample!AS135)","v":""},{"$f":"IF(sample!AT135=\"\",\"\",sample!AT135)","v":""},{"$f":"IF(sample!AU135=\"\",\"\",sample!AU135)","v":""},{"$f":"IF(sample!AV135=\"\",\"\",sample!AV135)","v":""},{"$f":"IF(sample!AW135=\"\",\"\",sample!AW135)","v":""},{"$f":"IF(sample!AX135=\"\",\"\",sample!AX135)","v":""},{"$f":"IF(sample!AY135=\"\",\"\",sample!AY135)","v":""},{"$f":"IF(sample!AZ135=\"\",\"\",sample!AZ135)","v":""},{"$f":"IF(sample!BA135=\"\",\"\",sample!BA135)","v":""},{"$f":"IF(sample!BB135=\"\",\"\",sample!BB135)","v":""},{"$f":"IF(sample!BC135=\"\",\"\",sample!BC135)","v":""},{"$f":"IF(sample!BD135=\"\",\"\",sample!BD135)","v":""},{"$f":"IF(sample!BE135=\"\",\"\",sample!BE135)","v":""},{"$f":"IF(sample!BF135=\"\",\"\",sample!BF135)","v":""},{"$f":"IF(sample!BG135=\"\",\"\",sample!BG135)","v":""},{"$f":"IF(sample!BH135=\"\",\"\",sample!BH135)","v":""},{"$f":"IF(sample!BI135=\"\",\"\",sample!BI135)","v":""},{"$f":"IF(sample!BJ135=\"\",\"\",sample!BJ135)","v":""},{"$f":"IF(sample!BK135=\"\",\"\",sample!BK135)","v":""},{"$f":"IF(sample!BL135=\"\",\"\",sample!BL135)","v":""},{"$f":"IF(sample!BM135=\"\",\"\",sample!BM135)","v":""},{"$f":"IF(sample!BN135=\"\",\"\",sample!BN135)","v":""},{"$f":"IF(sample!BO135=\"\",\"\",sample!BO135)","v":""},{"$f":"IF(sample!BP135=\"\",\"\",sample!BP135)","v":""},{"$f":"IF(sample!BQ135=\"\",\"\",sample!BQ135)","v":""},{"$f":"IF(sample!BR135=\"\",\"\",sample!BR135)","v":""},{"$f":"IF(sample!BS135=\"\",\"\",sample!BS135)","v":""},{"$f":"IF(sample!BT135=\"\",\"\",sample!BT135)","v":""},{"$f":"IF(sample!BU135=\"\",\"\",sample!BU135)","v":""},{"$f":"IF(sample!BV135=\"\",\"\",sample!BV135)","v":""},{"$f":"IF(sample!BW135=\"\",\"\",sample!BW135)","v":""}]
[]
[{"$f":"sample!K136","v":0},"DK613","N/A",0,{"$f":"HLOOKUP($Q$2,sample!$BN$2:$DM$139,135,FALSE)","v":""},{"$f":"sample!L136","v":""},{"$f":"sample!M136","v":""},{"$f":"sample!N136","v":""},{"$f":"sample!O136","v":""},{"$f":"sample!P136","v":""},{"$f":"sample!Q136","v":""},{"$f":"sample!R136","v":""},{"$f":"sample!S136","v":""},{"$f":"sample!T136","v":""},{"$f":"sample!U136","v":""},{"$f":"sample!V136","v":""},{"$f":"sample!W136","v":""},{"$f":"sample!X136","v":""},{"$f":"sample!Y136","v":""},{"$f":"sample!Z136","v":""},{"$f":"sample!AA136","v":""},{"$f":"sample!AB136","v":""},{"$f":"sample!AC136","v":""},{"$f":"sample!AD136","v":""},{"$f":"sample!AE136","v":""},{"$f":"sample!AF136","v":""},{"$f":"sample!AG136","v":""},{"$f":"sample!AH136","v":""},{"$f":"sample!AI136","v":""},{"$f":"sample!AJ136","v":""},{"$f":"sample!AK136","v":""},{"$f":"sample!AL136","v":""},{"$f":"sample!AM136","v":""},{"$f":"sample!AN136","v":""},{"$f":"sample!AO136","v":""},{"$f":"sample!AP136","v":""},{"$f":"sample!AQ136","v":""},{"$f":"sample!AR136","v":""},{"$f":"sample!AS136","v":""},{"$f":"sample!AT136","v":""},{"$f":"sample!AU136","v":""},{"$f":"sample!AV136","v":""},{"$f":"sample!AW136","v":""},{"$f":"sample!AX136","v":""},{"$f":"sample!AY136","v":""},{"$f":"sample!AZ136","v":""},{"$f":"sample!BA136","v":""},{"$f":"sample!BB136","v":""},{"$f":"sample!BC136","v":""},{"$f":"sample!BD136","v":""},{"$f":"sample!BE136","v":""},{"$f":"sample!BF136","v":""},{"$f":"sample!BG136","v":""},{"$f":"sample!BH136","v":""},{"$f":"sample!BI136","v":""},{"$f":"sample!BJ136","v":""},{"$f":"sample!BK136","v":""},null,null,null,null,null,null,null,null,{"$f":"IF(sample!X136=\"\",\"\",sample!X136)","v":""},{"$f":"IF(sample!Y136=\"\",\"\",sample!Y136)","v":""},{"$f":"IF(sample!Z136=\"\",\"\",sample!Z136)","v":""},{"$f":"IF(sample!AA136=\"\",\"\",sample!AA136)","v":""},{"$f":"IF(sample!AB136=\"\",\"\",sample!AB136)","v":""},{"$f":"IF(sample!AC136=\"\",\"\",sample!AC136)","v":""},{"$f":"IF(sample!AD136=\"\",\"\",sample!AD136)","v":""},{"$f":"IF(sample!AE136=\"\",\"\",sample!AE136)","v":""},{"$f":"IF(sample!AF136=\"\",\"\",sample!AF136)","v":""},{"$f":"IF(sample!AG136=\"\",\"\",sample!AG136)","v":""},{"$f":"IF(sample!AH136=\"\",\"\",sample!AH136)","v":""},{"$f":"IF(sample!AI136=\"\",\"\",sample!AI136)","v":""},{"$f":"IF(sample!AJ136=\"\",\"\",sample!AJ136)","v":""},{"$f":"IF(sample!AK136=\"\",\"\",sample!AK136)","v":""},{"$f":"IF(sample!AL136=\"\",\"\",sample!AL136)","v":""},{"$f":"IF(sample!AM136=\"\",\"\",sample!AM136)","v":""},{"$f":"IF(sample!AN136=\"\",\"\",sample!AN136)","v":""},{"$f":"IF(sample!AO136=\"\",\"\",sample!AO136)","v":""},{"$f":"IF(sample!AP136=\"\",\"\",sample!AP136)","v":""},{"$f":"IF(sample!AQ136=\"\",\"\",sample!AQ136)","v":""},{"$f":"IF(sample!AR136=\"\",\"\",sample!AR136)","v":""},{"$f":"IF(sample!AS136=\"\",\"\",sample!AS136)","v":""},{"$f":"IF(sample!AT136=\"\",\"\",sample!AT136)","v":""},{"$f":"IF(sample!AU136=\"\",\"\",sample!AU136)","v":""},{"$f":"IF(sample!AV136=\"\",\"\",sample!AV136)","v":""},{"$f":"IF(sample!AW136=\"\",\"\",sample!AW136)","v":""},{"$f":"IF(sample!AX136=\"\",\"\",sample!AX136)","v":""},{"$f":"IF(sample!AY136=\"\",\"\",sample!AY136)","v":""},{"$f":"IF(sample!AZ136=\"\",\"\",sample!AZ136)","v":""},{"$f":"IF(sample!BA136=\"\",\"\",sample!BA136)","v":""},{"$f":"IF(sample!BB136=\"\",\"\",sample!BB136)","v":""},{"$f":"IF(sample!BC136=\"\",\"\",sample!BC136)","v":""},{"$f":"IF(sample!BD136=\"\",\"\",sample!BD136)","v":""},{"$f":"IF(sample!BE136=\"\",\"\",sample!BE136)","v":""},{"$f":"IF(sample!BF136=\"\",\"\",sample!BF136)","v":""},{"$f":"IF(sample!BG136=\"\",\"\",sample!BG136)","v":""},{"$f":"IF(sample!BH136=\"\",\"\",sample!BH136)","v":""},{"$f":"IF(sample!BI136=\"\",\"\",sample!BI136)","v":""},{"$f":"IF(sample!BJ136=\"\",\"\",sample!BJ136)","v":""},{"$f":"IF(sample!BK136=\"\",\"\",sample!BK136)","v":""},{"$f":"IF(sample!BL136=\"\",\"\",sample!BL136)","v":""},{"$f":"IF(sample!BM136=\"\",\"\",sample!BM136)","v":""},{"$f":"IF(sample!BN136=\"\",\"\",sample!BN136)","v":""},{"$f":"IF(sample!BO136=\"\",\"\",sample!BO136)","v":""},{"$f":"IF(sample!BP136=\"\",\"\",sample!BP136)","v":""},{"$f":"IF(sample!BQ136=\"\",\"\",sample!BQ136)","v":""},{"$f":"IF(sample!BR136=\"\",\"\",sample!BR136)","v":""},{"$f":"IF(sample!BS136=\"\",\"\",sample!BS136)","v":""},{"$f":"IF(sample!BT136=\"\",\"\",sample!BT136)","v":""},{"$f":"IF(sample!BU136=\"\",\"\",sample!BU136)","v":""},{"$f":"IF(sample!BV136=\"\",\"\",sample!BV136)","v":""},{"$f":"IF(sample!BW136=\"\",\"\",sample!BW136)","v":""}]
[]
[{"$f":"sample!K137","v":0},"DK614","N/A",0,{"$f":"HLOOKUP($Q$2,sample!$BN$2:$DM$139,136,FALSE)","v":""},{"$f":"sample!L137","v":""},{"$f":"sample!M137","v":""},{"$f":"sample!N137","v":""},{"$f":"sample!O137","v":""},{"$f":"sample!P137","v":""},{"$f":"sample!Q137","v":""},{"$f":"sample!R137","v":""},{"$f":"sample!S137","v":""},{"$f":"sample!T137","v":""},{"$f":"sample!U137","v":""},{"$f":"sample!V137","v":""},{"$f":"sample!W137","v":""},{"$f":"sample!X137","v":""},{"$f":"sample!Y137","v":""},{"$f":"sample!Z137","v":""},{"$f":"sample!AA137","v":""},{"$f":"sample!AB137","v":""},{"$f":"sample!AC137","v":""},{"$f":"sample!AD137","v":""},{"$f":"sample!AE137","v":""},{"$f":"sample!AF137","v":""},{"$f":"sample!AG137","v":""},{"$f":"sample!AH137","v":""},{"$f":"sample!AI137","v":""},{"$f":"sample!AJ137","v":""},{"$f":"sample!AK137","v":""},{"$f":"sample!AL137","v":""},{"$f":"sample!AM137","v":""},{"$f":"sample!AN137","v":""},{"$f":"sample!AO137","v":""},{"$f":"sample!AP137","v":""},{"$f":"sample!AQ137","v":""},{"$f":"sample!AR137","v":""},{"$f":"sample!AS137","v":""},{"$f":"sample!AT137","v":""},{"$f":"sample!AU137","v":""},{"$f":"sample!AV137","v":""},{"$f":"sample!AW137","v":""},{"$f":"sample!AX137","v":""},{"$f":"sample!AY137","v":""},{"$f":"sample!AZ137","v":""},{"$f":"sample!BA137","v":""},{"$f":"sample!BB137","v":""},{"$f":"sample!BC137","v":""},{"$f":"sample!BD137","v":""},{"$f":"sample!BE137","v":""},{"$f":"sample!BF137","v":""},{"$f":"sample!BG137","v":""},{"$f":"sample!BH137","v":""},{"$f":"sample!BI137","v":""},{"$f":"sample!BJ137","v":""},{"$f":"sample!BK137","v":""},null,null,null,null,null,null,null,null,{"$f":"IF(sample!X137=\"\",\"\",sample!X137)","v":""},{"$f":"IF(sample!Y137=\"\",\"\",sample!Y137)","v":""},{"$f":"IF(sample!Z137=\"\",\"\",sample!Z137)","v":""},{"$f":"IF(sample!AA137=\"\",\"\",sample!AA137)","v":""},{"$f":"IF(sample!AB137=\"\",\"\",sample!AB137)","v":""},{"$f":"IF(sample!AC137=\"\",\"\",sample!AC137)","v":""},{"$f":"IF(sample!AD137=\"\",\"\",sample!AD137)","v":""},{"$f":"IF(sample!AE137=\"\",\"\",sample!AE137)","v":""},{"$f":"IF(sample!AF137=\"\",\"\",sample!AF137)","v":""},{"$f":"IF(sample!AG137=\"\",\"\",sample!AG137)","v":""},{"$f":"IF(sample!AH137=\"\",\"\",sample!AH137)","v":""},{"$f":"IF(sample!AI137=\"\",\"\",sample!AI137)","v":""},{"$f":"IF(sample!AJ137=\"\",\"\",sample!AJ137)","v":""},{"$f":"IF(sample!AK137=\"\",\"\",sample!AK137)","v":""},{"$f":"IF(sample!AL137=\"\",\"\",sample!AL137)","v":""},{"$f":"IF(sample!AM137=\"\",\"\",sample!AM137)","v":""},{"$f":"IF(sample!AN137=\"\",\"\",sample!AN137)","v":""},{"$f":"IF(sample!AO137=\"\",\"\",sample!AO137)","v":""},{"$f":"IF(sample!AP137=\"\",\"\",sample!AP137)","v":""},{"$f":"IF(sample!AQ137=\"\",\"\",sample!AQ137)","v":""},{"$f":"IF(sample!AR137=\"\",\"\",sample!AR137)","v":""},{"$f":"IF(sample!AS137=\"\",\"\",sample!AS137)","v":""},{"$f":"IF(sample!AT137=\"\",\"\",sample!AT137)","v":""},{"$f":"IF(sample!AU137=\"\",\"\",sample!AU137)","v":""},{"$f":"IF(sample!AV137=\"\",\"\",sample!AV137)","v":""},{"$f":"IF(sample!AW137=\"\",\"\",sample!AW137)","v":""},{"$f":"IF(sample!AX137=\"\",\"\",sample!AX137)","v":""},{"$f":"IF(sample!AY137=\"\",\"\",sample!AY137)","v":""},{"$f":"IF(sample!AZ137=\"\",\"\",sample!AZ137)","v":""},{"$f":"IF(sample!BA137=\"\",\"\",sample!BA137)","v":""},{"$f":"IF(sample!BB137=\"\",\"\",sample!BB137)","v":""},{"$f":"IF(sample!BC137=\"\",\"\",sample!BC137)","v":""},{"$f":"IF(sample!BD137=\"\",\"\",sample!BD137)","v":""},{"$f":"IF(sample!BE137=\"\",\"\",sample!BE137)","v":""},{"$f":"IF(sample!BF137=\"\",\"\",sample!BF137)","v":""},{"$f":"IF(sample!BG137=\"\",\"\",sample!BG137)","v":""},{"$f":"IF(sample!BH137=\"\",\"\",sample!BH137)","v":""},{"$f":"IF(sample!BI137=\"\",\"\",sample!BI137)","v":""},{"$f":"IF(sample!BJ137=\"\",\"\",sample!BJ137)","v":""},{"$f":"IF(sample!BK137=\"\",\"\",sample!BK137)","v":""},{"$f":"IF(sample!BL137=\"\",\"\",sample!BL137)","v":""},{"$f":"IF(sample!BM137=\"\",\"\",sample!BM137)","v":""},{"$f":"IF(sample!BN137=\"\",\"\",sample!BN137)","v":""},{"$f":"IF(sample!BO137=\"\",\"\",sample!BO137)","v":""},{"$f":"IF(sample!BP137=\"\",\"\",sample!BP137)","v":""},{"$f":"IF(sample!BQ137=\"\",\"\",sample!BQ137)","v":""},{"$f":"IF(sample!BR137=\"\",\"\",sample!BR137)","v":""},{"$f":"IF(sample!BS137=\"\",\"\",sample!BS137)","v":""},{"$f":"IF(sample!BT137=\"\",\"\",sample!BT137)","v":""},{"$f":"IF(sample!BU137=\"\",\"\",sample!BU137)","v":""},{"$f":"IF(sample!BV137=\"\",\"\",sample!BV137)","v":""},{"$f":"IF(sample!BW137=\"\",\"\",sample!BW137)","v":""}]
[]
[{"$f":"sample!K138","v":0},"DK615","N/A",0,{"$f":"HLOOKUP($Q$2,sample!$BN$2:$DM$139,137,FALSE)","v":""},{"$f":"sample!L138","v":""},{"$f":"sample!M138","v":""},{"$f":"sample!N138","v":""},{"$f":"sample!O138","v":""},{"$f":"sample!P138","v":""},{"$f":"sample!Q138","v":""},{"$f":"sample!R138","v":""},{"$f":"sample!S138","v":""},{"$f":"sample!T138","v":""},{"$f":"sample!U138","v":""},{"$f":"sample!V138","v":""},{"$f":"sample!W138","v":""},{"$f":"sample!X138","v":""},{"$f":"sample!Y138","v":""},{"$f":"sample!Z138","v":""},{"$f":"sample!AA138","v":""},{"$f":"sample!AB138","v":""},{"$f":"sample!AC138","v":""},{"$f":"sample!AD138","v":""},{"$f":"sample!AE138","v":""},{"$f":"sample!AF138","v":""},{"$f":"sample!AG138","v":""},{"$f":"sample!AH138","v":""},{"$f":"sample!AI138","v":""},{"$f":"sample!AJ138","v":""},{"$f":"sample!AK138","v":""},{"$f":"sample!AL138","v":""},{"$f":"sample!AM138","v":""},{"$f":"sample!AN138","v":""},{"$f":"sample!AO138","v":""},{"$f":"sample!AP138","v":""},{"$f":"sample!AQ138","v":""},{"$f":"sample!AR138","v":""},{"$f":"sample!AS138","v":""},{"$f":"sample!AT138","v":""},{"$f":"sample!AU138","v":""},{"$f":"sample!AV138","v":""},{"$f":"sample!AW138","v":""},{"$f":"sample!AX138","v":""},{"$f":"sample!AY138","v":""},{"$f":"sample!AZ138","v":""},{"$f":"sample!BA138","v":""},{"$f":"sample!BB138","v":""},{"$f":"sample!BC138","v":""},{"$f":"sample!BD138","v":""},{"$f":"sample!BE138","v":""},{"$f":"sample!BF138","v":""},{"$f":"sample!BG138","v":""},{"$f":"sample!BH138","v":""},{"$f":"sample!BI138","v":""},{"$f":"sample!BJ138","v":""},{"$f":"sample!BK138","v":""},null,null,null,null,null,null,null,null,{"$f":"IF(sample!X138=\"\",\"\",sample!X138)","v":""},{"$f":"IF(sample!Y138=\"\",\"\",sample!Y138)","v":""},{"$f":"IF(sample!Z138=\"\",\"\",sample!Z138)","v":""},{"$f":"IF(sample!AA138=\"\",\"\",sample!AA138)","v":""},{"$f":"IF(sample!AB138=\"\",\"\",sample!AB138)","v":""},{"$f":"IF(sample!AC138=\"\",\"\",sample!AC138)","v":""},{"$f":"IF(sample!AD138=\"\",\"\",sample!AD138)","v":""},{"$f":"IF(sample!AE138=\"\",\"\",sample!AE138)","v":""},{"$f":"IF(sample!AF138=\"\",\"\",sample!AF138)","v":""},{"$f":"IF(sample!AG138=\"\",\"\",sample!AG138)","v":""},{"$f":"IF(sample!AH138=\"\",\"\",sample!AH138)","v":""},{"$f":"IF(sample!AI138=\"\",\"\",sample!AI138)","v":""},{"$f":"IF(sample!AJ138=\"\",\"\",sample!AJ138)","v":""},{"$f":"IF(sample!AK138=\"\",\"\",sample!AK138)","v":""},{"$f":"IF(sample!AL138=\"\",\"\",sample!AL138)","v":""},{"$f":"IF(sample!AM138=\"\",\"\",sample!AM138)","v":""},{"$f":"IF(sample!AN138=\"\",\"\",sample!AN138)","v":""},{"$f":"IF(sample!AO138=\"\",\"\",sample!AO138)","v":""},{"$f":"IF(sample!AP138=\"\",\"\",sample!AP138)","v":""},{"$f":"IF(sample!AQ138=\"\",\"\",sample!AQ138)","v":""},{"$f":"IF(sample!AR138=\"\",\"\",sample!AR138)","v":""},{"$f":"IF(sample!AS138=\"\",\"\",sample!AS138)","v":""},{"$f":"IF(sample!AT138=\"\",\"\",sample!AT138)","v":""},{"$f":"IF(sample!AU138=\"\",\"\",sample!AU138)","v":""},{"$f":"IF(sample!AV138=\"\",\"\",sample!AV138)","v":""},{"$f":"IF(sample!AW138=\"\",\"\",sample!AW138)","v":""},{"$f":"IF(sample!AX138=\"\",\"\",sample!AX138)","v":""},{"$f":"IF(sample!AY138=\"\",\"\",sample!AY138)","v":""},{"$f":"IF(sample!AZ138=\"\",\"\",sample!AZ138)","v":""},{"$f":"IF(sample!BA138=\"\",\"\",sample!BA138)","v":""},{"$f":"IF(sample!BB138=\"\",\"\",sample!BB138)","v":""},{"$f":"IF(sample!BC138=\"\",\"\",sample!BC138)","v":""},{"$f":"IF(sample!BD138=\"\",\"\",sample!BD138)","v":""},{"$f":"IF(sample!BE138=\"\",\"\",sample!BE138)","v":""},{"$f":"IF(sample!BF138=\"\",\"\",sample!BF138)","v":""},{"$f":"IF(sample!BG138=\"\",\"\",sample!BG138)","v":""},{"$f":"IF(sample!BH138=\"\",\"\",sample!BH138)","v":""},{"$f":"IF(sample!BI138=\"\",\"\",sample!BI138)","v":""},{"$f":"IF(sample!BJ138=\"\",\"\",sample!BJ138)","v":""},{"$f":"IF(sample!BK138=\"\",\"\",sample!BK138)","v":""},{"$f":"IF(sample!BL138=\"\",\"\",sample!BL138)","v":""},{"$f":"IF(sample!BM138=\"\",\"\",sample!BM138)","v":""},{"$f":"IF(sample!BN138=\"\",\"\",sample!BN138)","v":""},{"$f":"IF(sample!BO138=\"\",\"\",sample!BO138)","v":""},{"$f":"IF(sample!BP138=\"\",\"\",sample!BP138)","v":""},{"$f":"IF(sample!BQ138=\"\",\"\",sample!BQ138)","v":""},{"$f":"IF(sample!BR138=\"\",\"\",sample!BR138)","v":""},{"$f":"IF(sample!BS138=\"\",\"\",sample!BS138)","v":""},{"$f":"IF(sample!BT138=\"\",\"\",sample!BT138)","v":""},{"$f":"IF(sample!BU138=\"\",\"\",sample!BU138)","v":""},{"$f":"IF(sample!BV138=\"\",\"\",sample!BV138)","v":""},{"$f":"IF(sample!BW138=\"\",\"\",sample!BW138)","v":""}]
[]
[{"$f":"sample!K139","v":0},"DK616","N/A",0,{"$f":"HLOOKUP($Q$2,sample!$BN$2:$DM$139,138,FALSE)","v":""},{"$f":"sample!L139","v":""},{"$f":"sample!M139","v":""},{"$f":"sample!N139","v":""},{"$f":"sample!O139","v":""},{"$f":"sample!P139","v":""},{"$f":"sample!Q139","v":""},{"$f":"sample!R139","v":""},{"$f":"sample!S139","v":""},{"$f":"sample!T139","v":""},{"$f":"sample!U139","v":""},{"$f":"sample!V139","v":""},{"$f":"sample!W139","v":""},{"$f":"sample!X139","v":""},{"$f":"sample!Y139","v":""},{"$f":"sample!Z139","v":""},{"$f":"sample!AA139","v":""},{"$f":"sample!AB139","v":""},{"$f":"sample!AC139","v":""},{"$f":"sample!AD139","v":""},{"$f":"sample!AE139","v":""},{"$f":"sample!AF139","v":""},{"$f":"sample!AG139","v":""},{"$f":"sample!AH139","v":""},{"$f":"sample!AI139","v":""},{"$f":"sample!AJ139","v":""},{"$f":"sample!AK139","v":""},{"$f":"sample!AL139","v":""},{"$f":"sample!AM139","v":""},{"$f":"sample!AN139","v":""},{"$f":"sample!AO139","v":""},{"$f":"sample!AP139","v":""},{"$f":"sample!AQ139","v":""},{"$f":"sample!AR139","v":""},{"$f":"sample!AS139","v":""},{"$f":"sample!AT139","v":""},{"$f":"sample!AU139","v":""},{"$f":"sample!AV139","v":""},{"$f":"sample!AW139","v":""},{"$f":"sample!AX139","v":""},{"$f":"sample!AY139","v":""},{"$f":"sample!AZ139","v":""},{"$f":"sample!BA139","v":""},{"$f":"sample!BB139","v":""},{"$f":"sample!BC139","v":""},{"$f":"sample!BD139","v":""},{"$f":"sample!BE139","v":""},{"$f":"sample!BF139","v":""},{"$f":"sample!BG139","v":""},{"$f":"sample!BH139","v":""},{"$f":"sample!BI139","v":""},{"$f":"sample!BJ139","v":""},{"$f":"sample!BK139","v":""},null,null,null,null,null,null,null,null,{"$f":"IF(sample!X139=\"\",\"\",sample!X139)","v":""},{"$f":"IF(sample!Y139=\"\",\"\",sample!Y139)","v":""},{"$f":"IF(sample!Z139=\"\",\"\",sample!Z139)","v":""},{"$f":"IF(sample!AA139=\"\",\"\",sample!AA139)","v":""},{"$f":"IF(sample!AB139=\"\",\"\",sample!AB139)","v":""},{"$f":"IF(sample!AC139=\"\",\"\",sample!AC139)","v":""},{"$f":"IF(sample!AD139=\"\",\"\",sample!AD139)","v":""},{"$f":"IF(sample!AE139=\"\",\"\",sample!AE139)","v":""},{"$f":"IF(sample!AF139=\"\",\"\",sample!AF139)","v":""},{"$f":"IF(sample!AG139=\"\",\"\",sample!AG139)","v":""},{"$f":"IF(sample!AH139=\"\",\"\",sample!AH139)","v":""},{"$f":"IF(sample!AI139=\"\",\"\",sample!AI139)","v":""},{"$f":"IF(sample!AJ139=\"\",\"\",sample!AJ139)","v":""},{"$f":"IF(sample!AK139=\"\",\"\",sample!AK139)","v":""},{"$f":"IF(sample!AL139=\"\",\"\",sample!AL139)","v":""},{"$f":"IF(sample!AM139=\"\",\"\",sample!AM139)","v":""},{"$f":"IF(sample!AN139=\"\",\"\",sample!AN139)","v":""},{"$f":"IF(sample!AO139=\"\",\"\",sample!AO139)","v":""},{"$f":"IF(sample!AP139=\"\",\"\",sample!AP139)","v":""},{"$f":"IF(sample!AQ139=\"\",\"\",sample!AQ139)","v":""},{"$f":"IF(sample!AR139=\"\",\"\",sample!AR139)","v":""},{"$f":"IF(sample!AS139=\"\",\"\",sample!AS139)","v":""},{"$f":"IF(sample!AT139=\"\",\"\",sample!AT139)","v":""},{"$f":"IF(sample!AU139=\"\",\"\",sample!AU139)","v":""},{"$f":"IF(sample!AV139=\"\",\"\",sample!AV139)","v":""},{"$f":"IF(sample!AW139=\"\",\"\",sample!AW139)","v":""},{"$f":"IF(sample!AX139=\"\",\"\",sample!AX139)","v":""},{"$f":"IF(sample!AY139=\"\",\"\",sample!AY139)","v":""},{"$f":"IF(sample!AZ139=\"\",\"\",sample!AZ139)","v":""},{"$f":"IF(sample!BA139=\"\",\"\",sample!BA139)","v":""},{"$f":"IF(sample!BB139=\"\",\"\",sample!BB139)","v":""},{"$f":"IF(sample!BC139=\"\",\"\",sample!BC139)","v":""},{"$f":"IF(sample!BD139=\"\",\"\",sample!BD139)","v":""},{"$f":"IF(sample!BE139=\"\",\"\",sample!BE139)","v":""},{"$f":"IF(sample!BF139=\"\",\"\",sample!BF139)","v":""},{"$f":"IF(sample!BG139=\"\",\"\",sample!BG139)","v":""},{"$f":"IF(sample!BH139=\"\",\"\",sample!BH139)","v":""},{"$f":"IF(sample!BI139=\"\",\"\",sample!BI139)","v":""},{"$f":"IF(sample!BJ139=\"\",\"\",sample!BJ139)","v":""},{"$f":"IF(sample!BK139=\"\",\"\",sample!BK139)","v":""},{"$f":"IF(sample!BL139=\"\",\"\",sample!BL139)","v":""},{"$f":"IF(sample!BM139=\"\",\"\",sample!BM139)","v":""},{"$f":"IF(sample!BN139=\"\",\"\",sample!BN139)","v":""},{"$f":"IF(sample!BO139=\"\",\"\",sample!BO139)","v":""},{"$f":"IF(sample!BP139=\"\",\"\",sample!BP139)","v":""},{"$f":"IF(sample!BQ139=\"\",\"\",sample!BQ139)","v":""},{"$f":"IF(sample!BR139=\"\",\"\",sample!BR139)","v":""},{"$f":"IF(sample!BS139=\"\",\"\",sample!BS139)","v":""},{"$f":"IF(sample!BT139=\"\",\"\",sample!BT139)","v":""},{"$f":"IF(sample!BU139=\"\",\"\",sample!BU139)","v":""},{"$f":"IF(sample!BV139=\"\",\"\",sample!BV139)","v":""},{"$f":"IF(sample!BW139=\"\",\"\",sample!BW139)","v":""}]
[null,null,null,null,null,null,null,null,null,null,null,null,null,null,null,null,null,null,null,null,null,null,null,null,null,null,null,null,null,null,null,null,null,null,null,null,null,null,null,null,null,null,null,null,null,null,null,null,null,null,null,null,null,null,null,null,null,null,{"$f":"sample!BZ139","v":""},{"$f":"sample!CA139","v":""},{"$f":"sample!CB139","v":""},{"$f":"sample!CC139","v":""},{"$f":"sample!CD139","v":""},{"$f":"sample!CE139","v":""}]
[null,null,null,null,"Minggu",1,2,3,4,5,6,7,8,9,10,11,12,13,14,15,16,17,18,19,20,21,22,23,24,25,26,27,28,29,30,31,32,33,34,35,36,37,38,39,40,41,42,43,44,45,46,47,48,49,50,51,52,null,"Nota: Lakaran Merah/Oren menunjukkan tidak konsisten dengan parent KPI"]
[null,null,null,null,null,null,null,null,null,null,null,null,null,null,null,null,null,null,null,null,null,null,null,null,null,null,null,null,null,null,null,null,null,null,null,null,null,null,null,null,null,null,null,null,null,null,null,null,null,null,null,null,null,null,null,null,null,null,null,null,null,null,null,null,null,1,2,3,4,5,6,7,8,9,10,11,12,13,14,15,16,17,18,19,20,21,22,23,24,25,26,27,28,29,30,31,32,33,34,35,36,37,38,39,40,41,42,43,44,45,46,47,48,49,50,51,52]
[null,null,"Form design by LEADERSENSE CONSULTING & SYSTEMS SDN BHD © 2017"]

{"sheet":"ProjBM","index":14,"n_rows":54,"n_cols":298,"rows_kept":54,"cut":false,"hidden":false,"merged":[[0,5,0,9],[7,33,8,33],[0,13,0,26],[1,11,1,13],[2,11,3,26],[4,20,4,21],[4,25,4,26],[7,29,8,29],[7,31,8,31],[11,2,11,4],[5,2,7,2],[5,14,5,16],[5,20,5,21],[5,25,5,26],[7,6,7,9],[7,13,7,17],[7,19,7,22],[7,24,7,27],[8,2,8,4],[9,2,9,4],[10,2,10,4],[9,6,9,9],[10,6,10,9],[11,6,11,9],[23,2,23,4],[12,2,12,4],[13,2,13,4],[14,2,14,4],[15,2,15,4],[16,2,16,4],[17,2,17,4],[18,2,18,4],[19,2,19,4],[20,2,20,4],[21,2,21,4],[22,2,22,4],[30,2,30,4],[31,2,31,4],[32,2,32,4],[33,2,33,4],[34,2,34,4],[9,33,43,33],[42,2,42,4],[43,2,43,4],[36,2,36,4],[37,2,37,4],[38,2,38,4],[39,2,39,4],[40,2,40,4],[41,2,41,4],[35,2,35,4],[24,2,24,4],[25,2,25,4],[26,2,26,4],[27,2,27,4],[28,2,28,4],[29,2,29,4],[12,6,12,9],[13,6,13,9],[14,6,14,9],[15,6,15,9],[16,6,16,9],[17,6,17,9],[18,6,18,9],[19,6,19,9],[20,6,20,9],[21,6,21,9],[22,6,22,9],[23,6,23,9],[24,6,24,9],[25,6,25,9],[26,6,26,9],[27,6,27,9],[28,6,28,9],[29,6,29,9],[30,6,30,9],[31,6,31,9],[32,6,32,9],[33,6,33,9],[34,6,34,9],[35,6,35,9],[36,6,36,9],[42,6,42,9],[43,6,43,9],[37,6,37,9],[38,6,38,9],[39,6,39,9],[40,6,40,9],[41,6,41,9]]}
[null,null,"Simple PROJECT Simpeo Benchmarks Series",null,null,{"$f":"KPICreate!A4","v":2020},null,null,null,null,null,null,null,{"$f":"Home!$H$16","v":"SAMPEL CORPORATION LTD"}]
[null,null,"Nama:",{"$f":"Home!H6","v":"ADAM NAUFAL HASMADI"},null,null,null,null,null,null,"ID KPI:",null,null,null,null,null,null,null,null,null,null,null,null,null,null,null,null,null,null,null,null,null,null,null,null,null,{"$f":"IF(AK4=\"N/A\",\"N/A\",\"Ok\")","v":"Ok"}]
[null,null,"Jawatan:",{"$f":"Home!H10","v":"PEN. KETUA PEMASARAN DAN PERKHIDMATAN"},null,null,null,null,null,null,"Deskripsi KPI:",{"$f":"IF(ISBLANK(VLOOKUP(L2,KPICreate!B5:C36,2)),\"\",VLOOKUP(L2,KPICreate!B5:C36,2))","v":{"$error":"#N/A"}},null,null,null,null,null,null,null,null,null,null,null,null,null,null,null,null,null,null,null,null,null,null,null,null,{"$f":"IF(AK5=\"N/A\",\"N/A\",\"Ok\")","v":"N/A"}]
[null,null,"Bahagian:",{"$f":"Home!H12","v":"PEMASARAN DAN PERKHIDMATAN"},null,null,null,null,null,null,null,null,null,null,null,null,null,null,null,null,null,null,null,null,null,null,null,null,null,null,null,null,null,null,null,null,{"$f":"IFERROR(CHOOSE(L5,\"L\",\"M\",\"N\",\"O\",\"P\",\"Q\",\"R\",\"S\",\"T\",\"U\",\"V\",\"W\",\"X\",\"Y\",\"Z\",\"AA\",\"AB\",\"AC\",\"AD\",\"AE\",\"AF\",\"AG\",\"AH\",\"AI\",\"AJ\",\"AK\",\"AL\",\"AM\",\"AN\",\"AO\",\"AP\",\"AQ\",\"AR\",\"AS\",\"AT\",\"AU\",\"AV\",\"AW\",\"AX\",\"AY\",\"AZ\",\"BA\",\"BB\",\"BC\",\"BD\",\"BE\",\"BF\",\"BG\",\"BH\",\"BI\",\"BJ\",\"BK\",\"BK\"),\"N/A\")","v":"L"}]
[null,null,"Skor:","Minggu Deadline:",{"$f":"IF(ISBLANK(VLOOKUP(L2,KPICreate!B5:I36,8)),\"\",VLOOKUP(L2,KPICreate!B5:I36,8))","v":{"$error":"#N/A"}},null,null,null,null,null,"Minggu Pilihan:",{"$f":"'Wk Input'!BM4","v":1},null,null,null,"%",null,null,null,null,"%",null,null,null,null,"%",null,null,null,null,null,"%",null,null,null,null,{"$f":"IFERROR(CHOOSE(RIGHT(L2,2),5,6,7,8,9,10,11,12,13,14,15,16,17,18,19),\"N/A\")","v":"N/A"}]
[null,null,{"$f":"IFERROR(AF45/100*AF47,\"\")","v":""},null,null,null,null,null,null,null,null,null,null,null,80,null,null,null,null,null,10,null,null,null,null,10,null,null,null,null,null,{"$f":"O6+U6+Z6","v":100}]
[]
[null,null,null,null,null,null,"Saiz Wajaran",null,null,null,null,null,null,"Selesai Tugas",null,null,null,null,null,"Kualiti Kerja",null,null,null,null,"Ikut Bajet/Masa",null,null,null,null,"Lupakan",null,"Skor\nBaris",null,"Catatan"]
["Tajuk","No","Deskripsi Tugasan",null,null,null,"⍟   1x","⍟⍟  2x","⍟⍟⍟ 3x","⍟⍟⍟⍟ 4x",null,"Wajar\n%",null,"Belum Mula","Permulaan","DalamProgres","Lanjut","Selesai",null,"Tidak Diguna","«  Poor","«« Fair","«««Meet",null,"Tidak Diguna","«  Poor","«« Fair","«««Meet",null,null,null,null,null,null,null,"H","W","C","Q","B","F","H","C","Q","B","Full Line Total","C","Q","B"]
["¨",null,null,null,null,null,null,null,null,null,{"$f":"IF(OR(C10=\"\",AJ10,AO10),0,AK10)","v":0},{"$f":"K10/K$45*100","v":0},null,null,null,null,null,null,null,null,null,null,null,null,null,null,null,null,null,null,null,{"$f":"IFERROR(L10*AY10,\"N/A\")","v":0},null,null,null,{"$f":"IF($A10=\"þ\",TRUE,FALSE)","v":false},{"$f":"IFERROR(VALUE(LEFT($G10,1)),0)","v":0},1,4,4,false,{"$f":"IF(AJ10,0,1)","v":1},{"$f":"O$6","v":80},{"$f":"IF(AM10=1,0,U$6)","v":10},{"$f":"IF(AN10=1,0,Z$6)","v":10},{"$f":"SUM(AQ10:AS10)","v":100},{"$f":"(AL10-1)/4*AQ10","v":0},{"$f":"(AL10-1)/4*(AM10-1)/3*AR10","v":0},{"$f":"(AL10-1)/4*(AN10-1)/3*AS10","v":0},{"$f":"SUM(AU10:AW10)","v":0},{"$f":"IFERROR(AX10/AT10,\"N/A\")","v":0}]
["¨",null,null,null,null,null,null,null,null,null,0,0,null,null,null,null,null,null,null,null,null,null,null,null,null,null,null,null,null,null,null,0,null,null,null,{"$f":"IF($A11=\"þ\",TRUE,FALSE)","v":false},{"$f":"IFERROR(VALUE(LEFT($G11,1)),0)","v":0},1,4,4,false,1,80,10,10,100,{"$f":"(AL11-1)/4*AQ11","v":0},{"$f":"(AL11-1)/4*(AM11-1)/3*AR11","v":0},{"$f":"(AL11-1)/4*(AN11-1)/3*AS11","v":0},0,0]
["¨",null,null,null,null,null,null,null,null,null,0,0,null,null,null,null,null,null,null,null,null,null,null,null,null,null,null,null,null,null,null,0,null,null,null,false,0,1,4,4,false,1,80,10,10,100,0,0,0,0,0]
["¨",null,null,null,null,null,null,null,null,null,0,0,null,null,null,null,null,null,null,null,null,null,null,null,null,null,null,null,null,null,null,0,null,null,null,false,0,1,4,4,false,1,80,10,10,100,0,0,0,0,0]
["¨",null,null,null,null,null,null,null,null,null,0,0,null,null,null,null,null,null,null,null,null,null,null,null,null,null,null,null,null,null,null,0,null,null,null,false,0,1,4,4,false,1,80,10,10,100,0,0,0,0,0]
["¨",null,null,null,null,null,null,null,null,null,0,0,null,null,null,null,null,null,null,null,null,null,null,null,null,null,null,null,null,null,null,0,null,null,null,false,0,1,4,4,false,1,80,10,10,100,0,0,0,0,0]
["¨",null,null,null,null,null,null,null,null,null,0,0,null,null,null,null,null,null,null,null,null,null,null,null,null,null,null,null,null,null,null,0,null,null,null,false,0,1,4,4,false,1,80,10,10,100,0,0,0,0,0]
["¨",null,null,null,null,null,null,null,null,null,0,0,null,null,null,null,null,null,null,null,null,null,null,null,null,null,null,null,null,null,null,0,null,null,null,false,0,1,4,4,false,1,80,10,10,100,0,0,0,0,0]
["¨",null,null,null,null,null,null,null,null,null,0,0,null,null,null,null,null,null,null,null,null,null,null,null,null,null,null,null,null,null,null,0,null,null,null,false,0,1,4,4,false,1,80,10,10,100,0,0,0,0,0]
["¨",null,null,null,null,null,null,null,null,null,0,0,null,null,null,null,null,null,null,null,null,null,null,null,null,null,null,null,null,null,null,0,null,null,null,false,0,1,4,4,false,1,80,10,10,100,0,0,0,0,0]
["¨",null,null,null,null,null,null,null,null,null,0,0,null,null,null,null,null,null,null,null,null,null,null,null,null,null,null,null,null,null,null,0,null,null,null,false,0,1,4,4,false,1,80,10,10,100,0,0,0,0,0,null,null,null,null,null,null,null,null,null,null,null,null,null,null,null,null,null,null,null,null,null,null,null,null,null,null,null,null,null,null,null,null,null,null,null,null,null,null,null,null,null,null,null,null,null,null,null,null,null,null,null,null,null,null,null,null,null,null,null,null,null,null,null,null,null,null,null,null,null,null,null,null,null,null,null,null,null,null,null,null,null,null,null,null,null,null,null,null,null,null,null,null,null,null,null,null,null,null,null,null,null,null,null,null,null,null,null,null,null,null,null,null,null,null,null,null,null,null,null,null,null,null,null,null,null,null,null,null,null,null,null,null,null,null,null,null,null,null,null,null,null,null,null,null,null,null,null,null,null,null,null,null,null,null,null,null,null,null,null,null,null,null,null,null,null,null,null,null,null,null,null,null,null,null,null,null,null,null,null,null,null,null,null,null,null,null,null,null,null,null,null,null,null,null,null,null,null,null,null,null,null,null,null,null,null,null,null,null,null,null,null,null,null,null,null,null,null,null,null,null,null,null,null,null,null,null,null,null,null,null,null,null,null,null,null,null,null,null,null,null,null,null,null,null,null,null,true]
["¨",null,null,null,null,null,null,null,null,null,0,0,null,null,null,null,null,null,null,null,null,null,null,null,null,null,null,null,null,null,null,0,null,null,null,false,0,1,4,4,false,1,80,10,10,100,0,0,0,0,0]
["¨",null,null,null,null,null,null,null,null,null,0,0,null,null,null,null,null,null,null,null,null,null,null,null,null,null,null,null,null,null,null,0,null,null,null,false,0,1,4,4,false,1,80,10,10,100,0,0,0,0,0]
["¨",null,null,null,null,null,null,null,null,null,0,0,null,null,null,null,null,null,null,null,null,null,null,null,null,null,null,null,null,null,null,0,null,null,null,false,0,1,4,4,false,1,80,10,10,100,0,0,0,0,0]
["¨",null,null,null,null,null,null,null,null,null,0,0,null,null,null,null,null,null,null,null,null,null,null,null,null,null,null,null,null,null,null,0,null,null,null,false,0,1,4,4,false,1,80,10,10,100,0,0,0,0,0]
["¨",null,null,null,null,null,null,null,null,null,0,0,null,null,null,null,null,null,null,null,null,null,null,null,null,null,null,null,null,null,null,0,null,null,null,false,0,1,4,4,false,1,80,10,10,100,0,0,0,0,0]
["¨",null,null,null,null,null,null,null,null,null,0,0,null,null,null,null,null,null,null,null,null,null,null,null,null,null,null,null,null,null,null,0,null,null,null,false,0,1,4,4,false,1,80,10,10,100,0,0,0,0,0]
["¨",null,null,null,null,null,null,null,null,null,0,0,null,null,null,null,null,null,null,null,null,null,null,null,null,null,null,null,null,null,null,0,null,null,null,false,0,1,4,4,false,1,80,10,10,100,0,0,0,0,0]
["¨",null,null,null,null,null,null,null,null,null,0,0,null,null,null,null,null,null,null,null,null,null,null,null,null,null,null,null,null,null,null,0,null,null,null,false,0,1,4,4,false,1,80,10,10,100,0,0,0,0,0]
["¨",null,null,null,null,null,null,null,null,null,0,0,null,null,null,null,null,null,null,null,null,null,null,null,null,null,null,null,null,null,null,0,null,null,null,false,0,1,4,4,false,1,80,10,10,100,0,0,0,0,0]
["¨",null,null,null,null,null,null,null,null,null,0,0,null,null,null,null,null,null,null,null,null,null,null,null,null,null,null,null,null,null,null,0,null,null,null,false,0,1,4,4,false,1,80,10,10,100,0,0,0,0,0]
["¨",null,null,null,null,null,null,null,null,null,0,0,null,null,null,null,null,null,null,null,null,null,null,null,null,null,null,null,null,null,null,0,null,null,null,false,0,1,4,4,false,1,80,10,10,100,0,0,0,0,0]
["¨",null,null,null,null,null,null,null,null,null,0,0,null,null,null,null,null,null,null,null,null,null,null,null,null,null,null,null,null,null,null,0,null,null,null,false,0,1,4,4,false,1,80,10,10,100,0,0,0,0,0]
["¨",null,null,null,null,null,null,null,null,null,0,0,null,null,null,null,null,null,null,null,null,null,null,null,null,null,null,null,null,null,null,0,null,null,null,false,0,1,4,4,false,1,80,10,10,100,0,0,0,0,0]
["¨",null,null,null,null,null,null,null,null,null,0,0,null,null,null,null,null,null,null,null,null,null,null,null,null,null,null,null,null,null,null,0,null,null,null,false,0,1,4,4,false,1,80,10,10,100,0,0,0,0,0]
["¨",null,null,null,null,null,null,null,null,null,0,0,null,null,null,null,null,null,null,null,null,null,null,null,null,null,null,null,null,null,null,0,null,null,null,false,0,1,4,4,false,1,80,10,10,100,0,0,0,0,0]
["¨",null,null,null,null,null,null,null,null,null,0,0,null,null,null,null,null,null,null,null,null,null,null,null,null,null,null,null,null,null,null,0,null,null,null,false,0,1,4,4,false,1,80,10,10,100,0,0,0,0,0]
["¨",null,null,null,null,null,null,null,null,null,0,0,null,null,null,null,null,null,null,null,null,null,null,null,null,null,null,null,null,null,null,0,null,null,null,false,0,1,4,4,false,1,80,10,10,100,0,0,0,0,0]
["¨",null,null,null,null,null,null,null,null,null,0,0,null,null,null,null,null,null,null,null,null,null,null,null,null,null,null,null,null,null,null,0,null,null,null,false,0,1,4,4,false,1,80,10,10,100,0,0,0,0,0]
["¨",null,null,null,null,null,null,null,null,null,0,0,null,null,null,null,null,null,null,null,null,null,null,null,null,null,null,null,null,null,null,0,null,null,null,false,0,1,4,4,false,1,80,10,10,100,0,0,0,0,0]
["¨",null,null,null,null,null,null,null,null,null,0,0,null,null,null,null,null,null,null,null,null,null,null,null,null,null,null,null,null,null,null,0,null,null,null,false,0,1,4,4,false,1,80,10,10,100,0,0,0,0,0]
["¨",null,null,null,null,null,null,null,null,null,0,0,null,null,null,null,null,null,null,null,null,null,null,null,null,null,null,null,null,null,null,0,null,null,null,false,0,1,4,4,false,1,80,10,10,100,0,0,0,0,0]
["¨",null,null,null,null,null,null,null,null,null,0,0,null,null,null,null,null,null,null,null,null,null,null,null,null,null,null,null,null,null,null,0,null,null,null,false,0,1,4,4,false,1,80,10,10,100,0,0,0,0,0]
["¨",null,null,null,null,null,null,null,null,null,0,0,null,null,null,null,null,null,null,null,null,null,null,null,null,null,null,null,null,null,null,0,null,null,null,false,0,1,4,4,false,1,80,10,10,100,0,0,0,0,0]
["¨",null,null,null,null,null,null,null,null,null,0,0,null,null,null,null,null,null,null,null,null,null,null,null,null,null,null,null,null,null,null,0,null,null,null,false,0,1,4,4,false,1,80,10,10,100,0,0,0,0,0]
[null,null,null,null,null,null,null,null,null,null,{"$f":"IF(SUM(K10:K44)=0,1,SUM(K10:K44))","v":1},{"$f":"SUM(L10:L44)","v":0},null,null,null,null,null,null,null,null,null,null,null,null,null,null,null,null,null,null,null,{"$f":"IFERROR(SUM(AF10:AF44)/L45*100,\"N/A\")","v":"N/A"}]
[]
[null,null,null,null,null,null,null,null,null,null,null,null,null,null,null,null,null,null,null,null,null,null,null,null,null,null,null,null,null,"Use Base:",null,100]
[]
[null,null,null,null,null,null,null,null,null,null,null,null,null,null,null,null,null,"A form by Leadersense Consulting & Systems Sdn Bhd @2017"]
[null,null,null,null,null,null,0]
[null,null,null,null,null,null,"1x ⍟"]
[null,null,null,null,null,null,"2x ⍟⍟"]
[null,null,null,null,null,null,"3x ⍟⍟⍟"]
[null,null,null,null,null,null,"4x ⍟⍟⍟⍟"]

{"sheet":"RankBM","index":15,"n_rows":65,"n_cols":298,"rows_kept":65,"cut":false,"hidden":false,"merged":[[41,2,41,4],[42,0,54,0],[43,2,43,5],[44,2,44,5],[45,2,45,5],[46,2,46,5],[47,2,47,5],[54,2,54,5],[48,2,48,5],[50,2,50,5],[51,2,51,5],[52,2,52,5],[42,2,42,5],[32,2,32,5],[33,2,33,5],[26,0,38,0],[26,2,26,5],[26,7,38,9],[37,2,37,5],[38,2,38,5],[34,2,34,5],[35,2,35,5],[36,2,36,5],[10,12,22,12],[26,12,38,12],[42,12,54,12],[42,10,54,10],[42,7,54,9],[25,5,25,9],[41,5,41,9],[53,2,53,5],[26,10,38,10],[27,2,27,5],[28,2,28,5],[29,2,29,5],[30,2,30,5],[31,2,31,5],[49,2,49,5],[25,2,25,4],[0,47,0,48],[7,6,7,9],[9,2,9,4],[0,3,1,9],[3,4,5,10],[9,5,9,9],[10,0,22,0],[10,2,10,5],[10,7,22,9],[17,2,17,5],[18,2,18,5],[19,2,19,5],[20,2,20,5],[21,2,21,5],[10,10,22,10],[11,2,11,5],[22,2,22,5],[14,2,14,5],[15,2,15,5],[16,2,16,5],[12,2,12,5],[13,2,13,5]]}
[null,"SIMPLE RANKING Simpeo Benchmarks Series",null,{"$f":"Home!H16","v":"SAMPEL CORPORATION LTD"}]
[null,{"$f":"KPICreate!A4","v":2020}]
[null,null,null,"ID KPI:"]
[null,"Nama:",{"$f":"Home!H6","v":"ADAM NAUFAL HASMADI"},"Deskripsi KPI:",{"$f":"IF(ISBLANK(VLOOKUP(E3,KPICreate!B5:C36,2)),\"\",VLOOKUP(E3,KPICreate!B5:C36,2))","v":{"$error":"#N/A"}},null,null,null,null,null,null,null,null,null,null,null,null,null,null,null,null,null,null,null,null,null,null,null,null,null,null,null,null,null,null,null,null,null,null,null,null,null,null,null,null,null,null,{"$f":"IF(AV6=\"N/A\",\"N/A\",\"Ok\")","v":"Ok"}]
[null,"Jawatan:",{"$f":"Home!H10","v":"PEN. KETUA PEMASARAN DAN PERKHIDMATAN"},null,null,null,null,null,null,null,null,null,null,null,null,null,null,null,null,null,null,null,null,null,null,null,null,null,null,null,null,null,null,null,null,null,null,null,null,null,null,null,null,null,null,null,null,{"$f":"IF(AV7=\"N/A\",\"N/A\",\"Ok\")","v":"N/A"}]
[null,"Bahagian:",{"$f":"Home!H12","v":"PEMASARAN DAN PERKHIDMATAN"},null,null,null,null,null,null,null,null,null,null,null,null,null,null,null,null,null,null,null,null,null,null,null,null,null,null,null,null,null,null,null,null,null,null,null,null,null,null,null,null,null,null,null,null,{"$f":"IFERROR(CHOOSE(E7,\"L\",\"M\",\"N\",\"O\",\"P\",\"Q\",\"R\",\"S\",\"T\",\"U\",\"V\",\"W\",\"X\",\"Y\",\"Z\",\"AA\",\"AB\",\"AC\",\"AD\",\"AE\",\"AF\",\"AG\",\"AH\",\"AI\",\"AJ\",\"AK\",\"AL\",\"AM\",\"AN\",\"AO\",\"AP\",\"AQ\",\"AR\",\"AS\",\"AT\",\"AU\",\"AV\",\"AW\",\"AX\",\"AY\",\"AZ\",\"BA\",\"BB\",\"BC\",\"BD\",\"BE\",\"BF\",\"BG\",\"BH\",\"BI\",\"BJ\",\"BK\",\"BK\"),\"N/A\")","v":"L"}]
[null,"Skor:",null,"Minggu Pilihan:",{"$f":"'Wk Input'!BM4","v":1},null,null,null,null,null,null,null,null,null,null,null,null,null,null,null,null,null,null,null,null,null,null,null,null,null,null,null,null,null,null,null,null,null,null,null,null,null,null,null,null,null,null,{"$f":"IFERROR(CHOOSE(RIGHT(E3,2),5,6,7,8,9,10,11,12,13,14,15,16,17,18,19),\"N/A\")","v":"N/A"}]
[null,{"$f":"IFERROR(K56/100*K58,\"\")","v":""},"Deskripsi Rank",null,null,null,"Wajaran %",null,null,null,"Jumlah %",null,"Catatan"]
[null,null,null,null,null,"Off","1«","2«","3«","4«"]
[null,"A","Taipkan Deskripsi Tajuk A di sini",null,null,"Off",null,null,null,null,null,null,null,null,null,null,null,null,null,null,null,null,null,null,null,null,null,null,null,null,null,null,null,null,null,null,null,null,null,null,null,null,null,null,null,null,null,"Sel Wgt",{"$f":"IFERROR(VALUE(LEFT(F10,1))+1,1)","v":1},{"$f":"AW10-1","v":0},{"$f":"AX10/AX61*100","v":{"$error":"#DIV/0!"}},{"$f":"IFERROR(AY10,\"N/A\")","v":"N/A"}]
["(Zero)Worst <--- Rank ---> Best(Full)","Best = 1",null,null,null,null,null,{"$f":"IF(AZ10=0,\"N/A\",AZ10)","v":"N/A"},null,null,{"$f":"IF(H11=\"N/A\",\"N/A\",AZ11)","v":"N/A"},null,null,null,null,null,null,null,null,null,null,null,null,null,null,null,null,null,null,null,null,null,null,null,null,null,null,null,null,null,null,null,null,null,null,null,null,"Sel Rank",1,{"$f":"IF(C11=\"\",0,1)","v":0},{"$f":"AW11-(14-AX24)","v":-13},{"$f":"IFERROR(AY10*AY12/AY24,\"N/A\")","v":"N/A"},{"$f":"IF(AZ11=\"N/A\",0,AZ11)","v":0}]
[null,2,null,null,null,null,null,null,null,null,null,null,null,null,null,null,null,null,null,null,null,null,null,null,null,null,null,null,null,null,null,null,null,null,null,null,null,null,null,null,null,null,null,null,null,null,null,null,null,{"$f":"IF(C12=\"\",0,1)","v":0},{"$f":"IF(AY11<0,0,AY11)","v":0}]
[null,3,null,null,null,null,null,null,null,null,null,null,null,null,null,null,null,null,null,null,null,null,null,null,null,null,null,null,null,null,null,null,null,null,null,null,null,null,null,null,null,null,null,null,null,null,null,null,null,0]
[null,4,null,null,null,null,null,null,null,null,null,null,null,null,null,null,null,null,null,null,null,null,null,null,null,null,null,null,null,null,null,null,null,null,null,null,null,null,null,null,null,null,null,null,null,null,null,null,null,0]
[null,5,null,null,null,null,null,null,null,null,null,null,null,null,null,null,null,null,null,null,null,null,null,null,null,null,null,null,null,null,null,null,null,null,null,null,null,null,null,null,null,null,null,null,null,null,null,null,null,0]
[null,6,null,null,null,null,null,null,null,null,null,null,null,null,null,null,null,null,null,null,null,null,null,null,null,null,null,null,null,null,null,null,null,null,null,null,null,null,null,null,null,null,null,null,null,null,null,null,null,0]
[null,7,null,null,null,null,null,null,null,null,null,null,null,null,null,null,null,null,null,null,null,null,null,null,null,null,null,null,null,null,null,null,null,null,null,null,null,null,null,null,null,null,null,null,null,null,null,null,null,0]
[null,8,null,null,null,null,null,null,null,null,null,null,null,null,null,null,null,null,null,null,null,null,null,null,null,null,null,null,null,null,null,null,null,null,null,null,null,null,null,null,null,null,null,null,null,null,null,null,null,0]
[null,9,null,null,null,null,null,null,null,null,null,null,null,null,null,null,null,null,null,null,null,null,null,null,null,null,null,null,null,null,null,null,null,null,null,null,null,null,null,null,null,null,null,null,null,null,null,null,null,0]
[null,10,null,null,null,null,null,null,null,null,null,null,null,null,null,null,null,null,null,null,null,null,null,null,null,null,null,null,null,null,null,null,null,null,null,null,null,null,null,null,null,null,null,null,null,null,null,null,null,0,null,null,null,null,null,null,null,null,null,null,null,null,null,null,null,null,null,null,null,null,null,null,null,null,null,null,null,null,null,null,null,null,null,null,null,null,null,null,null,null,null,null,null,null,null,null,null,null,null,null,null,null,null,null,null,null,null,null,null,null,null,null,null,null,null,null,null,null,null,null,null,null,null,null,null,null,null,null,null,null,null,null,null,null,null,null,null,null,null,null,null,null,null,null,null,null,null,null,null,null,null,null,null,null,null,null,null,null,null,null,null,null,null,null,null,null,null,null,null,null,null,null,null,null,null,null,null,null,null,null,null,null,null,null,null,null,null,null,null,null,null,null,null,null,null,null,null,null,null,null,null,null,null,null,null,null,null,null,null,null,null,null,null,null,null,null,null,null,null,null,null,null,null,null,null,null,null,null,null,null,null,null,null,null,null,null,null,null,null,null,null,null,null,null,null,null,null,null,null,null,null,null,null,null,null,null,null,null,null,null,null,null,null,null,null,null,null,null,null,null,null,null,null,null,null,null,null,null,null,null,null,null,null,null,null,null,null,null,null,null,null,null,null,null,null,null,null,true]
[null,11,null,null,null,null,null,null,null,null,null,null,null,null,null,null,null,null,null,null,null,null,null,null,null,null,null,null,null,null,null,null,null,null,null,null,null,null,null,null,null,null,null,null,null,null,null,null,null,0]
[null,12,null,null,null,null,null,null,null,null,null,null,null,null,null,null,null,null,null,null,null,null,null,null,null,null,null,null,null,null,null,null,null,null,null,null,null,null,null,null,null,null,null,null,null,null,null,null,null,0]
[null,13,null,null,null,null,null,null,null,null,null,null,null,null,null,null,null,null,null,null,null,null,null,null,null,null,null,null,null,null,null,null,null,null,null,null,null,null,null,null,null,null,null,null,null,null,null,null,null,0]
[null,null,null,null,null,null,null,null,null,null,null,null,null,null,null,null,null,null,null,null,null,null,null,null,null,null,null,null,null,null,null,null,null,null,null,null,null,null,null,null,null,null,null,null,null,null,null,null,null,{"$f":"SUM(AX11:AX23)","v":0},{"$f":"AX24-1","v":-1}]
[null,null,null,null,null,"Off","1«","2«","3«","4«"]
[null,"B","Taipkan Deskripsi Tajuk B di sini",null,null,"Off",null,null,null,null,null,null,null,null,null,null,null,null,null,null,null,null,null,null,null,null,null,null,null,null,null,null,null,null,null,null,null,null,null,null,null,null,null,null,null,null,null,"Sel Wgt",{"$f":"IFERROR(VALUE(LEFT(F26,1))+1,1)","v":1},{"$f":"AW26-1","v":0},{"$f":"AX26/AX61*100","v":{"$error":"#DIV/0!"}},{"$f":"IFERROR(AY26,\"N/A\")","v":"N/A"}]
["(Zero)Worst <--- Rank ---> Best(Full)","Best = 1",null,null,null,null,null,{"$f":"IF(AZ26=0,\"N/A\",AZ26)","v":"N/A"},null,null,{"$f":"IF(H27=\"N/A\",\"N/A\",AZ27)","v":"N/A"},null,null,null,null,null,null,null,null,null,null,null,null,null,null,null,null,null,null,null,null,null,null,null,null,null,null,null,null,null,null,null,null,null,null,null,null,"Sel Rank",1,{"$f":"IF(C27=\"\",0,1)","v":0},{"$f":"AW27-(14-AX40)","v":-13},{"$f":"IFERROR(AY26*AY28/AY40,\"N/A\")","v":"N/A"},{"$f":"IF(AZ27=\"N/A\",0,1)","v":0}]
[null,2,null,null,null,null,null,null,null,null,null,null,null,null,null,null,null,null,null,null,null,null,null,null,null,null,null,null,null,null,null,null,null,null,null,null,null,null,null,null,null,null,null,null,null,null,null,null,null,0,{"$f":"IF(AY27<0,0,AY27)","v":0}]
[null,3,null,null,null,null,null,null,null,null,null,null,null,null,null,null,null,null,null,null,null,null,null,null,null,null,null,null,null,null,null,null,null,null,null,null,null,null,null,null,null,null,null,null,null,null,null,null,null,0]
[null,4,null,null,null,null,null,null,null,null,null,null,null,null,null,null,null,null,null,null,null,null,null,null,null,null,null,null,null,null,null,null,null,null,null,null,null,null,null,null,null,null,null,null,null,null,null,null,null,0]
[null,5,null,null,null,null,null,null,null,null,null,null,null,null,null,null,null,null,null,null,null,null,null,null,null,null,null,null,null,null,null,null,null,null,null,null,null,null,null,null,null,null,null,null,null,null,null,null,null,0]
[null,6,null,null,null,null,null,null,null,null,null,null,null,null,null,null,null,null,null,null,null,null,null,null,null,null,null,null,null,null,null,null,null,null,null,null,null,null,null,null,null,null,null,null,null,null,null,null,null,0]
[null,7,null,null,null,null,null,null,null,null,null,null,null,null,null,null,null,null,null,null,null,null,null,null,null,null,null,null,null,null,null,null,null,null,null,null,null,null,null,null,null,null,null,null,null,null,null,null,null,0]
[null,8,null,null,null,null,null,null,null,null,null,null,null,null,null,null,null,null,null,null,null,null,null,null,null,null,null,null,null,null,null,null,null,null,null,null,null,null,null,null,null,null,null,null,null,null,null,null,null,0]
[null,9,null,null,null,null,null,null,null,null,null,null,null,null,null,null,null,null,null,null,null,null,null,null,null,null,null,null,null,null,null,null,null,null,null,null,null,null,null,null,null,null,null,null,null,null,null,null,null,0]
[null,10,null,null,null,null,null,null,null,null,null,null,null,null,null,null,null,null,null,null,null,null,null,null,null,null,null,null,null,null,null,null,null,null,null,null,null,null,null,null,null,null,null,null,null,null,null,null,null,0]
[null,11,null,null,null,null,null,null,null,null,null,null,null,null,null,null,null,null,null,null,null,null,null,null,null,null,null,null,null,null,null,null,null,null,null,null,null,null,null,null,null,null,null,null,null,null,null,null,null,0]
[null,12,null,null,null,null,null,null,null,null,null,null,null,null,null,null,null,null,null,null,null,null,null,null,null,null,null,null,null,null,null,null,null,null,null,null,null,null,null,null,null,null,null,null,null,null,null,null,null,0]
[null,13,null,null,null,null,null,null,null,null,null,null,null,null,null,null,null,null,null,null,null,null,null,null,null,null,null,null,null,null,null,null,null,null,null,null,null,null,null,null,null,null,null,null,null,null,null,null,null,0]
[null,null,null,null,null,null,null,null,null,null,null,null,null,null,null,null,null,null,null,null,null,null,null,null,null,null,null,null,null,null,null,null,null,null,null,null,null,null,null,null,null,null,null,null,null,null,null,null,null,{"$f":"SUM(AX27:AX39)","v":0},{"$f":"AX40-1","v":-1}]
[null,null,null,null,null,"Off","1«","2«","3«","4«"]
[null,"C","Taipkan Deskripsi Tajuk C di sini",null,null,"Off",null,null,null,null,null,null,null,null,null,null,null,null,null,null,null,null,null,null,null,null,null,null,null,null,null,null,null,null,null,null,null,null,null,null,null,null,null,null,null,null,null,"Sel Wgt",{"$f":"IFERROR(VALUE(LEFT(F42,1))+1,1)","v":1},{"$f":"AW42-1","v":0},{"$f":"AX42/AX61*100","v":{"$error":"#DIV/0!"}},{"$f":"IFERROR(AY42,\"N/A\")","v":"N/A"}]
["(Zero)Worst <--- Rank ---> Best(Full)","Best = 1",null,null,null,null,null,{"$f":"IF(AZ42=0,\"N/A\",AZ42)","v":"N/A"},null,null,{"$f":"IF(H43=\"N/A\",\"N/A\",AZ43)","v":"N/A"},null,null,null,null,null,null,null,null,null,null,null,null,null,null,null,null,null,null,null,null,null,null,null,null,null,null,null,null,null,null,null,null,null,null,null,null,"Sel Rank",1,{"$f":"IF(C43=\"\",0,1)","v":0},{"$f":"AW43-(14-AX60)","v":-13},{"$f":"IFERROR(AY42*AY44/AY60,\"N/A\")","v":"N/A"},{"$f":"IF(AZ43=\"N/A\",0,1)","v":0}]
[null,2,null,null,null,null,null,null,null,null,null,null,null,null,null,null,null,null,null,null,null,null,null,null,null,null,null,null,null,null,null,null,null,null,null,null,null,null,null,null,null,null,null,null,null,null,null,null,null,0,{"$f":"IF(AY43<0,0,AY43)","v":0}]
[null,3,null,null,null,null,null,null,null,null,null,null,null,null,null,null,null,null,null,null,null,null,null,null,null,null,null,null,null,null,null,null,null,null,null,null,null,null,null,null,null,null,null,null,null,null,null,null,null,0]
[null,4,null,null,null,null,null,null,null,null,null,null,null,null,null,null,null,null,null,null,null,null,null,null,null,null,null,null,null,null,null,null,null,null,null,null,null,null,null,null,null,null,null,null,null,null,null,null,null,0]
[null,5,null,null,null,null,null,null,null,null,null,null,null,null,null,null,null,null,null,null,null,null,null,null,null,null,null,null,null,null,null,null,null,null,null,null,null,null,null,null,null,null,null,null,null,null,null,null,null,0]
[null,6,null,null,null,null,null,null,null,null,null,null,null,null,null,null,null,null,null,null,null,null,null,null,null,null,null,null,null,null,null,null,null,null,null,null,null,null,null,null,null,null,null,null,null,null,null,null,null,0]
[null,7,null,null,null,null,null,null,null,null,null,null,null,null,null,null,null,null,null,null,null,null,null,null,null,null,null,null,null,null,null,null,null,null,null,null,null,null,null,null,null,null,null,null,null,null,null,null,null,0]
[null,8,null,null,null,null,null,null,null,null,null,null,null,null,null,null,null,null,null,null,null,null,null,null,null,null,null,null,null,null,null,null,null,null,null,null,null,null,null,null,null,null,null,null,null,null,null,null,null,0]
[null,9,null,null,null,null,null,null,null,null,null,null,null,null,null,null,null,null,null,null,null,null,null,null,null,null,null,null,null,null,null,null,null,null,null,null,null,null,null,null,null,null,null,null,null,null,null,null,null,0]
[null,10,null,null,null,null,null,null,null,null,null,null,null,null,null,null,null,null,null,null,null,null,null,null,null,null,null,null,null,null,null,null,null,null,null,null,null,null,null,null,null,null,null,null,null,null,null,null,null,0]
[null,11,null,null,null,null,null,null,null,null,null,null,null,null,null,null,null,null,null,null,null,null,null,null,null,null,null,null,null,null,null,null,null,null,null,null,null,null,null,null,null,null,null,null,null,null,null,null,null,0]
[null,12,null,null,null,null,null,null,null,null,null,null,null,null,null,null,null,null,null,null,null,null,null,null,null,null,null,null,null,null,null,null,null,null,null,null,null,null,null,null,null,null,null,null,null,null,null,null,null,0]
[null,13,null,null,null,null,null,null,null,null,null,null,null,null,null,null,null,null,null,null,null,null,null,null,null,null,null,null,null,null,null,null,null,null,null,null,null,null,null,null,null,null,null,null,null,null,null,null,null,0]
[null,null,null,null,null,null,null,null,null,null,{"$f":"BA62","v":"N/A"}]
[]
[null,null,null,null,null,null,null,null,null,"Use Base:",100]
[]
[null,null,null,null,null,null,"A Form by Leadersense Consulting & Systems Sdn Bhd",null,null,null,null,null,null,null,null,null,null,null,null,null,null,null,null,null,null,null,null,null,null,null,null,null,null,null,null,null,null,null,null,null,null,null,null,null,null,null,null,null,null,{"$f":"SUM(AX43:AX55)","v":0},{"$f":"AX60-1","v":-1}]
[null,null,null,null,null,"Off",null,null,null,null,null,null,null,null,null,null,null,null,null,null,null,null,null,null,null,null,null,null,null,null,null,null,null,null,null,null,null,null,null,null,null,null,null,null,null,null,null,null,"Weight x",{"$f":"AX10+AX26+AX42","v":0},null,null,{"$f":"BA11+BA27+BA43","v":0}]
[null,null,null,null,null,"1x ⍟",null,null,null,null,null,null,null,null,null,null,null,null,null,null,null,null,null,null,null,null,null,null,null,null,null,null,null,null,null,null,null,null,null,null,null,null,null,null,null,null,null,null,null,null,null,{"$f":"(AZ11+AZ27+AZ43)*BA61/BA61","v":{"$error":"#VALUE!"}},{"$f":"IFERROR(AZ62,\"N/A\")","v":"N/A"}]
[null,null,null,null,null,"2x ⍟⍟"]
[null,null,null,null,null,"3x ⍟⍟⍟"]
[null,null,null,null,null,"4x ⍟⍟⍟⍟"]

{"sheet":"CListBM","index":16,"n_rows":48,"n_cols":298,"rows_kept":48,"cut":false,"hidden":false,"merged":[[38,1,38,2],[38,4,38,7],[38,14,38,16],[38,18,38,21],[38,23,38,26],[36,1,36,2],[36,4,36,7],[36,14,36,16],[36,18,36,21],[36,23,36,26],[37,1,37,2],[37,4,37,7],[37,14,37,16],[37,18,37,21],[37,23,37,26],[34,1,34,2],[34,4,34,7],[34,14,34,16],[34,18,34,21],[34,23,34,26],[35,1,35,2],[35,4,35,7],[35,14,35,16],[35,18,35,21],[35,23,35,26],[32,1,32,2],[32,4,32,7],[32,14,32,16],[32,18,32,21],[32,23,32,26],[33,1,33,2],[33,4,33,7],[33,14,33,16],[33,18,33,21],[33,23,33,26],[30,1,30,2],[30,4,30,7],[30,14,30,16],[30,18,30,21],[30,23,30,26],[31,1,31,2],[31,4,31,7],[31,14,31,16],[31,18,31,21],[31,23,31,26],[28,1,28,2],[28,4,28,7],[28,14,28,16],[28,18,28,21],[28,23,28,26],[29,1,29,2],[29,4,29,7],[29,14,29,16],[29,18,29,21],[29,23,29,26],[26,1,26,2],[26,4,26,7],[26,14,26,16],[26,18,26,21],[26,23,26,26],[27,1,27,2],[27,4,27,7],[27,14,27,16],[27,18,27,21],[27,23,27,26],[24,1,24,2],[24,4,24,7],[24,14,24,16],[24,18,24,21],[24,23,24,26],[25,1,25,2],[25,4,25,7],[25,14,25,16],[25,18,25,21],[25,23,25,26],[22,1,22,2],[22,4,22,7],[22,14,22,16],[22,18,22,21],[22,23,22,26],[23,1,23,2],[23,4,23,7],[23,14,23,16],[23,18,23,21],[23,23,23,26],[20,1,20,2],[20,4,20,7],[20,14,20,16],[20,18,20,21],[20,23,20,26],[21,1,21,2],[21,4,21,7],[21,14,21,16],[21,18,21,21],[21,23,21,26],[18,1,18,2],[18,4,18,7],[18,14,18,16],[18,18,18,21],[18,23,18,26],[19,1,19,2],[19,4,19,7],[19,14,19,16],[19,18,19,21],[19,23,19,26],[16,1,16,2],[16,4,16,7],[16,14,16,16],[16,18,16,21],[16,23,16,26],[17,1,17,2],[17,4,17,7],[17,14,17,16],[17,18,17,21],[17,23,17,26],[14,1,14,2],[14,4,14,7],[14,14,14,16],[14,18,14,21],[14,23,14,26],[15,1,15,2],[15,4,15,7],[15,14,15,16],[15,18,15,21],[15,23,15,26],[11,14,11,16],[11,18,11,21],[11,23,11,26],[12,1,12,2],[12,4,12,7],[12,14,12,16],[12,18,12,21],[12,23,12,26],[13,1,13,2],[13,4,13,7],[13,14,13,16],[13,18,13,21],[13,23,13,26],[7,32,8,32],[8,1,8,2],[9,1,9,2],[9,4,9,7],[9,14,9,16],[9,18,9,21],[9,23,9,26],[9,32,38,32],[5,1,7,1],[5,15,5,16],[5,19,5,20],[5,24,5,25],[7,4,7,7],[7,11,7,12],[7,14,7,16],[7,18,7,21],[7,23,7,26],[10,1,10,2],[10,4,10,7],[10,14,10,16],[10,18,10,21],[10,23,10,26],[11,1,11,2],[11,4,11,7],[0,4,0,8],[0,11,0,25],[1,11,1,12],[2,11,3,26],[4,15,4,16],[4,19,4,20],[4,24,4,25],[7,28,8,28],[7,30,8,30]]}
[null,"Simple CHECKLIST Simpeo Benchmarks Series",null,null,{"$f":"KPICreate!A4","v":2020},null,null,null,null,null,null,{"$f":"Home!$H$16","v":"SAMPEL CORPORATION LTD"}]
[null,"Nama:",{"$f":"Home!H6","v":"ADAM NAUFAL HASMADI"},null,null,null,null,null,null,"ID KPI:",null,null,null,null,null,null,null,null,null,null,null,null,null,null,null,null,null,null,null,null,null,null,null,null,{"$f":"IF(AI4=\"N/A\",\"N/A\",\"Ok\")","v":"Ok"}]
[null,"Jawatan:",{"$f":"Home!H10","v":"PEN. KETUA PEMASARAN DAN PERKHIDMATAN"},null,null,null,null,null,null,"Deskripsi KPI:",null,{"$f":"IF(ISBLANK(VLOOKUP(L2,KPICreate!B5:C36,2)),\"\",VLOOKUP(L2,KPICreate!B5:C36,2))","v":{"$error":"#N/A"}},null,null,null,null,null,null,null,null,null,null,null,null,null,null,null,null,null,null,null,null,null,null,{"$f":"IF(AI5=\"N/A\",\"N/A\",\"Ok\")","v":"N/A"}]
[null,"Bahagian:",{"$f":"Home!H12","v":"PEMASARAN DAN PERKHIDMATAN"},null,null,null,null,null,null,null,null,null,null,null,null,null,null,null,null,null,null,null,null,null,null,null,null,null,null,null,null,null,null,null,{"$f":"IFERROR(CHOOSE(L5,\"L\",\"M\",\"N\",\"O\",\"P\",\"Q\",\"R\",\"S\",\"T\",\"U\",\"V\",\"W\",\"X\",\"Y\",\"Z\",\"AA\",\"AB\",\"AC\",\"AD\",\"AE\",\"AF\",\"AG\",\"AH\",\"AI\",\"AJ\",\"AK\",\"AL\",\"AM\",\"AN\",\"AO\",\"AP\",\"AQ\",\"AR\",\"AS\",\"AT\",\"AU\",\"AV\",\"AW\",\"AX\",\"AY\",\"AZ\",\"BA\",\"BB\",\"BC\",\"BD\",\"BE\",\"BF\",\"BG\",\"BH\",\"BI\",\"BJ\",\"BK\",\"BK\"),\"N/A\")","v":"L"}]
[null,"Skor:",null,null,null,null,null,null,null,"Minggu Pilihan:",null,{"$f":"'Wk Input'!BM4","v":1},"%",null,null,"%",null,null,null,"%",null,null,null,null,"%",null,null,null,null,null,"%",null,null,null,{"$f":"IFERROR(CHOOSE(RIGHT(L2,2),5,6,7,8,9,10,11,12,13,14,15,16,17,18,19),\"N/A\")","v":"N/A"}]
[null,{"$f":"IFERROR(AE40/100*AE42,\"\")","v":""},null,null,null,null,null,null,null,null,null,null,70,null,null,10,null,null,null,10,null,null,null,null,10,null,null,null,null,null,{"$f":"M6+P6+T6+Y6","v":100},null,null,null,null,null,null,null,null,null,null,null,null,null,null,null,null,null,null,null,null,null,"L5"]
[]
[null,null,null,null,"Saiz Wajaran",null,null,null,null,null,null,"Penyelesaian",null,null,"Tepati Masa",null,null,null,"Kualiti Kerja",null,null,null,null,"Ikut Bajet",null,null,null,null,"  Lupakan",null,"Skor\nBaris",null,"Catatan"]
["No","Deskripsi Tugasan",null,null,"⍟ 1x","⍟⍟ 2x","⍟⍟⍟ 3x","⍟⍟⍟⍟ 4x",null,"Wajar\n%",null,"Deadline","Selesai",null,"✪  Poor","✪✪ Fair","✪✪✪Meet",null,"Not Used","✪  Poor","✪✪ Fair","✪✪✪Meet",null,"Not Used","✪  Poor","✪✪ Fair","✪✪✪Meet"]
[1,null,null,null,null,null,null,null,{"$f":"IF(OR(B10=\"\",AM10),0,AI10)","v":0},{"$f":"I10/I$40*100","v":0},null,null,null,null,null,null,null,null,null,null,null,null,null,null,null,null,null,null,null,null,{"$f":"IFERROR(J10*AW10,\"N/A\")","v":0},null,null,null,{"$f":"IFERROR(VALUE(LEFT($E10,1)),0)","v":0},{"$f":"IFERROR(VALUE(LEFT($O10,1)),0)","v":0},{"$f":"IFERROR(VALUE(LEFT($S10,1)),0)","v":0},{"$f":"IFERROR(VALUE(LEFT($X10,1)),0)","v":0},false,{"$f":"IF($AX10,M$6,0)","v":0},{"$f":"P$6","v":10},{"$f":"IF(AK10=0,0,T$6)","v":0},{"$f":"IF(AL10=0,0,Y$6)","v":0},{"$f":"SUM(AN10:AQ10)","v":10},{"$f":"AJ10/3*AO10","v":0},{"$f":"AK10/3*AP10","v":0},{"$f":"AL10/3*AQ10","v":0},{"$f":"IF(AN10<>0,AN10+AS10+AT10+AU10,0)","v":0},{"$f":"IFERROR(AV10/AR10,\"N/A\")","v":0},false]
[2,null,null,null,null,null,null,null,0,{"$f":"I11/I$40*100","v":0},null,null,null,null,null,null,null,null,null,null,null,null,null,null,null,null,null,null,null,null,{"$f":"IFERROR(J11*AW11,\"N/A\")","v":0},null,null,null,{"$f":"IFERROR(VALUE(LEFT($E11,1)),0)","v":0},{"$f":"IFERROR(VALUE(LEFT($O11,1)),0)","v":0},{"$f":"IFERROR(VALUE(LEFT($S11,1)),0)","v":0},{"$f":"IFERROR(VALUE(LEFT($X11,1)),0)","v":0},false,{"$f":"IF($AX11,M$6,0)","v":0},{"$f":"P$6","v":10},{"$f":"IF(AK11=0,0,T$6)","v":0},{"$f":"IF(AL11=0,0,Y$6)","v":0},{"$f":"SUM(AN11:AQ11)","v":10},{"$f":"AJ11/3*AO11","v":0},0,0,{"$f":"IF(AN11<>0,AN11+AS11+AT11+AU11,0)","v":0},{"$f":"IFERROR(AV11/AR11,\"N/A\")","v":0},false]
[3,null,null,null,null,null,null,null,0,0,null,null,null,null,null,null,null,null,null,null,null,null,null,null,null,null,null,null,null,null,0,null,null,null,0,0,0,0,false,0,10,0,0,10,0,0,0,0,0,false]
[4,null,null,null,null,null,null,null,0,0,null,null,null,null,null,null,null,null,null,null,null,null,null,null,null,null,null,null,null,null,0,null,null,null,0,0,0,0,false,0,10,0,0,10,0,0,0,0,0,false]
[5,null,null,null,null,null,null,null,0,0,null,null,null,null,null,null,null,null,null,null,null,null,null,null,null,null,null,null,null,null,0,null,null,null,0,0,0,0,false,0,10,0,0,10,0,0,0,0,0,false]
[6,null,null,null,null,null,null,null,0,0,null,null,null,null,null,null,null,null,null,null,null,null,null,null,null,null,null,null,null,null,0,null,null,null,0,0,0,0,false,0,10,0,0,10,0,0,0,0,0,false]
[7,null,null,null,null,null,null,null,0,0,null,null,null,null,null,null,null,null,null,null,null,null,null,null,null,null,null,null,null,null,0,null,null,null,0,0,0,0,false,0,10,0,0,10,0,0,0,0,0,false]
[8,null,null,null,null,null,null,null,0,0,null,null,null,null,null,null,null,null,null,null,null,null,null,null,null,null,null,null,null,null,0,null,null,null,0,0,0,0,false,0,10,0,0,10,0,0,0,0,0,false]
[9,null,null,null,null,null,null,null,0,0,null,null,null,null,null,null,null,null,null,null,null,null,null,null,null,null,null,null,null,null,0,null,null,null,0,0,0,0,false,0,10,0,0,10,0,0,0,0,0,false]
[10,null,null,null,null,null,null,null,0,0,null,null,null,null,null,null,null,null,null,null,null,null,null,null,null,null,null,null,null,null,0,null,null,null,0,0,0,0,false,0,10,0,0,10,0,0,0,0,0,false]
[11,null,null,null,null,null,null,null,0,0,null,null,null,null,null,null,null,null,null,null,null,null,null,null,null,null,null,null,null,null,0,null,null,null,0,0,0,0,false,0,10,0,0,10,0,0,0,0,0,false,null,null,null,null,null,null,null,null,null,null,null,null,null,null,null,null,null,null,null,null,null,null,null,null,null,null,null,null,null,null,null,null,null,null,null,null,null,null,null,null,null,null,null,null,null,null,null,null,null,null,null,null,null,null,null,null,null,null,null,null,null,null,null,null,null,null,null,null,null,null,null,null,null,null,null,null,null,null,null,null,null,null,null,null,null,null,null,null,null,null,null,null,null,null,null,null,null,null,null,null,null,null,null,null,null,null,null,null,null,null,null,null,null,null,null,null,null,null,null,null,null,null,null,null,null,null,null,null,null,null,null,null,null,null,null,null,null,null,null,null,null,null,null,null,null,null,null,null,null,null,null,null,null,null,null,null,null,null,null,null,null,null,null,null,null,null,null,null,null,null,null,null,null,null,null,null,null,null,null,null,null,null,null,null,null,null,null,null,null,null,null,null,null,null,null,null,null,null,null,null,null,null,null,null,null,null,null,null,null,null,null,null,null,null,null,null,null,null,null,null,null,null,null,null,null,null,null,null,null,null,null,null,null,null,null,null,null,null,null,null,null,null,null,null,null,null,null,true]
[12,null,null,null,null,null,null,null,0,0,null,null,null,null,null,null,null,null,null,null,null,null,null,null,null,null,null,null,null,null,0,null,null,null,0,0,0,0,false,0,10,0,0,10,0,0,0,0,0,false]
[13,null,null,null,null,null,null,null,0,0,null,null,null,null,null,null,null,null,null,null,null,null,null,null,null,null,null,null,null,null,0,null,null,null,0,0,0,0,false,0,10,0,0,10,0,0,0,0,0,false]
[14,null,null,null,null,null,null,null,0,0,null,null,null,null,null,null,null,null,null,null,null,null,null,null,null,null,null,null,null,null,0,null,null,null,0,0,0,0,false,0,10,0,0,10,0,0,0,0,0,false]
[15,null,null,null,null,null,null,null,0,0,null,null,null,null,null,null,null,null,null,null,null,null,null,null,null,null,null,null,null,null,0,null,null,null,0,0,0,0,false,0,10,0,0,10,0,0,0,0,0,false]
[16,null,null,null,null,null,null,null,0,0,null,null,null,null,null,null,null,null,null,null,null,null,null,null,null,null,null,null,null,null,0,null,null,null,0,0,0,0,false,0,10,0,0,10,0,0,0,0,0,false]
[17,null,null,null,null,null,null,null,0,0,null,null,null,null,null,null,null,null,null,null,null,null,null,null,null,null,null,null,null,null,0,null,null,null,0,0,0,0,false,0,10,0,0,10,0,0,0,0,0,false]
[18,null,null,null,null,null,null,null,0,0,null,null,null,null,null,null,null,null,null,null,null,null,null,null,null,null,null,null,null,null,0,null,null,null,0,0,0,0,false,0,10,0,0,10,0,0,0,0,0,false]
[19,null,null,null,null,null,null,null,0,0,null,null,null,null,null,null,null,null,null,null,null,null,null,null,null,null,null,null,null,null,0,null,null,null,0,0,0,0,false,0,10,0,0,10,0,0,0,0,0,false]
[20,null,null,null,null,null,null,null,0,0,null,null,null,null,null,null,null,null,null,null,null,null,null,null,null,null,null,null,null,null,0,null,null,null,0,0,0,0,false,0,10,0,0,10,0,0,0,0,0,false]
[21,null,null,null,null,null,null,null,0,0,null,null,null,null,null,null,null,null,null,null,null,null,null,null,null,null,null,null,null,null,0,null,null,null,0,0,0,0,false,0,10,0,0,10,0,0,0,0,0,false]
[22,null,null,null,null,null,null,null,0,0,null,null,null,null,null,null,null,null,null,null,null,null,null,null,null,null,null,null,null,null,0,null,null,null,0,0,0,0,false,0,10,0,0,10,0,0,0,0,0,false]
[23,null,null,null,null,null,null,null,0,0,null,null,null,null,null,null,null,null,null,null,null,null,null,null,null,null,null,null,null,null,0,null,null,null,0,0,0,0,false,0,10,0,0,10,0,0,0,0,0,false]
[24,null,null,null,null,null,null,null,0,0,null,null,null,null,null,null,null,null,null,null,null,null,null,null,null,null,null,null,null,null,0,null,null,null,0,0,0,0,false,0,10,0,0,10,0,0,0,0,0,false]
[25,null,null,null,null,null,null,null,0,0,null,null,null,null,null,null,null,null,null,null,null,null,null,null,null,null,null,null,null,null,0,null,null,null,0,0,0,0,false,0,10,0,0,10,0,0,0,0,0,false]
[26,null,null,null,null,null,null,null,0,0,null,null,null,null,null,null,null,null,null,null,null,null,null,null,null,null,null,null,null,null,0,null,null,null,0,0,0,0,false,0,10,0,0,10,0,0,0,0,0,false]
[27,null,null,null,null,null,null,null,0,0,null,null,null,null,null,null,null,null,null,null,null,null,null,null,null,null,null,null,null,null,0,null,null,null,0,0,0,0,false,0,10,0,0,10,0,0,0,0,0,false]
[28,null,null,null,null,null,null,null,0,0,null,null,null,null,null,null,null,null,null,null,null,null,null,null,null,null,null,null,null,null,0,null,null,null,0,0,0,0,false,0,10,0,0,10,0,0,0,0,0,false]
[29,null,null,null,null,null,null,null,0,0,null,null,null,null,null,null,null,null,null,null,null,null,null,null,null,null,null,null,null,null,0,null,null,null,0,0,0,0,false,0,10,0,0,10,0,0,0,0,0,false]
[30,null,null,null,null,null,null,null,0,0,null,null,null,null,null,null,null,null,null,null,null,null,null,null,null,null,null,null,null,null,0,null,null,null,0,0,0,0,false,0,10,0,0,10,0,0,0,0,0,false]
[null,null,null,null,null,null,null,null,{"$f":"IF(SUM(I10:I39)=0,1,SUM(I10:I39))","v":1},{"$f":"SUM(J10:J39)","v":0},null,null,null,null,null,null,null,null,null,null,null,null,null,null,null,null,null,null,null,null,{"$f":"IFERROR(SUM(AE10:AE39)/J40*100,\"N/A\")","v":"N/A"}]
[]
[null,null,null,null,null,null,null,null,null,null,null,null,null,null,null,null,null,null,null,null,null,null,null,null,null,null,null,null,"Use Base:",null,100]
[]
[null,null,null,null,null,null,null,null,null,null,null,null,null,null,null,null,"A form by Leadersense Consulting & Systems Sdn Bhd @2017"]
[null,null,null,null,"1x ⍟",null,null,null,null,null,null,null,null,null,"1✪",null,null,null,"Not Used",null,null,null,null,"Not Used"]
[null,null,null,null,"2x ⍟⍟",null,null,null,null,null,null,null,null,null,"2✪✪",null,null,null,"1✪",null,null,null,null,"1✪"]
[null,null,null,null,"3x ⍟⍟⍟",null,null,null,null,null,null,null,null,null,"3✪✪✪",null,null,null,"2✪✪",null,null,null,null,"2✪✪"]
[null,null,null,null,"4x ⍟⍟⍟⍟",null,null,null,null,null,null,null,null,null,null,null,null,null,"3✪✪✪",null,null,null,null,"3✪✪✪"]

{"sheet":"sample","index":17,"n_rows":1001,"n_cols":409,"rows_kept":281,"cut":true,"hidden":true,"merged":[[0,0,2,0],[0,6,2,6],[0,8,2,8],[0,9,2,9]],"bounds":{"rows_first":125,"rows_last":31,"rows_between":125,"halvings":4}}
[null,null,null,null,null,null,"Type",null,"Dead Line Wk","Onward Cascade?",null,"Week","Week","Week","Week","Week","Week","Week","Week","Week","Week","Week","Week","Week","Week","Week","Week","Week","Week","Week","Week","Week","Week","Week","Week","Week","Week","Week","Week","Week","Week","Week","Week","Week","Week","Week","Week","Week","Week","Week","Week","Week","Week","Week","Week","Week","Week","Week","Week","Week","Week","Week","Week",null,null,"Week","Week","Week","Week","Week","Week","Week","Week","Week","Week","Week","Week","Week","Week","Week","Week","Week","Week","Week","Week","Week","Week","Week","Week","Week","Week","Week","Week","Week","Week","Week","Week","Week","Week","Week","Week","Week","Week","Week","Week","Week","Week","Week","Week","Week","Week","Week","Week","Week","Week","Week","Week",null,null,"Week","Week","Week","Week","Week","Week","Week","Week","Week","Week","Week","Week","Week","Week","Week","Week","Week","Week","Week","Week","Week","Week","Week","Week","Week","Week","Week","Week","Week","Week","Week","Week","Week","Week","Week","Week","Week","Week","Week","Week","Week","Week","Week","Week","Week","Week","Week","Week","Week","Week","Week","Week",null,null,"Week","Week","Week","Week","Week","Week","Week","Week","Week","Week","Week","Week","Week","Week","Week","Week","Week","Week","Week","Week","Week","Week","Week","Week","Week","Week","Week","Week","Week","Week","Week","Week","Week","Week","Week","Week","Week","Week","Week","Week","Week","Week","Week","Week","Week","Week","Week","Week","Week","Week","Week","Week",null,null,"Week","Week","Week","Week","Week","Week","Week","Week","Week","Week","Week","Week","Week","Week","Week","Week","Week","Week","Week","Week","Week","Week","Week","Week","Week","Week","Week","Week","Week","Week","Week","Week","Week","Week","Week","Week","Week","Week","Week","Week","Week","Week","Week","Week","Week","Week","Week","Week","Week","Week","Week","Week",null,null,null,null,null,null,null,null,null,null,null,null,null,null,null,null,null,null,null,null,null,null,null,null,null,null,null,null,null,null,null,null,null,null,null,null,null,null,null,null,null,null,null,null,null,null,null,null,null,null,null,null,null,null,null,null,0,null,null,null,null,"User ID:","User Name:","Position:","Department:"]
[null,"Ref","KPI Description","%\nWeight","Measure","SMART Target",null,"Start Wk",null,null,"Own Contrib",1,2,3,4,5,6,7,8,9,10,11,12,13,14,15,16,17,18,19,20,21,22,23,24,25,26,27,28,29,30,31,32,33,34,35,36,37,38,39,40,41,42,43,44,45,46,47,48,49,50,51,52,null,null,1,2,3,4,5,6,7,8,9,10,11,12,13,14,15,16,17,18,19,20,21,22,23,24,25,26,27,28,29,30,31,32,33,34,35,36,37,38,39,40,41,42,43,44,45,46,47,48,49,50,51,52,null,null,1,2,3,4,5,6,7,8,9,10,11,12,13,14,15,16,17,18,19,20,21,22,23,24,25,26,27,28,29,30,31,32,33,34,35,36,37,38,39,40,41,42,43,44,45,46,47,48,49,50,51,52,null,null,1,2,3,4,5,6,7,8,9,10,11,12,13,14,15,16,17,18,19,20,21,22,23,24,25,26,27,28,29,30,31,32,33,34,35,36,37,38,39,40,41,42,43,44,45,46,47,48,49,50,51,52,null,null,1,2,3,4,5,6,7,8,9,10,11,12,13,14,15,16,17,18,19,20,21,22,23,24,25,26,27,28,29,30,31,32,33,34,35,36,37,38,39,40,41,42,43,44,45,46,47,48,49,50,51,52,null,null,null,null,null,null,null,null,null,null,null,null,null,null,null,null,null,null,null,null,null,null,null,null,null,null,null,null,null,null,null,null,null,null,null,null,null,null,null,null,null,null,null,null,null,null,null,null,null,null,null,null,null,null,1,"AA0",null,null,null,null,null,null,null,null,null,null,null,"Ref ID","Recipient","Rec Name","Rec Pos","Rec Dept","Ref ID","Recipient","Rec Name","Rec Pos","Rec Dept","Ref ID","Recipient","Rec Name","Rec Pos","Rec Dept","Ref ID","Recipient","Rec Name","Rec Pos","Rec Dept","Ref ID","Recipient","Rec Name","Rec Pos","Rec Dept","Ref ID","Recipient","Rec Name","Rec Pos","Rec Dept","Ref ID","Recipient","Rec Name","Rec Pos","Rec Dept","Ref ID","Recipient","Rec Name","Rec Pos","Rec Dept","Ref ID","Recipient","Rec Name","Rec Pos","Rec Dept","Ref ID","Recipient","Rec Name","Rec Pos","Rec Dept",null,null,"Group 1","Group 2","Group 3","Group 4","Group 5","Group 6","Group 7","Total","Eval","Complet","Ratio"]
[null,null,null,null,null,null,null,null,null,null,null,null,null,null,null,null,null,null,null,null,null,null,null,null,null,null,null,null,null,null,null,null,null,null,null,null,null,null,null,null,null,null,null,null,null,null,null,null,null,null,null,null,null,null,null,null,null,null,null,null,null,null,null,null,null,null,null,null,null,null,null,null,null,null,null,null,null,null,null,null,null,null,null,null,null,null,null,null,null,null,null,null,null,null,null,null,null,null,null,null,null,null,null,null,null,null,null,null,null,null,null,null,null,null,null,null,null,null,null,null,null,null,null,null,null,null,null,null,null,null,null,null,null,null,null,null,null,null,null,null,null,null,null,null,null,null,null,null,null,null,null,null,null,null,null,null,null,null,null,null,null,null,null,null,null,null,null,null,null,null,null,null,null,null,null,null,null,null,null,null,null,null,null,null,null,null,null,null,null,null,null,null,null,null,null,null,null,null,null,null,null,null,null,null,null,null,null,null,null,null,null,null,null,null,null,null,null,null,null,null,null,null,null,null,null,null,null,null,null,null,null,null,null,null,null,null,null,null,null,null,null,null,null,null,null,null,null,null,null,null,null,null,null,null,null,null,null,null,null,null,null,null,null,null,null,null,null,null,null,null,null,null,null,null,null,null,null,null,null,null,null,null,null,null,null,null,null,null,null,null,null,null,null,null,null,null,null,null,null,null,null,null,null,null,null,null,null,null,null,null,null,null,null,null,null,null,null,null,null,null,null,null,null,null,null,null,null,null,null,null,null,null,null,2,"AA1",null,null,null,null,null,null,null,null,null,null,null,"Distributed by Evaluators",null,null,null,null,null,null,null,null,null,null,null,null,null,null,null,null,null,null,null,null,null,null,null,null,null,null,null,null,null,null,null,null,null,null,null,null,null,null,null,null,null,null,null,null,null,null,null,null,null,null,null,"360 Evaluation Score Results"]
[null,null,"B: VP Finance",null,null,null,null,null,null,null,null,null,null,null,null,null,null,null,null,null,null,null,null,null,null,null,null,null,null,null,null,null,null,null,null,null,null,null,null,null,null,null,null,null,null,null,null,null,null,null,null,null,null,null,null,null,null,null,null,null,null,null,null,null,null,"Consoled Wk Values",null,null,null,null,null,null,null,null,null,null,null,null,null,null,null,null,null,null,null,null,null,null,null,null,null,null,null,null,null,null,null,null,null,null,null,null,null,null,null,null,null,null,null,null,null,null,null,null,null,null,null,null,null,"Consoled Wk Scores",null,null,null,null,null,null,null,null,null,null,null,null,null,null,null,null,null,null,null,null,null,null,null,null,null,null,null,null,null,null,null,null,null,null,null,null,null,null,null,null,null,null,null,null,null,null,null,null,null,null,null,null,null,"Week Target Met",null,null,null,null,null,null,null,null,null,null,null,null,null,null,null,null,null,null,null,null,null,null,null,null,null,null,null,null,null,null,null,null,null,null,null,null,null,null,null,null,null,null,null,null,null,null,null,null,null,null,null,null,null,null,null,null,null,null,null,null,null,null,null,null,null,null,null,null,null,null,null,null,null,null,null,null,null,null,null,null,null,null,null,null,null,null,null,null,null,null,null,null,null,null,null,null,null,null,null,null,null,null,null,null,null,null,null,null,null,null,null,null,null,null,null,null,null,null,null,null,null,null,null,null,null,null,null,null,null,null,null,null,null,null,null,null,null,null,null,null,null,null,null,null,null,null,null,null,null,null,null,null,null,null,null,null,null,null,null,3,"AA2"]
[null,"DM101","WK01 Achieve increased corporate revenue for Housing Sector (RM Mil)",22.727272727272727,"Number",38.5,"A",1,52,"Absolute",18.5,null,null,null,null,null,null,null,null,null,null,null,null,null,null,null,null,null,null,null,null,null,null,null,null,null,null,null,null,null,null,null,null,null,null,null,null,null,null,null,null,null,null,null,null,null,null,null,null,null,null,null,null,null,null,0,0,0,2.52,2.52,3.67,3.67,3.67,5.41,5.41,6.32,6.32,6.32,6.32,8.85,8.85,8.85,10.199999999999999,10.199999999999999,10.199999999999999,10.199999999999999,11.8,11.8,13.71,13.71,15.77,15.77,15.77,17.23,17.23,18.66,18.66,18.66,18.66,20.84,21.02,21.02,21.02,21.02,23.45,23.45,23.45,23.45,29.78,29.78,29.78,33.15,33.15,34.700000000000003,34.700000000000003,34.700000000000003,38.200000000000003,null,null,0,0,0,6.5454545450000001,6.5454545450000001,9.5324675320000001,9.5324675320000001,9.5324675320000001,14.05194805,14.05194805,16.415584419999998,16.415584419999998,16.415584419999998,16.415584419999998,22.98701299,22.98701299,22.98701299,26.493506490000001,26.493506490000001,26.493506490000001,26.493506490000001,30.649350649999999,30.649350649999999,35.610389609999999,35.610389609999999,40.961038960000003,40.961038960000003,40.961038960000003,44.753246750000002,44.753246750000002,48.467532470000002,48.467532470000002,48.467532470000002,48.467532470000002,54.12987013,54.597402600000002,54.597402600000002,54.597402600000002,54.597402600000002,60.909090910000003,60.909090910000003,60.909090910000003,60.909090910000003,77.350649349999998,77.350649349999998,77.350649349999998,86.1038961,86.1038961,90.12987013,90.12987013,90.12987013,99.220779219999997,null,null,999,999,999,999,999,999,999,999,999,999,999,999,999,999,999,999,999,999,999,999,999,999,999,999,999,999,999,999,999,999,999,999,999,999,999,999,999,999,999,999,999,999,999,999,999,999,999,999,999,999,999,999,null,null,null,null,null,null,null,null,null,null,null,null,null,null,null,null,null,null,null,null,null,null,null,null,null,null,null,null,null,null,null,null,null,null,null,null,null,null,null,null,null,null,null,null,null,null,null,null,null,null,null,null,null,null,null,null,null,null,null,null,null,null,null,null,null,null,null,null,null,null,null,null,null,null,null,null,null,null,null,null,null,null,null,null,null,null,null,null,null,null,null,null,null,null,null,null,null,null,null,null,null,null,null,null,null,null,null,null,4,"AA3",null,null,null,null,null,null,null,null,null,null,null,20260,"AA1","ARNOLD HICKS","EKSEKUTIF OPERASI","OPERASI",20980,"AB8","SOPHIE SPENCER","PENOLONG PENGURUS LOGISTIK","LOGISTIK",null,null,null,null,null,null,null,null,null,null,null,null,null,null,null,null,null,null,null,null,null,null,null,null,null,null,null,null,null,null,null,null,null,null,null,null,null,null,null,null,null,null,{"$f":"IF($OI$7<$KU$20,\"\",OI6)","v":0.60230769230769232},{"$f":"IF($OI$7<$KU$20,\"\",OJ6)","v":0.54179487179487174},0.51666666666666672,0.57948717948717954,"N/A","N/A","N/A",0.56006410256410255,59,59,1]
[null,"DM102","BC03 Maintain customers' rental deposits returns within optimum time period (Days)",13.636363636363637,"MaxLimit",14,"M",1,52,"No",100,null,null,null,null,null,null,null,null,null,null,null,null,null,null,null,null,null,null,null,null,null,null,null,null,null,null,null,null,null,null,null,null,null,null,null,null,null,null,null,null,null,null,null,null,null,null,null,null,null,null,null,null,null,null,"","","","",14,"","","",14,"","","","",15,"","","",16,"","","","",15,"","","",15,"","","",14,"","","","",16,"","","",15,"","","",16,"","","","",15,"","",14,null,null,"","","","",100,"","","",100,"","","","",64.285714290000001,"","","",28.571428569999998,"","","","",64.285714290000001,"","","",64.285714290000001,"","","",100,"","","","",28.571428569999998,"","","",64.285714290000001,"","","",28.571428569999998,"","","","",64.285714290000001,"","",100,null,null,999,999,999,999,999,999,999,999,999,999,999,999,999,999,999,999,999,999,999,999,999,999,999,999,999,999,999,999,999,999,999,999,999,999,999,999,999,999,999,999,999,999,999,999,999,999,999,999,999,999,999,999,null,null,null,null,null,null,null,null,null,null,null,null,null,null,null,null,null,null,null,null,null,null,null,null,null,null,null,null,null,null,null,null,null,null,null,null,null,null,null,null,null,null,null,null,null,null,null,null,null,null,null,null,null,null,null,null,null,null,null,null,null,null,null,null,null,null,null,null,null,null,null,null,null,null,null,null,null,null,null,null,null,null,null,null,null,null,null,null,null,null,null,null,null,null,null,null,null,null,null,null,null,null,null,null,null,null,null,null,5,"AA4",null,null,null,null,null,null,null,null,null,null,null,20305,"AA2","KIMBERLY ZIMMER","EKSEKUTIF PEMASARAN","PEMASARAN PRODUK",21025,"AB9","BOBBY ANTOOM","PENGURUS LOGISTIK","LOGISTIK",null,null,null,null,null,null,null,null,null,null,null,null,null,null,null,null,null,null,null,null,null,null,null,null,null,null,null,null,null,null,null,null,null,null,null,null,null,null,null,null,null,null,0.60230769230769232,0.54179487179487174,0.51666666666666672,0.57948717948717954,"N/A","N/A","N/A",0.56006410256410255,59,59,1]
[null,"DM103","BC49 Maintain Customers' Shipment Deliveries within target",13.636363636363637,"Percentage",95,"M",1,52,"%Prorated",80,null,null,null,null,null,null,null,null,null,null,null,null,null,null,null,null,null,null,null,null,null,null,null,null,null,null,null,null,null,null,null,null,null,null,null,null,null,null,null,null,null,null,null,null,null,null,null,null,null,null,null,null,null,null,100,100,93,88,100,84,97,100,100,87,100,100,82,100,99,97,100,96,100,96,99,92,96,100,96,100,100,96,96,97,100,88,100,99,82,100,100,96,98,97,100,88,96,99,97,100,100,100,88,98,100,100,null,null,100,100,97.894736839999993,92.631578950000005,100,88.421052630000005,100,100,100,91.578947369999995,100,100,86.315789469999999,100,100,100,100,100,100,100,100,96.842105259999997,100,100,100,100,100,100,100,100,100,92.631578950000005,100,100,86.315789469999999,100,100,100,100,100,100,92.631578950000005,100,100,100,100,100,100,92.631578950000005,100,100,100,null,null,999,999,999,999,999,999,999,999,999,999,999,999,999,999,999,999,999,999,999,999,999,999,999,999,999,999,999,999,999,999,999,999,999,999,999,999,999,999,999,999,999,999,999,999,999,999,999,999,999,999,999,999,null,null,null,null,null,null,null,null,null,null,null,null,null,null,null,null,null,null,null,null,null,null,null,null,null,null,null,null,null,null,null,null,null,null,null,null,null,null,null,null,null,null,null,null,null,null,null,null,null,null,null,null,null,null,null,null,null,null,null,null,null,null,null,null,null,null,null,null,null,null,null,null,null,null,null,null,null,null,null,null,null,null,null,null,null,null,null,null,null,null,null,null,null,null,null,null,null,null,null,null,null,null,null,null,null,null,null,null,6,"AA5",null,null,null,null,null,null,null,null,null,null,null,20350,"AA3","RALPH EDGE","EKSEKUTIF PEMASARAN PRODUK","PEMASARAN PRODUK",21070,"AC0","CHRISTOPHER TIMBERLAIN","PENGURUS OPERASI","OPERASI",null,null,null,null,null,null,null,null,null,null,null,null,null,null,null,null,null,null,null,null,null,null,null,null,null,null,null,null,null,null,null,null,null,null,null,null,null,null,null,null,null,null,{"$f":"TODAY()","v":44196}]
[null,"DM104","BC19 Achieve completing 5 Client-Product survey research study",18.181818181818183,"Percentage",90,"A",1,44,"%Prorated",70,null,null,null,null,null,null,null,null,null,null,null,null,null,null,null,null,null,null,null,null,null,null,null,null,null,null,null,null,null,null,null,null,null,null,null,null,null,null,null,null,null,null,null,null,null,null,null,null,null,null,null,null,null,null,0,0,0,0,0,0.39,0.39,0.79,0.79,2.11,2.5,4.21,4.21,5.92,6.84,10.26,10.66,12.5,13.29,16.97,19.47,20.66,22.5,24.87,28.55,33.68,34.869999999999997,40.39,42.76,48.29,53.42,53.42,58.95,58.95,65.66,68.42,69.61,72.37,74.739999999999995,80.260000000000005,83.03,83.03,84.21,84.21,87.76,87.76,97.24,97.24,100,100,100,100,null,null,0,0,0,0,0,0.43859649099999998,0.43859649099999998,0.87719298199999995,0.87719298199999995,2.3391812870000002,2.7777777779999999,4.6783625730000002,4.6783625730000002,6.5789473679999997,7.6023391809999996,11.40350877,11.84210526,13.88888889,14.766081870000001,18.85964912,21.637426900000001,22.95321637,25,27.631578950000002,31.725146200000001,37.426900580000002,38.742690060000001,44.883040940000001,47.514619879999998,53.654970759999998,59.356725150000003,59.356725150000003,65.497076019999994,65.497076019999994,72.953216370000007,76.023391810000007,77.339181289999999,80.409356729999999,83.040935669999996,89.181286549999996,92.251461989999996,92.251461989999996,93.567251459999994,93.567251459999994,97.514619879999998,97.514619879999998,100,100,100,100,100,100,null,null,999,999,999,999,999,999,999,999,999,999,999,999,999,999,999,999,999,999,999,999,999,999,999,999,999,999,999,999,999,999,999,999,999,999,999,999,999,999,999,999,999,999,999,999,999,999,47,47,47,47,47,47,null,null,null,null,null,null,null,null,null,null,null,null,null,null,null,null,null,null,null,null,null,null,null,null,null,null,null,null,null,null,null,null,null,null,null,null,null,null,null,null,null,null,null,null,null,null,null,null,null,null,null,null,null,null,null,null,null,null,null,null,null,null,null,null,null,null,null,null,null,null,null,null,null,null,null,null,null,null,null,null,null,null,null,null,null,null,null,null,null,null,null,null,null,null,null,null,null,null,null,null,null,null,null,null,null,null,null,null,7,"AA6",null,null,null,null,null,null,null,null,null,null,null,20395,"AA4","KATHIE MELLON","EKSEKUTIF PEMASARAN PRODUK","PEMASARAN PRODUK",21115,"AC1","SEAN LIPTON","PENGURUS JUALAN","JUALAN"]
[null,"DM105","OP04 Maintain completing marketing and services adhoc works as per required by department",13.636363636363637,"Percentage",95,"M",1,52,"No",100,null,null,null,null,null,null,null,null,null,null,null,null,null,null,null,null,null,null,null,null,null,null,null,null,null,null,null,null,null,null,null,null,null,null,null,null,null,null,null,null,null,null,null,null,null,null,null,null,null,null,null,null,null,null,"","","",96.3,"","",100,"","","","","",96.67,"","","","","","","",100,"","","",93.33,"",100,"","",93.33,"","","","","","","",100,"","",100,"","","","",100,"","","","","","",null,null,"","","",100,"","",100,"","","","","",100,"","","","","","","",100,"","","",98.245614040000007,"",100,"","",98.245614040000007,"","","","","","","",100,"","",100,"","","","",100,"","","","","","",null,null,999,999,999,999,999,999,999,999,999,999,999,999,999,999,999,999,999,999,999,999,999,999,999,999,999,999,999,999,999,999,999,999,999,999,999,999,999,999,999,999,999,999,999,999,999,999,999,999,999,999,999,999,null,null,null,null,null,null,null,null,null,null,null,null,null,null,null,null,null,null,null,null,null,null,null,null,null,null,null,null,null,null,null,null,null,null,null,null,null,null,null,null,null,null,null,null,null,null,null,null,null,null,null,null,null,null,null,null,null,null,null,null,null,null,null,null,null,null,null,null,null,null,null,null,null,null,null,null,null,null,null,null,null,null,null,null,null,null,null,null,null,null,null,null,null,null,null,null,null,null,null,null,null,null,null,null,null,null,null,null,8,"AA7",null,null,null,null,null,null,null,null,null,null,null,20440,"AA5","KYLE JENNINGS","KONSULTAN TEKNOLOGI","TEKNOLOGI",21160,"AC2","LUIS NAGES","PENOLONG PENGURUS JUALAN","JUALAN"]
[null,"DM106","OP05 Achieve ISO18001:2007 certification by the certification body",18.181818181818183,"Yes/No","Yes","A",10,45,"No",100,null,null,null,null,null,null,null,null,null,null,null,null,null,null,null,null,null,null,null,null,null,null,null,null,null,null,null,null,null,null,null,null,null,null,null,null,null,null,null,null,null,null,null,null,null,null,null,null,null,null,null,null,null,null,"","","","","","","","","","No","No","No","No","No","No","No","No","No","No","No","No","No","No","No","No","No","No","No","No","No","No","No","No","No","No","No","No","No","No","No","No","No","No","Yes","Yes","Yes","Yes","Yes","Yes","Yes","Yes","Yes",null,null,"","","","","","","","","",0,0,0,0,0,0,0,0,0,0,0,0,0,0,0,0,0,0,0,0,0,0,0,0,0,0,0,0,0,0,0,0,0,0,100,100,100,100,100,100,100,100,100,null,null,999,999,999,999,999,999,999,999,999,999,999,999,999,999,999,999,999,999,999,999,999,999,999,999,999,999,999,999,999,999,999,999,999,999,999,999,999,999,999,999,999,999,999,44,44,44,44,44,44,44,44,44,null,null,null,null,null,null,null,null,null,null,null,null,null,null,null,null,null,null,null,null,null,null,null,null,null,null,null,null,null,null,null,null,null,null,null,null,null,null,null,null,null,null,null,null,null,null,null,null,null,null,null,null,null,null,null,null,null,null,null,null,null,null,null,null,null,null,null,null,null,null,null,null,null,null,null,null,null,null,null,null,null,null,null,null,null,null,null,null,null,null,null,null,null,null,null,null,null,null,null,null,null,null,null,null,null,null,null,null,9,"AA8",null,null,null,null,null,null,null,null,null,null,null,20485,"AA6","ROSIE BERTSAUGY","EKSEKUTIF PEMASARAN PRODUK","PEMASARAN PRODUK","SELFDM1"]
[null,"DM107","N/A","","","","A","","","",0,null,null,null,null,null,null,null,null,null,null,null,null,null,null,null,null,null,null,null,null,null,null,null,null,null,null,null,null,null,null,null,null,null,null,null,null,null,null,null,null,null,null,null,null,null,null,null,null,null,null,null,null,null,null,"","","","","","","","","","","","","","","","","","","","","","","","","","","","","","","","","","","","","","","","","","","","","","","","","","","","",null,null,"","","","","","","","","","","","","","","","","","","","","","","","","","","","","","","","","","","","","","","","","","","","","","","","","","","","",null,null,999,999,999,999,999,999,999,999,999,999,999,999,999,999,999,999,999,999,999,999,999,999,999,999,999,999,999,999,999,999,999,999,999,999,999,999,999,999,999,999,999,999,999,999,999,999,999,999,999,999,999,999,null,null,null,null,null,null,null,null,null,null,null,null,null,null,null,null,null,null,null,null,null,null,null,null,null,null,null,null,null,null,null,null,null,null,null,null,null,null,null,null,null,null,null,null,null,null,null,null,null,null,null,null,null,null,null,null,null,null,null,null,null,null,null,null,null,null,null,null,null,null,null,null,null,null,null,null,null,null,null,null,null,null,null,null,null,null,null,null,null,null,null,null,null,null,null,null,null,null,null,null,null,null,null,null,null,null,null,null,10,"AA9",null,null,null,null,null,null,null,null,null,null,null,20530,"AA7","CARLOS PURBELL","EKSEKUTIF KANAN PEMASARAN PRODUK","PEMASARAN PRODUK"]
[null,"DM108","N/A","","","","A","","","",0,null,null,null,null,null,null,null,null,null,null,null,null,null,null,null,null,null,null,null,null,null,null,null,null,null,null,null,null,null,null,null,null,null,null,null,null,null,null,null,null,null,null,null,null,null,null,null,null,null,null,null,null,null,null,"","","","","","","","","","","","","","","","","","","","","","","","","","","","","","","","","","","","","","","","","","","","","","","","","","","","",null,null,"","","","","","","","","","","","","","","","","","","","","","","","","","","","","","","","","","","","","","","","","","","","","","","","","","","","",null,null,999,999,999,999,999,999,999,999,999,999,999,999,999,999,999,999,999,999,999,999,999,999,999,999,999,999,999,999,999,999,999,999,999,999,999,999,999,999,999,999,999,999,999,999,999,999,999,999,999,999,999,999,null,null,null,null,null,null,null,null,null,null,null,null,null,null,null,null,null,null,null,null,null,null,null,null,null,null,null,null,null,null,null,null,null,null,null,null,null,null,null,null,null,null,null,null,null,null,null,null,null,null,null,null,null,null,null,null,null,null,null,null,null,null,null,null,null,null,null,null,null,null,null,null,null,null,null,null,null,null,null,null,null,null,null,null,null,null,null,null,null,null,null,null,null,null,null,null,null,null,null,null,null,null,null,null,null,null,null,null,11,"AB0",null,null,null,null,null,null,null,null,null,null,null,20575,"AA8","JOSHUA TERRANCE","EKSEKUTIF PEMASARAN","PEMASARAN PRODUK"]
[null,"DM109","N/A","","","","A","","","",0,null,null,null,null,null,null,null,null,null,null,null,null,null,null,null,null,null,null,null,null,null,null,null,null,null,null,null,null,null,null,null,null,null,null,null,null,null,null,null,null,null,null,null,null,null,null,null,null,null,null,null,null,null,null,"","","","","","","","","","","","","","","","","","","","","","","","","","","","","","","","","","","","","","","","","","","","","","","","","","","","",null,null,"","","","","","","","","","","","","","","","","","","","","","","","","","","","","","","","","","","","","","","","","","","","","","","","","","","","",null,null,999,999,999,999,999,999,999,999,999,999,999,999,999,999,999,999,999,999,999,999,999,999,999,999,999,999,999,999,999,999,999,999,999,999,999,999,999,999,999,999,999,999,999,999,999,999,999,999,999,999,999,999,null,null,null,null,null,null,null,null,null,null,null,null,null,null,null,null,null,null,null,null,null,null,null,null,null,null,null,null,null,null,null,null,null,null,null,null,null,null,null,null,null,null,null,null,null,null,null,null,null,null,null,null,null,null,null,null,null,null,null,null,null,null,null,null,null,null,null,null,null,null,null,null,null,null,null,null,null,null,null,null,null,null,null,null,null,null,null,null,null,null,null,null,null,null,null,null,null,null,null,null,null,null,null,null,null,null,null,null,12,"AB1",null,null,null,null,null,null,null,null,null,null,null,20620,"AA9","EVERETT LUBAK","EKSEKUTIF LOGISTIK","LOGISTIK"]
[null,"DM110","N/A","","","","A","","","",0,null,null,null,null,null,null,null,null,null,null,null,null,null,null,null,null,null,null,null,null,null,null,null,null,null,null,null,null,null,null,null,null,null,null,null,null,null,null,null,null,null,null,null,null,null,null,null,null,null,null,null,null,null,null,"","","","","","","","","","","","","","","","","","","","","","","","","","","","","","","","","","","","","","","","","","","","","","","","","","","","",null,null,"","","","","","","","","","","","","","","","","","","","","","","","","","","","","","","","","","","","","","","","","","","","","","","","","","","","",null,null,999,999,999,999,999,999,999,999,999,999,999,999,999,999,999,999,999,999,999,999,999,999,999,999,999,999,999,999,999,999,999,999,999,999,999,999,999,999,999,999,999,999,999,999,999,999,999,999,999,999,999,999,null,null,null,null,null,null,null,null,null,null,null,null,null,null,null,null,null,null,null,null,null,null,null,null,null,null,null,null,null,null,null,null,null,null,null,null,null,null,null,null,null,null,null,null,null,null,null,null,null,null,null,null,null,null,null,null,null,null,null,null,null,null,null,null,null,null,null,null,null,null,null,null,null,null,null,null,null,null,null,null,null,null,null,null,null,null,null,null,null,null,null,null,null,null,null,null,null,null,null,null,null,null,null,null,null,null,null,null,13,"AB2",null,null,null,null,null,null,null,null,null,null,null,20665,"AB1","CLAUDE RICHARD","EKSEKUTIF PEMASARAN","PEMASARAN PRODUK"]
[null,"DM111","N/A","","","","A","","","",0,null,null,null,null,null,null,null,null,null,null,null,null,null,null,null,null,null,null,null,null,null,null,null,null,null,null,null,null,null,null,null,null,null,null,null,null,null,null,null,null,null,null,null,null,null,null,null,null,null,null,null,null,null,null,"","","","","","","","","","","","","","","","","","","","","","","","","","","","","","","","","","","","","","","","","","","","","","","","","","","","",null,null,"","","","","","","","","","","","","","","","","","","","","","","","","","","","","","","","","","","","","","","","","","","","","","","","","","","","",null,null,999,999,999,999,999,999,999,999,999,999,999,999,999,999,999,999,999,999,999,999,999,999,999,999,999,999,999,999,999,999,999,999,999,999,999,999,999,999,999,999,999,999,999,999,999,999,999,999,999,999,999,999,null,null,null,null,null,null,null,null,null,null,null,null,null,null,null,null,null,null,null,null,null,null,null,null,null,null,null,null,null,null,null,null,null,null,null,null,null,null,null,null,null,null,null,null,null,null,null,null,null,null,null,null,null,null,null,null,null,null,null,null,null,null,null,null,null,null,null,null,null,null,null,null,null,null,null,null,null,null,null,null,null,null,null,null,null,null,null,null,null,null,null,null,null,null,null,null,null,null,null,null,null,null,null,null,null,null,null,null,14,"AB3",null,null,null,null,null,null,null,null,null,null,null,20710,"AB2","JULIE DANNIELSON","EKSEKUTIF KANAN OPERASI","OPERASI"]
[null,"DM112","N/A","","","","A","","","",0,null,null,null,null,null,null,null,null,null,null,null,null,null,null,null,null,null,null,null,null,null,null,null,null,null,null,null,null,null,null,null,null,null,null,null,null,null,null,null,null,null,null,null,null,null,null,null,null,null,null,null,null,null,null,"","","","","","","","","","","","","","","","","","","","","","","","","","","","","","","","","","","","","","","","","","","","","","","","","","","","",null,null,"","","","","","","","","","","","","","","","","","","","","","","","","","","","","","","","","","","","","","","","","","","","","","","","","","","","",null,null,999,999,999,999,999,999,999,999,999,999,999,999,999,999,999,999,999,999,999,999,999,999,999,999,999,999,999,999,999,999,999,999,999,999,999,999,999,999,999,999,999,999,999,999,999,999,999,999,999,999,999,999,null,null,null,null,null,null,null,null,null,null,null,null,null,null,null,null,null,null,null,null,null,null,null,null,null,null,null,null,null,null,null,null,null,null,null,null,null,null,null,null,null,null,null,null,null,null,null,null,null,null,null,null,null,null,null,null,null,null,null,null,null,null,null,null,null,null,null,null,null,null,null,null,null,null,null,null,null,null,null,null,null,null,null,null,null,null,null,null,null,null,null,null,null,null,null,null,null,null,null,null,null,null,null,null,null,null,null,null,15,"AB4",null,null,null,null,null,null,null,null,null,null,null,20755,"AB3","SOPHIE HENDERLAIN","EKSEKUTIF OPERASI","OPERASI"]
[null,"DM113","N/A","","","","A","","","",0,null,null,null,null,null,null,null,null,null,null,null,null,null,null,null,null,null,null,null,null,null,null,null,null,null,null,null,null,null,null,null,null,null,null,null,null,null,null,null,null,null,null,null,null,null,null,null,null,null,null,null,null,null,null,"","","","","","","","","","","","","","","","","","","","","","","","","","","","","","","","","","","","","","","","","","","","","","","","","","","","",null,null,"","","","","","","","","","","","","","","","","","","","","","","","","","","","","","","","","","","","","","","","","","","","","","","","","","","","",null,null,999,999,999,999,999,999,999,999,999,999,999,999,999,999,999,999,999,999,999,999,999,999,999,999,999,999,999,999,999,999,999,999,999,999,999,999,999,999,999,999,999,999,999,999,999,999,999,999,999,999,999,999,null,null,null,null,null,null,null,null,null,null,null,null,null,null,null,null,null,null,null,null,null,null,null,null,null,null,null,null,null,null,null,null,null,null,null,null,null,null,null,null,null,null,null,null,null,null,null,null,null,null,null,null,null,null,null,null,null,null,null,null,null,null,null,null,null,null,null,null,null,null,null,null,null,null,null,null,null,null,null,null,null,null,null,null,null,null,null,null,null,null,null,null,null,null,null,null,null,null,null,null,null,null,null,null,null,null,null,null,16,"AB5",null,null,null,null,null,null,null,null,null,null,null,20800,"AB4","JOSEPH COBS","KONSULTAN TEKNOLOGI","TEKNOLOGI"]
[null,"DM114","N/A","","","","A","","","",0,null,null,null,null,null,null,null,null,null,null,null,null,null,null,null,null,null,null,null,null,null,null,null,null,null,null,null,null,null,null,null,null,null,null,null,null,null,null,null,null,null,null,null,null,null,null,null,null,null,null,null,null,null,null,"","","","","","","","","","","","","","","","","","","","","","","","","","","","","","","","","","","","","","","","","","","","","","","","","","","","",null,null,"","","","","","","","","","","","","","","","","","","","","","","","","","","","","","","","","","","","","","","","","","","","","","","","","","","","",null,null,999,999,999,999,999,999,999,999,999,999,999,999,999,999,999,999,999,999,999,999,999,999,999,999,999,999,999,999,999,999,999,999,999,999,999,999,999,999,999,999,999,999,999,999,999,999,999,999,999,999,999,999,null,null,null,null,null,null,null,null,null,null,null,null,null,null,null,null,null,null,null,null,null,null,null,null,null,null,null,null,null,null,null,null,null,null,null,null,null,null,null,null,null,null,null,null,null,null,null,null,null,null,null,null,null,null,null,null,null,null,null,null,null,null,null,null,null,null,null,null,null,null,null,null,null,null,null,null,null,null,null,null,null,null,null,null,null,null,null,null,null,null,null,null,null,null,null,null,null,null,null,null,null,null,null,null,null,null,null,null,17,"AB6",null,null,null,null,null,null,null,null,null,null,null,20845,"AB5","RAMON EDAL","EKSEKUTIF OPERASI","OPERASI"]
[null,"DM115","N/A","","","","A","","","",0,null,null,null,null,null,null,null,null,null,null,null,null,null,null,null,null,null,null,null,null,null,null,null,null,null,null,null,null,null,null,null,null,null,null,null,null,null,null,null,null,null,null,null,null,null,null,null,null,null,null,null,null,null,null,"","","","","","","","","","","","","","","","","","","","","","","","","","","","","","","","","","","","","","","","","","","","","","","","","","","","",null,null,"","","","","","","","","","","","","","","","","","","","","","","","","","","","","","","","","","","","","","","","","","","","","","","","","","","","",null,null,999,999,999,999,999,999,999,999,999,999,999,999,999,999,999,999,999,999,999,999,999,999,999,999,999,999,999,999,999,999,999,999,999,999,999,999,999,999,999,999,999,999,999,999,999,999,999,999,999,999,999,999,null,null,null,null,null,null,null,null,null,null,null,null,null,null,null,null,null,null,null,null,null,null,null,null,null,null,null,null,null,null,null,null,null,null,null,null,null,null,null,null,null,null,null,null,null,null,null,null,null,null,null,null,null,null,null,null,null,null,null,null,null,null,null,null,null,null,null,null,null,null,null,null,null,null,null,null,null,null,null,null,null,null,null,null,null,null,null,null,null,null,null,null,null,null,null,null,null,null,null,null,null,null,null,null,null,null,null,null,18,"AB7",null,null,null,null,null,null,null,null,null,null,null,20890,"AB6","CHRISTINA AIMFORD","EKSEKUTIF OPERASI","OPERASI",null,null,null,null,null,null,null,null,null,null,null,null,null,null,null,null,null,null,null,null,null,null,null,null,null,null,null,null,null,null,null,null,null,null,null,null,null,null,null,null,null,null,null,null,null,null,null,0.67999999999999994,0.76,0.6,0.73333333333333339,"N/A","N/A","N/A"]
[null,"DM116","N/A","","","","A","","","",0,null,null,null,null,null,null,null,null,null,null,null,null,null,null,null,null,null,null,null,null,null,null,null,null,null,null,null,null,null,null,null,null,null,null,null,null,null,null,null,null,null,null,null,null,null,null,null,null,null,null,null,null,null,null,"","","","","","","","","","","","","","","","","","","","","","","","","","","","","","","","","","","","","","","","","","","","","","","","","","","","",null,null,"","","","","","","","","","","","","","","","","","","","","","","","","","","","","","","","","","","","","","","","","","","","","","","","","","","","",null,null,999,999,999,999,999,999,999,999,999,999,999,999,999,999,999,999,999,999,999,999,999,999,999,999,999,999,999,999,999,999,999,999,999,999,999,999,999,999,999,999,999,999,999,999,999,999,999,999,999,999,999,999,null,null,null,null,null,null,null,null,null,null,null,null,null,null,null,null,null,null,null,null,null,null,null,null,null,null,null,null,null,null,null,null,null,null,null,null,null,null,null,null,null,null,null,null,null,null,null,null,null,null,null,null,null,null,null,null,null,0,null,null,null,null,null,null,null,null,null,70,15,10,5,null,"Unlocked",0,null,null,null,0,false,false,44105,44196,0,null,null,null,null,null,null,null,null,null,null,null,null,null,null,null,null,null,null,null,null,null,null,null,null,null,19,"AB8",null,null,null,null,null,null,null,null,null,null,null,20935,"AB7","CEDRIC OKADA","EKSEKUTIF KANAN OPERASI","OPERASI",null,null,null,null,null,null,null,null,null,null,null,null,null,null,null,null,null,null,null,null,null,null,null,null,null,null,null,null,null,null,null,null,null,null,null,null,null,null,null,null,null,null,null,null,null,null,null,{"$f":"IF($OI$7<$KU$20,\"\",OI19)","v":0.67999999999999994},{"$f":"IF($OI$7<$KU$20,\"\",OJ19)","v":0.76},0.6,0.73333333333333339,"N/A","N/A","N/A"]
[null,null,null,null,null,null,null,null,null,null,null,"Visible for Chart",null,null,null,null,null,null,null,null,null,null,null,null,null,null,null,null,null,null,null,null,null,null,null,null,null,null,null,null,null,null,null,null,null,null,null,null,null,null,null,null,null,null,null,null,null,null,null,null,null,null,null,null,null,"YTD Ave Consoled Wk Values",null,null,null,null,null,null,null,null,null,null,null,null,null,null,null,null,null,null,null,null,null,null,null,null,null,null,null,null,null,null,null,null,null,null,null,null,null,null,null,null,null,null,null,null,null,null,null,null,null,null,null,null,null,"YTD Ave Consoled Wk Scores",null,null,null,null,null,null,null,null,null,null,null,null,null,null,null,null,null,null,null,null,null,null,null,null,null,null,null,null,null,null,null,null,null,null,null,null,null,null,null,null,null,null,null,null,null,null,null,null,null,null,null,null,null,"YTD Wk Scores with Deadline",null,null,null,null,null,null,null,null,null,null,null,null,null,null,null,null,null,null,null,null,null,null,null,null,null,null,null,null,null,null,null,null,null,null,null,null,null,null,null,null,null,null,null,null,null,null,null,null,null,null,null,null,null,"YTD Wk Scores with Deadline (Corrected for Negative or Error Scores)",null,null,null,null,null,null,null,null,null,null,null,null,null,null,null,null,null,null,null,null,null,null,null,null,null,null,null,null,null,null,null,null,null,null,null,null,null,null,null,null,null,null,null,null,null,null,null,null,null,null,null,null,null,null,null,null,null,null,null,null,null,null,null,null,null,null,null,null,null,null,null,null,null,null,null,null,null,null,null,null,null,null,null,null,null,null,null,null,null,null,null,null,null,null,null,null,null,null,null,null,null,null,null,null,null,20,"AB9"]
[null,null,null,null,null,null,null,null,null,null,null,{"$f":"IF(OR($D5=\"\",L$2>'Wk Input'!$J$2),\"\",DP5)","v":0},{"$f":"IF(OR($D5=\"\",M$2>'Wk Input'!$J$2),\"\",DQ5)","v":0},{"$f":"IF(OR($D5=\"\",N$2>'Wk Input'!$J$2),\"\",DR5)","v":0},{"$f":"IF(OR($D5=\"\",O$2>'Wk Input'!$J$2),\"\",DS5)","v":6.5454545450000001},{"$f":"IF(OR($D5=\"\",P$2>'Wk Input'!$J$2),\"\",DT5)","v":6.5454545450000001},{"$f":"IF(OR($D5=\"\",Q$2>'Wk Input'!$J$2),\"\",DU5)","v":9.5324675320000001},{"$f":"IF(OR($D5=\"\",R$2>'Wk Input'!$J$2),\"\",DV5)","v":9.5324675320000001},{"$f":"IF(OR($D5=\"\",S$2>'Wk Input'!$J$2),\"\",DW5)","v":9.5324675320000001},{"$f":"IF(OR($D5=\"\",T$2>'Wk Input'!$J$2),\"\",DX5)","v":14.05194805},{"$f":"IF(OR($D5=\"\",U$2>'Wk Input'!$J$2),\"\",DY5)","v":14.05194805},{"$f":"IF(OR($D5=\"\",V$2>'Wk Input'!$J$2),\"\",DZ5)","v":16.415584419999998},{"$f":"IF(OR($D5=\"\",W$2>'Wk Input'!$J$2),\"\",EA5)","v":16.415584419999998},{"$f":"IF(OR($D5=\"\",X$2>'Wk Input'!$J$2),\"\",EB5)","v":16.415584419999998},{"$f":"IF(OR($D5=\"\",Y$2>'Wk Input'!$J$2),\"\",EC5)","v":16.415584419999998},{"$f":"IF(OR($D5=\"\",Z$2>'Wk Input'!$J$2),\"\",ED5)","v":22.98701299},{"$f":"IF(OR($D5=\"\",AA$2>'Wk Input'!$J$2),\"\",EE5)","v":22.98701299},{"$f":"IF(OR($D5=\"\",AB$2>'Wk Input'!$J$2),\"\",EF5)","v":22.98701299},{"$f":"IF(OR($D5=\"\",AC$2>'Wk Input'!$J$2),\"\",EG5)","v":26.493506490000001},{"$f":"IF(OR($D5=\"\",AD$2>'Wk Input'!$J$2),\"\",EH5)","v":26.493506490000001},{"$f":"IF(OR($D5=\"\",AE$2>'Wk Input'!$J$2),\"\",EI5)","v":26.493506490000001},{"$f":"IF(OR($D5=\"\",AF$2>'Wk Input'!$J$2),\"\",EJ5)","v":26.493506490000001},{"$f":"IF(OR($D5=\"\",AG$2>'Wk Input'!$J$2),\"\",EK5)","v":30.649350649999999},{"$f":"IF(OR($D5=\"\",AH$2>'Wk Input'!$J$2),\"\",EL5)","v":30.649350649999999},{"$f":"IF(OR($D5=\"\",AI$2>'Wk Input'!$J$2),\"\",EM5)","v":35.610389609999999},{"$f":"IF(OR($D5=\"\",AJ$2>'Wk Input'!$J$2),\"\",EN5)","v":35.610389609999999},{"$f":"IF(OR($D5=\"\",AK$2>'Wk Input'!$J$2),\"\",EO5)","v":40.961038960000003},{"$f":"IF(OR($D5=\"\",AL$2>'Wk Input'!$J$2),\"\",EP5)","v":40.961038960000003},{"$f":"IF(OR($D5=\"\",AM$2>'Wk Input'!$J$2),\"\",EQ5)","v":40.961038960000003},{"$f":"IF(OR($D5=\"\",AN$2>'Wk Input'!$J$2),\"\",ER5)","v":44.753246750000002},{"$f":"IF(OR($D5=\"\",AO$2>'Wk Input'!$J$2),\"\",ES5)","v":44.753246750000002},{"$f":"IF(OR($D5=\"\",AP$2>'Wk Input'!$J$2),\"\",ET5)","v":48.467532470000002},{"$f":"IF(OR($D5=\"\",AQ$2>'Wk Input'!$J$2),\"\",EU5)","v":48.467532470000002},{"$f":"IF(OR($D5=\"\",AR$2>'Wk Input'!$J$2),\"\",EV5)","v":48.467532470000002},{"$f":"IF(OR($D5=\"\",AS$2>'Wk Input'!$J$2),\"\",EW5)","v":48.467532470000002},{"$f":"IF(OR($D5=\"\",AT$2>'Wk Input'!$J$2),\"\",EX5)","v":54.12987013},{"$f":"IF(OR($D5=\"\",AU$2>'Wk Input'!$J$2),\"\",EY5)","v":54.597402600000002},{"$f":"IF(OR($D5=\"\",AV$2>'Wk Input'!$J$2),\"\",EZ5)","v":54.597402600000002},{"$f":"IF(OR($D5=\"\",AW$2>'Wk Input'!$J$2),\"\",FA5)","v":54.597402600000002},{"$f":"IF(OR($D5=\"\",AX$2>'Wk Input'!$J$2),\"\",FB5)","v":54.597402600000002},{"$f":"IF(OR($D5=\"\",AY$2>'Wk Input'!$J$2),\"\",FC5)","v":60.909090910000003},{"$f":"IF(OR($D5=\"\",AZ$2>'Wk Input'!$J$2),\"\",FD5)","v":60.909090910000003},{"$f":"IF(OR($D5=\"\",BA$2>'Wk Input'!$J$2),\"\",FE5)","v":60.909090910000003},{"$f":"IF(OR($D5=\"\",BB$2>'Wk Input'!$J$2),\"\",FF5)","v":60.909090910000003},{"$f":"IF(OR($D5=\"\",BC$2>'Wk Input'!$J$2),\"\",FG5)","v":77.350649349999998},{"$f":"IF(OR($D5=\"\",BD$2>'Wk Input'!$J$2),\"\",FH5)","v":77.350649349999998},{"$f":"IF(OR($D5=\"\",BE$2>'Wk Input'!$J$2),\"\",FI5)","v":77.350649349999998},{"$f":"IF(OR($D5=\"\",BF$2>'Wk Input'!$J$2),\"\",FJ5)","v":86.1038961},{"$f":"IF(OR($D5=\"\",BG$2>'Wk Input'!$J$2),\"\",FK5)","v":86.1038961},{"$f":"IF(OR($D5=\"\",BH$2>'Wk Input'!$J$2),\"\",FL5)","v":90.12987013},{"$f":"IF(OR($D5=\"\",BI$2>'Wk Input'!$J$2),\"\",FM5)","v":90.12987013},{"$f":"IF(OR($D5=\"\",BJ$2>'Wk Input'!$J$2),\"\",FN5)","v":90.12987013},{"$f":"IF(OR($D5=\"\",BK$2>'Wk Input'!$J$2),\"\",FO5)","v":99.220779219999997},null,null,{"$f":"IF(DG145=\"\",\"\",DG145)","v":0},{"$f":"IF(DH145<>\"\",DH145,BN22)","v":0},{"$f":"IF(DI145<>\"\",DI145,BO22)","v":0},2.52,2.52,3.67,3.67,3.67,5.41,5.41,6.32,6.32,6.32,6.32,8.85,8.85,8.85,10.199999999999999,{"$f":"IF(DY145<>\"\",DY145,CE22)","v":10.199999999999999},10.199999999999999,10.199999999999999,11.8,11.8,13.71,13.71,15.77,15.77,15.77,17.23,17.23,18.66,18.66,18.66,18.66,{"$f":"IF(EO145<>\"\",EO145,CU22)","v":20.84},21.02,21.02,21.02,21.02,23.45,23.45,23.45,23.45,29.78,29.78,29.78,33.15,33.15,34.700000000000003,34.700000000000003,{"$f":"IF(FE145<>\"\",FE145,DK22)","v":34.700000000000003},38.200000000000003,null,null,{"$f":"IF(FI145=\"\",\"\",FI145)","v":0},{"$f":"IF(FJ145<>\"\",FJ145,DP22)","v":0},{"$f":"IF(FK145<>\"\",FK145,DQ22)","v":0},6.5454545450000001,6.5454545450000001,9.5324675320000001,9.5324675320000001,9.5324675320000001,14.05194805,14.05194805,16.415584419999998,16.415584419999998,16.415584419999998,16.415584419999998,22.98701299,22.98701299,22.98701299,26.493506490000001,{"$f":"IF(GA145<>\"\",GA145,EG22)","v":26.493506490000001},26.493506490000001,26.493506490000001,30.649350649999999,30.649350649999999,35.610389609999999,35.610389609999999,40.961038960000003,40.961038960000003,40.961038960000003,44.753246750000002,44.753246750000002,48.467532470000002,48.467532470000002,48.467532470000002,48.467532470000002,{"$f":"IF(GQ145<>\"\",GQ145,EW22)","v":54.12987013},54.597402600000002,54.597402600000002,54.597402600000002,54.597402600000002,60.909090910000003,60.909090910000003,60.909090910000003,60.909090910000003,77.350649349999998,77.350649349999998,77.350649349999998,86.1038961,86.1038961,90.12987013,90.12987013,{"$f":"IF(HG145<>\"\",HG145,FM22)","v":90.12987013},99.220779219999997,null,null,{"$f":"IF($C5=\"N/A\",\"\",IF($G5=\"A\",IF(OR(FR$2<=$I5,$HQ5<=$I5),DP5,IF(AND(FR$2<$HQ5,FR$2>$I5),DP5*(1-((FR$2-$I5)/26)^2),DP5*(1-(($HQ5-$I5)/26)^2))),DP5))","v":0},{"$f":"IF($C5=\"N/A\",\"\",IF($G5=\"A\",IF(OR(FS$2<=$I5,$HQ5<=$I5),DQ5,IF(AND(FS$2<$HQ5,FS$2>$I5),DQ5*(1-((FS$2-$I5)/26)^2),DQ5*(1-(($HQ5-$I5)/26)^2))),DQ5))","v":0},0,6.5454545450000001,6.5454545450000001,9.5324675320000001,9.5324675320000001,9.5324675320000001,14.05194805,14.05194805,16.415584419999998,16.415584419999998,16.415584419999998,16.415584419999998,22.98701299,22.98701299,22.98701299,26.493506490000001,26.493506490000001,26.493506490000001,26.493506490000001,30.649350649999999,30.649350649999999,35.610389609999999,35.610389609999999,40.961038960000003,40.961038960000003,40.961038960000003,44.753246750000002,44.753246750000002,48.467532470000002,48.467532470000002,48.467532470000002,48.467532470000002,54.12987013,54.597402600000002,54.597402600000002,54.597402600000002,54.597402600000002,60.909090910000003,60.909090910000003,60.909090910000003,60.909090910000003,77.350649349999998,77.350649349999998,77.350649349999998,86.1038961,86.1038961,90.12987013,90.12987013,90.12987013,99.220779219999997,null,null,{"$f":"IFERROR(IF(FR22<0,0,FR22),\"\")","v":0},{"$f":"IFERROR(IF(FS22<0,0,FS22),\"\")","v":0},0,6.5454545450000001,6.5454545450000001,9.5324675320000001,9.5324675320000001,9.5324675320000001,14.05194805,14.05194805,16.415584419999998,16.415584419999998,16.415584419999998,16.415584419999998,22.98701299,22.98701299,22.98701299,{"$f":"IFERROR(IF(GI22<0,0,GI22),\"\")","v":26.493506490000001},26.493506490000001,26.493506490000001,26.493506490000001,30.649350649999999,30.649350649999999,35.610389609999999,35.610389609999999,40.961038960000003,40.961038960000003,40.961038960000003,44.753246750000002,44.753246750000002,48.467532470000002,48.467532470000002,48.467532470000002,{"$f":"IFERROR(IF(GY22<0,0,GY22),\"\")","v":48.467532470000002},54.12987013,54.597402600000002,54.597402600000002,54.597402600000002,54.597402600000002,60.909090910000003,60.909090910000003,60.909090910000003,60.909090910000003,77.350649349999998,77.350649349999998,77.350649349999998,86.1038961,86.1038961,90.12987013,{"$f":"IFERROR(IF(HO22<0,0,HO22),\"\")","v":90.12987013},90.12987013,99.220779219999997,null,null,null,null,null,null,null,null,null,null,null,null,null,null,null,null,null,null,null,null,null,null,null,null,null,null,null,null,null,null,null,null,null,null,null,null,null,null,null,null,null,null,null,null,null,null,null,null,null,null,null,null,null,null,21,"AC0"]
[null,null,null,null,null,null,null,null,null,null,null,{"$f":"IF(OR($D6=\"\",L$2>'Wk Input'!$J$2),\"\",DP6)","v":""},{"$f":"IF(OR($D6=\"\",M$2>'Wk Input'!$J$2),\"\",DQ6)","v":""},{"$f":"IF(OR($D6=\"\",N$2>'Wk Input'!$J$2),\"\",DR6)","v":""},{"$f":"IF(OR($D6=\"\",O$2>'Wk Input'!$J$2),\"\",DS6)","v":""},{"$f":"IF(OR($D6=\"\",P$2>'Wk Input'!$J$2),\"\",DT6)","v":100},{"$f":"IF(OR($D6=\"\",Q$2>'Wk Input'!$J$2),\"\",DU6)","v":""},{"$f":"IF(OR($D6=\"\",R$2>'Wk Input'!$J$2),\"\",DV6)","v":""},{"$f":"IF(OR($D6=\"\",S$2>'Wk Input'!$J$2),\"\",DW6)","v":""},{"$f":"IF(OR($D6=\"\",T$2>'Wk Input'!$J$2),\"\",DX6)","v":100},{"$f":"IF(OR($D6=\"\",U$2>'Wk Input'!$J$2),\"\",DY6)","v":""},{"$f":"IF(OR($D6=\"\",V$2>'Wk Input'!$J$2),\"\",DZ6)","v":""},{"$f":"IF(OR($D6=\"\",W$2>'Wk Input'!$J$2),\"\",EA6)","v":""},{"$f":"IF(OR($D6=\"\",X$2>'Wk Input'!$J$2),\"\",EB6)","v":""},{"$f":"IF(OR($D6=\"\",Y$2>'Wk Input'!$J$2),\"\",EC6)","v":64.285714290000001},{"$f":"IF(OR($D6=\"\",Z$2>'Wk Input'!$J$2),\"\",ED6)","v":""},{"$f":"IF(OR($D6=\"\",AA$2>'Wk Input'!$J$2),\"\",EE6)","v":""},{"$f":"IF(OR($D6=\"\",AB$2>'Wk Input'!$J$2),\"\",EF6)","v":""},{"$f":"IF(OR($D6=\"\",AC$2>'Wk Input'!$J$2),\"\",EG6)","v":28.571428569999998},{"$f":"IF(OR($D6=\"\",AD$2>'Wk Input'!$J$2),\"\",EH6)","v":""},{"$f":"IF(OR($D6=\"\",AE$2>'Wk Input'!$J$2),\"\",EI6)","v":""},{"$f":"IF(OR($D6=\"\",AF$2>'Wk Input'!$J$2),\"\",EJ6)","v":""},{"$f":"IF(OR($D6=\"\",AG$2>'Wk Input'!$J$2),\"\",EK6)","v":""},{"$f":"IF(OR($D6=\"\",AH$2>'Wk Input'!$J$2),\"\",EL6)","v":64.285714290000001},{"$f":"IF(OR($D6=\"\",AI$2>'Wk Input'!$J$2),\"\",EM6)","v":""},{"$f":"IF(OR($D6=\"\",AJ$2>'Wk Input'!$J$2),\"\",EN6)","v":""},{"$f":"IF(OR($D6=\"\",AK$2>'Wk Input'!$J$2),\"\",EO6)","v":""},{"$f":"IF(OR($D6=\"\",AL$2>'Wk Input'!$J$2),\"\",EP6)","v":64.285714290000001},{"$f":"IF(OR($D6=\"\",AM$2>'Wk Input'!$J$2),\"\",EQ6)","v":""},{"$f":"IF(OR($D6=\"\",AN$2>'Wk Input'!$J$2),\"\",ER6)","v":""},{"$f":"IF(OR($D6=\"\",AO$2>'Wk Input'!$J$2),\"\",ES6)","v":""},{"$f":"IF(OR($D6=\"\",AP$2>'Wk Input'!$J$2),\"\",ET6)","v":100},{"$f":"IF(OR($D6=\"\",AQ$2>'Wk Input'!$J$2),\"\",EU6)","v":""},{"$f":"IF(OR($D6=\"\",AR$2>'Wk Input'!$J$2),\"\",EV6)","v":""},{"$f":"IF(OR($D6=\"\",AS$2>'Wk Input'!$J$2),\"\",EW6)","v":""},{"$f":"IF(OR($D6=\"\",AT$2>'Wk Input'!$J$2),\"\",EX6)","v":""},{"$f":"IF(OR($D6=\"\",AU$2>'Wk Input'!$J$2),\"\",EY6)","v":28.571428569999998},{"$f":"IF(OR($D6=\"\",AV$2>'Wk Input'!$J$2),\"\",EZ6)","v":""},{"$f":"IF(OR($D6=\"\",AW$2>'Wk Input'!$J$2),\"\",FA6)","v":""},{"$f":"IF(OR($D6=\"\",AX$2>'Wk Input'!$J$2),\"\",FB6)","v":""},{"$f":"IF(OR($D6=\"\",AY$2>'Wk Input'!$J$2),\"\",FC6)","v":64.285714290000001},{"$f":"IF(OR($D6=\"\",AZ$2>'Wk Input'!$J$2),\"\",FD6)","v":""},{"$f":"IF(OR($D6=\"\",BA$2>'Wk Input'!$J$2),\"\",FE6)","v":""},{"$f":"IF(OR($D6=\"\",BB$2>'Wk Input'!$J$2),\"\",FF6)","v":""},{"$f":"IF(OR($D6=\"\",BC$2>'Wk Input'!$J$2),\"\",FG6)","v":28.571428569999998},{"$f":"IF(OR($D6=\"\",BD$2>'Wk Input'!$J$2),\"\",FH6)","v":""},{"$f":"IF(OR($D6=\"\",BE$2>'Wk Input'!$J$2),\"\",FI6)","v":""},{"$f":"IF(OR($D6=\"\",BF$2>'Wk Input'!$J$2),\"\",FJ6)","v":""},{"$f":"IF(OR($D6=\"\",BG$2>'Wk Input'!$J$2),\"\",FK6)","v":""},{"$f":"IF(OR($D6=\"\",BH$2>'Wk Input'!$J$2),\"\",FL6)","v":64.285714290000001},{"$f":"IF(OR($D6=\"\",BI$2>'Wk Input'!$J$2),\"\",FM6)","v":""},{"$f":"IF(OR($D6=\"\",BJ$2>'Wk Input'!$J$2),\"\",FN6)","v":""},{"$f":"IF(OR($D6=\"\",BK$2>'Wk Input'!$J$2),\"\",FO6)","v":100},null,null,{"$f":"IF(DG146=\"\",\"\",DG146)","v":""},{"$f":"IF(DH146<>\"\",DH146,BN23)","v":""},"","",14,14,14,14,14,14,14,14,14,14.33,14.33,14.33,14.33,14.75,14.75,14.75,14.75,14.75,14.8,14.8,14.8,14.8,14.83,14.83,14.83,14.83,14.71,14.71,14.71,14.71,14.71,14.88,14.88,14.88,14.88,14.89,14.89,14.89,14.89,15,15,15,15,15,15,15,15,14.92,null,null,{"$f":"IF(FI146=\"\",\"\",FI146)","v":""},{"$f":"IF(FJ146<>\"\",FJ146,DP23)","v":""},"","",100,100,100,100,100,100,100,100,100,88.095238100000003,88.095238100000003,88.095238100000003,88.095238100000003,73.214285709999999,73.214285709999999,73.214285709999999,73.214285709999999,73.214285709999999,71.428571430000005,71.428571430000005,71.428571430000005,71.428571430000005,70.238095240000007,70.238095240000007,70.238095240000007,70.238095240000007,74.489795920000006,74.489795920000006,74.489795920000006,74.489795920000006,74.489795920000006,68.75,68.75,68.75,68.75,68.25396825,68.25396825,68.25396825,68.25396825,64.285714290000001,64.285714290000001,64.285714290000001,64.285714290000001,64.285714290000001,64.285714290000001,64.285714290000001,64.285714290000001,67.261904759999993,null,null,{"$f":"IF($C6=\"N/A\",\"\",IF($G6=\"A\",IF(OR(FR$2<=$I6,$HQ6<=$I6),DP6,IF(AND(FR$2<$HQ6,FR$2>$I6),DP6*(1-((FR$2-$I6)/26)^2),DP6*(1-(($HQ6-$I6)/26)^2))),DP6))","v":""},"","","",100,"","","",100,"","","","",64.285714290000001,"","","",28.571428569999998,"","","","",64.285714290000001,"","","",64.285714290000001,"","","",100,"","","","",28.571428569999998,"","","",64.285714290000001,"","","",28.571428569999998,"","","","",64.285714290000001,"","",100,null,null,{"$f":"IFERROR(IF(FR23<0,0,FR23),\"\")","v":""},"","","",100,"","","",100,"","","","",64.285714290000001,"","","",28.571428569999998,"","","","",64.285714290000001,"","","",64.285714290000001,"","","",100,"","","","",28.571428569999998,"","","",64.285714290000001,"","","",28.571428569999998,"","","","",64.285714290000001,"","",100,null,null,null,null,null,null,null,null,null,null,null,null,null,null,null,null,null,null,null,null,null,null,null,null,null,null,null,null,null,null,null,null,null,null,null,null,null,null,null,null,null,null,null,null,null,null,null,null,null,null,null,null,null,null,22,"AC1"]
[null,null,null,null,null,null,null,null,null,null,null,{"$f":"IF(OR($D7=\"\",L$2>'Wk Input'!$J$2),\"\",DP7)","v":100},{"$f":"IF(OR($D7=\"\",M$2>'Wk Input'!$J$2),\"\",DQ7)","v":100},{"$f":"IF(OR($D7=\"\",N$2>'Wk Input'!$J$2),\"\",DR7)","v":97.894736839999993},{"$f":"IF(OR($D7=\"\",O$2>'Wk Input'!$J$2),\"\",DS7)","v":92.631578950000005},{"$f":"IF(OR($D7=\"\",P$2>'Wk Input'!$J$2),\"\",DT7)","v":100},{"$f":"IF(OR($D7=\"\",Q$2>'Wk Input'!$J$2),\"\",DU7)","v":88.421052630000005},{"$f":"IF(OR($D7=\"\",R$2>'Wk Input'!$J$2),\"\",DV7)","v":100},{"$f":"IF(OR($D7=\"\",S$2>'Wk Input'!$J$2),\"\",DW7)","v":100},{"$f":"IF(OR($D7=\"\",T$2>'Wk Input'!$J$2),\"\",DX7)","v":100},{"$f":"IF(OR($D7=\"\",U$2>'Wk Input'!$J$2),\"\",DY7)","v":91.578947369999995},{"$f":"IF(OR($D7=\"\",V$2>'Wk Input'!$J$2),\"\",DZ7)","v":100},{"$f":"IF(OR($D7=\"\",W$2>'Wk Input'!$J$2),\"\",EA7)","v":100},{"$f":"IF(OR($D7=\"\",X$2>'Wk Input'!$J$2),\"\",EB7)","v":86.315789469999999},{"$f":"IF(OR($D7=\"\",Y$2>'Wk Input'!$J$2),\"\",EC7)","v":100},{"$f":"IF(OR($D7=\"\",Z$2>'Wk Input'!$J$2),\"\",ED7)","v":100},{"$f":"IF(OR($D7=\"\",AA$2>'Wk Input'!$J$2),\"\",EE7)","v":100},{"$f":"IF(OR($D7=\"\",AB$2>'Wk Input'!$J$2),\"\",EF7)","v":100},{"$f":"IF(OR($D7=\"\",AC$2>'Wk Input'!$J$2),\"\",EG7)","v":100},{"$f":"IF(OR($D7=\"\",AD$2>'Wk Input'!$J$2),\"\",EH7)","v":100},{"$f":"IF(OR($D7=\"\",AE$2>'Wk Input'!$J$2),\"\",EI7)","v":100},{"$f":"IF(OR($D7=\"\",AF$2>'Wk Input'!$J$2),\"\",EJ7)","v":100},{"$f":"IF(OR($D7=\"\",AG$2>'Wk Input'!$J$2),\"\",EK7)","v":96.842105259999997},{"$f":"IF(OR($D7=\"\",AH$2>'Wk Input'!$J$2),\"\",EL7)","v":100},{"$f":"IF(OR($D7=\"\",AI$2>'Wk Input'!$J$2),\"\",EM7)","v":100},{"$f":"IF(OR($D7=\"\",AJ$2>'Wk Input'!$J$2),\"\",EN7)","v":100},{"$f":"IF(OR($D7=\"\",AK$2>'Wk Input'!$J$2),\"\",EO7)","v":100},{"$f":"IF(OR($D7=\"\",AL$2>'Wk Input'!$J$2),\"\",EP7)","v":100},{"$f":"IF(OR($D7=\"\",AM$2>'Wk Input'!$J$2),\"\",EQ7)","v":100},{"$f":"IF(OR($D7=\"\",AN$2>'Wk Input'!$J$2),\"\",ER7)","v":100},{"$f":"IF(OR($D7=\"\",AO$2>'Wk Input'!$J$2),\"\",ES7)","v":100},{"$f":"IF(OR($D7=\"\",AP$2>'Wk Input'!$J$2),\"\",ET7)","v":100},{"$f":"IF(OR($D7=\"\",AQ$2>'Wk Input'!$J$2),\"\",EU7)","v":92.631578950000005},{"$f":"IF(OR($D7=\"\",AR$2>'Wk Input'!$J$2),\"\",EV7)","v":100},{"$f":"IF(OR($D7=\"\",AS$2>'Wk Input'!$J$2),\"\",EW7)","v":100},{"$f":"IF(OR($D7=\"\",AT$2>'Wk Input'!$J$2),\"\",EX7)","v":86.315789469999999},{"$f":"IF(OR($D7=\"\",AU$2>'Wk Input'!$J$2),\"\",EY7)","v":100},{"$f":"IF(OR($D7=\"\",AV$2>'Wk Input'!$J$2),\"\",EZ7)","v":100},{"$f":"IF(OR($D7=\"\",AW$2>'Wk Input'!$J$2),\"\",FA7)","v":100},{"$f":"IF(OR($D7=\"\",AX$2>'Wk Input'!$J$2),\"\",FB7)","v":100},{"$f":"IF(OR($D7=\"\",AY$2>'Wk Input'!$J$2),\"\",FC7)","v":100},{"$f":"IF(OR($D7=\"\",AZ$2>'Wk Input'!$J$2),\"\",FD7)","v":100},{"$f":"IF(OR($D7=\"\",BA$2>'Wk Input'!$J$2),\"\",FE7)","v":92.631578950000005},{"$f":"IF(OR($D7=\"\",BB$2>'Wk Input'!$J$2),\"\",FF7)","v":100},{"$f":"IF(OR($D7=\"\",BC$2>'Wk Input'!$J$2),\"\",FG7)","v":100},{"$f":"IF(OR($D7=\"\",BD$2>'Wk Input'!$J$2),\"\",FH7)","v":100},{"$f":"IF(OR($D7=\"\",BE$2>'Wk Input'!$J$2),\"\",FI7)","v":100},{"$f":"IF(OR($D7=\"\",BF$2>'Wk Input'!$J$2),\"\",FJ7)","v":100},{"$f":"IF(OR($D7=\"\",BG$2>'Wk Input'!$J$2),\"\",FK7)","v":100},{"$f":"IF(OR($D7=\"\",BH$2>'Wk Input'!$J$2),\"\",FL7)","v":92.631578950000005},{"$f":"IF(OR($D7=\"\",BI$2>'Wk Input'!$J$2),\"\",FM7)","v":100},{"$f":"IF(OR($D7=\"\",BJ$2>'Wk Input'!$J$2),\"\",FN7)","v":100},{"$f":"IF(OR($D7=\"\",BK$2>'Wk Input'!$J$2),\"\",FO7)","v":100},null,null,100,100,97.67,95.25,96.2,94.17,94.57,95.25,95.78,94.9,95.36,95.75,94.69,95.07,95.33,95.44,95.71,95.72,95.95,95.95,96.1,95.91,95.91,96.08,96.08,96.23,96.37,96.36,96.34,96.37,96.48,96.22,96.33,96.41,96,96.11,96.22,96.21,96.26,96.28,96.37,96.17,96.16,96.23,96.24,96.33,96.4,96.48,96.31,96.34,96.41,96.48,null,null,100,100,100,100,100,99.122807019999996,99.548872180000004,100,100,99.894736839999993,100,100,99.676113360000002,100,100,100,100,100,100,100,100,100,100,100,100,100,100,100,100,100,100,100,100,100,100,100,100,100,100,100,100,100,100,100,100,100,100,100,100,100,100,100,null,null,100,100,97.894736839999993,92.631578950000005,100,88.421052630000005,100,100,100,91.578947369999995,100,100,86.315789469999999,100,100,100,100,100,100,100,100,96.842105259999997,100,100,100,100,100,100,100,100,100,92.631578950000005,100,100,86.315789469999999,100,100,100,100,100,100,92.631578950000005,100,100,100,100,100,100,92.631578950000005,100,100,100,null,null,100,100,97.894736839999993,92.631578950000005,100,88.421052630000005,100,100,100,91.578947369999995,100,100,86.315789469999999,100,100,100,100,100,100,100,100,96.842105259999997,100,100,100,100,100,100,100,100,100,92.631578950000005,100,100,86.315789469999999,100,100,100,100,100,100,92.631578950000005,100,100,100,100,100,100,92.631578950000005,100,100,100,null,null,null,null,null,null,null,null,null,null,null,null,null,null,null,null,null,null,null,null,null,null,null,null,null,null,null,null,null,null,null,null,null,null,null,null,null,null,null,null,null,null,null,null,null,null,null,null,null,null,null,null,null,null,23,"AC2"]
[null,null,null,null,null,null,null,null,null,null,null,{"$f":"IF(OR($D8=\"\",L$2>'Wk Input'!$J$2),\"\",DP8)","v":0},{"$f":"IF(OR($D8=\"\",M$2>'Wk Input'!$J$2),\"\",DQ8)","v":0},{"$f":"IF(OR($D8=\"\",N$2>'Wk Input'!$J$2),\"\",DR8)","v":0},{"$f":"IF(OR($D8=\"\",O$2>'Wk Input'!$J$2),\"\",DS8)","v":0},{"$f":"IF(OR($D8=\"\",P$2>'Wk Input'!$J$2),\"\",DT8)","v":0},{"$f":"IF(OR($D8=\"\",Q$2>'Wk Input'!$J$2),\"\",DU8)","v":0.43859649099999998},{"$f":"IF(OR($D8=\"\",R$2>'Wk Input'!$J$2),\"\",DV8)","v":0.43859649099999998},{"$f":"IF(OR($D8=\"\",S$2>'Wk Input'!$J$2),\"\",DW8)","v":0.87719298199999995},{"$f":"IF(OR($D8=\"\",T$2>'Wk Input'!$J$2),\"\",DX8)","v":0.87719298199999995},{"$f":"IF(OR($D8=\"\",U$2>'Wk Input'!$J$2),\"\",DY8)","v":2.3391812870000002},{"$f":"IF(OR($D8=\"\",V$2>'Wk Input'!$J$2),\"\",DZ8)","v":2.7777777779999999},{"$f":"IF(OR($D8=\"\",W$2>'Wk Input'!$J$2),\"\",EA8)","v":4.6783625730000002},{"$f":"IF(OR($D8=\"\",X$2>'Wk Input'!$J$2),\"\",EB8)","v":4.6783625730000002},{"$f":"IF(OR($D8=\"\",Y$2>'Wk Input'!$J$2),\"\",EC8)","v":6.5789473679999997},{"$f":"IF(OR($D8=\"\",Z$2>'Wk Input'!$J$2),\"\",ED8)","v":7.6023391809999996},{"$f":"IF(OR($D8=\"\",AA$2>'Wk Input'!$J$2),\"\",EE8)","v":11.40350877},{"$f":"IF(OR($D8=\"\",AB$2>'Wk Input'!$J$2),\"\",EF8)","v":11.84210526},{"$f":"IF(OR($D8=\"\",AC$2>'Wk Input'!$J$2),\"\",EG8)","v":13.88888889},{"$f":"IF(OR($D8=\"\",AD$2>'Wk Input'!$J$2),\"\",EH8)","v":14.766081870000001},{"$f":"IF(OR($D8=\"\",AE$2>'Wk Input'!$J$2),\"\",EI8)","v":18.85964912},{"$f":"IF(OR($D8=\"\",AF$2>'Wk Input'!$J$2),\"\",EJ8)","v":21.637426900000001},{"$f":"IF(OR($D8=\"\",AG$2>'Wk Input'!$J$2),\"\",EK8)","v":22.95321637},{"$f":"IF(OR($D8=\"\",AH$2>'Wk Input'!$J$2),\"\",EL8)","v":25},{"$f":"IF(OR($D8=\"\",AI$2>'Wk Input'!$J$2),\"\",EM8)","v":27.631578950000002},{"$f":"IF(OR($D8=\"\",AJ$2>'Wk Input'!$J$2),\"\",EN8)","v":31.725146200000001},{"$f":"IF(OR($D8=\"\",AK$2>'Wk Input'!$J$2),\"\",EO8)","v":37.426900580000002},{"$f":"IF(OR($D8=\"\",AL$2>'Wk Input'!$J$2),\"\",EP8)","v":38.742690060000001},{"$f":"IF(OR($D8=\"\",AM$2>'Wk Input'!$J$2),\"\",EQ8)","v":44.883040940000001},{"$f":"IF(OR($D8=\"\",AN$2>'Wk Input'!$J$2),\"\",ER8)","v":47.514619879999998},{"$f":"IF(OR($D8=\"\",AO$2>'Wk Input'!$J$2),\"\",ES8)","v":53.654970759999998},{"$f":"IF(OR($D8=\"\",AP$2>'Wk Input'!$J$2),\"\",ET8)","v":59.356725150000003},{"$f":"IF(OR($D8=\"\",AQ$2>'Wk Input'!$J$2),\"\",EU8)","v":59.356725150000003},{"$f":"IF(OR($D8=\"\",AR$2>'Wk Input'!$J$2),\"\",EV8)","v":65.497076019999994},{"$f":"IF(OR($D8=\"\",AS$2>'Wk Input'!$J$2),\"\",EW8)","v":65.497076019999994},{"$f":"IF(OR($D8=\"\",AT$2>'Wk Input'!$J$2),\"\",EX8)","v":72.953216370000007},{"$f":"IF(OR($D8=\"\",AU$2>'Wk Input'!$J$2),\"\",EY8)","v":76.023391810000007},{"$f":"IF(OR($D8=\"\",AV$2>'Wk Input'!$J$2),\"\",EZ8)","v":77.339181289999999},{"$f":"IF(OR($D8=\"\",AW$2>'Wk Input'!$J$2),\"\",FA8)","v":80.409356729999999},{"$f":"IF(OR($D8=\"\",AX$2>'Wk Input'!$J$2),\"\",FB8)","v":83.040935669999996},{"$f":"IF(OR($D8=\"\",AY$2>'Wk Input'!$J$2),\"\",FC8)","v":89.181286549999996},{"$f":"IF(OR($D8=\"\",AZ$2>'Wk Input'!$J$2),\"\",FD8)","v":92.251461989999996},{"$f":"IF(OR($D8=\"\",BA$2>'Wk Input'!$J$2),\"\",FE8)","v":92.251461989999996},{"$f":"IF(OR($D8=\"\",BB$2>'Wk Input'!$J$2),\"\",FF8)","v":93.567251459999994},{"$f":"IF(OR($D8=\"\",BC$2>'Wk Input'!$J$2),\"\",FG8)","v":93.567251459999994},{"$f":"IF(OR($D8=\"\",BD$2>'Wk Input'!$J$2),\"\",FH8)","v":97.514619879999998},{"$f":"IF(OR($D8=\"\",BE$2>'Wk Input'!$J$2),\"\",FI8)","v":97.514619879999998},{"$f":"IF(OR($D8=\"\",BF$2>'Wk Input'!$J$2),\"\",FJ8)","v":100},{"$f":"IF(OR($D8=\"\",BG$2>'Wk Input'!$J$2),\"\",FK8)","v":100},{"$f":"IF(OR($D8=\"\",BH$2>'Wk Input'!$J$2),\"\",FL8)","v":100},{"$f":"IF(OR($D8=\"\",BI$2>'Wk Input'!$J$2),\"\",FM8)","v":100},{"$f":"IF(OR($D8=\"\",BJ$2>'Wk Input'!$J$2),\"\",FN8)","v":100},{"$f":"IF(OR($D8=\"\",BK$2>'Wk Input'!$J$2),\"\",FO8)","v":100},null,null,0,0,0,0,0,0.39,0.39,0.79,0.79,2.11,2.5,4.21,4.21,5.92,6.84,10.26,10.66,12.5,13.29,16.97,19.47,20.66,22.5,24.87,28.55,33.68,34.869999999999997,40.39,42.76,48.29,53.42,53.42,58.95,58.95,65.66,68.42,69.61,72.37,74.739999999999995,80.260000000000005,83.03,83.03,84.21,84.21,87.76,87.76,97.24,97.24,100,100,100,100,null,null,0,0,0,0,0,0.43859649099999998,0.43859649099999998,0.87719298199999995,0.87719298199999995,2.3391812870000002,2.7777777779999999,4.6783625730000002,4.6783625730000002,6.5789473679999997,7.6023391809999996,11.40350877,11.84210526,13.88888889,14.766081870000001,18.85964912,21.637426900000001,22.95321637,25,27.631578950000002,31.725146200000001,37.426900580000002,38.742690060000001,44.883040940000001,47.514619879999998,53.654970759999998,59.356725150000003,59.356725150000003,65.497076019999994,65.497076019999994,72.953216370000007,76.023391810000007,77.339181289999999,80.409356729999999,83.040935669999996,89.181286549999996,92.251461989999996,92.251461989999996,93.567251459999994,93.567251459999994,97.514619879999998,97.514619879999998,100,100,100,100,100,100,null,null,0,0,0,0,0,0.43859649099999998,0.43859649099999998,0.87719298199999995,0.87719298199999995,2.3391812870000002,2.7777777779999999,4.6783625730000002,4.6783625730000002,6.5789473679999997,7.6023391809999996,11.40350877,11.84210526,13.88888889,14.766081870000001,18.85964912,21.637426900000001,22.95321637,25,27.631578950000002,31.725146200000001,37.426900580000002,38.742690060000001,44.883040940000001,47.514619879999998,53.654970759999998,59.356725150000003,59.356725150000003,65.497076019999994,65.497076019999994,72.953216370000007,76.023391810000007,77.339181289999999,80.409356729999999,83.040935669999996,89.181286549999996,92.251461989999996,92.251461989999996,93.567251459999994,93.567251459999994,97.370367483727819,96.937610294911238,98.668639053254438,98.668639053254438,98.668639053254438,98.668639053254438,98.668639053254438,98.668639053254438,null,null,0,0,0,0,0,0.43859649099999998,0.43859649099999998,0.87719298199999995,0.87719298199999995,2.3391812870000002,2.7777777779999999,4.6783625730000002,4.6783625730000002,6.5789473679999997,7.6023391809999996,11.40350877,11.84210526,13.88888889,14.766081870000001,18.85964912,21.637426900000001,22.95321637,25,27.631578950000002,31.725146200000001,37.426900580000002,38.742690060000001,44.883040940000001,47.514619879999998,53.654970759999998,59.356725150000003,59.356725150000003,65.497076019999994,65.497076019999994,72.953216370000007,76.023391810000007,77.339181289999999,80.409356729999999,83.040935669999996,89.181286549999996,92.251461989999996,92.251461989999996,93.567251459999994,93.567251459999994,97.370367483727819,96.937610294911238,98.668639053254438,98.668639053254438,98.668639053254438,98.668639053254438,98.668639053254438,98.668639053254438,null,null,null,null,null,null,null,null,null,null,null,null,null,null,null,null,null,null,null,null,null,null,null,null,null,null,null,null,null,null,null,null,null,null,null,null,null,null,null,null,null,null,null,null,null,null,null,null,null,null,null,null,null,null,24,"AC3"]
[null,null,null,null,null,null,null,null,null,null,null,{"$f":"IF(OR($D9=\"\",L$2>'Wk Input'!$J$2),\"\",DP9)","v":""},{"$f":"IF(OR($D9=\"\",M$2>'Wk Input'!$J$2),\"\",DQ9)","v":""},{"$f":"IF(OR($D9=\"\",N$2>'Wk Input'!$J$2),\"\",DR9)","v":""},{"$f":"IF(OR($D9=\"\",O$2>'Wk Input'!$J$2),\"\",DS9)","v":100},{"$f":"IF(OR($D9=\"\",P$2>'Wk Input'!$J$2),\"\",DT9)","v":""},{"$f":"IF(OR($D9=\"\",Q$2>'Wk Input'!$J$2),\"\",DU9)","v":""},{"$f":"IF(OR($D9=\"\",R$2>'Wk Input'!$J$2),\"\",DV9)","v":100},{"$f":"IF(OR($D9=\"\",S$2>'Wk Input'!$J$2),\"\",DW9)","v":""},{"$f":"IF(OR($D9=\"\",T$2>'Wk Input'!$J$2),\"\",DX9)","v":""},{"$f":"IF(OR($D9=\"\",U$2>'Wk Input'!$J$2),\"\",DY9)","v":""},{"$f":"IF(OR($D9=\"\",V$2>'Wk Input'!$J$2),\"\",DZ9)","v":""},{"$f":"IF(OR($D9=\"\",W$2>'Wk Input'!$J$2),\"\",EA9)","v":""},{"$f":"IF(OR($D9=\"\",X$2>'Wk Input'!$J$2),\"\",EB9)","v":100},{"$f":"IF(OR($D9=\"\",Y$2>'Wk Input'!$J$2),\"\",EC9)","v":""},{"$f":"IF(OR($D9=\"\",Z$2>'Wk Input'!$J$2),\"\",ED9)","v":""},{"$f":"IF(OR($D9=\"\",AA$2>'Wk Input'!$J$2),\"\",EE9)","v":""},{"$f":"IF(OR($D9=\"\",AB$2>'Wk Input'!$J$2),\"\",EF9)","v":""},{"$f":"IF(OR($D9=\"\",AC$2>'Wk Input'!$J$2),\"\",EG9)","v":""},{"$f":"IF(OR($D9=\"\",AD$2>'Wk Input'!$J$2),\"\",EH9)","v":""},{"$f":"IF(OR($D9=\"\",AE$2>'Wk Input'!$J$2),\"\",EI9)","v":""},{"$f":"IF(OR($D9=\"\",AF$2>'Wk Input'!$J$2),\"\",EJ9)","v":100},{"$f":"IF(OR($D9=\"\",AG$2>'Wk Input'!$J$2),\"\",EK9)","v":""},{"$f":"IF(OR($D9=\"\",AH$2>'Wk Input'!$J$2),\"\",EL9)","v":""},{"$f":"IF(OR($D9=\"\",AI$2>'Wk Input'!$J$2),\"\",EM9)","v":""},{"$f":"IF(OR($D9=\"\",AJ$2>'Wk Input'!$J$2),\"\",EN9)","v":98.245614040000007},{"$f":"IF(OR($D9=\"\",AK$2>'Wk Input'!$J$2),\"\",EO9)","v":""},{"$f":"IF(OR($D9=\"\",AL$2>'Wk Input'!$J$2),\"\",EP9)","v":100},{"$f":"IF(OR($D9=\"\",AM$2>'Wk Input'!$J$2),\"\",EQ9)","v":""},{"$f":"IF(OR($D9=\"\",AN$2>'Wk Input'!$J$2),\"\",ER9)","v":""},{"$f":"IF(OR($D9=\"\",AO$2>'Wk Input'!$J$2),\"\",ES9)","v":98.245614040000007},{"$f":"IF(OR($D9=\"\",AP$2>'Wk Input'!$J$2),\"\",ET9)","v":""},{"$f":"IF(OR($D9=\"\",AQ$2>'Wk Input'!$J$2),\"\",EU9)","v":""},{"$f":"IF(OR($D9=\"\",AR$2>'Wk Input'!$J$2),\"\",EV9)","v":""},{"$f":"IF(OR($D9=\"\",AS$2>'Wk Input'!$J$2),\"\",EW9)","v":""},{"$f":"IF(OR($D9=\"\",AT$2>'Wk Input'!$J$2),\"\",EX9)","v":""},{"$f":"IF(OR($D9=\"\",AU$2>'Wk Input'!$J$2),\"\",EY9)","v":""},{"$f":"IF(OR($D9=\"\",AV$2>'Wk Input'!$J$2),\"\",EZ9)","v":""},{"$f":"IF(OR($D9=\"\",AW$2>'Wk Input'!$J$2),\"\",FA9)","v":100},{"$f":"IF(OR($D9=\"\",AX$2>'Wk Input'!$J$2),\"\",FB9)","v":""},{"$f":"IF(OR($D9=\"\",AY$2>'Wk Input'!$J$2),\"\",FC9)","v":""},{"$f":"IF(OR($D9=\"\",AZ$2>'Wk Input'!$J$2),\"\",FD9)","v":100},{"$f":"IF(OR($D9=\"\",BA$2>'Wk Input'!$J$2),\"\",FE9)","v":""},{"$f":"IF(OR($D9=\"\",BB$2>'Wk Input'!$J$2),\"\",FF9)","v":""},{"$f":"IF(OR($D9=\"\",BC$2>'Wk Input'!$J$2),\"\",FG9)","v":""},{"$f":"IF(OR($D9=\"\",BD$2>'Wk Input'!$J$2),\"\",FH9)","v":""},{"$f":"IF(OR($D9=\"\",BE$2>'Wk Input'!$J$2),\"\",FI9)","v":100},{"$f":"IF(OR($D9=\"\",BF$2>'Wk Input'!$J$2),\"\",FJ9)","v":""},{"$f":"IF(OR($D9=\"\",BG$2>'Wk Input'!$J$2),\"\",FK9)","v":""},{"$f":"IF(OR($D9=\"\",BH$2>'Wk Input'!$J$2),\"\",FL9)","v":""},{"$f":"IF(OR($D9=\"\",BI$2>'Wk Input'!$J$2),\"\",FM9)","v":""},{"$f":"IF(OR($D9=\"\",BJ$2>'Wk Input'!$J$2),\"\",FN9)","v":""},{"$f":"IF(OR($D9=\"\",BK$2>'Wk Input'!$J$2),\"\",FO9)","v":""},null,null,"","","",96.3,96.3,96.3,98.15,98.15,98.15,98.15,98.15,98.15,97.65,97.65,97.65,97.65,97.65,97.65,97.65,97.65,98.24,98.24,98.24,98.24,97.26,97.26,97.72,97.72,97.72,97.09,97.09,97.09,97.09,97.09,97.09,97.09,97.09,97.45,97.45,97.45,97.74,97.74,97.74,97.74,97.74,97.96,97.96,97.96,97.96,97.96,97.96,97.96,null,null,"","","",100,100,100,100,100,100,100,100,100,100,100,100,100,100,100,100,100,100,100,100,100,100,100,100,100,100,100,100,100,100,100,100,100,100,100,100,100,100,100,100,100,100,100,100,100,100,100,100,100,null,null,"","","",100,"","",100,"","","","","",100,"","","","","","","",100,"","","",98.245614040000007,"",100,"","",98.245614040000007,"","","","","","","",100,"","",100,"","","","",100,"","","","","","",null,null,"","","",100,"","",100,"","","","","",100,"","","","","","","",100,"","","",98.245614040000007,"",100,"","",98.245614040000007,"","","","","","","",100,"","",100,"","","","",100,"","","","","","",null,null,null,null,null,null,null,null,null,null,null,null,null,null,null,null,null,null,null,null,null,null,null,null,null,null,null,null,null,null,null,null,null,null,null,null,null,null,null,null,null,null,null,null,null,null,null,null,null,null,null,null,null,null,25,"AC4"]
[null,null,null,null,null,null,null,null,null,null,null,{"$f":"IF(OR($D10=\"\",L$2>'Wk Input'!$J$2),\"\",DP10)","v":""},{"$f":"IF(OR($D10=\"\",M$2>'Wk Input'!$J$2),\"\",DQ10)","v":""},{"$f":"IF(OR($D10=\"\",N$2>'Wk Input'!$J$2),\"\",DR10)","v":""},{"$f":"IF(OR($D10=\"\",O$2>'Wk Input'!$J$2),\"\",DS10)","v":""},{"$f":"IF(OR($D10=\"\",P$2>'Wk Input'!$J$2),\"\",DT10)","v":""},{"$f":"IF(OR($D10=\"\",Q$2>'Wk Input'!$J$2),\"\",DU10)","v":""},{"$f":"IF(OR($D10=\"\",R$2>'Wk Input'!$J$2),\"\",DV10)","v":""},{"$f":"IF(OR($D10=\"\",S$2>'Wk Input'!$J$2),\"\",DW10)","v":""},{"$f":"IF(OR($D10=\"\",T$2>'Wk Input'!$J$2),\"\",DX10)","v":""},{"$f":"IF(OR($D10=\"\",U$2>'Wk Input'!$J$2),\"\",DY10)","v":0},{"$f":"IF(OR($D10=\"\",V$2>'Wk Input'!$J$2),\"\",DZ10)","v":0},{"$f":"IF(OR($D10=\"\",W$2>'Wk Input'!$J$2),\"\",EA10)","v":0},{"$f":"IF(OR($D10=\"\",X$2>'Wk Input'!$J$2),\"\",EB10)","v":0},{"$f":"IF(OR($D10=\"\",Y$2>'Wk Input'!$J$2),\"\",EC10)","v":0},{"$f":"IF(OR($D10=\"\",Z$2>'Wk Input'!$J$2),\"\",ED10)","v":0},{"$f":"IF(OR($D10=\"\",AA$2>'Wk Input'!$J$2),\"\",EE10)","v":0},{"$f":"IF(OR($D10=\"\",AB$2>'Wk Input'!$J$2),\"\",EF10)","v":0},{"$f":"IF(OR($D10=\"\",AC$2>'Wk Input'!$J$2),\"\",EG10)","v":0},{"$f":"IF(OR($D10=\"\",AD$2>'Wk Input'!$J$2),\"\",EH10)","v":0},{"$f":"IF(OR($D10=\"\",AE$2>'Wk Input'!$J$2),\"\",EI10)","v":0},{"$f":"IF(OR($D10=\"\",AF$2>'Wk Input'!$J$2),\"\",EJ10)","v":0},{"$f":"IF(OR($D10=\"\",AG$2>'Wk Input'!$J$2),\"\",EK10)","v":0},{"$f":"IF(OR($D10=\"\",AH$2>'Wk Input'!$J$2),\"\",EL10)","v":0},{"$f":"IF(OR($D10=\"\",AI$2>'Wk Input'!$J$2),\"\",EM10)","v":0},{"$f":"IF(OR($D10=\"\",AJ$2>'Wk Input'!$J$2),\"\",EN10)","v":0},{"$f":"IF(OR($D10=\"\",AK$2>'Wk Input'!$J$2),\"\",EO10)","v":0},{"$f":"IF(OR($D10=\"\",AL$2>'Wk Input'!$J$2),\"\",EP10)","v":0},{"$f":"IF(OR($D10=\"\",AM$2>'Wk Input'!$J$2),\"\",EQ10)","v":0},{"$f":"IF(OR($D10=\"\",AN$2>'Wk Input'!$J$2),\"\",ER10)","v":0},{"$f":"IF(OR($D10=\"\",AO$2>'Wk Input'!$J$2),\"\",ES10)","v":0},{"$f":"IF(OR($D10=\"\",AP$2>'Wk Input'!$J$2),\"\",ET10)","v":0},{"$f":"IF(OR($D10=\"\",AQ$2>'Wk Input'!$J$2),\"\",EU10)","v":0},{"$f":"IF(OR($D10=\"\",AR$2>'Wk Input'!$J$2),\"\",EV10)","v":0},{"$f":"IF(OR($D10=\"\",AS$2>'Wk Input'!$J$2),\"\",EW10)","v":0},{"$f":"IF(OR($D10=\"\",AT$2>'Wk Input'!$J$2),\"\",EX10)","v":0},{"$f":"IF(OR($D10=\"\",AU$2>'Wk Input'!$J$2),\"\",EY10)","v":0},{"$f":"IF(OR($D10=\"\",AV$2>'Wk Input'!$J$2),\"\",EZ10)","v":0},{"$f":"IF(OR($D10=\"\",AW$2>'Wk Input'!$J$2),\"\",FA10)","v":0},{"$f":"IF(OR($D10=\"\",AX$2>'Wk Input'!$J$2),\"\",FB10)","v":0},{"$f":"IF(OR($D10=\"\",AY$2>'Wk Input'!$J$2),\"\",FC10)","v":0},{"$f":"IF(OR($D10=\"\",AZ$2>'Wk Input'!$J$2),\"\",FD10)","v":0},{"$f":"IF(OR($D10=\"\",BA$2>'Wk Input'!$J$2),\"\",FE10)","v":0},{"$f":"IF(OR($D10=\"\",BB$2>'Wk Input'!$J$2),\"\",FF10)","v":0},{"$f":"IF(OR($D10=\"\",BC$2>'Wk Input'!$J$2),\"\",FG10)","v":100},{"$f":"IF(OR($D10=\"\",BD$2>'Wk Input'!$J$2),\"\",FH10)","v":100},{"$f":"IF(OR($D10=\"\",BE$2>'Wk Input'!$J$2),\"\",FI10)","v":100},{"$f":"IF(OR($D10=\"\",BF$2>'Wk Input'!$J$2),\"\",FJ10)","v":100},{"$f":"IF(OR($D10=\"\",BG$2>'Wk Input'!$J$2),\"\",FK10)","v":100},{"$f":"IF(OR($D10=\"\",BH$2>'Wk Input'!$J$2),\"\",FL10)","v":100},{"$f":"IF(OR($D10=\"\",BI$2>'Wk Input'!$J$2),\"\",FM10)","v":100},{"$f":"IF(OR($D10=\"\",BJ$2>'Wk Input'!$J$2),\"\",FN10)","v":100},{"$f":"IF(OR($D10=\"\",BK$2>'Wk Input'!$J$2),\"\",FO10)","v":100},null,null,"","","","","","","","","","No","No","No","No","No","No","No","No","No","No","No","No","No","No","No","No","No","No","No","No","No","No","No","No","No","No","No","No","No","No","No","No","No","No","Yes","Yes","Yes","Yes","Yes","Yes","Yes","Yes","Yes",null,null,"","","","","","","","","",0,0,0,0,0,0,0,0,0,0,0,0,0,0,0,0,0,0,0,0,0,0,0,0,0,0,0,0,0,0,0,0,0,0,100,100,100,100,100,100,100,100,100,null,null,"","","","","","","","","",0,0,0,0,0,0,0,0,0,0,0,0,0,0,0,0,0,0,0,0,0,0,0,0,0,0,0,0,0,0,0,0,0,0,100,100,100,100,{"$f":"IF($C10=\"N/A\",\"\",IF($G10=\"A\",IF(OR(HM$2<=$I10,$HQ10<=$I10),FK10,IF(AND(HM$2<$HQ10,HM$2>$I10),FK10*(1-((HM$2-$I10)/26)^2),FK10*(1-(($HQ10-$I10)/26)^2))),FK10))","v":100},100,100,100,100,null,null,"","","","","","","","","",0,0,0,0,0,0,0,0,0,0,0,0,0,0,0,0,0,0,0,0,0,0,0,0,0,0,0,0,0,0,0,0,0,0,100,100,100,100,100,100,100,100,100,null,null,null,null,null,null,null,null,null,null,null,null,null,null,null,null,null,null,null,null,null,null,null,null,null,null,null,null,null,null,null,null,null,null,null,null,null,null,null,null,null,null,null,null,null,null,null,null,null,null,null,null,null,null,26,"AC5"]
[null,null,null,null,null,null,null,null,null,null,null,{"$f":"IF(OR($D11=\"\",L$2>'Wk Input'!$J$2),\"\",DP11)","v":""},{"$f":"IF(OR($D11=\"\",M$2>'Wk Input'!$J$2),\"\",DQ11)","v":""},{"$f":"IF(OR($D11=\"\",N$2>'Wk Input'!$J$2),\"\",DR11)","v":""},{"$f":"IF(OR($D11=\"\",O$2>'Wk Input'!$J$2),\"\",DS11)","v":""},{"$f":"IF(OR($D11=\"\",P$2>'Wk Input'!$J$2),\"\",DT11)","v":""},{"$f":"IF(OR($D11=\"\",Q$2>'Wk Input'!$J$2),\"\",DU11)","v":""},{"$f":"IF(OR($D11=\"\",R$2>'Wk Input'!$J$2),\"\",DV11)","v":""},{"$f":"IF(OR($D11=\"\",S$2>'Wk Input'!$J$2),\"\",DW11)","v":""},{"$f":"IF(OR($D11=\"\",T$2>'Wk Input'!$J$2),\"\",DX11)","v":""},{"$f":"IF(OR($D11=\"\",U$2>'Wk Input'!$J$2),\"\",DY11)","v":""},{"$f":"IF(OR($D11=\"\",V$2>'Wk Input'!$J$2),\"\",DZ11)","v":""},{"$f":"IF(OR($D11=\"\",W$2>'Wk Input'!$J$2),\"\",EA11)","v":""},{"$f":"IF(OR($D11=\"\",X$2>'Wk Input'!$J$2),\"\",EB11)","v":""},{"$f":"IF(OR($D11=\"\",Y$2>'Wk Input'!$J$2),\"\",EC11)","v":""},{"$f":"IF(OR($D11=\"\",Z$2>'Wk Input'!$J$2),\"\",ED11)","v":""},{"$f":"IF(OR($D11=\"\",AA$2>'Wk Input'!$J$2),\"\",EE11)","v":""},{"$f":"IF(OR($D11=\"\",AB$2>'Wk Input'!$J$2),\"\",EF11)","v":""},{"$f":"IF(OR($D11=\"\",AC$2>'Wk Input'!$J$2),\"\",EG11)","v":""},{"$f":"IF(OR($D11=\"\",AD$2>'Wk Input'!$J$2),\"\",EH11)","v":""},{"$f":"IF(OR($D11=\"\",AE$2>'Wk Input'!$J$2),\"\",EI11)","v":""},{"$f":"IF(OR($D11=\"\",AF$2>'Wk Input'!$J$2),\"\",EJ11)","v":""},{"$f":"IF(OR($D11=\"\",AG$2>'Wk Input'!$J$2),\"\",EK11)","v":""},{"$f":"IF(OR($D11=\"\",AH$2>'Wk Input'!$J$2),\"\",EL11)","v":""},{"$f":"IF(OR($D11=\"\",AI$2>'Wk Input'!$J$2),\"\",EM11)","v":""},{"$f":"IF(OR($D11=\"\",AJ$2>'Wk Input'!$J$2),\"\",EN11)","v":""},{"$f":"IF(OR($D11=\"\",AK$2>'Wk Input'!$J$2),\"\",EO11)","v":""},{"$f":"IF(OR($D11=\"\",AL$2>'Wk Input'!$J$2),\"\",EP11)","v":""},{"$f":"IF(OR($D11=\"\",AM$2>'Wk Input'!$J$2),\"\",EQ11)","v":""},{"$f":"IF(OR($D11=\"\",AN$2>'Wk Input'!$J$2),\"\",ER11)","v":""},{"$f":"IF(OR($D11=\"\",AO$2>'Wk Input'!$J$2),\"\",ES11)","v":""},{"$f":"IF(OR($D11=\"\",AP$2>'Wk Input'!$J$2),\"\",ET11)","v":""},{"$f":"IF(OR($D11=\"\",AQ$2>'Wk Input'!$J$2),\"\",EU11)","v":""},{"$f":"IF(OR($D11=\"\",AR$2>'Wk Input'!$J$2),\"\",EV11)","v":""},{"$f":"IF(OR($D11=\"\",AS$2>'Wk Input'!$J$2),\"\",EW11)","v":""},{"$f":"IF(OR($D11=\"\",AT$2>'Wk Input'!$J$2),\"\",EX11)","v":""},{"$f":"IF(OR($D11=\"\",AU$2>'Wk Input'!$J$2),\"\",EY11)","v":""},{"$f":"IF(OR($D11=\"\",AV$2>'Wk Input'!$J$2),\"\",EZ11)","v":""},{"$f":"IF(OR($D11=\"\",AW$2>'Wk Input'!$J$2),\"\",FA11)","v":""},{"$f":"IF(OR($D11=\"\",AX$2>'Wk Input'!$J$2),\"\",FB11)","v":""},{"$f":"IF(OR($D11=\"\",AY$2>'Wk Input'!$J$2),\"\",FC11)","v":""},{"$f":"IF(OR($D11=\"\",AZ$2>'Wk Input'!$J$2),\"\",FD11)","v":""},{"$f":"IF(OR($D11=\"\",BA$2>'Wk Input'!$J$2),\"\",FE11)","v":""},{"$f":"IF(OR($D11=\"\",BB$2>'Wk Input'!$J$2),\"\",FF11)","v":""},{"$f":"IF(OR($D11=\"\",BC$2>'Wk Input'!$J$2),\"\",FG11)","v":""},{"$f":"IF(OR($D11=\"\",BD$2>'Wk Input'!$J$2),\"\",FH11)","v":""},{"$f":"IF(OR($D11=\"\",BE$2>'Wk Input'!$J$2),\"\",FI11)","v":""},{"$f":"IF(OR($D11=\"\",BF$2>'Wk Input'!$J$2),\"\",FJ11)","v":""},{"$f":"IF(OR($D11=\"\",BG$2>'Wk Input'!$J$2),\"\",FK11)","v":""},{"$f":"IF(OR($D11=\"\",BH$2>'Wk Input'!$J$2),\"\",FL11)","v":""},{"$f":"IF(OR($D11=\"\",BI$2>'Wk Input'!$J$2),\"\",FM11)","v":""},{"$f":"IF(OR($D11=\"\",BJ$2>'Wk Input'!$J$2),\"\",FN11)","v":""},{"$f":"IF(OR($D11=\"\",BK$2>'Wk Input'!$J$2),\"\",FO11)","v":""},null,null,"","","","","","","","","","","","","","","","","","","","","","","","","","","","","","","","","","","","","","","","","","","","","","","","","","","","",null,null,"","","","","","","","","","","","","","","","","","","","","","","","","","","","","","","","","","","","","","","","","","","","","","","","","","","","",null,null,{"$f":"IF($C11=\"N/A\",\"\",IF($G11=\"A\",IF(OR(FR$2<=$I11,$HQ11<=$I11),DP11,IF(AND(FR$2<$HQ11,FR$2>$I11),DP11*(1-((FR$2-$I11)/26)^2),DP11*(1-(($HQ11-$I11)/26)^2))),DP11))","v":""},"","","","","","","","","","","","","","","","","","","","","","","","","","","","","","","","","","","","","","","","","","","","","","","","","","","",null,null,"","","","","","","","","","","","","","","","","","","","","","","","","","","","","","","","","","","","","","","","","","","","","","","","","","","","",null,null,null,null,null,null,null,null,null,null,null,null,null,null,null,null,null,null,null,null,null,null,null,null,null,null,null,null,null,null,null,null,null,null,null,null,null,null,null,null,null,null,null,null,null,null,null,null,null,null,null,null,null,null,27,"AC6"]
[null,null,null,null,null,null,null,null,null,null,null,{"$f":"IF(OR($D12=\"\",L$2>'Wk Input'!$J$2),\"\",DP12)","v":""},{"$f":"IF(OR($D12=\"\",M$2>'Wk Input'!$J$2),\"\",DQ12)","v":""},{"$f":"IF(OR($D12=\"\",N$2>'Wk Input'!$J$2),\"\",DR12)","v":""},{"$f":"IF(OR($D12=\"\",O$2>'Wk Input'!$J$2),\"\",DS12)","v":""},{"$f":"IF(OR($D12=\"\",P$2>'Wk Input'!$J$2),\"\",DT12)","v":""},{"$f":"IF(OR($D12=\"\",Q$2>'Wk Input'!$J$2),\"\",DU12)","v":""},{"$f":"IF(OR($D12=\"\",R$2>'Wk Input'!$J$2),\"\",DV12)","v":""},{"$f":"IF(OR($D12=\"\",S$2>'Wk Input'!$J$2),\"\",DW12)","v":""},{"$f":"IF(OR($D12=\"\",T$2>'Wk Input'!$J$2),\"\",DX12)","v":""},{"$f":"IF(OR($D12=\"\",U$2>'Wk Input'!$J$2),\"\",DY12)","v":""},{"$f":"IF(OR($D12=\"\",V$2>'Wk Input'!$J$2),\"\",DZ12)","v":""},{"$f":"IF(OR($D12=\"\",W$2>'Wk Input'!$J$2),\"\",EA12)","v":""},{"$f":"IF(OR($D12=\"\",X$2>'Wk Input'!$J$2),\"\",EB12)","v":""},{"$f":"IF(OR($D12=\"\",Y$2>'Wk Input'!$J$2),\"\",EC12)","v":""},{"$f":"IF(OR($D12=\"\",Z$2>'Wk Input'!$J$2),\"\",ED12)","v":""},{"$f":"IF(OR($D12=\"\",AA$2>'Wk Input'!$J$2),\"\",EE12)","v":""},{"$f":"IF(OR($D12=\"\",AB$2>'Wk Input'!$J$2),\"\",EF12)","v":""},{"$f":"IF(OR($D12=\"\",AC$2>'Wk Input'!$J$2),\"\",EG12)","v":""},{"$f":"IF(OR($D12=\"\",AD$2>'Wk Input'!$J$2),\"\",EH12)","v":""},{"$f":"IF(OR($D12=\"\",AE$2>'Wk Input'!$J$2),\"\",EI12)","v":""},{"$f":"IF(OR($D12=\"\",AF$2>'Wk Input'!$J$2),\"\",EJ12)","v":""},{"$f":"IF(OR($D12=\"\",AG$2>'Wk Input'!$J$2),\"\",EK12)","v":""},{"$f":"IF(OR($D12=\"\",AH$2>'Wk Input'!$J$2),\"\",EL12)","v":""},{"$f":"IF(OR($D12=\"\",AI$2>'Wk Input'!$J$2),\"\",EM12)","v":""},{"$f":"IF(OR($D12=\"\",AJ$2>'Wk Input'!$J$2),\"\",EN12)","v":""},{"$f":"IF(OR($D12=\"\",AK$2>'Wk Input'!$J$2),\"\",EO12)","v":""},{"$f":"IF(OR($D12=\"\",AL$2>'Wk Input'!$J$2),\"\",EP12)","v":""},{"$f":"IF(OR($D12=\"\",AM$2>'Wk Input'!$J$2),\"\",EQ12)","v":""},{"$f":"IF(OR($D12=\"\",AN$2>'Wk Input'!$J$2),\"\",ER12)","v":""},{"$f":"IF(OR($D12=\"\",AO$2>'Wk Input'!$J$2),\"\",ES12)","v":""},{"$f":"IF(OR($D12=\"\",AP$2>'Wk Input'!$J$2),\"\",ET12)","v":""},{"$f":"IF(OR($D12=\"\",AQ$2>'Wk Input'!$J$2),\"\",EU12)","v":""},{"$f":"IF(OR($D12=\"\",AR$2>'Wk Input'!$J$2),\"\",EV12)","v":""},{"$f":"IF(OR($D12=\"\",AS$2>'Wk Input'!$J$2),\"\",EW12)","v":""},{"$f":"IF(OR($D12=\"\",AT$2>'Wk Input'!$J$2),\"\",EX12)","v":""},{"$f":"IF(OR($D12=\"\",AU$2>'Wk Input'!$J$2),\"\",EY12)","v":""},{"$f":"IF(OR($D12=\"\",AV$2>'Wk Input'!$J$2),\"\",EZ12)","v":""},{"$f":"IF(OR($D12=\"\",AW$2>'Wk Input'!$J$2),\"\",FA12)","v":""},{"$f":"IF(OR($D12=\"\",AX$2>'Wk Input'!$J$2),\"\",FB12)","v":""},{"$f":"IF(OR($D12=\"\",AY$2>'Wk Input'!$J$2),\"\",FC12)","v":""},{"$f":"IF(OR($D12=\"\",AZ$2>'Wk Input'!$J$2),\"\",FD12)","v":""},{"$f":"IF(OR($D12=\"\",BA$2>'Wk Input'!$J$2),\"\",FE12)","v":""},{"$f":"IF(OR($D12=\"\",BB$2>'Wk Input'!$J$2),\"\",FF12)","v":""},{"$f":"IF(OR($D12=\"\",BC$2>'Wk Input'!$J$2),\"\",FG12)","v":""},{"$f":"IF(OR($D12=\"\",BD$2>'Wk Input'!$J$2),\"\",FH12)","v":""},{"$f":"IF(OR($D12=\"\",BE$2>'Wk Input'!$J$2),\"\",FI12)","v":""},{"$f":"IF(OR($D12=\"\",BF$2>'Wk Input'!$J$2),\"\",FJ12)","v":""},{"$f":"IF(OR($D12=\"\",BG$2>'Wk Input'!$J$2),\"\",FK12)","v":""},{"$f":"IF(OR($D12=\"\",BH$2>'Wk Input'!$J$2),\"\",FL12)","v":""},{"$f":"IF(OR($D12=\"\",BI$2>'Wk Input'!$J$2),\"\",FM12)","v":""},{"$f":"IF(OR($D12=\"\",BJ$2>'Wk Input'!$J$2),\"\",FN12)","v":""},{"$f":"IF(OR($D12=\"\",BK$2>'Wk Input'!$J$2),\"\",FO12)","v":""},null,null,"","","","","","","","","","","","","","","","","","","","","","","","","","","","","","","","","","","","","","","","","","","","","","","","","","","","",null,null,"","","","","","","","","","","","","","","","","","","","","","","","","","","","","","","","","","","","","","","","","","","","","","","","","","","","",null,null,"","","","","","","","","","","","","","","","","","","","","","","","","","","","","","","","","","","","","","","","","","","","","","","","","","","","",null,null,"","","","","","","","","","","","","","","","","","","","","","","","","","","","","","","","","","","","","","","","","","","","","","","","","","","","",null,null,null,null,null,null,null,null,null,null,null,null,null,null,null,null,null,null,null,null,null,null,null,null,null,null,null,null,null,null,null,null,null,null,null,null,null,null,null,null,null,null,null,null,null,null,null,null,null,null,null,null,null,null,28,"AC7"]
[null,null,null,null,null,null,null,null,null,null,null,{"$f":"IF(OR($D13=\"\",L$2>'Wk Input'!$J$2),\"\",DP13)","v":""},{"$f":"IF(OR($D13=\"\",M$2>'Wk Input'!$J$2),\"\",DQ13)","v":""},{"$f":"IF(OR($D13=\"\",N$2>'Wk Input'!$J$2),\"\",DR13)","v":""},{"$f":"IF(OR($D13=\"\",O$2>'Wk Input'!$J$2),\"\",DS13)","v":""},{"$f":"IF(OR($D13=\"\",P$2>'Wk Input'!$J$2),\"\",DT13)","v":""},{"$f":"IF(OR($D13=\"\",Q$2>'Wk Input'!$J$2),\"\",DU13)","v":""},{"$f":"IF(OR($D13=\"\",R$2>'Wk Input'!$J$2),\"\",DV13)","v":""},{"$f":"IF(OR($D13=\"\",S$2>'Wk Input'!$J$2),\"\",DW13)","v":""},{"$f":"IF(OR($D13=\"\",T$2>'Wk Input'!$J$2),\"\",DX13)","v":""},{"$f":"IF(OR($D13=\"\",U$2>'Wk Input'!$J$2),\"\",DY13)","v":""},{"$f":"IF(OR($D13=\"\",V$2>'Wk Input'!$J$2),\"\",DZ13)","v":""},{"$f":"IF(OR($D13=\"\",W$2>'Wk Input'!$J$2),\"\",EA13)","v":""},{"$f":"IF(OR($D13=\"\",X$2>'Wk Input'!$J$2),\"\",EB13)","v":""},{"$f":"IF(OR($D13=\"\",Y$2>'Wk Input'!$J$2),\"\",EC13)","v":""},{"$f":"IF(OR($D13=\"\",Z$2>'Wk Input'!$J$2),\"\",ED13)","v":""},{"$f":"IF(OR($D13=\"\",AA$2>'Wk Input'!$J$2),\"\",EE13)","v":""},{"$f":"IF(OR($D13=\"\",AB$2>'Wk Input'!$J$2),\"\",EF13)","v":""},{"$f":"IF(OR($D13=\"\",AC$2>'Wk Input'!$J$2),\"\",EG13)","v":""},{"$f":"IF(OR($D13=\"\",AD$2>'Wk Input'!$J$2),\"\",EH13)","v":""},{"$f":"IF(OR($D13=\"\",AE$2>'Wk Input'!$J$2),\"\",EI13)","v":""},{"$f":"IF(OR($D13=\"\",AF$2>'Wk Input'!$J$2),\"\",EJ13)","v":""},{"$f":"IF(OR($D13=\"\",AG$2>'Wk Input'!$J$2),\"\",EK13)","v":""},{"$f":"IF(OR($D13=\"\",AH$2>'Wk Input'!$J$2),\"\",EL13)","v":""},{"$f":"IF(OR($D13=\"\",AI$2>'Wk Input'!$J$2),\"\",EM13)","v":""},{"$f":"IF(OR($D13=\"\",AJ$2>'Wk Input'!$J$2),\"\",EN13)","v":""},{"$f":"IF(OR($D13=\"\",AK$2>'Wk Input'!$J$2),\"\",EO13)","v":""},{"$f":"IF(OR($D13=\"\",AL$2>'Wk Input'!$J$2),\"\",EP13)","v":""},{"$f":"IF(OR($D13=\"\",AM$2>'Wk Input'!$J$2),\"\",EQ13)","v":""},{"$f":"IF(OR($D13=\"\",AN$2>'Wk Input'!$J$2),\"\",ER13)","v":""},{"$f":"IF(OR($D13=\"\",AO$2>'Wk Input'!$J$2),\"\",ES13)","v":""},{"$f":"IF(OR($D13=\"\",AP$2>'Wk Input'!$J$2),\"\",ET13)","v":""},{"$f":"IF(OR($D13=\"\",AQ$2>'Wk Input'!$J$2),\"\",EU13)","v":""},{"$f":"IF(OR($D13=\"\",AR$2>'Wk Input'!$J$2),\"\",EV13)","v":""},{"$f":"IF(OR($D13=\"\",AS$2>'Wk Input'!$J$2),\"\",EW13)","v":""},{"$f":"IF(OR($D13=\"\",AT$2>'Wk Input'!$J$2),\"\",EX13)","v":""},{"$f":"IF(OR($D13=\"\",AU$2>'Wk Input'!$J$2),\"\",EY13)","v":""},{"$f":"IF(OR($D13=\"\",AV$2>'Wk Input'!$J$2),\"\",EZ13)","v":""},{"$f":"IF(OR($D13=\"\",AW$2>'Wk Input'!$J$2),\"\",FA13)","v":""},{"$f":"IF(OR($D13=\"\",AX$2>'Wk Input'!$J$2),\"\",FB13)","v":""},{"$f":"IF(OR($D13=\"\",AY$2>'Wk Input'!$J$2),\"\",FC13)","v":""},{"$f":"IF(OR($D13=\"\",AZ$2>'Wk Input'!$J$2),\"\",FD13)","v":""},{"$f":"IF(OR($D13=\"\",BA$2>'Wk Input'!$J$2),\"\",FE13)","v":""},{"$f":"IF(OR($D13=\"\",BB$2>'Wk Input'!$J$2),\"\",FF13)","v":""},{"$f":"IF(OR($D13=\"\",BC$2>'Wk Input'!$J$2),\"\",FG13)","v":""},{"$f":"IF(OR($D13=\"\",BD$2>'Wk Input'!$J$2),\"\",FH13)","v":""},{"$f":"IF(OR($D13=\"\",BE$2>'Wk Input'!$J$2),\"\",FI13)","v":""},{"$f":"IF(OR($D13=\"\",BF$2>'Wk Input'!$J$2),\"\",FJ13)","v":""},{"$f":"IF(OR($D13=\"\",BG$2>'Wk Input'!$J$2),\"\",FK13)","v":""},{"$f":"IF(OR($D13=\"\",BH$2>'Wk Input'!$J$2),\"\",FL13)","v":""},{"$f":"IF(OR($D13=\"\",BI$2>'Wk Input'!$J$2),\"\",FM13)","v":""},{"$f":"IF(OR($D13=\"\",BJ$2>'Wk Input'!$J$2),\"\",FN13)","v":""},{"$f":"IF(OR($D13=\"\",BK$2>'Wk Input'!$J$2),\"\",FO13)","v":""},null,null,"","","","","","","","","","","","","","","","","","","","","","","","","","","","","","","","","","","","","","","","","","","","","","","","","","","","",null,null,"","","","","","","","","","","","","","","","","","","","","","","","","","","","","","","","","","","","","","","","","","","","","","","","","","","","",null,null,"","","","","","","","","","","","","","","","","","","","","","","","","","","","","","","","","","","","","","","","","","","","","","","","","","","","",null,null,"","","","","","","","","","","","","","","","","","","","","","","","","","","","","","","","","","","","","","","","","","","","","","","","","","","","",null,null,null,null,null,null,null,null,null,null,null,null,null,null,null,null,null,null,null,null,null,null,null,null,null,null,null,null,null,null,null,null,null,null,null,null,null,null,null,null,null,null,null,null,null,null,null,null,null,null,null,null,null,null,29,"AC8"]
[null,null,null,null,null,null,null,null,null,null,null,{"$f":"IF(OR($D14=\"\",L$2>'Wk Input'!$J$2),\"\",DP14)","v":""},{"$f":"IF(OR($D14=\"\",M$2>'Wk Input'!$J$2),\"\",DQ14)","v":""},{"$f":"IF(OR($D14=\"\",N$2>'Wk Input'!$J$2),\"\",DR14)","v":""},{"$f":"IF(OR($D14=\"\",O$2>'Wk Input'!$J$2),\"\",DS14)","v":""},{"$f":"IF(OR($D14=\"\",P$2>'Wk Input'!$J$2),\"\",DT14)","v":""},{"$f":"IF(OR($D14=\"\",Q$2>'Wk Input'!$J$2),\"\",DU14)","v":""},{"$f":"IF(OR($D14=\"\",R$2>'Wk Input'!$J$2),\"\",DV14)","v":""},{"$f":"IF(OR($D14=\"\",S$2>'Wk Input'!$J$2),\"\",DW14)","v":""},{"$f":"IF(OR($D14=\"\",T$2>'Wk Input'!$J$2),\"\",DX14)","v":""},{"$f":"IF(OR($D14=\"\",U$2>'Wk Input'!$J$2),\"\",DY14)","v":""},{"$f":"IF(OR($D14=\"\",V$2>'Wk Input'!$J$2),\"\",DZ14)","v":""},{"$f":"IF(OR($D14=\"\",W$2>'Wk Input'!$J$2),\"\",EA14)","v":""},{"$f":"IF(OR($D14=\"\",X$2>'Wk Input'!$J$2),\"\",EB14)","v":""},{"$f":"IF(OR($D14=\"\",Y$2>'Wk Input'!$J$2),\"\",EC14)","v":""},{"$f":"IF(OR($D14=\"\",Z$2>'Wk Input'!$J$2),\"\",ED14)","v":""},{"$f":"IF(OR($D14=\"\",AA$2>'Wk Input'!$J$2),\"\",EE14)","v":""},{"$f":"IF(OR($D14=\"\",AB$2>'Wk Input'!$J$2),\"\",EF14)","v":""},{"$f":"IF(OR($D14=\"\",AC$2>'Wk Input'!$J$2),\"\",EG14)","v":""},{"$f":"IF(OR($D14=\"\",AD$2>'Wk Input'!$J$2),\"\",EH14)","v":""},{"$f":"IF(OR($D14=\"\",AE$2>'Wk Input'!$J$2),\"\",EI14)","v":""},{"$f":"IF(OR($D14=\"\",AF$2>'Wk Input'!$J$2),\"\",EJ14)","v":""},{"$f":"IF(OR($D14=\"\",AG$2>'Wk Input'!$J$2),\"\",EK14)","v":""},{"$f":"IF(OR($D14=\"\",AH$2>'Wk Input'!$J$2),\"\",EL14)","v":""},{"$f":"IF(OR($D14=\"\",AI$2>'Wk Input'!$J$2),\"\",EM14)","v":""},{"$f":"IF(OR($D14=\"\",AJ$2>'Wk Input'!$J$2),\"\",EN14)","v":""},{"$f":"IF(OR($D14=\"\",AK$2>'Wk Input'!$J$2),\"\",EO14)","v":""},{"$f":"IF(OR($D14=\"\",AL$2>'Wk Input'!$J$2),\"\",EP14)","v":""},{"$f":"IF(OR($D14=\"\",AM$2>'Wk Input'!$J$2),\"\",EQ14)","v":""},{"$f":"IF(OR($D14=\"\",AN$2>'Wk Input'!$J$2),\"\",ER14)","v":""},{"$f":"IF(OR($D14=\"\",AO$2>'Wk Input'!$J$2),\"\",ES14)","v":""},{"$f":"IF(OR($D14=\"\",AP$2>'Wk Input'!$J$2),\"\",ET14)","v":""},{"$f":"IF(OR($D14=\"\",AQ$2>'Wk Input'!$J$2),\"\",EU14)","v":""},{"$f":"IF(OR($D14=\"\",AR$2>'Wk Input'!$J$2),\"\",EV14)","v":""},{"$f":"IF(OR($D14=\"\",AS$2>'Wk Input'!$J$2),\"\",EW14)","v":""},{"$f":"IF(OR($D14=\"\",AT$2>'Wk Input'!$J$2),\"\",EX14)","v":""},{"$f":"IF(OR($D14=\"\",AU$2>'Wk Input'!$J$2),\"\",EY14)","v":""},{"$f":"IF(OR($D14=\"\",AV$2>'Wk Input'!$J$2),\"\",EZ14)","v":""},{"$f":"IF(OR($D14=\"\",AW$2>'Wk Input'!$J$2),\"\",FA14)","v":""},{"$f":"IF(OR($D14=\"\",AX$2>'Wk Input'!$J$2),\"\",FB14)","v":""},{"$f":"IF(OR($D14=\"\",AY$2>'Wk Input'!$J$2),\"\",FC14)","v":""},{"$f":"IF(OR($D14=\"\",AZ$2>'Wk Input'!$J$2),\"\",FD14)","v":""},{"$f":"IF(OR($D14=\"\",BA$2>'Wk Input'!$J$2),\"\",FE14)","v":""},{"$f":"IF(OR($D14=\"\",BB$2>'Wk Input'!$J$2),\"\",FF14)","v":""},{"$f":"IF(OR($D14=\"\",BC$2>'Wk Input'!$J$2),\"\",FG14)","v":""},{"$f":"IF(OR($D14=\"\",BD$2>'Wk Input'!$J$2),\"\",FH14)","v":""},{"$f":"IF(OR($D14=\"\",BE$2>'Wk Input'!$J$2),\"\",FI14)","v":""},{"$f":"IF(OR($D14=\"\",BF$2>'Wk Input'!$J$2),\"\",FJ14)","v":""},{"$f":"IF(OR($D14=\"\",BG$2>'Wk Input'!$J$2),\"\",FK14)","v":""},{"$f":"IF(OR($D14=\"\",BH$2>'Wk Input'!$J$2),\"\",FL14)","v":""},{"$f":"IF(OR($D14=\"\",BI$2>'Wk Input'!$J$2),\"\",FM14)","v":""},{"$f":"IF(OR($D14=\"\",BJ$2>'Wk Input'!$J$2),\"\",FN14)","v":""},{"$f":"IF(OR($D14=\"\",BK$2>'Wk Input'!$J$2),\"\",FO14)","v":""},null,null,"","","","","","","","","","","","","","","","","","","","","","","","","","","","","","","","","","","","","","","","","","","","","","","","","","","","",null,null,"","","","","","","","","","","","","","","","","","","","","","","","","","","","","","","","","","","","","","","","","","","","","","","","","","","","",null,null,"","","","","","","","","","","","","","","","","","","","","","","","","","","","","","","","","","","","","","","","","","","","","","","","","","","","",null,null,"","","","","","","","","","","","","","","","","","","","","","","","","","","","","","","","","","","","","","","","","","","","","","","","","","","","",null,null,null,null,null,null,null,null,null,null,null,null,null,null,null,null,null,null,null,null,null,null,null,null,null,null,null,null,null,null,null,null,null,null,null,null,null,null,null,null,null,null,null,null,null,null,null,null,null,null,null,null,null,null,30,"AC9"]
[null,null,null,null,null,null,null,null,null,null,null,{"$f":"IF(OR($D15=\"\",L$2>'Wk Input'!$J$2),\"\",DP15)","v":""},{"$f":"IF(OR($D15=\"\",M$2>'Wk Input'!$J$2),\"\",DQ15)","v":""},{"$f":"IF(OR($D15=\"\",N$2>'Wk Input'!$J$2),\"\",DR15)","v":""},{"$f":"IF(OR($D15=\"\",O$2>'Wk Input'!$J$2),\"\",DS15)","v":""},{"$f":"IF(OR($D15=\"\",P$2>'Wk Input'!$J$2),\"\",DT15)","v":""},{"$f":"IF(OR($D15=\"\",Q$2>'Wk Input'!$J$2),\"\",DU15)","v":""},{"$f":"IF(OR($D15=\"\",R$2>'Wk Input'!$J$2),\"\",DV15)","v":""},{"$f":"IF(OR($D15=\"\",S$2>'Wk Input'!$J$2),\"\",DW15)","v":""},{"$f":"IF(OR($D15=\"\",T$2>'Wk Input'!$J$2),\"\",DX15)","v":""},{"$f":"IF(OR($D15=\"\",U$2>'Wk Input'!$J$2),\"\",DY15)","v":""},{"$f":"IF(OR($D15=\"\",V$2>'Wk Input'!$J$2),\"\",DZ15)","v":""},{"$f":"IF(OR($D15=\"\",W$2>'Wk Input'!$J$2),\"\",EA15)","v":""},{"$f":"IF(OR($D15=\"\",X$2>'Wk Input'!$J$2),\"\",EB15)","v":""},{"$f":"IF(OR($D15=\"\",Y$2>'Wk Input'!$J$2),\"\",EC15)","v":""},{"$f":"IF(OR($D15=\"\",Z$2>'Wk Input'!$J$2),\"\",ED15)","v":""},{"$f":"IF(OR($D15=\"\",AA$2>'Wk Input'!$J$2),\"\",EE15)","v":""},{"$f":"IF(OR($D15=\"\",AB$2>'Wk Input'!$J$2),\"\",EF15)","v":""},{"$f":"IF(OR($D15=\"\",AC$2>'Wk Input'!$J$2),\"\",EG15)","v":""},{"$f":"IF(OR($D15=\"\",AD$2>'Wk Input'!$J$2),\"\",EH15)","v":""},{"$f":"IF(OR($D15=\"\",AE$2>'Wk Input'!$J$2),\"\",EI15)","v":""},{"$f":"IF(OR($D15=\"\",AF$2>'Wk Input'!$J$2),\"\",EJ15)","v":""},{"$f":"IF(OR($D15=\"\",AG$2>'Wk Input'!$J$2),\"\",EK15)","v":""},{"$f":"IF(OR($D15=\"\",AH$2>'Wk Input'!$J$2),\"\",EL15)","v":""},{"$f":"IF(OR($D15=\"\",AI$2>'Wk Input'!$J$2),\"\",EM15)","v":""},{"$f":"IF(OR($D15=\"\",AJ$2>'Wk Input'!$J$2),\"\",EN15)","v":""},{"$f":"IF(OR($D15=\"\",AK$2>'Wk Input'!$J$2),\"\",EO15)","v":""},{"$f":"IF(OR($D15=\"\",AL$2>'Wk Input'!$J$2),\"\",EP15)","v":""},{"$f":"IF(OR($D15=\"\",AM$2>'Wk Input'!$J$2),\"\",EQ15)","v":""},{"$f":"IF(OR($D15=\"\",AN$2>'Wk Input'!$J$2),\"\",ER15)","v":""},{"$f":"IF(OR($D15=\"\",AO$2>'Wk Input'!$J$2),\"\",ES15)","v":""},{"$f":"IF(OR($D15=\"\",AP$2>'Wk Input'!$J$2),\"\",ET15)","v":""},{"$f":"IF(OR($D15=\"\",AQ$2>'Wk Input'!$J$2),\"\",EU15)","v":""},{"$f":"IF(OR($D15=\"\",AR$2>'Wk Input'!$J$2),\"\",EV15)","v":""},{"$f":"IF(OR($D15=\"\",AS$2>'Wk Input'!$J$2),\"\",EW15)","v":""},{"$f":"IF(OR($D15=\"\",AT$2>'Wk Input'!$J$2),\"\",EX15)","v":""},{"$f":"IF(OR($D15=\"\",AU$2>'Wk Input'!$J$2),\"\",EY15)","v":""},{"$f":"IF(OR($D15=\"\",AV$2>'Wk Input'!$J$2),\"\",EZ15)","v":""},{"$f":"IF(OR($D15=\"\",AW$2>'Wk Input'!$J$2),\"\",FA15)","v":""},{"$f":"IF(OR($D15=\"\",AX$2>'Wk Input'!$J$2),\"\",FB15)","v":""},{"$f":"IF(OR($D15=\"\",AY$2>'Wk Input'!$J$2),\"\",FC15)","v":""},{"$f":"IF(OR($D15=\"\",AZ$2>'Wk Input'!$J$2),\"\",FD15)","v":""},{"$f":"IF(OR($D15=\"\",BA$2>'Wk Input'!$J$2),\"\",FE15)","v":""},{"$f":"IF(OR($D15=\"\",BB$2>'Wk Input'!$J$2),\"\",FF15)","v":""},{"$f":"IF(OR($D15=\"\",BC$2>'Wk Input'!$J$2),\"\",FG15)","v":""},{"$f":"IF(OR($D15=\"\",BD$2>'Wk Input'!$J$2),\"\",FH15)","v":""},{"$f":"IF(OR($D15=\"\",BE$2>'Wk Input'!$J$2),\"\",FI15)","v":""},{"$f":"IF(OR($D15=\"\",BF$2>'Wk Input'!$J$2),\"\",FJ15)","v":""},{"$f":"IF(OR($D15=\"\",BG$2>'Wk Input'!$J$2),\"\",FK15)","v":""},{"$f":"IF(OR($D15=\"\",BH$2>'Wk Input'!$J$2),\"\",FL15)","v":""},{"$f":"IF(OR($D15=\"\",BI$2>'Wk Input'!$J$2),\"\",FM15)","v":""},{"$f":"IF(OR($D15=\"\",BJ$2>'Wk Input'!$J$2),\"\",FN15)","v":""},{"$f":"IF(OR($D15=\"\",BK$2>'Wk Input'!$J$2),\"\",FO15)","v":""},null,null,"","","","","","","","","","","","","","","","","","","","","","","","","","","","","","","","","","","","","","","","","","","","","","","","","","","","",null,null,"","","","","","","","","","","","","","","","","","","","","","","","","","","","","","","","","","","","","","","","","","","","","","","","","","","","",null,null,"","","","","","","","","","","","","","","","","","","","","","","","","","","","","","","","","","","","","","","","","","","","","","","",{"$f":"IF($C15=\"N/A\",\"\",IF($G15=\"A\",IF(OR(HM$2<=$I15,$HQ15<=$I15),FK15,IF(AND(HM$2<$HQ15,HM$2>$I15),FK15*(1-((HM$2-$I15)/26)^2),FK15*(1-(($HQ15-$I15)/26)^2))),FK15))","v":""},"","","","",null,null,"","","","","","","","","","","","","","","","","","","","","","","","","","","","","","","","","","","","","","","","","","","","","","","","","","","","",null,null,null,null,null,null,null,null,null,null,null,null,null,null,null,null,null,null,null,null,null,null,null,null,null,null,null,null,null,null,null,null,null,null,null,null,null,null,null,null,null,null,null,null,null,null,null,null,null,null,null,null,null,null,31,"AD0"]
[null,null,null,null,null,null,null,null,null,null,null,{"$f":"IF(OR($D16=\"\",L$2>'Wk Input'!$J$2),\"\",DP16)","v":""},{"$f":"IF(OR($D16=\"\",M$2>'Wk Input'!$J$2),\"\",DQ16)","v":""},{"$f":"IF(OR($D16=\"\",N$2>'Wk Input'!$J$2),\"\",DR16)","v":""},{"$f":"IF(OR($D16=\"\",O$2>'Wk Input'!$J$2),\"\",DS16)","v":""},{"$f":"IF(OR($D16=\"\",P$2>'Wk Input'!$J$2),\"\",DT16)","v":""},{"$f":"IF(OR($D16=\"\",Q$2>'Wk Input'!$J$2),\"\",DU16)","v":""},{"$f":"IF(OR($D16=\"\",R$2>'Wk Input'!$J$2),\"\",DV16)","v":""},{"$f":"IF(OR($D16=\"\",S$2>'Wk Input'!$J$2),\"\",DW16)","v":""},{"$f":"IF(OR($D16=\"\",T$2>'Wk Input'!$J$2),\"\",DX16)","v":""},{"$f":"IF(OR($D16=\"\",U$2>'Wk Input'!$J$2),\"\",DY16)","v":""},{"$f":"IF(OR($D16=\"\",V$2>'Wk Input'!$J$2),\"\",DZ16)","v":""},{"$f":"IF(OR($D16=\"\",W$2>'Wk Input'!$J$2),\"\",EA16)","v":""},{"$f":"IF(OR($D16=\"\",X$2>'Wk Input'!$J$2),\"\",EB16)","v":""},{"$f":"IF(OR($D16=\"\",Y$2>'Wk Input'!$J$2),\"\",EC16)","v":""},{"$f":"IF(OR($D16=\"\",Z$2>'Wk Input'!$J$2),\"\",ED16)","v":""},{"$f":"IF(OR($D16=\"\",AA$2>'Wk Input'!$J$2),\"\",EE16)","v":""},{"$f":"IF(OR($D16=\"\",AB$2>'Wk Input'!$J$2),\"\",EF16)","v":""},{"$f":"IF(OR($D16=\"\",AC$2>'Wk Input'!$J$2),\"\",EG16)","v":""},{"$f":"IF(OR($D16=\"\",AD$2>'Wk Input'!$J$2),\"\",EH16)","v":""},{"$f":"IF(OR($D16=\"\",AE$2>'Wk Input'!$J$2),\"\",EI16)","v":""},{"$f":"IF(OR($D16=\"\",AF$2>'Wk Input'!$J$2),\"\",EJ16)","v":""},{"$f":"IF(OR($D16=\"\",AG$2>'Wk Input'!$J$2),\"\",EK16)","v":""},{"$f":"IF(OR($D16=\"\",AH$2>'Wk Input'!$J$2),\"\",EL16)","v":""},{"$f":"IF(OR($D16=\"\",AI$2>'Wk Input'!$J$2),\"\",EM16)","v":""},{"$f":"IF(OR($D16=\"\",AJ$2>'Wk Input'!$J$2),\"\",EN16)","v":""},{"$f":"IF(OR($D16=\"\",AK$2>'Wk Input'!$J$2),\"\",EO16)","v":""},{"$f":"IF(OR($D16=\"\",AL$2>'Wk Input'!$J$2),\"\",EP16)","v":""},{"$f":"IF(OR($D16=\"\",AM$2>'Wk Input'!$J$2),\"\",EQ16)","v":""},{"$f":"IF(OR($D16=\"\",AN$2>'Wk Input'!$J$2),\"\",ER16)","v":""},{"$f":"IF(OR($D16=\"\",AO$2>'Wk Input'!$J$2),\"\",ES16)","v":""},{"$f":"IF(OR($D16=\"\",AP$2>'Wk Input'!$J$2),\"\",ET16)","v":""},{"$f":"IF(OR($D16=\"\",AQ$2>'Wk Input'!$J$2),\"\",EU16)","v":""},{"$f":"IF(OR($D16=\"\",AR$2>'Wk Input'!$J$2),\"\",EV16)","v":""},{"$f":"IF(OR($D16=\"\",AS$2>'Wk Input'!$J$2),\"\",EW16)","v":""},{"$f":"IF(OR($D16=\"\",AT$2>'Wk Input'!$J$2),\"\",EX16)","v":""},{"$f":"IF(OR($D16=\"\",AU$2>'Wk Input'!$J$2),\"\",EY16)","v":""},{"$f":"IF(OR($D16=\"\",AV$2>'Wk Input'!$J$2),\"\",EZ16)","v":""},{"$f":"IF(OR($D16=\"\",AW$2>'Wk Input'!$J$2),\"\",FA16)","v":""},{"$f":"IF(OR($D16=\"\",AX$2>'Wk Input'!$J$2),\"\",FB16)","v":""},{"$f":"IF(OR($D16=\"\",AY$2>'Wk Input'!$J$2),\"\",FC16)","v":""},{"$f":"IF(OR($D16=\"\",AZ$2>'Wk Input'!$J$2),\"\",FD16)","v":""},{"$f":"IF(OR($D16=\"\",BA$2>'Wk Input'!$J$2),\"\",FE16)","v":""},{"$f":"IF(OR($D16=\"\",BB$2>'Wk Input'!$J$2),\"\",FF16)","v":""},{"$f":"IF(OR($D16=\"\",BC$2>'Wk Input'!$J$2),\"\",FG16)","v":""},{"$f":"IF(OR($D16=\"\",BD$2>'Wk Input'!$J$2),\"\",FH16)","v":""},{"$f":"IF(OR($D16=\"\",BE$2>'Wk Input'!$J$2),\"\",FI16)","v":""},{"$f":"IF(OR($D16=\"\",BF$2>'Wk Input'!$J$2),\"\",FJ16)","v":""},{"$f":"IF(OR($D16=\"\",BG$2>'Wk Input'!$J$2),\"\",FK16)","v":""},{"$f":"IF(OR($D16=\"\",BH$2>'Wk Input'!$J$2),\"\",FL16)","v":""},{"$f":"IF(OR($D16=\"\",BI$2>'Wk Input'!$J$2),\"\",FM16)","v":""},{"$f":"IF(OR($D16=\"\",BJ$2>'Wk Input'!$J$2),\"\",FN16)","v":""},{"$f":"IF(OR($D16=\"\",BK$2>'Wk Input'!$J$2),\"\",FO16)","v":""},null,null,"","","","","","","","","","","","","","","","","","","","","","","","","","","","","","","","","","","","","","","","","","","","","","","","","","","","",null,null,"","","","","","","","","","","","","","","","","","","","","","","","","","","","","","","","","","","","","","","","","","","","","","","","","","","","",null,null,{"$f":"IF($C16=\"N/A\",\"\",IF($G16=\"A\",IF(OR(FR$2<=$I16,$HQ16<=$I16),DP16,IF(AND(FR$2<$HQ16,FR$2>$I16),DP16*(1-((FR$2-$I16)/26)^2),DP16*(1-(($HQ16-$I16)/26)^2))),DP16))","v":""},"","","","","","","","","","","","","","","","","","","","","","","","","","","","","","","","","","","","","","","","","","","","","","","","","","","",null,null,"","","","","","","","","","","","","","","","","","","","","","","","","","","","","","","","","","","","","","","","","","","","","","","","","","","","",null,null,null,null,null,null,null,null,null,null,null,null,null,null,null,null,null,null,null,null,null,null,null,null,null,null,null,null,null,null,null,null,null,null,null,null,null,null,null,null,null,null,null,null,null,null,null,null,null,null,null,null,null,null,32,"AD1"]
[null,null,null,null,null,null,null,null,null,null,null,{"$f":"IF(OR($D17=\"\",L$2>'Wk Input'!$J$2),\"\",DP17)","v":""},{"$f":"IF(OR($D17=\"\",M$2>'Wk Input'!$J$2),\"\",DQ17)","v":""},{"$f":"IF(OR($D17=\"\",N$2>'Wk Input'!$J$2),\"\",DR17)","v":""},{"$f":"IF(OR($D17=\"\",O$2>'Wk Input'!$J$2),\"\",DS17)","v":""},{"$f":"IF(OR($D17=\"\",P$2>'Wk Input'!$J$2),\"\",DT17)","v":""},{"$f":"IF(OR($D17=\"\",Q$2>'Wk Input'!$J$2),\"\",DU17)","v":""},{"$f":"IF(OR($D17=\"\",R$2>'Wk Input'!$J$2),\"\",DV17)","v":""},{"$f":"IF(OR($D17=\"\",S$2>'Wk Input'!$J$2),\"\",DW17)","v":""},{"$f":"IF(OR($D17=\"\",T$2>'Wk Input'!$J$2),\"\",DX17)","v":""},{"$f":"IF(OR($D17=\"\",U$2>'Wk Input'!$J$2),\"\",DY17)","v":""},{"$f":"IF(OR($D17=\"\",V$2>'Wk Input'!$J$2),\"\",DZ17)","v":""},{"$f":"IF(OR($D17=\"\",W$2>'Wk Input'!$J$2),\"\",EA17)","v":""},{"$f":"IF(OR($D17=\"\",X$2>'Wk Input'!$J$2),\"\",EB17)","v":""},{"$f":"IF(OR($D17=\"\",Y$2>'Wk Input'!$J$2),\"\",EC17)","v":""},{"$f":"IF(OR($D17=\"\",Z$2>'Wk Input'!$J$2),\"\",ED17)","v":""},{"$f":"IF(OR($D17=\"\",AA$2>'Wk Input'!$J$2),\"\",EE17)","v":""},{"$f":"IF(OR($D17=\"\",AB$2>'Wk Input'!$J$2),\"\",EF17)","v":""},{"$f":"IF(OR($D17=\"\",AC$2>'Wk Input'!$J$2),\"\",EG17)","v":""},{"$f":"IF(OR($D17=\"\",AD$2>'Wk Input'!$J$2),\"\",EH17)","v":""},{"$f":"IF(OR($D17=\"\",AE$2>'Wk Input'!$J$2),\"\",EI17)","v":""},{"$f":"IF(OR($D17=\"\",AF$2>'Wk Input'!$J$2),\"\",EJ17)","v":""},{"$f":"IF(OR($D17=\"\",AG$2>'Wk Input'!$J$2),\"\",EK17)","v":""},{"$f":"IF(OR($D17=\"\",AH$2>'Wk Input'!$J$2),\"\",EL17)","v":""},{"$f":"IF(OR($D17=\"\",AI$2>'Wk Input'!$J$2),\"\",EM17)","v":""},{"$f":"IF(OR($D17=\"\",AJ$2>'Wk Input'!$J$2),\"\",EN17)","v":""},{"$f":"IF(OR($D17=\"\",AK$2>'Wk Input'!$J$2),\"\",EO17)","v":""},{"$f":"IF(OR($D17=\"\",AL$2>'Wk Input'!$J$2),\"\",EP17)","v":""},{"$f":"IF(OR($D17=\"\",AM$2>'Wk Input'!$J$2),\"\",EQ17)","v":""},{"$f":"IF(OR($D17=\"\",AN$2>'Wk Input'!$J$2),\"\",ER17)","v":""},{"$f":"IF(OR($D17=\"\",AO$2>'Wk Input'!$J$2),\"\",ES17)","v":""},{"$f":"IF(OR($D17=\"\",AP$2>'Wk Input'!$J$2),\"\",ET17)","v":""},{"$f":"IF(OR($D17=\"\",AQ$2>'Wk Input'!$J$2),\"\",EU17)","v":""},{"$f":"IF(OR($D17=\"\",AR$2>'Wk Input'!$J$2),\"\",EV17)","v":""},{"$f":"IF(OR($D17=\"\",AS$2>'Wk Input'!$J$2),\"\",EW17)","v":""},{"$f":"IF(OR($D17=\"\",AT$2>'Wk Input'!$J$2),\"\",EX17)","v":""},{"$f":"IF(OR($D17=\"\",AU$2>'Wk Input'!$J$2),\"\",EY17)","v":""},{"$f":"IF(OR($D17=\"\",AV$2>'Wk Input'!$J$2),\"\",EZ17)","v":""},{"$f":"IF(OR($D17=\"\",AW$2>'Wk Input'!$J$2),\"\",FA17)","v":""},{"$f":"IF(OR($D17=\"\",AX$2>'Wk Input'!$J$2),\"\",FB17)","v":""},{"$f":"IF(OR($D17=\"\",AY$2>'Wk Input'!$J$2),\"\",FC17)","v":""},{"$f":"IF(OR($D17=\"\",AZ$2>'Wk Input'!$J$2),\"\",FD17)","v":""},{"$f":"IF(OR($D17=\"\",BA$2>'Wk Input'!$J$2),\"\",FE17)","v":""},{"$f":"IF(OR($D17=\"\",BB$2>'Wk Input'!$J$2),\"\",FF17)","v":""},{"$f":"IF(OR($D17=\"\",BC$2>'Wk Input'!$J$2),\"\",FG17)","v":""},{"$f":"IF(OR($D17=\"\",BD$2>'Wk Input'!$J$2),\"\",FH17)","v":""},{"$f":"IF(OR($D17=\"\",BE$2>'Wk Input'!$J$2),\"\",FI17)","v":""},{"$f":"IF(OR($D17=\"\",BF$2>'Wk Input'!$J$2),\"\",FJ17)","v":""},{"$f":"IF(OR($D17=\"\",BG$2>'Wk Input'!$J$2),\"\",FK17)","v":""},{"$f":"IF(OR($D17=\"\",BH$2>'Wk Input'!$J$2),\"\",FL17)","v":""},{"$f":"IF(OR($D17=\"\",BI$2>'Wk Input'!$J$2),\"\",FM17)","v":""},{"$f":"IF(OR($D17=\"\",BJ$2>'Wk Input'!$J$2),\"\",FN17)","v":""},{"$f":"IF(OR($D17=\"\",BK$2>'Wk Input'!$J$2),\"\",FO17)","v":""},null,null,"","","","","","","","","","","","","","","","","","","","","","","","","","","","","","","","","","","","","","","","","","","","","","","","","","","","",null,null,"","","","","","","","","","","","","","","","","","","","","","","","","","","","","","","","","","","","","","","","","","","","","","","","","","","","",null,null,"","","","","","","","","","","","","","","","","","","","","","","","","","","","","","","","","","","","","","","","","","","","","","","","","","","","",null,null,"","","","","","","","","","","","","","","","","","","","","","","","","","","","","","","","","","","","","","","","","","","","","","","","","","","","",null,null,null,null,null,null,null,null,null,null,null,null,null,null,null,null,null,null,null,null,null,null,null,null,null,null,null,null,null,null,null,null,null,null,null,null,null,null,null,null,null,null,null,null,null,null,null,null,null,null,null,null,null,null,33,"AD2"]
[null,null,null,null,null,null,null,null,null,null,null,{"$f":"IF(OR($D18=\"\",L$2>'Wk Input'!$J$2),\"\",DP18)","v":""},{"$f":"IF(OR($D18=\"\",M$2>'Wk Input'!$J$2),\"\",DQ18)","v":""},{"$f":"IF(OR($D18=\"\",N$2>'Wk Input'!$J$2),\"\",DR18)","v":""},{"$f":"IF(OR($D18=\"\",O$2>'Wk Input'!$J$2),\"\",DS18)","v":""},{"$f":"IF(OR($D18=\"\",P$2>'Wk Input'!$J$2),\"\",DT18)","v":""},{"$f":"IF(OR($D18=\"\",Q$2>'Wk Input'!$J$2),\"\",DU18)","v":""},{"$f":"IF(OR($D18=\"\",R$2>'Wk Input'!$J$2),\"\",DV18)","v":""},{"$f":"IF(OR($D18=\"\",S$2>'Wk Input'!$J$2),\"\",DW18)","v":""},{"$f":"IF(OR($D18=\"\",T$2>'Wk Input'!$J$2),\"\",DX18)","v":""},{"$f":"IF(OR($D18=\"\",U$2>'Wk Input'!$J$2),\"\",DY18)","v":""},{"$f":"IF(OR($D18=\"\",V$2>'Wk Input'!$J$2),\"\",DZ18)","v":""},{"$f":"IF(OR($D18=\"\",W$2>'Wk Input'!$J$2),\"\",EA18)","v":""},{"$f":"IF(OR($D18=\"\",X$2>'Wk Input'!$J$2),\"\",EB18)","v":""},{"$f":"IF(OR($D18=\"\",Y$2>'Wk Input'!$J$2),\"\",EC18)","v":""},{"$f":"IF(OR($D18=\"\",Z$2>'Wk Input'!$J$2),\"\",ED18)","v":""},{"$f":"IF(OR($D18=\"\",AA$2>'Wk Input'!$J$2),\"\",EE18)","v":""},{"$f":"IF(OR($D18=\"\",AB$2>'Wk Input'!$J$2),\"\",EF18)","v":""},{"$f":"IF(OR($D18=\"\",AC$2>'Wk Input'!$J$2),\"\",EG18)","v":""},{"$f":"IF(OR($D18=\"\",AD$2>'Wk Input'!$J$2),\"\",EH18)","v":""},{"$f":"IF(OR($D18=\"\",AE$2>'Wk Input'!$J$2),\"\",EI18)","v":""},{"$f":"IF(OR($D18=\"\",AF$2>'Wk Input'!$J$2),\"\",EJ18)","v":""},{"$f":"IF(OR($D18=\"\",AG$2>'Wk Input'!$J$2),\"\",EK18)","v":""},{"$f":"IF(OR($D18=\"\",AH$2>'Wk Input'!$J$2),\"\",EL18)","v":""},{"$f":"IF(OR($D18=\"\",AI$2>'Wk Input'!$J$2),\"\",EM18)","v":""},{"$f":"IF(OR($D18=\"\",AJ$2>'Wk Input'!$J$2),\"\",EN18)","v":""},{"$f":"IF(OR($D18=\"\",AK$2>'Wk Input'!$J$2),\"\",EO18)","v":""},{"$f":"IF(OR($D18=\"\",AL$2>'Wk Input'!$J$2),\"\",EP18)","v":""},{"$f":"IF(OR($D18=\"\",AM$2>'Wk Input'!$J$2),\"\",EQ18)","v":""},{"$f":"IF(OR($D18=\"\",AN$2>'Wk Input'!$J$2),\"\",ER18)","v":""},{"$f":"IF(OR($D18=\"\",AO$2>'Wk Input'!$J$2),\"\",ES18)","v":""},{"$f":"IF(OR($D18=\"\",AP$2>'Wk Input'!$J$2),\"\",ET18)","v":""},{"$f":"IF(OR($D18=\"\",AQ$2>'Wk Input'!$J$2),\"\",EU18)","v":""},{"$f":"IF(OR($D18=\"\",AR$2>'Wk Input'!$J$2),\"\",EV18)","v":""},{"$f":"IF(OR($D18=\"\",AS$2>'Wk Input'!$J$2),\"\",EW18)","v":""},{"$f":"IF(OR($D18=\"\",AT$2>'Wk Input'!$J$2),\"\",EX18)","v":""},{"$f":"IF(OR($D18=\"\",AU$2>'Wk Input'!$J$2),\"\",EY18)","v":""},{"$f":"IF(OR($D18=\"\",AV$2>'Wk Input'!$J$2),\"\",EZ18)","v":""},{"$f":"IF(OR($D18=\"\",AW$2>'Wk Input'!$J$2),\"\",FA18)","v":""},{"$f":"IF(OR($D18=\"\",AX$2>'Wk Input'!$J$2),\"\",FB18)","v":""},{"$f":"IF(OR($D18=\"\",AY$2>'Wk Input'!$J$2),\"\",FC18)","v":""},{"$f":"IF(OR($D18=\"\",AZ$2>'Wk Input'!$J$2),\"\",FD18)","v":""},{"$f":"IF(OR($D18=\"\",BA$2>'Wk Input'!$J$2),\"\",FE18)","v":""},{"$f":"IF(OR($D18=\"\",BB$2>'Wk Input'!$J$2),\"\",FF18)","v":""},{"$f":"IF(OR($D18=\"\",BC$2>'Wk Input'!$J$2),\"\",FG18)","v":""},{"$f":"IF(OR($D18=\"\",BD$2>'Wk Input'!$J$2),\"\",FH18)","v":""},{"$f":"IF(OR($D18=\"\",BE$2>'Wk Input'!$J$2),\"\",FI18)","v":""},{"$f":"IF(OR($D18=\"\",BF$2>'Wk Input'!$J$2),\"\",FJ18)","v":""},{"$f":"IF(OR($D18=\"\",BG$2>'Wk Input'!$J$2),\"\",FK18)","v":""},{"$f":"IF(OR($D18=\"\",BH$2>'Wk Input'!$J$2),\"\",FL18)","v":""},{"$f":"IF(OR($D18=\"\",BI$2>'Wk Input'!$J$2),\"\",FM18)","v":""},{"$f":"IF(OR($D18=\"\",BJ$2>'Wk Input'!$J$2),\"\",FN18)","v":""},{"$f":"IF(OR($D18=\"\",BK$2>'Wk Input'!$J$2),\"\",FO18)","v":""},null,null,"","","","","","","","","","","","","","","","","","","","","","","","","","","","","","","","","","","","","","","","","","","","","","","","","","","","",null,null,"","","","","","","","","","","","","","","","","","","","","","","","","","","","","","","","","","","","","","","","","","","","","","","","","","","","",null,null,"","","","","","","","","","","","","","","","","","","","","","","","","","","","","","","","","","","","","","","","","","","","","","","","","","","","",null,null,"","","","","","","","","","","","","","","","","","","","","","","","","","","","","","","","","","","","","","","","","","","","","","","","","","","","",null,null,null,null,null,null,null,null,null,null,null,null,null,null,null,null,null,null,null,null,null,null,null,null,null,null,null,null,null,null,null,null,null,null,null,null,null,null,null,null,null,null,null,null,null,null,null,null,null,null,null,null,null,null,34,"AD3"]
[null,null,null,null,null,null,null,null,null,null,null,{"$f":"IF(OR($D19=\"\",L$2>'Wk Input'!$J$2),\"\",DP19)","v":""},{"$f":"IF(OR($D19=\"\",M$2>'Wk Input'!$J$2),\"\",DQ19)","v":""},{"$f":"IF(OR($D19=\"\",N$2>'Wk Input'!$J$2),\"\",DR19)","v":""},{"$f":"IF(OR($D19=\"\",O$2>'Wk Input'!$J$2),\"\",DS19)","v":""},{"$f":"IF(OR($D19=\"\",P$2>'Wk Input'!$J$2),\"\",DT19)","v":""},{"$f":"IF(OR($D19=\"\",Q$2>'Wk Input'!$J$2),\"\",DU19)","v":""},{"$f":"IF(OR($D19=\"\",R$2>'Wk Input'!$J$2),\"\",DV19)","v":""},{"$f":"IF(OR($D19=\"\",S$2>'Wk Input'!$J$2),\"\",DW19)","v":""},{"$f":"IF(OR($D19=\"\",T$2>'Wk Input'!$J$2),\"\",DX19)","v":""},{"$f":"IF(OR($D19=\"\",U$2>'Wk Input'!$J$2),\"\",DY19)","v":""},{"$f":"IF(OR($D19=\"\",V$2>'Wk Input'!$J$2),\"\",DZ19)","v":""},{"$f":"IF(OR($D19=\"\",W$2>'Wk Input'!$J$2),\"\",EA19)","v":""},{"$f":"IF(OR($D19=\"\",X$2>'Wk Input'!$J$2),\"\",EB19)","v":""},{"$f":"IF(OR($D19=\"\",Y$2>'Wk Input'!$J$2),\"\",EC19)","v":""},{"$f":"IF(OR($D19=\"\",Z$2>'Wk Input'!$J$2),\"\",ED19)","v":""},{"$f":"IF(OR($D19=\"\",AA$2>'Wk Input'!$J$2),\"\",EE19)","v":""},{"$f":"IF(OR($D19=\"\",AB$2>'Wk Input'!$J$2),\"\",EF19)","v":""},{"$f":"IF(OR($D19=\"\",AC$2>'Wk Input'!$J$2),\"\",EG19)","v":""},{"$f":"IF(OR($D19=\"\",AD$2>'Wk Input'!$J$2),\"\",EH19)","v":""},{"$f":"IF(OR($D19=\"\",AE$2>'Wk Input'!$J$2),\"\",EI19)","v":""},{"$f":"IF(OR($D19=\"\",AF$2>'Wk Input'!$J$2),\"\",EJ19)","v":""},{"$f":"IF(OR($D19=\"\",AG$2>'Wk Input'!$J$2),\"\",EK19)","v":""},{"$f":"IF(OR($D19=\"\",AH$2>'Wk Input'!$J$2),\"\",EL19)","v":""},{"$f":"IF(OR($D19=\"\",AI$2>'Wk Input'!$J$2),\"\",EM19)","v":""},{"$f":"IF(OR($D19=\"\",AJ$2>'Wk Input'!$J$2),\"\",EN19)","v":""},{"$f":"IF(OR($D19=\"\",AK$2>'Wk Input'!$J$2),\"\",EO19)","v":""},{"$f":"IF(OR($D19=\"\",AL$2>'Wk Input'!$J$2),\"\",EP19)","v":""},{"$f":"IF(OR($D19=\"\",AM$2>'Wk Input'!$J$2),\"\",EQ19)","v":""},{"$f":"IF(OR($D19=\"\",AN$2>'Wk Input'!$J$2),\"\",ER19)","v":""},{"$f":"IF(OR($D19=\"\",AO$2>'Wk Input'!$J$2),\"\",ES19)","v":""},{"$f":"IF(OR($D19=\"\",AP$2>'Wk Input'!$J$2),\"\",ET19)","v":""},{"$f":"IF(OR($D19=\"\",AQ$2>'Wk Input'!$J$2),\"\",EU19)","v":""},{"$f":"IF(OR($D19=\"\",AR$2>'Wk Input'!$J$2),\"\",EV19)","v":""},{"$f":"IF(OR($D19=\"\",AS$2>'Wk Input'!$J$2),\"\",EW19)","v":""},{"$f":"IF(OR($D19=\"\",AT$2>'Wk Input'!$J$2),\"\",EX19)","v":""},{"$f":"IF(OR($D19=\"\",AU$2>'Wk Input'!$J$2),\"\",EY19)","v":""},{"$f":"IF(OR($D19=\"\",AV$2>'Wk Input'!$J$2),\"\",EZ19)","v":""},{"$f":"IF(OR($D19=\"\",AW$2>'Wk Input'!$J$2),\"\",FA19)","v":""},{"$f":"IF(OR($D19=\"\",AX$2>'Wk Input'!$J$2),\"\",FB19)","v":""},{"$f":"IF(OR($D19=\"\",AY$2>'Wk Input'!$J$2),\"\",FC19)","v":""},{"$f":"IF(OR($D19=\"\",AZ$2>'Wk Input'!$J$2),\"\",FD19)","v":""},{"$f":"IF(OR($D19=\"\",BA$2>'Wk Input'!$J$2),\"\",FE19)","v":""},{"$f":"IF(OR($D19=\"\",BB$2>'Wk Input'!$J$2),\"\",FF19)","v":""},{"$f":"IF(OR($D19=\"\",BC$2>'Wk Input'!$J$2),\"\",FG19)","v":""},{"$f":"IF(OR($D19=\"\",BD$2>'Wk Input'!$J$2),\"\",FH19)","v":""},{"$f":"IF(OR($D19=\"\",BE$2>'Wk Input'!$J$2),\"\",FI19)","v":""},{"$f":"IF(OR($D19=\"\",BF$2>'Wk Input'!$J$2),\"\",FJ19)","v":""},{"$f":"IF(OR($D19=\"\",BG$2>'Wk Input'!$J$2),\"\",FK19)","v":""},{"$f":"IF(OR($D19=\"\",BH$2>'Wk Input'!$J$2),\"\",FL19)","v":""},{"$f":"IF(OR($D19=\"\",BI$2>'Wk Input'!$J$2),\"\",FM19)","v":""},{"$f":"IF(OR($D19=\"\",BJ$2>'Wk Input'!$J$2),\"\",FN19)","v":""},{"$f":"IF(OR($D19=\"\",BK$2>'Wk Input'!$J$2),\"\",FO19)","v":""},null,null,"","","","","","","","","","","","","","","","","","","","","","","","","","","","","","","","","","","","","","","","","","","","","","","","","","","","",null,null,"","","","","","","","","","","","","","","","","","","","","","","","","","","","","","","","","","","","","","","","","","","","","","","","","","","","",null,null,"","","","","","","","","","","","","","","","","","","","","","","","","","","","","","","","","","","","","","","","","","","","","","","","","","","","",null,null,"","","","","","","","","","","","","","","","","","","","","","","","","","","","","","","","","","","","","","","","","","","","","","","","","","","","",null,null,null,null,null,null,null,null,null,null,null,null,null,null,null,null,null,null,null,null,null,null,null,null,null,null,null,null,null,null,null,null,null,null,null,null,null,null,null,null,null,null,null,null,null,null,null,null,null,null,null,null,null,null,35,"AD4"]
[null,null,null,null,null,null,null,null,null,null,null,{"$f":"IF(OR($D20=\"\",L$2>'Wk Input'!$J$2),\"\",DP20)","v":""},{"$f":"IF(OR($D20=\"\",M$2>'Wk Input'!$J$2),\"\",DQ20)","v":""},{"$f":"IF(OR($D20=\"\",N$2>'Wk Input'!$J$2),\"\",DR20)","v":""},{"$f":"IF(OR($D20=\"\",O$2>'Wk Input'!$J$2),\"\",DS20)","v":""},{"$f":"IF(OR($D20=\"\",P$2>'Wk Input'!$J$2),\"\",DT20)","v":""},{"$f":"IF(OR($D20=\"\",Q$2>'Wk Input'!$J$2),\"\",DU20)","v":""},{"$f":"IF(OR($D20=\"\",R$2>'Wk Input'!$J$2),\"\",DV20)","v":""},{"$f":"IF(OR($D20=\"\",S$2>'Wk Input'!$J$2),\"\",DW20)","v":""},{"$f":"IF(OR($D20=\"\",T$2>'Wk Input'!$J$2),\"\",DX20)","v":""},{"$f":"IF(OR($D20=\"\",U$2>'Wk Input'!$J$2),\"\",DY20)","v":""},{"$f":"IF(OR($D20=\"\",V$2>'Wk Input'!$J$2),\"\",DZ20)","v":""},{"$f":"IF(OR($D20=\"\",W$2>'Wk Input'!$J$2),\"\",EA20)","v":""},{"$f":"IF(OR($D20=\"\",X$2>'Wk Input'!$J$2),\"\",EB20)","v":""},{"$f":"IF(OR($D20=\"\",Y$2>'Wk Input'!$J$2),\"\",EC20)","v":""},{"$f":"IF(OR($D20=\"\",Z$2>'Wk Input'!$J$2),\"\",ED20)","v":""},{"$f":"IF(OR($D20=\"\",AA$2>'Wk Input'!$J$2),\"\",EE20)","v":""},{"$f":"IF(OR($D20=\"\",AB$2>'Wk Input'!$J$2),\"\",EF20)","v":""},{"$f":"IF(OR($D20=\"\",AC$2>'Wk Input'!$J$2),\"\",EG20)","v":""},{"$f":"IF(OR($D20=\"\",AD$2>'Wk Input'!$J$2),\"\",EH20)","v":""},{"$f":"IF(OR($D20=\"\",AE$2>'Wk Input'!$J$2),\"\",EI20)","v":""},{"$f":"IF(OR($D20=\"\",AF$2>'Wk Input'!$J$2),\"\",EJ20)","v":""},{"$f":"IF(OR($D20=\"\",AG$2>'Wk Input'!$J$2),\"\",EK20)","v":""},{"$f":"IF(OR($D20=\"\",AH$2>'Wk Input'!$J$2),\"\",EL20)","v":""},{"$f":"IF(OR($D20=\"\",AI$2>'Wk Input'!$J$2),\"\",EM20)","v":""},{"$f":"IF(OR($D20=\"\",AJ$2>'Wk Input'!$J$2),\"\",EN20)","v":""},{"$f":"IF(OR($D20=\"\",AK$2>'Wk Input'!$J$2),\"\",EO20)","v":""},{"$f":"IF(OR($D20=\"\",AL$2>'Wk Input'!$J$2),\"\",EP20)","v":""},{"$f":"IF(OR($D20=\"\",AM$2>'Wk Input'!$J$2),\"\",EQ20)","v":""},{"$f":"IF(OR($D20=\"\",AN$2>'Wk Input'!$J$2),\"\",ER20)","v":""},{"$f":"IF(OR($D20=\"\",AO$2>'Wk Input'!$J$2),\"\",ES20)","v":""},{"$f":"IF(OR($D20=\"\",AP$2>'Wk Input'!$J$2),\"\",ET20)","v":""},{"$f":"IF(OR($D20=\"\",AQ$2>'Wk Input'!$J$2),\"\",EU20)","v":""},{"$f":"IF(OR($D20=\"\",AR$2>'Wk Input'!$J$2),\"\",EV20)","v":""},{"$f":"IF(OR($D20=\"\",AS$2>'Wk Input'!$J$2),\"\",EW20)","v":""},{"$f":"IF(OR($D20=\"\",AT$2>'Wk Input'!$J$2),\"\",EX20)","v":""},{"$f":"IF(OR($D20=\"\",AU$2>'Wk Input'!$J$2),\"\",EY20)","v":""},{"$f":"IF(OR($D20=\"\",AV$2>'Wk Input'!$J$2),\"\",EZ20)","v":""},{"$f":"IF(OR($D20=\"\",AW$2>'Wk Input'!$J$2),\"\",FA20)","v":""},{"$f":"IF(OR($D20=\"\",AX$2>'Wk Input'!$J$2),\"\",FB20)","v":""},{"$f":"IF(OR($D20=\"\",AY$2>'Wk Input'!$J$2),\"\",FC20)","v":""},{"$f":"IF(OR($D20=\"\",AZ$2>'Wk Input'!$J$2),\"\",FD20)","v":""},{"$f":"IF(OR($D20=\"\",BA$2>'Wk Input'!$J$2),\"\",FE20)","v":""},{"$f":"IF(OR($D20=\"\",BB$2>'Wk Input'!$J$2),\"\",FF20)","v":""},{"$f":"IF(OR($D20=\"\",BC$2>'Wk Input'!$J$2),\"\",FG20)","v":""},{"$f":"IF(OR($D20=\"\",BD$2>'Wk Input'!$J$2),\"\",FH20)","v":""},{"$f":"IF(OR($D20=\"\",BE$2>'Wk Input'!$J$2),\"\",FI20)","v":""},{"$f":"IF(OR($D20=\"\",BF$2>'Wk Input'!$J$2),\"\",FJ20)","v":""},{"$f":"IF(OR($D20=\"\",BG$2>'Wk Input'!$J$2),\"\",FK20)","v":""},{"$f":"IF(OR($D20=\"\",BH$2>'Wk Input'!$J$2),\"\",FL20)","v":""},{"$f":"IF(OR($D20=\"\",BI$2>'Wk Input'!$J$2),\"\",FM20)","v":""},{"$f":"IF(OR($D20=\"\",BJ$2>'Wk Input'!$J$2),\"\",FN20)","v":""},{"$f":"IF(OR($D20=\"\",BK$2>'Wk Input'!$J$2),\"\",FO20)","v":""},null,null,"","","","","","","","","","","","","","","","","",{"$f":"IF(DX160<>\"\",DX160,CD37)","v":""},"","","","","","","","","","","","","","","",{"$f":"IF(EN160<>\"\",EN160,CT37)","v":""},"","","","","","","","","","","","","","","",{"$f":"IF(FD160<>\"\",FD160,DJ37)","v":""},"","",null,null,"","","","","","","","","","","","","","","","","",{"$f":"IF(FZ160<>\"\",FZ160,EF37)","v":""},"","","","","","","","","","","","","","","",{"$f":"IF(GP160<>\"\",GP160,EV37)","v":""},"","","","","","","","","","","","","","","",{"$f":"IF(HF160<>\"\",HF160,FL37)","v":""},"","",null,null,"","","","","","","","","","","","","","","","","","","","","","","","","","","","","","","","","","","","","","","","","","","","","","","",{"$f":"IF($C20=\"N/A\",\"\",IF($G20=\"A\",IF(OR(HM$2<=$I20,$HQ20<=$I20),FK20,IF(AND(HM$2<$HQ20,HM$2>$I20),FK20*(1-((HM$2-$I20)/26)^2),FK20*(1-(($HQ20-$I20)/26)^2))),FK20))","v":""},"","","","",null,null,"","","","","","","","","","","","","","","","",{"$f":"IFERROR(IF(GH37<0,0,GH37),\"\")","v":""},"","","","","","","","","","","","","","","",{"$f":"IFERROR(IF(GX37<0,0,GX37),\"\")","v":""},"","","","","","","","","","","","","","","",{"$f":"IFERROR(IF(HN37<0,0,HN37),\"\")","v":""},"","","",null,null,null,null,null,null,null,null,null,null,null,null,null,null,null,null,null,null,null,null,null,null,null,null,null,null,null,null,null,null,null,null,null,null,null,null,null,null,null,null,null,null,null,null,null,null,null,null,null,null,null,null,null,null,36,"AD5"]
[null,null,null,null,null,null,null,null,null,null,null,"Visible for CorpGraph",null,null,null,null,null,null,null,null,null,null,null,null,null,null,null,null,null,null,null,null,null,null,null,null,null,null,null,null,null,null,null,null,null,null,null,null,null,null,null,null,null,null,null,null,null,null,null,null,null,null,null,null,null,"Visible Chart for GYCards",null,null,null,null,null,null,null,null,null,null,null,null,null,null,null,null,null,null,null,null,null,null,null,null,null,null,null,null,null,null,null,null,null,null,null,null,null,null,null,null,null,null,null,null,null,null,null,null,null,null,null,null,null,null,null,null,null,null,null,null,null,null,null,null,null,null,null,null,null,null,null,null,null,null,null,null,null,null,null,null,null,null,null,null,null,null,null,null,null,null,null,null,null,null,null,null,null,null,null,null,null,null,null,null,null,null,null,null,null,null,null,null,null,null,null,null,null,null,null,null,null,null,null,null,null,null,null,null,null,null,null,null,null,null,null,null,null,null,null,null,null,null,null,null,null,null,null,null,null,null,null,null,null,null,null,null,null,null,null,null,null,null,null,null,null,null,null,null,null,null,null,null,null,null,null,null,null,null,null,null,null,null,null,null,null,null,null,null,null,null,null,null,null,null,null,null,null,null,null,null,null,null,null,null,null,null,null,null,null,null,null,null,null,null,null,null,null,null,null,null,null,null,null,null,null,null,null,null,null,null,null,null,null,null,null,null,null,null,null,null,null,null,null,null,null,null,null,null,null,null,null,null,null,null,null,null,null,null,null,null,null,null,null,null,null,null,null,37,"AD6"]
[null,null,null,null,null,null,null,null,null,null,null,{"$f":"IF(L$2>'Wk Input'!$J$2,\"\",IF(HO145=\"\",\"\",HO145))","v":0},{"$f":"IF(M$2>'Wk Input'!$J$2,\"\",IF(HP145=\"\",\"\",HP145))","v":0},{"$f":"IF(N$2>'Wk Input'!$J$2,\"\",IF(HQ145=\"\",\"\",HQ145))","v":0},{"$f":"IF(O$2>'Wk Input'!$J$2,\"\",IF(HR145=\"\",\"\",HR145))","v":2.52},{"$f":"IF(P$2>'Wk Input'!$J$2,\"\",IF(HS145=\"\",\"\",HS145))","v":4.03},{"$f":"IF(Q$2>'Wk Input'!$J$2,\"\",IF(HT145=\"\",\"\",HT145))","v":6.3750000000000009},{"$f":"IF(R$2>'Wk Input'!$J$2,\"\",IF(HU145=\"\",\"\",HU145))","v":7.875},{"$f":"IF(S$2>'Wk Input'!$J$2,\"\",IF(HV145=\"\",\"\",HV145))","v":10.875},{"$f":"IF(T$2>'Wk Input'!$J$2,\"\",IF(HW145=\"\",\"\",HW145))","v":10.875},{"$f":"IF(U$2>'Wk Input'!$J$2,\"\",IF(HX145=\"\",\"\",HX145))","v":10.875},{"$f":"IF(V$2>'Wk Input'!$J$2,\"\",IF(HY145=\"\",\"\",HY145))","v":13.5},{"$f":"IF(W$2>'Wk Input'!$J$2,\"\",IF(HZ145=\"\",\"\",HZ145))","v":18},{"$f":"IF(X$2>'Wk Input'!$J$2,\"\",IF(IA145=\"\",\"\",IA145))","v":18.75},{"$f":"IF(Y$2>'Wk Input'!$J$2,\"\",IF(IB145=\"\",\"\",IB145))","v":18.75},{"$f":"IF(Z$2>'Wk Input'!$J$2,\"\",IF(IC145=\"\",\"\",IC145))","v":21.000000000000004},{"$f":"IF(AA$2>'Wk Input'!$J$2,\"\",IF(ID145=\"\",\"\",ID145))","v":21.000000000000004},{"$f":"IF(AB$2>'Wk Input'!$J$2,\"\",IF(IE145=\"\",\"\",IE145))","v":21.000000000000004},{"$f":"IF(AC$2>'Wk Input'!$J$2,\"\",IF(IF145=\"\",\"\",IF145))","v":23.25},{"$f":"IF(AD$2>'Wk Input'!$J$2,\"\",IF(IG145=\"\",\"\",IG145))","v":24.75},{"$f":"IF(AE$2>'Wk Input'!$J$2,\"\",IF(IH145=\"\",\"\",IH145))","v":25.500000000000004},{"$f":"IF(AF$2>'Wk Input'!$J$2,\"\",IF(II145=\"\",\"\",II145))","v":25.640000000000004},{"$f":"IF(AG$2>'Wk Input'!$J$2,\"\",IF(IJ145=\"\",\"\",IJ145))","v":27.460000000000008},{"$f":"IF(AH$2>'Wk Input'!$J$2,\"\",IF(IK145=\"\",\"\",IK145))","v":27.653000000000006},{"$f":"IF(AI$2>'Wk Input'!$J$2,\"\",IF(IL145=\"\",\"\",IL145))","v":29.786000000000005},{"$f":"IF(AJ$2>'Wk Input'!$J$2,\"\",IF(IM145=\"\",\"\",IM145))","v":30.211000000000006},{"$f":"IF(AK$2>'Wk Input'!$J$2,\"\",IF(IN145=\"\",\"\",IN145))","v":32.365000000000009},{"$f":"IF(AL$2>'Wk Input'!$J$2,\"\",IF(IO145=\"\",\"\",IO145))","v":32.659000000000006},{"$f":"IF(AM$2>'Wk Input'!$J$2,\"\",IF(IP145=\"\",\"\",IP145))","v":32.859000000000009},{"$f":"IF(AN$2>'Wk Input'!$J$2,\"\",IF(IQ145=\"\",\"\",IQ145))","v":35.182000000000002},{"$f":"IF(AO$2>'Wk Input'!$J$2,\"\",IF(IR145=\"\",\"\",IR145))","v":36.224000000000004},{"$f":"IF(AP$2>'Wk Input'!$J$2,\"\",IF(IS145=\"\",\"\",IS145))","v":38.566000000000003},{"$f":"IF(AQ$2>'Wk Input'!$J$2,\"\",IF(IT145=\"\",\"\",IT145))","v":39.973000000000006},{"$f":"IF(AR$2>'Wk Input'!$J$2,\"\",IF(IU145=\"\",\"\",IU145))","v":40.204000000000008},{"$f":"IF(AS$2>'Wk Input'!$J$2,\"\",IF(IV145=\"\",\"\",IV145))","v":40.949000000000012},{"$f":"IF(AT$2>'Wk Input'!$J$2,\"\",IF(IW145=\"\",\"\",IW145))","v":43.411000000000008},{"$f":"IF(AU$2>'Wk Input'!$J$2,\"\",IF(IX145=\"\",\"\",IX145))","v":43.602000000000004},{"$f":"IF(AV$2>'Wk Input'!$J$2,\"\",IF(IY145=\"\",\"\",IY145))","v":43.959000000000003},{"$f":"IF(AW$2>'Wk Input'!$J$2,\"\",IF(IZ145=\"\",\"\",IZ145))","v":44.342000000000006},{"$f":"IF(AX$2>'Wk Input'!$J$2,\"\",IF(JA145=\"\",\"\",JA145))","v":44.559000000000005},{"$f":"IF(AY$2>'Wk Input'!$J$2,\"\",IF(JB145=\"\",\"\",JB145))","v":48.266000000000005},{"$f":"IF(AZ$2>'Wk Input'!$J$2,\"\",IF(JC145=\"\",\"\",JC145))","v":49.426000000000002},{"$f":"IF(BA$2>'Wk Input'!$J$2,\"\",IF(JD145=\"\",\"\",JD145))","v":50.306000000000004},{"$f":"IF(BB$2>'Wk Input'!$J$2,\"\",IF(JE145=\"\",\"\",JE145))","v":51.159000000000006},{"$f":"IF(BC$2>'Wk Input'!$J$2,\"\",IF(JF145=\"\",\"\",JF145))","v":58.554000000000009},{"$f":"IF(BD$2>'Wk Input'!$J$2,\"\",IF(JG145=\"\",\"\",JG145))","v":58.929000000000009},{"$f":"IF(BE$2>'Wk Input'!$J$2,\"\",IF(JH145=\"\",\"\",JH145))","v":58.95300000000001},{"$f":"IF(BF$2>'Wk Input'!$J$2,\"\",IF(JI145=\"\",\"\",JI145))","v":63.571000000000012},{"$f":"IF(BG$2>'Wk Input'!$J$2,\"\",IF(JJ145=\"\",\"\",JJ145))","v":64.779000000000011},{"$f":"IF(BH$2>'Wk Input'!$J$2,\"\",IF(JK145=\"\",\"\",JK145))","v":66.912000000000006},{"$f":"IF(BI$2>'Wk Input'!$J$2,\"\",IF(JL145=\"\",\"\",JL145))","v":67.191000000000017},{"$f":"IF(BJ$2>'Wk Input'!$J$2,\"\",IF(JM145=\"\",\"\",JM145))","v":68.686000000000007},{"$f":"IF(BK$2>'Wk Input'!$J$2,\"\",IF(JN145=\"\",\"\",JN145))","v":73.623000000000019},null,"Gcard",{"$f":"IF($BM$49<BN$2,FALSE,BN49)","v":false},{"$f":"IF($BM$49<BO$2,FALSE,BO49)","v":false},true,false,false,false,false,false,false,false,false,false,false,false,false,false,false,false,false,false,false,false,false,false,false,false,false,false,false,false,false,false,false,false,false,false,false,false,false,false,false,false,true,false,false,false,false,false,false,false,false,false,null,null,null,null,null,null,null,null,null,null,null,null,null,null,null,null,null,null,null,null,null,null,null,null,null,null,null,null,null,null,null,null,null,null,null,null,null,null,null,null,null,null,null,null,null,null,null,null,null,null,null,null,null,null,null,null,null,null,null,null,null,null,null,null,null,null,null,null,null,null,null,null,null,null,null,null,null,null,null,null,null,null,null,null,null,null,null,null,null,null,null,null,null,null,null,null,null,null,null,null,null,null,null,null,null,null,null,null,null,null,null,null,null,null,null,null,null,null,null,null,null,null,null,null,null,null,null,null,null,null,null,null,null,null,null,null,null,null,null,null,null,null,null,null,null,null,null,null,null,null,null,null,null,null,null,null,null,null,null,null,null,null,null,null,null,null,null,null,null,null,null,null,null,null,null,null,null,null,null,null,null,null,null,null,null,null,null,null,null,null,null,null,null,null,null,null,null,null,null,null,null,null,null,null,null,null,null,null,null,null,null,null,null,null,null,null,38,"AD7"]
[null,null,null,null,null,null,null,null,null,null,null,{"$f":"IF(L$2>'Wk Input'!$J$2,\"\",IF(HO146=\"\",\"\",HO146))","v":0},{"$f":"IF(M$2>'Wk Input'!$J$2,\"\",IF(HP146=\"\",\"\",HP146))","v":0},{"$f":"IF(N$2>'Wk Input'!$J$2,\"\",IF(HQ146=\"\",\"\",HQ146))","v":0},{"$f":"IF(O$2>'Wk Input'!$J$2,\"\",IF(HR146=\"\",\"\",HR146))","v":1.5},{"$f":"IF(P$2>'Wk Input'!$J$2,\"\",IF(HS146=\"\",\"\",HS146))","v":1.5},{"$f":"IF(Q$2>'Wk Input'!$J$2,\"\",IF(HT146=\"\",\"\",HT146))","v":1.5},{"$f":"IF(R$2>'Wk Input'!$J$2,\"\",IF(HU146=\"\",\"\",HU146))","v":4.5},{"$f":"IF(S$2>'Wk Input'!$J$2,\"\",IF(HV146=\"\",\"\",HV146))","v":6},{"$f":"IF(T$2>'Wk Input'!$J$2,\"\",IF(HW146=\"\",\"\",HW146))","v":9},{"$f":"IF(U$2>'Wk Input'!$J$2,\"\",IF(HX146=\"\",\"\",HX146))","v":10.5},{"$f":"IF(V$2>'Wk Input'!$J$2,\"\",IF(HY146=\"\",\"\",HY146))","v":15.5},{"$f":"IF(W$2>'Wk Input'!$J$2,\"\",IF(HZ146=\"\",\"\",HZ146))","v":17.248999999999999},{"$f":"IF(X$2>'Wk Input'!$J$2,\"\",IF(IA146=\"\",\"\",IA146))","v":18.584},{"$f":"IF(Y$2>'Wk Input'!$J$2,\"\",IF(IB146=\"\",\"\",IB146))","v":18.584},{"$f":"IF(Z$2>'Wk Input'!$J$2,\"\",IF(IC146=\"\",\"\",IC146))","v":20.251999999999999},{"$f":"IF(AA$2>'Wk Input'!$J$2,\"\",IF(ID146=\"\",\"\",ID146))","v":21.751999999999999},{"$f":"IF(AB$2>'Wk Input'!$J$2,\"\",IF(IE146=\"\",\"\",IE146))","v":21.815000000000001},{"$f":"IF(AC$2>'Wk Input'!$J$2,\"\",IF(IF146=\"\",\"\",IF146))","v":21.815000000000001},{"$f":"IF(AD$2>'Wk Input'!$J$2,\"\",IF(IG146=\"\",\"\",IG146))","v":24.978999999999999},{"$f":"IF(AE$2>'Wk Input'!$J$2,\"\",IF(IH146=\"\",\"\",IH146))","v":26.416},{"$f":"IF(AF$2>'Wk Input'!$J$2,\"\",IF(II146=\"\",\"\",II146))","v":26.542000000000002},{"$f":"IF(AG$2>'Wk Input'!$J$2,\"\",IF(IJ146=\"\",\"\",IJ146))","v":27.126000000000001},{"$f":"IF(AH$2>'Wk Input'!$J$2,\"\",IF(IK146=\"\",\"\",IK146))","v":30.5},{"$f":"IF(AI$2>'Wk Input'!$J$2,\"\",IF(IL146=\"\",\"\",IL146))","v":32},{"$f":"IF(AJ$2>'Wk Input'!$J$2,\"\",IF(IM146=\"\",\"\",IM146))","v":35.5},{"$f":"IF(AK$2>'Wk Input'!$J$2,\"\",IF(IN146=\"\",\"\",IN146))","v":35.749000000000002},{"$f":"IF(AL$2>'Wk Input'!$J$2,\"\",IF(IO146=\"\",\"\",IO146))","v":39},{"$f":"IF(AM$2>'Wk Input'!$J$2,\"\",IF(IP146=\"\",\"\",IP146))","v":39},{"$f":"IF(AN$2>'Wk Input'!$J$2,\"\",IF(IQ146=\"\",\"\",IQ146))","v":40.752000000000002},{"$f":"IF(AO$2>'Wk Input'!$J$2,\"\",IF(IR146=\"\",\"\",IR146))","v":42.003},{"$f":"IF(AP$2>'Wk Input'!$J$2,\"\",IF(IS146=\"\",\"\",IS146))","v":46},{"$f":"IF(AQ$2>'Wk Input'!$J$2,\"\",IF(IT146=\"\",\"\",IT146))","v":46.9},{"$f":"IF(AR$2>'Wk Input'!$J$2,\"\",IF(IU146=\"\",\"\",IU146))","v":48.816000000000003},{"$f":"IF(AS$2>'Wk Input'!$J$2,\"\",IF(IV146=\"\",\"\",IV146))","v":50.414999999999999},{"$f":"IF(AT$2>'Wk Input'!$J$2,\"\",IF(IW146=\"\",\"\",IW146))","v":52.2},{"$f":"IF(AU$2>'Wk Input'!$J$2,\"\",IF(IX146=\"\",\"\",IX146))","v":54.2},{"$f":"IF(AV$2>'Wk Input'!$J$2,\"\",IF(IY146=\"\",\"\",IY146))","v":55.7},{"$f":"IF(AW$2>'Wk Input'!$J$2,\"\",IF(IZ146=\"\",\"\",IZ146))","v":58.813000000000002},{"$f":"IF(AX$2>'Wk Input'!$J$2,\"\",IF(JA146=\"\",\"\",JA146))","v":58.813000000000002},{"$f":"IF(AY$2>'Wk Input'!$J$2,\"\",IF(JB146=\"\",\"\",JB146))","v":60.813000000000002},{"$f":"IF(AZ$2>'Wk Input'!$J$2,\"\",IF(JC146=\"\",\"\",JC146))","v":70.623999999999995},{"$f":"IF(BA$2>'Wk Input'!$J$2,\"\",IF(JD146=\"\",\"\",JD146))","v":70.623999999999995},{"$f":"IF(BB$2>'Wk Input'!$J$2,\"\",IF(JE146=\"\",\"\",JE146))","v":74.292000000000002},{"$f":"IF(BC$2>'Wk Input'!$J$2,\"\",IF(JF146=\"\",\"\",JF146))","v":74.623999999999995},{"$f":"IF(BD$2>'Wk Input'!$J$2,\"\",IF(JG146=\"\",\"\",JG146))","v":76.123999999999995},{"$f":"IF(BE$2>'Wk Input'!$J$2,\"\",IF(JH146=\"\",\"\",JH146))","v":81.331999999999994},{"$f":"IF(BF$2>'Wk Input'!$J$2,\"\",IF(JI146=\"\",\"\",JI146))","v":81.394999999999996},{"$f":"IF(BG$2>'Wk Input'!$J$2,\"\",IF(JJ146=\"\",\"\",JJ146))","v":85.1},{"$f":"IF(BH$2>'Wk Input'!$J$2,\"\",IF(JK146=\"\",\"\",JK146))","v":86},{"$f":"IF(BI$2>'Wk Input'!$J$2,\"\",IF(JL146=\"\",\"\",JL146))","v":87.2},{"$f":"IF(BJ$2>'Wk Input'!$J$2,\"\",IF(JM146=\"\",\"\",JM146))","v":88.573999999999998},{"$f":"IF(BK$2>'Wk Input'!$J$2,\"\",IF(JN146=\"\",\"\",JN146))","v":90.658000000000001},null,"GPoints",0,0,8,0,0,0,0,0,0,0,0,0,0,0,0,0,0,0,0,0,0,0,0,0,0,0,0,0,0,0,0,0,0,0,0,0,0,0,0,0,0,0,2,0,0,0,0,0,0,0,0,0,null,null,null,null,null,null,null,null,null,null,null,null,null,null,null,null,null,null,null,null,null,null,null,null,null,null,null,null,null,null,null,null,null,null,null,null,null,null,null,null,null,null,null,null,null,null,null,null,null,null,null,null,null,null,null,null,null,null,null,null,null,null,null,null,null,null,null,null,null,null,null,null,null,null,null,null,null,null,null,null,null,null,null,null,null,null,null,null,null,null,null,null,null,null,null,null,null,null,null,null,null,null,null,null,null,null,null,null,null,null,null,null,null,null,null,null,null,null,null,null,null,null,null,null,null,null,null,null,null,null,null,null,null,null,null,null,null,null,null,null,null,null,null,null,null,null,null,null,null,null,null,null,null,null,null,null,null,null,null,null,null,null,null,null,null,null,null,null,null,null,null,null,null,null,null,null,null,null,null,null,null,null,null,null,null,null,null,null,null,null,null,null,null,null,null,null,null,null,null,null,null,null,null,null,null,null,null,null,null,null,null,null,null,null,null,null,39,"AD8"]
[null,null,null,null,null,null,null,null,null,null,null,{"$f":"IF(L$2>'Wk Input'!$J$2,\"\",IF(HO147=\"\",\"\",HO147))","v":""},{"$f":"IF(M$2>'Wk Input'!$J$2,\"\",IF(HP147=\"\",\"\",HP147))","v":""},{"$f":"IF(N$2>'Wk Input'!$J$2,\"\",IF(HQ147=\"\",\"\",HQ147))","v":""},{"$f":"IF(O$2>'Wk Input'!$J$2,\"\",IF(HR147=\"\",\"\",HR147))","v":""},{"$f":"IF(P$2>'Wk Input'!$J$2,\"\",IF(HS147=\"\",\"\",HS147))","v":94},{"$f":"IF(Q$2>'Wk Input'!$J$2,\"\",IF(HT147=\"\",\"\",HT147))","v":""},{"$f":"IF(R$2>'Wk Input'!$J$2,\"\",IF(HU147=\"\",\"\",HU147))","v":""},{"$f":"IF(S$2>'Wk Input'!$J$2,\"\",IF(HV147=\"\",\"\",HV147))","v":""},{"$f":"IF(T$2>'Wk Input'!$J$2,\"\",IF(HW147=\"\",\"\",HW147))","v":89.5},{"$f":"IF(U$2>'Wk Input'!$J$2,\"\",IF(HX147=\"\",\"\",HX147))","v":""},{"$f":"IF(V$2>'Wk Input'!$J$2,\"\",IF(HY147=\"\",\"\",HY147))","v":""},{"$f":"IF(W$2>'Wk Input'!$J$2,\"\",IF(HZ147=\"\",\"\",HZ147))","v":""},{"$f":"IF(X$2>'Wk Input'!$J$2,\"\",IF(IA147=\"\",\"\",IA147))","v":""},{"$f":"IF(Y$2>'Wk Input'!$J$2,\"\",IF(IB147=\"\",\"\",IB147))","v":95.5},{"$f":"IF(Z$2>'Wk Input'!$J$2,\"\",IF(IC147=\"\",\"\",IC147))","v":""},{"$f":"IF(AA$2>'Wk Input'!$J$2,\"\",IF(ID147=\"\",\"\",ID147))","v":""},{"$f":"IF(AB$2>'Wk Input'!$J$2,\"\",IF(IE147=\"\",\"\",IE147))","v":""},{"$f":"IF(AC$2>'Wk Input'!$J$2,\"\",IF(IF147=\"\",\"\",IF147))","v":92},{"$f":"IF(AD$2>'Wk Input'!$J$2,\"\",IF(IG147=\"\",\"\",IG147))","v":""},{"$f":"IF(AE$2>'Wk Input'!$J$2,\"\",IF(IH147=\"\",\"\",IH147))","v":""},{"$f":"IF(AF$2>'Wk Input'!$J$2,\"\",IF(II147=\"\",\"\",II147))","v":""},{"$f":"IF(AG$2>'Wk Input'!$J$2,\"\",IF(IJ147=\"\",\"\",IJ147))","v":""},{"$f":"IF(AH$2>'Wk Input'!$J$2,\"\",IF(IK147=\"\",\"\",IK147))","v":54},{"$f":"IF(AI$2>'Wk Input'!$J$2,\"\",IF(IL147=\"\",\"\",IL147))","v":""},{"$f":"IF(AJ$2>'Wk Input'!$J$2,\"\",IF(IM147=\"\",\"\",IM147))","v":""},{"$f":"IF(AK$2>'Wk Input'!$J$2,\"\",IF(IN147=\"\",\"\",IN147))","v":""},{"$f":"IF(AL$2>'Wk Input'!$J$2,\"\",IF(IO147=\"\",\"\",IO147))","v":90},{"$f":"IF(AM$2>'Wk Input'!$J$2,\"\",IF(IP147=\"\",\"\",IP147))","v":""},{"$f":"IF(AN$2>'Wk Input'!$J$2,\"\",IF(IQ147=\"\",\"\",IQ147))","v":""},{"$f":"IF(AO$2>'Wk Input'!$J$2,\"\",IF(IR147=\"\",\"\",IR147))","v":""},{"$f":"IF(AP$2>'Wk Input'!$J$2,\"\",IF(IS147=\"\",\"\",IS147))","v":92.5},{"$f":"IF(AQ$2>'Wk Input'!$J$2,\"\",IF(IT147=\"\",\"\",IT147))","v":""},{"$f":"IF(AR$2>'Wk Input'!$J$2,\"\",IF(IU147=\"\",\"\",IU147))","v":""},{"$f":"IF(AS$2>'Wk Input'!$J$2,\"\",IF(IV147=\"\",\"\",IV147))","v":""},{"$f":"IF(AT$2>'Wk Input'!$J$2,\"\",IF(IW147=\"\",\"\",IW147))","v":""},{"$f":"IF(AU$2>'Wk Input'!$J$2,\"\",IF(IX147=\"\",\"\",IX147))","v":91.5},{"$f":"IF(AV$2>'Wk Input'!$J$2,\"\",IF(IY147=\"\",\"\",IY147))","v":""},{"$f":"IF(AW$2>'Wk Input'!$J$2,\"\",IF(IZ147=\"\",\"\",IZ147))","v":""},{"$f":"IF(AX$2>'Wk Input'!$J$2,\"\",IF(JA147=\"\",\"\",JA147))","v":""},{"$f":"IF(AY$2>'Wk Input'!$J$2,\"\",IF(JB147=\"\",\"\",JB147))","v":93.5},{"$f":"IF(AZ$2>'Wk Input'!$J$2,\"\",IF(JC147=\"\",\"\",JC147))","v":""},{"$f":"IF(BA$2>'Wk Input'!$J$2,\"\",IF(JD147=\"\",\"\",JD147))","v":""},{"$f":"IF(BB$2>'Wk Input'!$J$2,\"\",IF(JE147=\"\",\"\",JE147))","v":""},{"$f":"IF(BC$2>'Wk Input'!$J$2,\"\",IF(JF147=\"\",\"\",JF147))","v":95.5},{"$f":"IF(BD$2>'Wk Input'!$J$2,\"\",IF(JG147=\"\",\"\",JG147))","v":""},{"$f":"IF(BE$2>'Wk Input'!$J$2,\"\",IF(JH147=\"\",\"\",JH147))","v":""},{"$f":"IF(BF$2>'Wk Input'!$J$2,\"\",IF(JI147=\"\",\"\",JI147))","v":""},{"$f":"IF(BG$2>'Wk Input'!$J$2,\"\",IF(JJ147=\"\",\"\",JJ147))","v":""},{"$f":"IF(BH$2>'Wk Input'!$J$2,\"\",IF(JK147=\"\",\"\",JK147))","v":98.5},{"$f":"IF(BI$2>'Wk Input'!$J$2,\"\",IF(JL147=\"\",\"\",JL147))","v":""},{"$f":"IF(BJ$2>'Wk Input'!$J$2,\"\",IF(JM147=\"\",\"\",JM147))","v":""},{"$f":"IF(BK$2>'Wk Input'!$J$2,\"\",IF(JN147=\"\",\"\",JN147))","v":98},null,"Acc GPoints",0,0,8,8,8,8,8,8,8,8,8,8,8,8,8,8,8,8,8,8,8,8,8,8,8,8,8,8,8,8,8,8,8,8,8,8,8,8,8,8,8,8,10,10,10,10,10,10,10,10,10,10,null,null,null,null,null,null,null,null,null,null,null,null,null,null,null,null,null,null,null,null,null,null,null,null,null,null,null,null,null,null,null,null,null,null,null,null,null,null,null,null,null,null,null,null,null,null,null,null,null,null,null,null,null,null,null,null,null,null,null,null,null,null,null,null,null,null,null,null,null,null,null,null,null,null,null,null,null,null,null,null,null,null,null,null,null,null,null,null,null,null,null,null,null,null,null,null,null,null,null,null,null,null,null,null,null,null,null,null,null,null,null,null,null,null,null,null,null,null,null,null,null,null,null,null,null,null,null,null,null,null,null,null,null,null,null,null,null,null,null,null,null,null,null,null,null,null,null,null,null,null,null,null,null,null,null,null,null,null,null,null,null,null,null,null,null,null,null,null,null,null,null,null,null,null,null,null,null,null,null,null,null,null,null,null,null,null,null,null,null,null,null,null,null,null,null,null,null,null,null,null,null,null,null,null,null,null,null,null,null,null,null,null,null,null,null,null,40,"AD9"]
[null,null,null,null,null,null,null,null,null,null,null,{"$f":"IF(L$2>'Wk Input'!$J$2,\"\",IF(HO148=\"\",\"\",HO148))","v":0},{"$f":"IF(M$2>'Wk Input'!$J$2,\"\",IF(HP148=\"\",\"\",HP148))","v":1.875},{"$f":"IF(N$2>'Wk Input'!$J$2,\"\",IF(HQ148=\"\",\"\",HQ148))","v":2},{"$f":"IF(O$2>'Wk Input'!$J$2,\"\",IF(HR148=\"\",\"\",HR148))","v":2.8125},{"$f":"IF(P$2>'Wk Input'!$J$2,\"\",IF(HS148=\"\",\"\",HS148))","v":3},{"$f":"IF(Q$2>'Wk Input'!$J$2,\"\",IF(HT148=\"\",\"\",HT148))","v":4},{"$f":"IF(R$2>'Wk Input'!$J$2,\"\",IF(HU148=\"\",\"\",HU148))","v":4},{"$f":"IF(S$2>'Wk Input'!$J$2,\"\",IF(HV148=\"\",\"\",HV148))","v":4.6875},{"$f":"IF(T$2>'Wk Input'!$J$2,\"\",IF(HW148=\"\",\"\",HW148))","v":5},{"$f":"IF(U$2>'Wk Input'!$J$2,\"\",IF(HX148=\"\",\"\",HX148))","v":7},{"$f":"IF(V$2>'Wk Input'!$J$2,\"\",IF(HY148=\"\",\"\",HY148))","v":7},{"$f":"IF(W$2>'Wk Input'!$J$2,\"\",IF(HZ148=\"\",\"\",HZ148))","v":7.5},{"$f":"IF(X$2>'Wk Input'!$J$2,\"\",IF(IA148=\"\",\"\",IA148))","v":10.628500000000001},{"$f":"IF(Y$2>'Wk Input'!$J$2,\"\",IF(IB148=\"\",\"\",IB148))","v":11.9375},{"$f":"IF(Z$2>'Wk Input'!$J$2,\"\",IF(IC148=\"\",\"\",IC148))","v":15.941000000000001},{"$f":"IF(AA$2>'Wk Input'!$J$2,\"\",IF(ID148=\"\",\"\",ID148))","v":15.941000000000001},{"$f":"IF(AB$2>'Wk Input'!$J$2,\"\",IF(IE148=\"\",\"\",IE148))","v":15.941000000000001},{"$f":"IF(AC$2>'Wk Input'!$J$2,\"\",IF(IF148=\"\",\"\",IF148))","v":17.5},{"$f":"IF(AD$2>'Wk Input'!$J$2,\"\",IF(IG148=\"\",\"\",IG148))","v":17.5},{"$f":"IF(AE$2>'Wk Input'!$J$2,\"\",IF(IH148=\"\",\"\",IH148))","v":18.25},{"$f":"IF(AF$2>'Wk Input'!$J$2,\"\",IF(II148=\"\",\"\",II148))","v":20},{"$f":"IF(AG$2>'Wk Input'!$J$2,\"\",IF(IJ148=\"\",\"\",IJ148))","v":20},{"$f":"IF(AH$2>'Wk Input'!$J$2,\"\",IF(IK148=\"\",\"\",IK148))","v":23},{"$f":"IF(AI$2>'Wk Input'!$J$2,\"\",IF(IL148=\"\",\"\",IL148))","v":23},{"$f":"IF(AJ$2>'Wk Input'!$J$2,\"\",IF(IM148=\"\",\"\",IM148))","v":23},{"$f":"IF(AK$2>'Wk Input'!$J$2,\"\",IF(IN148=\"\",\"\",IN148))","v":24.065999999999999},{"$f":"IF(AL$2>'Wk Input'!$J$2,\"\",IF(IO148=\"\",\"\",IO148))","v":26.625},{"$f":"IF(AM$2>'Wk Input'!$J$2,\"\",IF(IP148=\"\",\"\",IP148))","v":26.625},{"$f":"IF(AN$2>'Wk Input'!$J$2,\"\",IF(IQ148=\"\",\"\",IQ148))","v":26.625},{"$f":"IF(AO$2>'Wk Input'!$J$2,\"\",IF(IR148=\"\",\"\",IR148))","v":27.1875},{"$f":"IF(AP$2>'Wk Input'!$J$2,\"\",IF(IS148=\"\",\"\",IS148))","v":28.125},{"$f":"IF(AQ$2>'Wk Input'!$J$2,\"\",IF(IT148=\"\",\"\",IT148))","v":31.125},{"$f":"IF(AR$2>'Wk Input'!$J$2,\"\",IF(IU148=\"\",\"\",IU148))","v":31.125},{"$f":"IF(AS$2>'Wk Input'!$J$2,\"\",IF(IV148=\"\",\"\",IV148))","v":31.875},{"$f":"IF(AT$2>'Wk Input'!$J$2,\"\",IF(IW148=\"\",\"\",IW148))","v":35.125},{"$f":"IF(AU$2>'Wk Input'!$J$2,\"\",IF(IX148=\"\",\"\",IX148))","v":39.5},{"$f":"IF(AV$2>'Wk Input'!$J$2,\"\",IF(IY148=\"\",\"\",IY148))","v":39.5},{"$f":"IF(AW$2>'Wk Input'!$J$2,\"\",IF(IZ148=\"\",\"\",IZ148))","v":39.5},{"$f":"IF(AX$2>'Wk Input'!$J$2,\"\",IF(JA148=\"\",\"\",JA148))","v":41.875},{"$f":"IF(AY$2>'Wk Input'!$J$2,\"\",IF(JB148=\"\",\"\",JB148))","v":42.8125},{"$f":"IF(AZ$2>'Wk Input'!$J$2,\"\",IF(JC148=\"\",\"\",JC148))","v":44.5625},{"$f":"IF(BA$2>'Wk Input'!$J$2,\"\",IF(JD148=\"\",\"\",JD148))","v":44.5625},{"$f":"IF(BB$2>'Wk Input'!$J$2,\"\",IF(JE148=\"\",\"\",JE148))","v":49.0625},{"$f":"IF(BC$2>'Wk Input'!$J$2,\"\",IF(JF148=\"\",\"\",JF148))","v":49.0625},{"$f":"IF(BD$2>'Wk Input'!$J$2,\"\",IF(JG148=\"\",\"\",JG148))","v":50.9375},{"$f":"IF(BE$2>'Wk Input'!$J$2,\"\",IF(JH148=\"\",\"\",JH148))","v":50.9375},{"$f":"IF(BF$2>'Wk Input'!$J$2,\"\",IF(JI148=\"\",\"\",JI148))","v":50.9375},{"$f":"IF(BG$2>'Wk Input'!$J$2,\"\",IF(JJ148=\"\",\"\",JJ148))","v":50.9375},{"$f":"IF(BH$2>'Wk Input'!$J$2,\"\",IF(JK148=\"\",\"\",JK148))","v":50.9375},{"$f":"IF(BI$2>'Wk Input'!$J$2,\"\",IF(JL148=\"\",\"\",JL148))","v":53.5625},{"$f":"IF(BJ$2>'Wk Input'!$J$2,\"\",IF(JM148=\"\",\"\",JM148))","v":53.5625},{"$f":"IF(BK$2>'Wk Input'!$J$2,\"\",IF(JN148=\"\",\"\",JN148))","v":55.3125},null,"# Gcards",0,0,1,1,1,1,1,1,1,1,1,1,1,1,1,1,1,1,1,1,1,1,1,1,1,1,1,1,1,1,1,1,1,1,1,1,1,1,1,1,1,1,2,2,2,2,2,2,2,2,2,2,null,null,null,null,null,null,null,null,null,null,null,null,null,null,null,null,null,null,null,null,null,null,null,null,null,null,null,null,null,null,null,null,null,null,null,null,null,null,null,null,null,null,null,null,null,null,null,null,null,null,null,null,null,null,null,null,null,null,null,null,null,null,null,null,null,null,null,null,null,null,null,null,null,null,null,null,null,null,null,null,null,null,null,null,null,null,null,null,null,null,null,null,null,null,null,null,null,null,null,null,null,null,null,null,null,null,null,null,null,null,null,null,null,null,null,null,null,null,null,null,null,null,null,null,null,null,null,null,null,null,null,null,null,null,null,null,null,null,null,null,null,null,null,null,null,null,null,null,null,null,null,null,null,null,null,null,null,null,null,null,null,null,null,null,null,null,null,null,null,null,null,null,null,null,null,null,null,null,null,null,null,null,null,null,null,null,null,null,null,null,null,null,null,null,null,null,null,null,null,null,null,null,null,null,null,null,null,null,null,null,null,null,null,null,null,null,41,"AE0"]
[null,null,null,null,null,null,null,null,null,null,null,{"$f":"IF(L$2>'Wk Input'!$J$2,\"\",IF(HO149=\"\",\"\",HO149))","v":0},{"$f":"IF(M$2>'Wk Input'!$J$2,\"\",IF(HP149=\"\",\"\",HP149))","v":6},{"$f":"IF(N$2>'Wk Input'!$J$2,\"\",IF(HQ149=\"\",\"\",HQ149))","v":6},{"$f":"IF(O$2>'Wk Input'!$J$2,\"\",IF(HR149=\"\",\"\",HR149))","v":6},{"$f":"IF(P$2>'Wk Input'!$J$2,\"\",IF(HS149=\"\",\"\",HS149))","v":6},{"$f":"IF(Q$2>'Wk Input'!$J$2,\"\",IF(HT149=\"\",\"\",HT149))","v":10},{"$f":"IF(R$2>'Wk Input'!$J$2,\"\",IF(HU149=\"\",\"\",HU149))","v":10},{"$f":"IF(S$2>'Wk Input'!$J$2,\"\",IF(HV149=\"\",\"\",HV149))","v":17.916666670000001},{"$f":"IF(T$2>'Wk Input'!$J$2,\"\",IF(HW149=\"\",\"\",HW149))","v":17.916666670000001},{"$f":"IF(U$2>'Wk Input'!$J$2,\"\",IF(HX149=\"\",\"\",HX149))","v":17.916666670000001},{"$f":"IF(V$2>'Wk Input'!$J$2,\"\",IF(HY149=\"\",\"\",HY149))","v":19.416666670000001},{"$f":"IF(W$2>'Wk Input'!$J$2,\"\",IF(HZ149=\"\",\"\",HZ149))","v":28.25},{"$f":"IF(X$2>'Wk Input'!$J$2,\"\",IF(IA149=\"\",\"\",IA149))","v":32.625},{"$f":"IF(Y$2>'Wk Input'!$J$2,\"\",IF(IB149=\"\",\"\",IB149))","v":32.625},{"$f":"IF(Z$2>'Wk Input'!$J$2,\"\",IF(IC149=\"\",\"\",IC149))","v":32.625},{"$f":"IF(AA$2>'Wk Input'!$J$2,\"\",IF(ID149=\"\",\"\",ID149))","v":32.625},{"$f":"IF(AB$2>'Wk Input'!$J$2,\"\",IF(IE149=\"\",\"\",IE149))","v":35.541666669999998},{"$f":"IF(AC$2>'Wk Input'!$J$2,\"\",IF(IF149=\"\",\"\",IF149))","v":35.541666669999998},{"$f":"IF(AD$2>'Wk Input'!$J$2,\"\",IF(IG149=\"\",\"\",IG149))","v":35.541666669999998},{"$f":"IF(AE$2>'Wk Input'!$J$2,\"\",IF(IH149=\"\",\"\",IH149))","v":35.541666669999998},{"$f":"IF(AF$2>'Wk Input'!$J$2,\"\",IF(II149=\"\",\"\",II149))","v":41.375},{"$f":"IF(AG$2>'Wk Input'!$J$2,\"\",IF(IJ149=\"\",\"\",IJ149))","v":41.375},{"$f":"IF(AH$2>'Wk Input'!$J$2,\"\",IF(IK149=\"\",\"\",IK149))","v":41.375},{"$f":"IF(AI$2>'Wk Input'!$J$2,\"\",IF(IL149=\"\",\"\",IL149))","v":41.375},{"$f":"IF(AJ$2>'Wk Input'!$J$2,\"\",IF(IM149=\"\",\"\",IM149))","v":41.375},{"$f":"IF(AK$2>'Wk Input'!$J$2,\"\",IF(IN149=\"\",\"\",IN149))","v":47.271000000000001},{"$f":"IF(AL$2>'Wk Input'!$J$2,\"\",IF(IO149=\"\",\"\",IO149))","v":47.271000000000001},{"$f":"IF(AM$2>'Wk Input'!$J$2,\"\",IF(IP149=\"\",\"\",IP149))","v":49.611000000000004},{"$f":"IF(AN$2>'Wk Input'!$J$2,\"\",IF(IQ149=\"\",\"\",IQ149))","v":49.611000000000004},{"$f":"IF(AO$2>'Wk Input'!$J$2,\"\",IF(IR149=\"\",\"\",IR149))","v":49.611000000000004},{"$f":"IF(AP$2>'Wk Input'!$J$2,\"\",IF(IS149=\"\",\"\",IS149))","v":52.098000000000006},{"$f":"IF(AQ$2>'Wk Input'!$J$2,\"\",IF(IT149=\"\",\"\",IT149))","v":52.098000000000006},{"$f":"IF(AR$2>'Wk Input'!$J$2,\"\",IF(IU149=\"\",\"\",IU149))","v":52.098000000000006},{"$f":"IF(AS$2>'Wk Input'!$J$2,\"\",IF(IV149=\"\",\"\",IV149))","v":56.895000000000003},{"$f":"IF(AT$2>'Wk Input'!$J$2,\"\",IF(IW149=\"\",\"\",IW149))","v":56.895000000000003},{"$f":"IF(AU$2>'Wk Input'!$J$2,\"\",IF(IX149=\"\",\"\",IX149))","v":59.922000000000004},{"$f":"IF(AV$2>'Wk Input'!$J$2,\"\",IF(IY149=\"\",\"\",IY149))","v":59.922000000000004},{"$f":"IF(AW$2>'Wk Input'!$J$2,\"\",IF(IZ149=\"\",\"\",IZ149))","v":59.922000000000004},{"$f":"IF(AX$2>'Wk Input'!$J$2,\"\",IF(JA149=\"\",\"\",JA149))","v":64.941000000000003},{"$f":"IF(AY$2>'Wk Input'!$J$2,\"\",IF(JB149=\"\",\"\",JB149))","v":64.941000000000003},{"$f":"IF(AZ$2>'Wk Input'!$J$2,\"\",IF(JC149=\"\",\"\",JC149))","v":64.941000000000003},{"$f":"IF(BA$2>'Wk Input'!$J$2,\"\",IF(JD149=\"\",\"\",JD149))","v":68.281999999999996},{"$f":"IF(BB$2>'Wk Input'!$J$2,\"\",IF(JE149=\"\",\"\",JE149))","v":68.281999999999996},{"$f":"IF(BC$2>'Wk Input'!$J$2,\"\",IF(JF149=\"\",\"\",JF149))","v":72.86099999999999},{"$f":"IF(BD$2>'Wk Input'!$J$2,\"\",IF(JG149=\"\",\"\",JG149))","v":72.86099999999999},{"$f":"IF(BE$2>'Wk Input'!$J$2,\"\",IF(JH149=\"\",\"\",JH149))","v":72.86099999999999},{"$f":"IF(BF$2>'Wk Input'!$J$2,\"\",IF(JI149=\"\",\"\",JI149))","v":74.916999999999987},{"$f":"IF(BG$2>'Wk Input'!$J$2,\"\",IF(JJ149=\"\",\"\",JJ149))","v":74.916999999999987},{"$f":"IF(BH$2>'Wk Input'!$J$2,\"\",IF(JK149=\"\",\"\",JK149))","v":74.916999999999987},{"$f":"IF(BI$2>'Wk Input'!$J$2,\"\",IF(JL149=\"\",\"\",JL149))","v":77.925999999999988},{"$f":"IF(BJ$2>'Wk Input'!$J$2,\"\",IF(JM149=\"\",\"\",JM149))","v":81.920999999999992},{"$f":"IF(BK$2>'Wk Input'!$J$2,\"\",IF(JN149=\"\",\"\",JN149))","v":81.920999999999992},null,"Ycard",{"$f":"IF($BM$49<BN$2,FALSE,BN50)","v":false},{"$f":"IF($BM$49<BO$2,FALSE,BO50)","v":false},false,false,false,false,false,false,false,false,false,false,false,false,false,false,false,false,false,false,false,false,false,false,false,false,false,false,false,false,false,false,true,false,false,false,false,false,false,false,false,false,false,false,false,false,false,false,false,false,false,false,null,null,null,null,null,null,null,null,null,null,null,null,null,null,null,null,null,null,null,null,null,null,null,null,null,null,null,null,null,null,null,null,null,null,null,null,null,null,null,null,null,null,null,null,null,null,null,null,null,null,null,null,null,null,null,null,null,null,null,null,null,null,null,null,null,null,null,null,null,null,null,null,null,null,null,null,null,null,null,null,null,null,null,null,null,null,null,null,null,null,null,null,null,null,null,null,null,null,null,null,null,null,null,null,null,null,null,null,null,null,null,null,null,null,null,null,null,null,null,null,null,null,null,null,null,null,null,null,null,null,null,null,null,null,null,null,null,null,null,null,null,null,null,null,null,null,null,null,null,null,null,null,null,null,null,null,null,null,null,null,null,null,null,null,null,null,null,null,null,null,null,null,null,null,null,null,null,null,null,null,null,null,null,null,null,null,null,null,null,null,null,null,null,null,null,null,null,null,null,null,null,null,null,null,null,null,null,null,null,null,null,null,null,null,null,null,42,"AE1"]
[null,null,null,null,null,null,null,null,null,null,null,{"$f":"IF(L$2>'Wk Input'!$J$2,\"\",IF(HO150=\"\",\"\",HO150))","v":""},{"$f":"IF(M$2>'Wk Input'!$J$2,\"\",IF(HP150=\"\",\"\",HP150))","v":""},{"$f":"IF(N$2>'Wk Input'!$J$2,\"\",IF(HQ150=\"\",\"\",HQ150))","v":""},{"$f":"IF(O$2>'Wk Input'!$J$2,\"\",IF(HR150=\"\",\"\",HR150))","v":""},{"$f":"IF(P$2>'Wk Input'!$J$2,\"\",IF(HS150=\"\",\"\",HS150))","v":""},{"$f":"IF(Q$2>'Wk Input'!$J$2,\"\",IF(HT150=\"\",\"\",HT150))","v":""},{"$f":"IF(R$2>'Wk Input'!$J$2,\"\",IF(HU150=\"\",\"\",HU150))","v":""},{"$f":"IF(S$2>'Wk Input'!$J$2,\"\",IF(HV150=\"\",\"\",HV150))","v":""},{"$f":"IF(T$2>'Wk Input'!$J$2,\"\",IF(HW150=\"\",\"\",HW150))","v":""},{"$f":"IF(U$2>'Wk Input'!$J$2,\"\",IF(HX150=\"\",\"\",HX150))","v":""},{"$f":"IF(V$2>'Wk Input'!$J$2,\"\",IF(HY150=\"\",\"\",HY150))","v":""},{"$f":"IF(W$2>'Wk Input'!$J$2,\"\",IF(HZ150=\"\",\"\",HZ150))","v":""},{"$f":"IF(X$2>'Wk Input'!$J$2,\"\",IF(IA150=\"\",\"\",IA150))","v":""},{"$f":"IF(Y$2>'Wk Input'!$J$2,\"\",IF(IB150=\"\",\"\",IB150))","v":""},{"$f":"IF(Z$2>'Wk Input'!$J$2,\"\",IF(IC150=\"\",\"\",IC150))","v":""},{"$f":"IF(AA$2>'Wk Input'!$J$2,\"\",IF(ID150=\"\",\"\",ID150))","v":""},{"$f":"IF(AB$2>'Wk Input'!$J$2,\"\",IF(IE150=\"\",\"\",IE150))","v":""},{"$f":"IF(AC$2>'Wk Input'!$J$2,\"\",IF(IF150=\"\",\"\",IF150))","v":""},{"$f":"IF(AD$2>'Wk Input'!$J$2,\"\",IF(IG150=\"\",\"\",IG150))","v":""},{"$f":"IF(AE$2>'Wk Input'!$J$2,\"\",IF(IH150=\"\",\"\",IH150))","v":""},{"$f":"IF(AF$2>'Wk Input'!$J$2,\"\",IF(II150=\"\",\"\",II150))","v":""},{"$f":"IF(AG$2>'Wk Input'!$J$2,\"\",IF(IJ150=\"\",\"\",IJ150))","v":""},{"$f":"IF(AH$2>'Wk Input'!$J$2,\"\",IF(IK150=\"\",\"\",IK150))","v":""},{"$f":"IF(AI$2>'Wk Input'!$J$2,\"\",IF(IL150=\"\",\"\",IL150))","v":""},{"$f":"IF(AJ$2>'Wk Input'!$J$2,\"\",IF(IM150=\"\",\"\",IM150))","v":""},{"$f":"IF(AK$2>'Wk Input'!$J$2,\"\",IF(IN150=\"\",\"\",IN150))","v":""},{"$f":"IF(AL$2>'Wk Input'!$J$2,\"\",IF(IO150=\"\",\"\",IO150))","v":""},{"$f":"IF(AM$2>'Wk Input'!$J$2,\"\",IF(IP150=\"\",\"\",IP150))","v":""},{"$f":"IF(AN$2>'Wk Input'!$J$2,\"\",IF(IQ150=\"\",\"\",IQ150))","v":""},{"$f":"IF(AO$2>'Wk Input'!$J$2,\"\",IF(IR150=\"\",\"\",IR150))","v":""},{"$f":"IF(AP$2>'Wk Input'!$J$2,\"\",IF(IS150=\"\",\"\",IS150))","v":""},{"$f":"IF(AQ$2>'Wk Input'!$J$2,\"\",IF(IT150=\"\",\"\",IT150))","v":""},{"$f":"IF(AR$2>'Wk Input'!$J$2,\"\",IF(IU150=\"\",\"\",IU150))","v":""},{"$f":"IF(AS$2>'Wk Input'!$J$2,\"\",IF(IV150=\"\",\"\",IV150))","v":""},{"$f":"IF(AT$2>'Wk Input'!$J$2,\"\",IF(IW150=\"\",\"\",IW150))","v":""},{"$f":"IF(AU$2>'Wk Input'!$J$2,\"\",IF(IX150=\"\",\"\",IX150))","v":""},{"$f":"IF(AV$2>'Wk Input'!$J$2,\"\",IF(IY150=\"\",\"\",IY150))","v":""},{"$f":"IF(AW$2>'Wk Input'!$J$2,\"\",IF(IZ150=\"\",\"\",IZ150))","v":""},{"$f":"IF(AX$2>'Wk Input'!$J$2,\"\",IF(JA150=\"\",\"\",JA150))","v":""},{"$f":"IF(AY$2>'Wk Input'!$J$2,\"\",IF(JB150=\"\",\"\",JB150))","v":""},{"$f":"IF(AZ$2>'Wk Input'!$J$2,\"\",IF(JC150=\"\",\"\",JC150))","v":""},{"$f":"IF(BA$2>'Wk Input'!$J$2,\"\",IF(JD150=\"\",\"\",JD150))","v":""},{"$f":"IF(BB$2>'Wk Input'!$J$2,\"\",IF(JE150=\"\",\"\",JE150))","v":""},{"$f":"IF(BC$2>'Wk Input'!$J$2,\"\",IF(JF150=\"\",\"\",JF150))","v":""},{"$f":"IF(BD$2>'Wk Input'!$J$2,\"\",IF(JG150=\"\",\"\",JG150))","v":""},{"$f":"IF(BE$2>'Wk Input'!$J$2,\"\",IF(JH150=\"\",\"\",JH150))","v":""},{"$f":"IF(BF$2>'Wk Input'!$J$2,\"\",IF(JI150=\"\",\"\",JI150))","v":""},{"$f":"IF(BG$2>'Wk Input'!$J$2,\"\",IF(JJ150=\"\",\"\",JJ150))","v":""},{"$f":"IF(BH$2>'Wk Input'!$J$2,\"\",IF(JK150=\"\",\"\",JK150))","v":""},{"$f":"IF(BI$2>'Wk Input'!$J$2,\"\",IF(JL150=\"\",\"\",JL150))","v":""},{"$f":"IF(BJ$2>'Wk Input'!$J$2,\"\",IF(JM150=\"\",\"\",JM150))","v":""},{"$f":"IF(BK$2>'Wk Input'!$J$2,\"\",IF(JN150=\"\",\"\",JN150))","v":""},null,"Ypoints",0,0,0,0,0,0,0,0,0,0,0,0,0,0,0,0,0,0,0,0,0,0,0,0,0,0,0,0,0,0,0,0,-4,0,0,0,0,0,0,0,0,0,0,0,0,0,0,0,0,0,0,0,null,null,null,null,null,null,null,null,null,null,null,null,null,null,null,null,null,null,null,null,null,null,null,null,null,null,null,null,null,null,null,null,null,null,null,null,null,null,null,null,null,null,null,null,null,null,null,null,null,null,null,null,null,null,null,null,null,null,null,null,null,null,null,null,null,null,null,null,null,null,null,null,null,null,null,null,null,null,null,null,null,null,null,null,null,null,null,null,null,null,null,null,null,null,null,null,null,null,null,null,null,null,null,null,null,null,null,null,null,null,null,null,null,null,null,null,null,null,null,null,null,null,null,null,null,null,null,null,null,null,null,null,null,null,null,null,null,null,null,null,null,null,null,null,null,null,null,null,null,null,null,null,null,null,null,null,null,null,null,null,null,null,null,null,null,null,null,null,null,null,null,null,null,null,null,null,null,null,null,null,null,null,null,null,null,null,null,null,null,null,null,null,null,null,null,null,null,null,null,null,null,null,null,null,null,null,null,null,null,null,null,null,null,null,null,null,43,"AE2"]
[null,null,null,null,null,null,null,null,null,null,null,{"$f":"IF(L$2>'Wk Input'!$J$2,\"\",IF(HO151=\"\",\"\",HO151))","v":0},{"$f":"IF(M$2>'Wk Input'!$J$2,\"\",IF(HP151=\"\",\"\",HP151))","v":0},{"$f":"IF(N$2>'Wk Input'!$J$2,\"\",IF(HQ151=\"\",\"\",HQ151))","v":0},{"$f":"IF(O$2>'Wk Input'!$J$2,\"\",IF(HR151=\"\",\"\",HR151))","v":0},{"$f":"IF(P$2>'Wk Input'!$J$2,\"\",IF(HS151=\"\",\"\",HS151))","v":0},{"$f":"IF(Q$2>'Wk Input'!$J$2,\"\",IF(HT151=\"\",\"\",HT151))","v":0},{"$f":"IF(R$2>'Wk Input'!$J$2,\"\",IF(HU151=\"\",\"\",HU151))","v":2.8679999999999999},{"$f":"IF(S$2>'Wk Input'!$J$2,\"\",IF(HV151=\"\",\"\",HV151))","v":5.399},{"$f":"IF(T$2>'Wk Input'!$J$2,\"\",IF(HW151=\"\",\"\",HW151))","v":9.5890000000000004},{"$f":"IF(U$2>'Wk Input'!$J$2,\"\",IF(HX151=\"\",\"\",HX151))","v":9.5890000000000004},{"$f":"IF(V$2>'Wk Input'!$J$2,\"\",IF(HY151=\"\",\"\",HY151))","v":12.94},{"$f":"IF(W$2>'Wk Input'!$J$2,\"\",IF(HZ151=\"\",\"\",HZ151))","v":13.699},{"$f":"IF(X$2>'Wk Input'!$J$2,\"\",IF(IA151=\"\",\"\",IA151))","v":15.843},{"$f":"IF(Y$2>'Wk Input'!$J$2,\"\",IF(IB151=\"\",\"\",IB151))","v":15.843},{"$f":"IF(Z$2>'Wk Input'!$J$2,\"\",IF(IC151=\"\",\"\",IC151))","v":18.946999999999999},{"$f":"IF(AA$2>'Wk Input'!$J$2,\"\",IF(ID151=\"\",\"\",ID151))","v":25.568999999999999},{"$f":"IF(AB$2>'Wk Input'!$J$2,\"\",IF(IE151=\"\",\"\",IE151))","v":25.568999999999999},{"$f":"IF(AC$2>'Wk Input'!$J$2,\"\",IF(IF151=\"\",\"\",IF151))","v":26.888999999999999},{"$f":"IF(AD$2>'Wk Input'!$J$2,\"\",IF(IG151=\"\",\"\",IG151))","v":29.855},{"$f":"IF(AE$2>'Wk Input'!$J$2,\"\",IF(IH151=\"\",\"\",IH151))","v":34.079000000000001},{"$f":"IF(AF$2>'Wk Input'!$J$2,\"\",IF(II151=\"\",\"\",II151))","v":34.079000000000001},{"$f":"IF(AG$2>'Wk Input'!$J$2,\"\",IF(IJ151=\"\",\"\",IJ151))","v":34.079000000000001},{"$f":"IF(AH$2>'Wk Input'!$J$2,\"\",IF(IK151=\"\",\"\",IK151))","v":36.868000000000002},{"$f":"IF(AI$2>'Wk Input'!$J$2,\"\",IF(IL151=\"\",\"\",IL151))","v":38.921999999999997},{"$f":"IF(AJ$2>'Wk Input'!$J$2,\"\",IF(IM151=\"\",\"\",IM151))","v":40.142000000000003},{"$f":"IF(AK$2>'Wk Input'!$J$2,\"\",IF(IN151=\"\",\"\",IN151))","v":40.142000000000003},{"$f":"IF(AL$2>'Wk Input'!$J$2,\"\",IF(IO151=\"\",\"\",IO151))","v":42.947000000000003},{"$f":"IF(AM$2>'Wk Input'!$J$2,\"\",IF(IP151=\"\",\"\",IP151))","v":42.947000000000003},{"$f":"IF(AN$2>'Wk Input'!$J$2,\"\",IF(IQ151=\"\",\"\",IQ151))","v":44.826999999999998},{"$f":"IF(AO$2>'Wk Input'!$J$2,\"\",IF(IR151=\"\",\"\",IR151))","v":45.936999999999998},{"$f":"IF(AP$2>'Wk Input'!$J$2,\"\",IF(IS151=\"\",\"\",IS151))","v":45.936999999999998},{"$f":"IF(AQ$2>'Wk Input'!$J$2,\"\",IF(IT151=\"\",\"\",IT151))","v":45.936999999999998},{"$f":"IF(AR$2>'Wk Input'!$J$2,\"\",IF(IU151=\"\",\"\",IU151))","v":47.728999999999999},{"$f":"IF(AS$2>'Wk Input'!$J$2,\"\",IF(IV151=\"\",\"\",IV151))","v":48.927},{"$f":"IF(AT$2>'Wk Input'!$J$2,\"\",IF(IW151=\"\",\"\",IW151))","v":50.399000000000001},{"$f":"IF(AU$2>'Wk Input'!$J$2,\"\",IF(IX151=\"\",\"\",IX151))","v":50.399000000000001},{"$f":"IF(AV$2>'Wk Input'!$J$2,\"\",IF(IY151=\"\",\"\",IY151))","v":52.155999999999999},{"$f":"IF(AW$2>'Wk Input'!$J$2,\"\",IF(IZ151=\"\",\"\",IZ151))","v":56.936},{"$f":"IF(AX$2>'Wk Input'!$J$2,\"\",IF(JA151=\"\",\"\",JA151))","v":58.023000000000003},{"$f":"IF(AY$2>'Wk Input'!$J$2,\"\",IF(JB151=\"\",\"\",JB151))","v":61.023000000000003},{"$f":"IF(AZ$2>'Wk Input'!$J$2,\"\",IF(JC151=\"\",\"\",JC151))","v":66.048000000000002},{"$f":"IF(BA$2>'Wk Input'!$J$2,\"\",IF(JD151=\"\",\"\",JD151))","v":66.048000000000002},{"$f":"IF(BB$2>'Wk Input'!$J$2,\"\",IF(JE151=\"\",\"\",JE151))","v":68.385999999999996},{"$f":"IF(BC$2>'Wk Input'!$J$2,\"\",IF(JF151=\"\",\"\",JF151))","v":73.254000000000005},{"$f":"IF(BD$2>'Wk Input'!$J$2,\"\",IF(JG151=\"\",\"\",JG151))","v":77.855000000000004},{"$f":"IF(BE$2>'Wk Input'!$J$2,\"\",IF(JH151=\"\",\"\",JH151))","v":77.855000000000004},{"$f":"IF(BF$2>'Wk Input'!$J$2,\"\",IF(JI151=\"\",\"\",JI151))","v":79.653999999999996},{"$f":"IF(BG$2>'Wk Input'!$J$2,\"\",IF(JJ151=\"\",\"\",JJ151))","v":80.891999999999996},{"$f":"IF(BH$2>'Wk Input'!$J$2,\"\",IF(JK151=\"\",\"\",JK151))","v":80.891999999999996},{"$f":"IF(BI$2>'Wk Input'!$J$2,\"\",IF(JL151=\"\",\"\",JL151))","v":82.391999999999996},{"$f":"IF(BJ$2>'Wk Input'!$J$2,\"\",IF(JM151=\"\",\"\",JM151))","v":84.957999999999998},{"$f":"IF(BK$2>'Wk Input'!$J$2,\"\",IF(JN151=\"\",\"\",JN151))","v":86.745999999999995},null,"GdBehav",0,0,2,0,2,0,2,0,2,0,2,0,2,0,2,0,2,0,2,0,2,0,2,0,2,0,2,0,2,0,2,0,0,0,0,2,0,2,0,2,0,2,0,2,0,2,0,2,0,2,0,2,null,null,null,null,null,null,null,null,null,null,null,null,null,null,null,null,null,null,null,null,null,null,null,null,null,null,null,null,null,null,null,null,null,null,null,null,null,null,null,null,null,null,null,null,null,null,null,null,null,null,null,null,null,null,null,null,null,null,null,null,null,null,null,null,null,null,null,null,null,null,null,null,null,null,null,null,null,null,null,null,null,null,null,null,null,null,null,null,null,null,null,null,null,null,null,null,null,null,null,null,null,null,null,null,null,null,null,null,null,null,null,null,null,null,null,null,null,null,null,null,null,null,null,null,null,null,null,null,null,null,null,null,null,null,null,null,null,null,null,null,null,null,null,null,null,null,null,null,null,null,null,null,null,null,null,null,null,null,null,null,null,null,null,null,null,null,null,null,null,null,null,null,null,null,null,null,null,null,null,null,null,null,null,null,null,null,null,null,null,null,null,null,null,null,null,null,null,null,null,null,null,null,null,null,null,null,null,null,null,null,null,null,null,null,null,null,44,"AE3"]
[null,null,null,null,null,null,null,null,null,null,null,{"$f":"IF(L$2>'Wk Input'!$J$2,\"\",IF(HO152=\"\",\"\",HO152))","v":0},{"$f":"IF(M$2>'Wk Input'!$J$2,\"\",IF(HP152=\"\",\"\",HP152))","v":0},{"$f":"IF(N$2>'Wk Input'!$J$2,\"\",IF(HQ152=\"\",\"\",HQ152))","v":0},{"$f":"IF(O$2>'Wk Input'!$J$2,\"\",IF(HR152=\"\",\"\",HR152))","v":0},{"$f":"IF(P$2>'Wk Input'!$J$2,\"\",IF(HS152=\"\",\"\",HS152))","v":6.835},{"$f":"IF(Q$2>'Wk Input'!$J$2,\"\",IF(HT152=\"\",\"\",HT152))","v":14.859},{"$f":"IF(R$2>'Wk Input'!$J$2,\"\",IF(HU152=\"\",\"\",HU152))","v":15.441000000000001},{"$f":"IF(S$2>'Wk Input'!$J$2,\"\",IF(HV152=\"\",\"\",HV152))","v":19.036000000000001},{"$f":"IF(T$2>'Wk Input'!$J$2,\"\",IF(HW152=\"\",\"\",HW152))","v":24.448},{"$f":"IF(U$2>'Wk Input'!$J$2,\"\",IF(HX152=\"\",\"\",HX152))","v":25.434000000000001},{"$f":"IF(V$2>'Wk Input'!$J$2,\"\",IF(HY152=\"\",\"\",HY152))","v":25.512999999999998},{"$f":"IF(W$2>'Wk Input'!$J$2,\"\",IF(HZ152=\"\",\"\",HZ152))","v":27.335999999999999},{"$f":"IF(X$2>'Wk Input'!$J$2,\"\",IF(IA152=\"\",\"\",IA152))","v":27.688000000000002},{"$f":"IF(Y$2>'Wk Input'!$J$2,\"\",IF(IB152=\"\",\"\",IB152))","v":28.416},{"$f":"IF(Z$2>'Wk Input'!$J$2,\"\",IF(IC152=\"\",\"\",IC152))","v":32.584000000000003},{"$f":"IF(AA$2>'Wk Input'!$J$2,\"\",IF(ID152=\"\",\"\",ID152))","v":39.414000000000001},{"$f":"IF(AB$2>'Wk Input'!$J$2,\"\",IF(IE152=\"\",\"\",IE152))","v":39.427999999999997},{"$f":"IF(AC$2>'Wk Input'!$J$2,\"\",IF(IF152=\"\",\"\",IF152))","v":39.462000000000003},{"$f":"IF(AD$2>'Wk Input'!$J$2,\"\",IF(IG152=\"\",\"\",IG152))","v":43.492000000000004},{"$f":"IF(AE$2>'Wk Input'!$J$2,\"\",IF(IH152=\"\",\"\",IH152))","v":46.923999999999999},{"$f":"IF(AF$2>'Wk Input'!$J$2,\"\",IF(II152=\"\",\"\",II152))","v":47.716000000000001},{"$f":"IF(AG$2>'Wk Input'!$J$2,\"\",IF(IJ152=\"\",\"\",IJ152))","v":48.938000000000002},{"$f":"IF(AH$2>'Wk Input'!$J$2,\"\",IF(IK152=\"\",\"\",IK152))","v":49.441000000000003},{"$f":"IF(AI$2>'Wk Input'!$J$2,\"\",IF(IL152=\"\",\"\",IL152))","v":52.558999999999997},{"$f":"IF(AJ$2>'Wk Input'!$J$2,\"\",IF(IM152=\"\",\"\",IM152))","v":54.987000000000002},{"$f":"IF(AK$2>'Wk Input'!$J$2,\"\",IF(IN152=\"\",\"\",IN152))","v":55.001000000000005},{"$f":"IF(AL$2>'Wk Input'!$J$2,\"\",IF(IO152=\"\",\"\",IO152))","v":55.52},{"$f":"IF(AM$2>'Wk Input'!$J$2,\"\",IF(IP152=\"\",\"\",IP152))","v":56.584000000000003},{"$f":"IF(AN$2>'Wk Input'!$J$2,\"\",IF(IQ152=\"\",\"\",IQ152))","v":58.671999999999997},{"$f":"IF(AO$2>'Wk Input'!$J$2,\"\",IF(IR152=\"\",\"\",IR152))","v":59.573999999999998},{"$f":"IF(AP$2>'Wk Input'!$J$2,\"\",IF(IS152=\"\",\"\",IS152))","v":60.781999999999996},{"$f":"IF(AQ$2>'Wk Input'!$J$2,\"\",IF(IT152=\"\",\"\",IT152))","v":60.795999999999999},{"$f":"IF(AR$2>'Wk Input'!$J$2,\"\",IF(IU152=\"\",\"\",IU152))","v":61.302},{"$f":"IF(AS$2>'Wk Input'!$J$2,\"\",IF(IV152=\"\",\"\",IV152))","v":62.564},{"$f":"IF(AT$2>'Wk Input'!$J$2,\"\",IF(IW152=\"\",\"\",IW152))","v":64.244},{"$f":"IF(AU$2>'Wk Input'!$J$2,\"\",IF(IX152=\"\",\"\",IX152))","v":65.036000000000001},{"$f":"IF(AV$2>'Wk Input'!$J$2,\"\",IF(IY152=\"\",\"\",IY152))","v":68.001000000000005},{"$f":"IF(AW$2>'Wk Input'!$J$2,\"\",IF(IZ152=\"\",\"\",IZ152))","v":69.795000000000002},{"$f":"IF(AX$2>'Wk Input'!$J$2,\"\",IF(JA152=\"\",\"\",JA152))","v":70.596000000000004},{"$f":"IF(AY$2>'Wk Input'!$J$2,\"\",IF(JB152=\"\",\"\",JB152))","v":74.66},{"$f":"IF(AZ$2>'Wk Input'!$J$2,\"\",IF(JC152=\"\",\"\",JC152))","v":81.893000000000001},{"$f":"IF(BA$2>'Wk Input'!$J$2,\"\",IF(JD152=\"\",\"\",JD152))","v":81.906999999999996},{"$f":"IF(BB$2>'Wk Input'!$J$2,\"\",IF(JE152=\"\",\"\",JE152))","v":82.959000000000003},{"$f":"IF(BC$2>'Wk Input'!$J$2,\"\",IF(JF152=\"\",\"\",JF152))","v":86.891000000000005},{"$f":"IF(BD$2>'Wk Input'!$J$2,\"\",IF(JG152=\"\",\"\",JG152))","v":90.7},{"$f":"IF(BE$2>'Wk Input'!$J$2,\"\",IF(JH152=\"\",\"\",JH152))","v":91.713999999999999},{"$f":"IF(BF$2>'Wk Input'!$J$2,\"\",IF(JI152=\"\",\"\",JI152))","v":92.227000000000004},{"$f":"IF(BG$2>'Wk Input'!$J$2,\"\",IF(JJ152=\"\",\"\",JJ152))","v":94.528999999999996},{"$f":"IF(BH$2>'Wk Input'!$J$2,\"\",IF(JK152=\"\",\"\",JK152))","v":96.736999999999995},{"$f":"IF(BI$2>'Wk Input'!$J$2,\"\",IF(JL152=\"\",\"\",JL152))","v":100},{"$f":"IF(BJ$2>'Wk Input'!$J$2,\"\",IF(JM152=\"\",\"\",JM152))","v":100},{"$f":"IF(BK$2>'Wk Input'!$J$2,\"\",IF(JN152=\"\",\"\",JN152))","v":100},null,"Acc Ypoints",0,0,0,0,0,0,0,0,0,0,0,0,0,0,0,0,0,0,0,0,0,0,0,0,0,0,0,0,0,0,0,0,-4,-4,-4,-2,-2,0,0,0,0,0,0,0,0,0,0,0,0,0,0,0,null,null,null,null,null,null,null,null,null,null,null,null,null,null,null,null,null,null,null,null,null,null,null,null,null,null,null,null,null,null,null,null,null,null,null,null,null,null,null,null,null,null,null,null,null,null,null,null,null,null,null,null,null,null,null,null,null,null,null,null,null,null,null,null,null,null,null,null,null,null,null,null,null,null,null,null,null,null,null,null,null,null,null,null,null,null,null,null,null,null,null,null,null,null,null,null,null,null,null,null,null,null,null,null,null,null,null,null,null,null,null,null,null,null,null,null,null,null,null,null,null,null,null,null,null,null,null,null,null,null,null,null,null,null,null,null,null,null,null,null,null,null,null,null,null,null,null,null,null,null,null,null,null,null,null,null,null,null,null,null,null,null,null,null,null,null,null,null,null,null,null,null,null,null,null,null,null,null,null,null,null,null,null,null,null,null,null,null,null,null,null,null,null,null,null,null,null,null,null,null,null,null,null,null,null,null,null,null,null,null,null,null,null,null,null,null,45,"AE4"]
[null,null,null,null,null,null,null,null,null,null,null,{"$f":"IF(L$2>'Wk Input'!$J$2,\"\",IF(HO153=\"\",\"\",HO153))","v":0},{"$f":"IF(M$2>'Wk Input'!$J$2,\"\",IF(HP153=\"\",\"\",HP153))","v":0},{"$f":"IF(N$2>'Wk Input'!$J$2,\"\",IF(HQ153=\"\",\"\",HQ153))","v":0},{"$f":"IF(O$2>'Wk Input'!$J$2,\"\",IF(HR153=\"\",\"\",HR153))","v":0},{"$f":"IF(P$2>'Wk Input'!$J$2,\"\",IF(HS153=\"\",\"\",HS153))","v":0},{"$f":"IF(Q$2>'Wk Input'!$J$2,\"\",IF(HT153=\"\",\"\",HT153))","v":0.39},{"$f":"IF(R$2>'Wk Input'!$J$2,\"\",IF(HU153=\"\",\"\",HU153))","v":0.39},{"$f":"IF(S$2>'Wk Input'!$J$2,\"\",IF(HV153=\"\",\"\",HV153))","v":0.79},{"$f":"IF(T$2>'Wk Input'!$J$2,\"\",IF(HW153=\"\",\"\",HW153))","v":0.79},{"$f":"IF(U$2>'Wk Input'!$J$2,\"\",IF(HX153=\"\",\"\",HX153))","v":2.11},{"$f":"IF(V$2>'Wk Input'!$J$2,\"\",IF(HY153=\"\",\"\",HY153))","v":2.5},{"$f":"IF(W$2>'Wk Input'!$J$2,\"\",IF(HZ153=\"\",\"\",HZ153))","v":4.21},{"$f":"IF(X$2>'Wk Input'!$J$2,\"\",IF(IA153=\"\",\"\",IA153))","v":4.21},{"$f":"IF(Y$2>'Wk Input'!$J$2,\"\",IF(IB153=\"\",\"\",IB153))","v":5.92},{"$f":"IF(Z$2>'Wk Input'!$J$2,\"\",IF(IC153=\"\",\"\",IC153))","v":6.84},{"$f":"IF(AA$2>'Wk Input'!$J$2,\"\",IF(ID153=\"\",\"\",ID153))","v":10.26},{"$f":"IF(AB$2>'Wk Input'!$J$2,\"\",IF(IE153=\"\",\"\",IE153))","v":10.66},{"$f":"IF(AC$2>'Wk Input'!$J$2,\"\",IF(IF153=\"\",\"\",IF153))","v":12.5},{"$f":"IF(AD$2>'Wk Input'!$J$2,\"\",IF(IG153=\"\",\"\",IG153))","v":13.29},{"$f":"IF(AE$2>'Wk Input'!$J$2,\"\",IF(IH153=\"\",\"\",IH153))","v":16.97},{"$f":"IF(AF$2>'Wk Input'!$J$2,\"\",IF(II153=\"\",\"\",II153))","v":19.47},{"$f":"IF(AG$2>'Wk Input'!$J$2,\"\",IF(IJ153=\"\",\"\",IJ153))","v":20.66},{"$f":"IF(AH$2>'Wk Input'!$J$2,\"\",IF(IK153=\"\",\"\",IK153))","v":22.5},{"$f":"IF(AI$2>'Wk Input'!$J$2,\"\",IF(IL153=\"\",\"\",IL153))","v":24.87},{"$f":"IF(AJ$2>'Wk Input'!$J$2,\"\",IF(IM153=\"\",\"\",IM153))","v":28.55},{"$f":"IF(AK$2>'Wk Input'!$J$2,\"\",IF(IN153=\"\",\"\",IN153))","v":33.68},{"$f":"IF(AL$2>'Wk Input'!$J$2,\"\",IF(IO153=\"\",\"\",IO153))","v":34.869999999999997},{"$f":"IF(AM$2>'Wk Input'!$J$2,\"\",IF(IP153=\"\",\"\",IP153))","v":40.39},{"$f":"IF(AN$2>'Wk Input'!$J$2,\"\",IF(IQ153=\"\",\"\",IQ153))","v":42.76},{"$f":"IF(AO$2>'Wk Input'!$J$2,\"\",IF(IR153=\"\",\"\",IR153))","v":48.29},{"$f":"IF(AP$2>'Wk Input'!$J$2,\"\",IF(IS153=\"\",\"\",IS153))","v":53.42},{"$f":"IF(AQ$2>'Wk Input'!$J$2,\"\",IF(IT153=\"\",\"\",IT153))","v":53.42},{"$f":"IF(AR$2>'Wk Input'!$J$2,\"\",IF(IU153=\"\",\"\",IU153))","v":58.95},{"$f":"IF(AS$2>'Wk Input'!$J$2,\"\",IF(IV153=\"\",\"\",IV153))","v":58.95},{"$f":"IF(AT$2>'Wk Input'!$J$2,\"\",IF(IW153=\"\",\"\",IW153))","v":65.66},{"$f":"IF(AU$2>'Wk Input'!$J$2,\"\",IF(IX153=\"\",\"\",IX153))","v":68.42},{"$f":"IF(AV$2>'Wk Input'!$J$2,\"\",IF(IY153=\"\",\"\",IY153))","v":69.61},{"$f":"IF(AW$2>'Wk Input'!$J$2,\"\",IF(IZ153=\"\",\"\",IZ153))","v":72.37},{"$f":"IF(AX$2>'Wk Input'!$J$2,\"\",IF(JA153=\"\",\"\",JA153))","v":74.739999999999995},{"$f":"IF(AY$2>'Wk Input'!$J$2,\"\",IF(JB153=\"\",\"\",JB153))","v":80.260000000000005},{"$f":"IF(AZ$2>'Wk Input'!$J$2,\"\",IF(JC153=\"\",\"\",JC153))","v":83.03},{"$f":"IF(BA$2>'Wk Input'!$J$2,\"\",IF(JD153=\"\",\"\",JD153))","v":83.03},{"$f":"IF(BB$2>'Wk Input'!$J$2,\"\",IF(JE153=\"\",\"\",JE153))","v":84.21},{"$f":"IF(BC$2>'Wk Input'!$J$2,\"\",IF(JF153=\"\",\"\",JF153))","v":84.21},{"$f":"IF(BD$2>'Wk Input'!$J$2,\"\",IF(JG153=\"\",\"\",JG153))","v":87.76},{"$f":"IF(BE$2>'Wk Input'!$J$2,\"\",IF(JH153=\"\",\"\",JH153))","v":87.76},{"$f":"IF(BF$2>'Wk Input'!$J$2,\"\",IF(JI153=\"\",\"\",JI153))","v":97.24},{"$f":"IF(BG$2>'Wk Input'!$J$2,\"\",IF(JJ153=\"\",\"\",JJ153))","v":97.24},{"$f":"IF(BH$2>'Wk Input'!$J$2,\"\",IF(JK153=\"\",\"\",JK153))","v":100},{"$f":"IF(BI$2>'Wk Input'!$J$2,\"\",IF(JL153=\"\",\"\",JL153))","v":100},{"$f":"IF(BJ$2>'Wk Input'!$J$2,\"\",IF(JM153=\"\",\"\",JM153))","v":100},{"$f":"IF(BK$2>'Wk Input'!$J$2,\"\",IF(JN153=\"\",\"\",JN153))","v":100},null,"Agg Points",50,50,58,58,58,58,58,58,58,58,58,58,58,58,58,58,58,58,58,58,58,58,58,58,58,58,58,58,58,58,58,58,54,54,54,56,56,58,58,58,58,58,60,60,60,60,60,60,60,60,60,60,null,null,null,null,null,null,null,null,null,null,null,null,null,null,null,null,null,null,null,null,null,null,null,null,null,null,null,null,null,null,null,null,null,null,null,null,null,null,null,null,null,null,null,null,null,null,null,null,null,null,null,null,null,null,null,null,null,null,null,null,null,null,null,null,null,null,null,null,null,null,null,null,null,null,null,null,null,null,null,null,null,null,null,null,null,null,null,null,null,null,null,null,null,null,null,null,null,null,null,null,null,null,null,null,null,null,null,null,null,null,null,null,null,null,null,null,null,null,null,null,null,null,null,null,null,null,null,null,null,null,null,null,null,null,null,null,null,null,null,null,null,null,null,null,null,null,null,null,null,null,null,null,null,null,null,null,null,null,null,null,null,null,null,null,null,null,null,null,null,null,null,null,null,null,null,null,null,null,null,null,null,null,null,null,null,null,null,null,null,null,null,null,null,null,null,null,null,null,null,null,null,null,null,null,null,null,null,null,null,null,null,null,null,null,null,null,46,"AE5"]
[null,null,null,null,null,null,null,null,null,null,null,{"$f":"IF(L$2>'Wk Input'!$J$2,\"\",IF(HO154=\"\",\"\",HO154))","v":100},{"$f":"IF(M$2>'Wk Input'!$J$2,\"\",IF(HP154=\"\",\"\",HP154))","v":100},{"$f":"IF(N$2>'Wk Input'!$J$2,\"\",IF(HQ154=\"\",\"\",HQ154))","v":97.4},{"$f":"IF(O$2>'Wk Input'!$J$2,\"\",IF(HR154=\"\",\"\",HR154))","v":100},{"$f":"IF(P$2>'Wk Input'!$J$2,\"\",IF(HS154=\"\",\"\",HS154))","v":100},{"$f":"IF(Q$2>'Wk Input'!$J$2,\"\",IF(HT154=\"\",\"\",HT154))","v":99.4},{"$f":"IF(R$2>'Wk Input'!$J$2,\"\",IF(HU154=\"\",\"\",HU154))","v":100},{"$f":"IF(S$2>'Wk Input'!$J$2,\"\",IF(HV154=\"\",\"\",HV154))","v":100},{"$f":"IF(T$2>'Wk Input'!$J$2,\"\",IF(HW154=\"\",\"\",HW154))","v":100},{"$f":"IF(U$2>'Wk Input'!$J$2,\"\",IF(HX154=\"\",\"\",HX154))","v":100},{"$f":"IF(V$2>'Wk Input'!$J$2,\"\",IF(HY154=\"\",\"\",HY154))","v":93.5},{"$f":"IF(W$2>'Wk Input'!$J$2,\"\",IF(HZ154=\"\",\"\",HZ154))","v":100},{"$f":"IF(X$2>'Wk Input'!$J$2,\"\",IF(IA154=\"\",\"\",IA154))","v":100},{"$f":"IF(Y$2>'Wk Input'!$J$2,\"\",IF(IB154=\"\",\"\",IB154))","v":100},{"$f":"IF(Z$2>'Wk Input'!$J$2,\"\",IF(IC154=\"\",\"\",IC154))","v":100},{"$f":"IF(AA$2>'Wk Input'!$J$2,\"\",IF(ID154=\"\",\"\",ID154))","v":93.6},{"$f":"IF(AB$2>'Wk Input'!$J$2,\"\",IF(IE154=\"\",\"\",IE154))","v":100},{"$f":"IF(AC$2>'Wk Input'!$J$2,\"\",IF(IF154=\"\",\"\",IF154))","v":100},{"$f":"IF(AD$2>'Wk Input'!$J$2,\"\",IF(IG154=\"\",\"\",IG154))","v":100},{"$f":"IF(AE$2>'Wk Input'!$J$2,\"\",IF(IH154=\"\",\"\",IH154))","v":100},{"$f":"IF(AF$2>'Wk Input'!$J$2,\"\",IF(II154=\"\",\"\",II154))","v":100},{"$f":"IF(AG$2>'Wk Input'!$J$2,\"\",IF(IJ154=\"\",\"\",IJ154))","v":98.9},{"$f":"IF(AH$2>'Wk Input'!$J$2,\"\",IF(IK154=\"\",\"\",IK154))","v":100},{"$f":"IF(AI$2>'Wk Input'!$J$2,\"\",IF(IL154=\"\",\"\",IL154))","v":100},{"$f":"IF(AJ$2>'Wk Input'!$J$2,\"\",IF(IM154=\"\",\"\",IM154))","v":100},{"$f":"IF(AK$2>'Wk Input'!$J$2,\"\",IF(IN154=\"\",\"\",IN154))","v":100},{"$f":"IF(AL$2>'Wk Input'!$J$2,\"\",IF(IO154=\"\",\"\",IO154))","v":94.5},{"$f":"IF(AM$2>'Wk Input'!$J$2,\"\",IF(IP154=\"\",\"\",IP154))","v":100},{"$f":"IF(AN$2>'Wk Input'!$J$2,\"\",IF(IQ154=\"\",\"\",IQ154))","v":99.4},{"$f":"IF(AO$2>'Wk Input'!$J$2,\"\",IF(IR154=\"\",\"\",IR154))","v":100},{"$f":"IF(AP$2>'Wk Input'!$J$2,\"\",IF(IS154=\"\",\"\",IS154))","v":100},{"$f":"IF(AQ$2>'Wk Input'!$J$2,\"\",IF(IT154=\"\",\"\",IT154))","v":100},{"$f":"IF(AR$2>'Wk Input'!$J$2,\"\",IF(IU154=\"\",\"\",IU154))","v":96.2},{"$f":"IF(AS$2>'Wk Input'!$J$2,\"\",IF(IV154=\"\",\"\",IV154))","v":100},{"$f":"IF(AT$2>'Wk Input'!$J$2,\"\",IF(IW154=\"\",\"\",IW154))","v":100},{"$f":"IF(AU$2>'Wk Input'!$J$2,\"\",IF(IX154=\"\",\"\",IX154))","v":100},{"$f":"IF(AV$2>'Wk Input'!$J$2,\"\",IF(IY154=\"\",\"\",IY154))","v":100},{"$f":"IF(AW$2>'Wk Input'!$J$2,\"\",IF(IZ154=\"\",\"\",IZ154))","v":99.6},{"$f":"IF(AX$2>'Wk Input'!$J$2,\"\",IF(JA154=\"\",\"\",JA154))","v":100},{"$f":"IF(AY$2>'Wk Input'!$J$2,\"\",IF(JB154=\"\",\"\",JB154))","v":97.9},{"$f":"IF(AZ$2>'Wk Input'!$J$2,\"\",IF(JC154=\"\",\"\",JC154))","v":100},{"$f":"IF(BA$2>'Wk Input'!$J$2,\"\",IF(JD154=\"\",\"\",JD154))","v":100},{"$f":"IF(BB$2>'Wk Input'!$J$2,\"\",IF(JE154=\"\",\"\",JE154))","v":100},{"$f":"IF(BC$2>'Wk Input'!$J$2,\"\",IF(JF154=\"\",\"\",JF154))","v":100},{"$f":"IF(BD$2>'Wk Input'!$J$2,\"\",IF(JG154=\"\",\"\",JG154))","v":99.4},{"$f":"IF(BE$2>'Wk Input'!$J$2,\"\",IF(JH154=\"\",\"\",JH154))","v":93.4},{"$f":"IF(BF$2>'Wk Input'!$J$2,\"\",IF(JI154=\"\",\"\",JI154))","v":100},{"$f":"IF(BG$2>'Wk Input'!$J$2,\"\",IF(JJ154=\"\",\"\",JJ154))","v":100},{"$f":"IF(BH$2>'Wk Input'!$J$2,\"\",IF(JK154=\"\",\"\",JK154))","v":100},{"$f":"IF(BI$2>'Wk Input'!$J$2,\"\",IF(JL154=\"\",\"\",JL154))","v":100},{"$f":"IF(BJ$2>'Wk Input'!$J$2,\"\",IF(JM154=\"\",\"\",JM154))","v":96.5},{"$f":"IF(BK$2>'Wk Input'!$J$2,\"\",IF(JN154=\"\",\"\",JN154))","v":100},null,"#Ycards",0,0,0,0,0,0,0,0,0,0,0,0,0,0,0,0,0,0,0,0,0,0,0,0,0,0,0,0,0,0,0,0,1,1,1,1,1,1,1,1,1,1,1,1,1,1,1,1,1,1,1,1,null,null,null,null,null,null,null,null,null,null,null,null,null,null,null,null,null,null,null,null,null,null,null,null,null,null,null,null,null,null,null,null,null,null,null,null,null,null,null,null,null,null,null,null,null,null,null,null,null,null,null,null,null,null,null,null,null,null,null,null,null,null,null,null,null,null,null,null,null,null,null,null,null,null,null,null,null,null,null,null,null,null,null,null,null,null,null,null,null,null,null,null,null,null,null,null,null,null,null,null,null,null,null,null,null,null,null,null,null,null,null,null,null,null,null,null,null,null,null,null,null,null,null,null,null,null,null,null,null,null,null,null,null,null,null,null,null,null,null,null,null,null,null,null,null,null,null,null,null,null,null,null,null,null,null,null,null,null,null,null,null,null,null,null,null,null,null,null,null,null,null,null,null,null,null,null,null,null,null,null,null,null,null,null,null,null,null,null,null,null,null,null,null,null,null,null,null,null,null,null,null,null,null,null,null,null,null,null,null,null,null,null,null,null,null,null,47,"AE6"]
[null,null,null,null,null,null,null,null,null,null,null,{"$f":"IF(L$2>'Wk Input'!$J$2,\"\",IF(HO155=\"\",\"\",HO155))","v":""},{"$f":"IF(M$2>'Wk Input'!$J$2,\"\",IF(HP155=\"\",\"\",HP155))","v":""},{"$f":"IF(N$2>'Wk Input'!$J$2,\"\",IF(HQ155=\"\",\"\",HQ155))","v":""},{"$f":"IF(O$2>'Wk Input'!$J$2,\"\",IF(HR155=\"\",\"\",HR155))","v":3.8450000000000002},{"$f":"IF(P$2>'Wk Input'!$J$2,\"\",IF(HS155=\"\",\"\",HS155))","v":""},{"$f":"IF(Q$2>'Wk Input'!$J$2,\"\",IF(HT155=\"\",\"\",HT155))","v":""},{"$f":"IF(R$2>'Wk Input'!$J$2,\"\",IF(HU155=\"\",\"\",HU155))","v":""},{"$f":"IF(S$2>'Wk Input'!$J$2,\"\",IF(HV155=\"\",\"\",HV155))","v":3.427},{"$f":"IF(T$2>'Wk Input'!$J$2,\"\",IF(HW155=\"\",\"\",HW155))","v":""},{"$f":"IF(U$2>'Wk Input'!$J$2,\"\",IF(HX155=\"\",\"\",HX155))","v":""},{"$f":"IF(V$2>'Wk Input'!$J$2,\"\",IF(HY155=\"\",\"\",HY155))","v":""},{"$f":"IF(W$2>'Wk Input'!$J$2,\"\",IF(HZ155=\"\",\"\",HZ155))","v":""},{"$f":"IF(X$2>'Wk Input'!$J$2,\"\",IF(IA155=\"\",\"\",IA155))","v":3.286},{"$f":"IF(Y$2>'Wk Input'!$J$2,\"\",IF(IB155=\"\",\"\",IB155))","v":""},{"$f":"IF(Z$2>'Wk Input'!$J$2,\"\",IF(IC155=\"\",\"\",IC155))","v":""},{"$f":"IF(AA$2>'Wk Input'!$J$2,\"\",IF(ID155=\"\",\"\",ID155))","v":""},{"$f":"IF(AB$2>'Wk Input'!$J$2,\"\",IF(IE155=\"\",\"\",IE155))","v":3.4889999999999999},{"$f":"IF(AC$2>'Wk Input'!$J$2,\"\",IF(IF155=\"\",\"\",IF155))","v":""},{"$f":"IF(AD$2>'Wk Input'!$J$2,\"\",IF(IG155=\"\",\"\",IG155))","v":""},{"$f":"IF(AE$2>'Wk Input'!$J$2,\"\",IF(IH155=\"\",\"\",IH155))","v":""},{"$f":"IF(AF$2>'Wk Input'!$J$2,\"\",IF(II155=\"\",\"\",II155))","v":3.6819999999999999},{"$f":"IF(AG$2>'Wk Input'!$J$2,\"\",IF(IJ155=\"\",\"\",IJ155))","v":""},{"$f":"IF(AH$2>'Wk Input'!$J$2,\"\",IF(IK155=\"\",\"\",IK155))","v":""},{"$f":"IF(AI$2>'Wk Input'!$J$2,\"\",IF(IL155=\"\",\"\",IL155))","v":""},{"$f":"IF(AJ$2>'Wk Input'!$J$2,\"\",IF(IM155=\"\",\"\",IM155))","v":""},{"$f":"IF(AK$2>'Wk Input'!$J$2,\"\",IF(IN155=\"\",\"\",IN155))","v":3.4280000000000004},{"$f":"IF(AL$2>'Wk Input'!$J$2,\"\",IF(IO155=\"\",\"\",IO155))","v":""},{"$f":"IF(AM$2>'Wk Input'!$J$2,\"\",IF(IP155=\"\",\"\",IP155))","v":""},{"$f":"IF(AN$2>'Wk Input'!$J$2,\"\",IF(IQ155=\"\",\"\",IQ155))","v":""},{"$f":"IF(AO$2>'Wk Input'!$J$2,\"\",IF(IR155=\"\",\"\",IR155))","v":3.2879999999999998},{"$f":"IF(AP$2>'Wk Input'!$J$2,\"\",IF(IS155=\"\",\"\",IS155))","v":""},{"$f":"IF(AQ$2>'Wk Input'!$J$2,\"\",IF(IT155=\"\",\"\",IT155))","v":""},{"$f":"IF(AR$2>'Wk Input'!$J$2,\"\",IF(IU155=\"\",\"\",IU155))","v":""},{"$f":"IF(AS$2>'Wk Input'!$J$2,\"\",IF(IV155=\"\",\"\",IV155))","v":3.593},{"$f":"IF(AT$2>'Wk Input'!$J$2,\"\",IF(IW155=\"\",\"\",IW155))","v":""},{"$f":"IF(AU$2>'Wk Input'!$J$2,\"\",IF(IX155=\"\",\"\",IX155))","v":""},{"$f":"IF(AV$2>'Wk Input'!$J$2,\"\",IF(IY155=\"\",\"\",IY155))","v":""},{"$f":"IF(AW$2>'Wk Input'!$J$2,\"\",IF(IZ155=\"\",\"\",IZ155))","v":""},{"$f":"IF(AX$2>'Wk Input'!$J$2,\"\",IF(JA155=\"\",\"\",JA155))","v":3.5760000000000005},{"$f":"IF(AY$2>'Wk Input'!$J$2,\"\",IF(JB155=\"\",\"\",JB155))","v":""},{"$f":"IF(AZ$2>'Wk Input'!$J$2,\"\",IF(JC155=\"\",\"\",JC155))","v":""},{"$f":"IF(BA$2>'Wk Input'!$J$2,\"\",IF(JD155=\"\",\"\",JD155))","v":""},{"$f":"IF(BB$2>'Wk Input'!$J$2,\"\",IF(JE155=\"\",\"\",JE155))","v":3.7959999999999998},{"$f":"IF(BC$2>'Wk Input'!$J$2,\"\",IF(JF155=\"\",\"\",JF155))","v":""},{"$f":"IF(BD$2>'Wk Input'!$J$2,\"\",IF(JG155=\"\",\"\",JG155))","v":""},{"$f":"IF(BE$2>'Wk Input'!$J$2,\"\",IF(JH155=\"\",\"\",JH155))","v":""},{"$f":"IF(BF$2>'Wk Input'!$J$2,\"\",IF(JI155=\"\",\"\",JI155))","v":3.4989999999999997},{"$f":"IF(BG$2>'Wk Input'!$J$2,\"\",IF(JJ155=\"\",\"\",JJ155))","v":""},{"$f":"IF(BH$2>'Wk Input'!$J$2,\"\",IF(JK155=\"\",\"\",JK155))","v":""},{"$f":"IF(BI$2>'Wk Input'!$J$2,\"\",IF(JL155=\"\",\"\",JL155))","v":""},{"$f":"IF(BJ$2>'Wk Input'!$J$2,\"\",IF(JM155=\"\",\"\",JM155))","v":""},{"$f":"IF(BK$2>'Wk Input'!$J$2,\"\",IF(JN155=\"\",\"\",JN155))","v":3.5809999999999995},null,{"$f":"'Wk Input'!$J$2","v":53},false,false,true,false,false,false,false,false,false,false,false,false,false,false,false,false,false,false,false,false,false,false,false,false,false,false,false,false,false,false,false,false,false,false,false,false,false,false,false,false,false,false,true,false,false,false,false,false,false,false,false,false,null,null,null,null,null,null,null,null,null,null,null,null,null,null,null,null,null,null,null,null,null,null,null,null,null,null,null,null,null,null,null,null,null,null,null,null,null,null,null,null,null,null,null,null,null,null,null,null,null,null,null,null,null,null,null,null,null,null,null,null,null,null,null,null,null,null,null,null,null,null,null,null,null,null,null,null,null,null,null,null,null,null,null,null,null,null,null,null,null,null,null,null,null,null,null,null,null,null,null,null,null,null,null,null,null,null,null,null,null,null,null,null,null,null,null,null,null,null,null,null,null,null,null,null,null,null,null,null,null,null,null,null,null,null,null,null,null,null,null,null,null,null,null,null,null,null,null,null,null,null,null,null,null,null,null,null,null,null,null,null,null,null,null,null,null,null,null,null,null,null,null,null,null,null,null,null,null,null,null,null,null,null,null,null,null,null,null,null,null,null,null,null,null,null,null,null,null,null,null,null,null,null,null,null,null,null,null,null,null,null,null,null,null,null,null,null,48,"AE7"]
[null,null,null,null,null,null,null,null,null,null,null,{"$f":"IF(L$2>'Wk Input'!$J$2,\"\",IF(HO156=\"\",\"\",HO156))","v":""},{"$f":"IF(M$2>'Wk Input'!$J$2,\"\",IF(HP156=\"\",\"\",HP156))","v":""},{"$f":"IF(N$2>'Wk Input'!$J$2,\"\",IF(HQ156=\"\",\"\",HQ156))","v":""},{"$f":"IF(O$2>'Wk Input'!$J$2,\"\",IF(HR156=\"\",\"\",HR156))","v":""},{"$f":"IF(P$2>'Wk Input'!$J$2,\"\",IF(HS156=\"\",\"\",HS156))","v":""},{"$f":"IF(Q$2>'Wk Input'!$J$2,\"\",IF(HT156=\"\",\"\",HT156))","v":""},{"$f":"IF(R$2>'Wk Input'!$J$2,\"\",IF(HU156=\"\",\"\",HU156))","v":""},{"$f":"IF(S$2>'Wk Input'!$J$2,\"\",IF(HV156=\"\",\"\",HV156))","v":""},{"$f":"IF(T$2>'Wk Input'!$J$2,\"\",IF(HW156=\"\",\"\",HW156))","v":""},{"$f":"IF(U$2>'Wk Input'!$J$2,\"\",IF(HX156=\"\",\"\",HX156))","v":""},{"$f":"IF(V$2>'Wk Input'!$J$2,\"\",IF(HY156=\"\",\"\",HY156))","v":""},{"$f":"IF(W$2>'Wk Input'!$J$2,\"\",IF(HZ156=\"\",\"\",HZ156))","v":""},{"$f":"IF(X$2>'Wk Input'!$J$2,\"\",IF(IA156=\"\",\"\",IA156))","v":""},{"$f":"IF(Y$2>'Wk Input'!$J$2,\"\",IF(IB156=\"\",\"\",IB156))","v":""},{"$f":"IF(Z$2>'Wk Input'!$J$2,\"\",IF(IC156=\"\",\"\",IC156))","v":""},{"$f":"IF(AA$2>'Wk Input'!$J$2,\"\",IF(ID156=\"\",\"\",ID156))","v":""},{"$f":"IF(AB$2>'Wk Input'!$J$2,\"\",IF(IE156=\"\",\"\",IE156))","v":""},{"$f":"IF(AC$2>'Wk Input'!$J$2,\"\",IF(IF156=\"\",\"\",IF156))","v":""},{"$f":"IF(AD$2>'Wk Input'!$J$2,\"\",IF(IG156=\"\",\"\",IG156))","v":""},{"$f":"IF(AE$2>'Wk Input'!$J$2,\"\",IF(IH156=\"\",\"\",IH156))","v":""},{"$f":"IF(AF$2>'Wk Input'!$J$2,\"\",IF(II156=\"\",\"\",II156))","v":""},{"$f":"IF(AG$2>'Wk Input'!$J$2,\"\",IF(IJ156=\"\",\"\",IJ156))","v":""},{"$f":"IF(AH$2>'Wk Input'!$J$2,\"\",IF(IK156=\"\",\"\",IK156))","v":""},{"$f":"IF(AI$2>'Wk Input'!$J$2,\"\",IF(IL156=\"\",\"\",IL156))","v":""},{"$f":"IF(AJ$2>'Wk Input'!$J$2,\"\",IF(IM156=\"\",\"\",IM156))","v":""},{"$f":"IF(AK$2>'Wk Input'!$J$2,\"\",IF(IN156=\"\",\"\",IN156))","v":""},{"$f":"IF(AL$2>'Wk Input'!$J$2,\"\",IF(IO156=\"\",\"\",IO156))","v":""},{"$f":"IF(AM$2>'Wk Input'!$J$2,\"\",IF(IP156=\"\",\"\",IP156))","v":""},{"$f":"IF(AN$2>'Wk Input'!$J$2,\"\",IF(IQ156=\"\",\"\",IQ156))","v":""},{"$f":"IF(AO$2>'Wk Input'!$J$2,\"\",IF(IR156=\"\",\"\",IR156))","v":""},{"$f":"IF(AP$2>'Wk Input'!$J$2,\"\",IF(IS156=\"\",\"\",IS156))","v":""},{"$f":"IF(AQ$2>'Wk Input'!$J$2,\"\",IF(IT156=\"\",\"\",IT156))","v":""},{"$f":"IF(AR$2>'Wk Input'!$J$2,\"\",IF(IU156=\"\",\"\",IU156))","v":""},{"$f":"IF(AS$2>'Wk Input'!$J$2,\"\",IF(IV156=\"\",\"\",IV156))","v":""},{"$f":"IF(AT$2>'Wk Input'!$J$2,\"\",IF(IW156=\"\",\"\",IW156))","v":""},{"$f":"IF(AU$2>'Wk Input'!$J$2,\"\",IF(IX156=\"\",\"\",IX156))","v":""},{"$f":"IF(AV$2>'Wk Input'!$J$2,\"\",IF(IY156=\"\",\"\",IY156))","v":""},{"$f":"IF(AW$2>'Wk Input'!$J$2,\"\",IF(IZ156=\"\",\"\",IZ156))","v":""},{"$f":"IF(AX$2>'Wk Input'!$J$2,\"\",IF(JA156=\"\",\"\",JA156))","v":""},{"$f":"IF(AY$2>'Wk Input'!$J$2,\"\",IF(JB156=\"\",\"\",JB156))","v":""},{"$f":"IF(AZ$2>'Wk Input'!$J$2,\"\",IF(JC156=\"\",\"\",JC156))","v":""},{"$f":"IF(BA$2>'Wk Input'!$J$2,\"\",IF(JD156=\"\",\"\",JD156))","v":""},{"$f":"IF(BB$2>'Wk Input'!$J$2,\"\",IF(JE156=\"\",\"\",JE156))","v":""},{"$f":"IF(BC$2>'Wk Input'!$J$2,\"\",IF(JF156=\"\",\"\",JF156))","v":""},{"$f":"IF(BD$2>'Wk Input'!$J$2,\"\",IF(JG156=\"\",\"\",JG156))","v":""},{"$f":"IF(BE$2>'Wk Input'!$J$2,\"\",IF(JH156=\"\",\"\",JH156))","v":""},{"$f":"IF(BF$2>'Wk Input'!$J$2,\"\",IF(JI156=\"\",\"\",JI156))","v":""},{"$f":"IF(BG$2>'Wk Input'!$J$2,\"\",IF(JJ156=\"\",\"\",JJ156))","v":""},{"$f":"IF(BH$2>'Wk Input'!$J$2,\"\",IF(JK156=\"\",\"\",JK156))","v":""},{"$f":"IF(BI$2>'Wk Input'!$J$2,\"\",IF(JL156=\"\",\"\",JL156))","v":""},{"$f":"IF(BJ$2>'Wk Input'!$J$2,\"\",IF(JM156=\"\",\"\",JM156))","v":""},{"$f":"IF(BK$2>'Wk Input'!$J$2,\"\",IF(JN156=\"\",\"\",JN156))","v":""},null,null,false,false,false,false,false,false,false,false,false,false,false,false,false,false,false,false,false,false,false,false,false,false,false,false,false,false,false,false,false,false,false,false,true,false,false,false,false,false,false,false,false,false,false,false,false,false,false,false,false,false,false,false,null,null,null,null,null,null,null,null,null,null,null,null,null,null,null,null,null,null,null,null,null,null,null,null,null,null,null,null,null,null,null,null,null,null,null,null,null,null,null,null,null,null,null,null,null,null,null,null,null,null,null,null,null,null,null,null,null,null,null,null,null,null,null,null,null,null,null,null,null,null,null,null,null,null,null,null,null,null,null,null,null,null,null,null,null,null,null,null,null,null,null,null,null,null,null,null,null,null,null,null,null,null,null,null,null,null,null,null,null,null,null,null,null,null,null,null,null,null,null,null,null,null,null,null,null,null,null,null,null,null,null,null,null,null,null,null,null,null,null,null,null,null,null,null,null,null,null,null,null,null,null,null,null,null,null,null,null,null,null,null,null,null,null,null,null,null,null,null,null,null,null,null,null,null,null,null,null,null,null,null,null,null,null,null,null,null,null,null,null,null,null,null,null,null,null,null,null,null,null,null,null,null,null,null,null,null,null,null,null,null,null,null,null,null,null,null,49,"AE8"]
[null,null,null,null,null,null,null,null,null,null,null,{"$f":"IF(L$2>'Wk Input'!$J$2,\"\",IF(HO157=\"\",\"\",HO157))","v":""},{"$f":"IF(M$2>'Wk Input'!$J$2,\"\",IF(HP157=\"\",\"\",HP157))","v":""},{"$f":"IF(N$2>'Wk Input'!$J$2,\"\",IF(HQ157=\"\",\"\",HQ157))","v":""},{"$f":"IF(O$2>'Wk Input'!$J$2,\"\",IF(HR157=\"\",\"\",HR157))","v":""},{"$f":"IF(P$2>'Wk Input'!$J$2,\"\",IF(HS157=\"\",\"\",HS157))","v":""},{"$f":"IF(Q$2>'Wk Input'!$J$2,\"\",IF(HT157=\"\",\"\",HT157))","v":""},{"$f":"IF(R$2>'Wk Input'!$J$2,\"\",IF(HU157=\"\",\"\",HU157))","v":""},{"$f":"IF(S$2>'Wk Input'!$J$2,\"\",IF(HV157=\"\",\"\",HV157))","v":""},{"$f":"IF(T$2>'Wk Input'!$J$2,\"\",IF(HW157=\"\",\"\",HW157))","v":""},{"$f":"IF(U$2>'Wk Input'!$J$2,\"\",IF(HX157=\"\",\"\",HX157))","v":""},{"$f":"IF(V$2>'Wk Input'!$J$2,\"\",IF(HY157=\"\",\"\",HY157))","v":""},{"$f":"IF(W$2>'Wk Input'!$J$2,\"\",IF(HZ157=\"\",\"\",HZ157))","v":""},{"$f":"IF(X$2>'Wk Input'!$J$2,\"\",IF(IA157=\"\",\"\",IA157))","v":""},{"$f":"IF(Y$2>'Wk Input'!$J$2,\"\",IF(IB157=\"\",\"\",IB157))","v":""},{"$f":"IF(Z$2>'Wk Input'!$J$2,\"\",IF(IC157=\"\",\"\",IC157))","v":""},{"$f":"IF(AA$2>'Wk Input'!$J$2,\"\",IF(ID157=\"\",\"\",ID157))","v":""},{"$f":"IF(AB$2>'Wk Input'!$J$2,\"\",IF(IE157=\"\",\"\",IE157))","v":""},{"$f":"IF(AC$2>'Wk Input'!$J$2,\"\",IF(IF157=\"\",\"\",IF157))","v":""},{"$f":"IF(AD$2>'Wk Input'!$J$2,\"\",IF(IG157=\"\",\"\",IG157))","v":""},{"$f":"IF(AE$2>'Wk Input'!$J$2,\"\",IF(IH157=\"\",\"\",IH157))","v":""},{"$f":"IF(AF$2>'Wk Input'!$J$2,\"\",IF(II157=\"\",\"\",II157))","v":""},{"$f":"IF(AG$2>'Wk Input'!$J$2,\"\",IF(IJ157=\"\",\"\",IJ157))","v":""},{"$f":"IF(AH$2>'Wk Input'!$J$2,\"\",IF(IK157=\"\",\"\",IK157))","v":""},{"$f":"IF(AI$2>'Wk Input'!$J$2,\"\",IF(IL157=\"\",\"\",IL157))","v":""},{"$f":"IF(AJ$2>'Wk Input'!$J$2,\"\",IF(IM157=\"\",\"\",IM157))","v":""},{"$f":"IF(AK$2>'Wk Input'!$J$2,\"\",IF(IN157=\"\",\"\",IN157))","v":""},{"$f":"IF(AL$2>'Wk Input'!$J$2,\"\",IF(IO157=\"\",\"\",IO157))","v":""},{"$f":"IF(AM$2>'Wk Input'!$J$2,\"\",IF(IP157=\"\",\"\",IP157))","v":""},{"$f":"IF(AN$2>'Wk Input'!$J$2,\"\",IF(IQ157=\"\",\"\",IQ157))","v":""},{"$f":"IF(AO$2>'Wk Input'!$J$2,\"\",IF(IR157=\"\",\"\",IR157))","v":""},{"$f":"IF(AP$2>'Wk Input'!$J$2,\"\",IF(IS157=\"\",\"\",IS157))","v":""},{"$f":"IF(AQ$2>'Wk Input'!$J$2,\"\",IF(IT157=\"\",\"\",IT157))","v":""},{"$f":"IF(AR$2>'Wk Input'!$J$2,\"\",IF(IU157=\"\",\"\",IU157))","v":""},{"$f":"IF(AS$2>'Wk Input'!$J$2,\"\",IF(IV157=\"\",\"\",IV157))","v":""},{"$f":"IF(AT$2>'Wk Input'!$J$2,\"\",IF(IW157=\"\",\"\",IW157))","v":""},{"$f":"IF(AU$2>'Wk Input'!$J$2,\"\",IF(IX157=\"\",\"\",IX157))","v":""},{"$f":"IF(AV$2>'Wk Input'!$J$2,\"\",IF(IY157=\"\",\"\",IY157))","v":""},{"$f":"IF(AW$2>'Wk Input'!$J$2,\"\",IF(IZ157=\"\",\"\",IZ157))","v":""},{"$f":"IF(AX$2>'Wk Input'!$J$2,\"\",IF(JA157=\"\",\"\",JA157))","v":""},{"$f":"IF(AY$2>'Wk Input'!$J$2,\"\",IF(JB157=\"\",\"\",JB157))","v":""},{"$f":"IF(AZ$2>'Wk Input'!$J$2,\"\",IF(JC157=\"\",\"\",JC157))","v":""},{"$f":"IF(BA$2>'Wk Input'!$J$2,\"\",IF(JD157=\"\",\"\",JD157))","v":""},{"$f":"IF(BB$2>'Wk Input'!$J$2,\"\",IF(JE157=\"\",\"\",JE157))","v":""},{"$f":"IF(BC$2>'Wk Input'!$J$2,\"\",IF(JF157=\"\",\"\",JF157))","v":""},{"$f":"IF(BD$2>'Wk Input'!$J$2,\"\",IF(JG157=\"\",\"\",JG157))","v":""},{"$f":"IF(BE$2>'Wk Input'!$J$2,\"\",IF(JH157=\"\",\"\",JH157))","v":""},{"$f":"IF(BF$2>'Wk Input'!$J$2,\"\",IF(JI157=\"\",\"\",JI157))","v":""},{"$f":"IF(BG$2>'Wk Input'!$J$2,\"\",IF(JJ157=\"\",\"\",JJ157))","v":""},{"$f":"IF(BH$2>'Wk Input'!$J$2,\"\",IF(JK157=\"\",\"\",JK157))","v":""},{"$f":"IF(BI$2>'Wk Input'!$J$2,\"\",IF(JL157=\"\",\"\",JL157))","v":""},{"$f":"IF(BJ$2>'Wk Input'!$J$2,\"\",IF(JM157=\"\",\"\",JM157))","v":""},{"$f":"IF(BK$2>'Wk Input'!$J$2,\"\",IF(JN157=\"\",\"\",JN157))","v":""},null,null,null,null,null,null,null,null,null,null,null,null,null,null,null,null,null,null,null,null,null,null,null,null,null,null,null,null,null,null,null,null,null,null,null,null,null,null,null,null,null,null,null,null,null,null,null,null,null,null,null,null,null,null,null,null,null,null,null,null,null,null,null,null,null,null,null,null,null,null,null,null,null,null,null,null,null,null,null,null,null,null,null,null,null,null,null,null,null,null,null,null,null,null,null,null,null,null,null,null,null,null,null,null,null,null,null,null,null,null,null,null,null,null,null,null,null,null,null,null,null,null,null,null,null,null,null,null,null,null,null,null,null,null,null,null,null,null,null,null,null,null,null,null,null,null,null,null,null,null,null,null,null,null,null,null,null,null,null,null,null,null,null,null,null,null,null,null,null,null,null,null,null,null,null,null,null,null,null,null,null,null,null,null,null,null,null,null,null,null,null,null,null,null,null,null,null,null,null,null,null,null,null,null,null,null,null,null,null,null,null,null,null,null,null,null,null,null,null,null,null,null,null,null,null,null,null,null,null,null,null,null,null,null,null,null,null,null,null,null,null,null,null,null,null,null,null,null,null,null,null,null,null,null,null,null,null,null,null,null,null,null,null,null,null,null,null,null,null,null,50,"AE9"]
[null,null,null,null,null,null,null,null,null,null,null,{"$f":"IF(L$2>'Wk Input'!$J$2,\"\",IF(HO158=\"\",\"\",HO158))","v":""},{"$f":"IF(M$2>'Wk Input'!$J$2,\"\",IF(HP158=\"\",\"\",HP158))","v":""},{"$f":"IF(N$2>'Wk Input'!$J$2,\"\",IF(HQ158=\"\",\"\",HQ158))","v":""},{"$f":"IF(O$2>'Wk Input'!$J$2,\"\",IF(HR158=\"\",\"\",HR158))","v":""},{"$f":"IF(P$2>'Wk Input'!$J$2,\"\",IF(HS158=\"\",\"\",HS158))","v":""},{"$f":"IF(Q$2>'Wk Input'!$J$2,\"\",IF(HT158=\"\",\"\",HT158))","v":""},{"$f":"IF(R$2>'Wk Input'!$J$2,\"\",IF(HU158=\"\",\"\",HU158))","v":""},{"$f":"IF(S$2>'Wk Input'!$J$2,\"\",IF(HV158=\"\",\"\",HV158))","v":""},{"$f":"IF(T$2>'Wk Input'!$J$2,\"\",IF(HW158=\"\",\"\",HW158))","v":""},{"$f":"IF(U$2>'Wk Input'!$J$2,\"\",IF(HX158=\"\",\"\",HX158))","v":""},{"$f":"IF(V$2>'Wk Input'!$J$2,\"\",IF(HY158=\"\",\"\",HY158))","v":""},{"$f":"IF(W$2>'Wk Input'!$J$2,\"\",IF(HZ158=\"\",\"\",HZ158))","v":""},{"$f":"IF(X$2>'Wk Input'!$J$2,\"\",IF(IA158=\"\",\"\",IA158))","v":""},{"$f":"IF(Y$2>'Wk Input'!$J$2,\"\",IF(IB158=\"\",\"\",IB158))","v":""},{"$f":"IF(Z$2>'Wk Input'!$J$2,\"\",IF(IC158=\"\",\"\",IC158))","v":""},{"$f":"IF(AA$2>'Wk Input'!$J$2,\"\",IF(ID158=\"\",\"\",ID158))","v":""},{"$f":"IF(AB$2>'Wk Input'!$J$2,\"\",IF(IE158=\"\",\"\",IE158))","v":""},{"$f":"IF(AC$2>'Wk Input'!$J$2,\"\",IF(IF158=\"\",\"\",IF158))","v":""},{"$f":"IF(AD$2>'Wk Input'!$J$2,\"\",IF(IG158=\"\",\"\",IG158))","v":""},{"$f":"IF(AE$2>'Wk Input'!$J$2,\"\",IF(IH158=\"\",\"\",IH158))","v":""},{"$f":"IF(AF$2>'Wk Input'!$J$2,\"\",IF(II158=\"\",\"\",II158))","v":""},{"$f":"IF(AG$2>'Wk Input'!$J$2,\"\",IF(IJ158=\"\",\"\",IJ158))","v":""},{"$f":"IF(AH$2>'Wk Input'!$J$2,\"\",IF(IK158=\"\",\"\",IK158))","v":""},{"$f":"IF(AI$2>'Wk Input'!$J$2,\"\",IF(IL158=\"\",\"\",IL158))","v":""},{"$f":"IF(AJ$2>'Wk Input'!$J$2,\"\",IF(IM158=\"\",\"\",IM158))","v":""},{"$f":"IF(AK$2>'Wk Input'!$J$2,\"\",IF(IN158=\"\",\"\",IN158))","v":""},{"$f":"IF(AL$2>'Wk Input'!$J$2,\"\",IF(IO158=\"\",\"\",IO158))","v":""},{"$f":"IF(AM$2>'Wk Input'!$J$2,\"\",IF(IP158=\"\",\"\",IP158))","v":""},{"$f":"IF(AN$2>'Wk Input'!$J$2,\"\",IF(IQ158=\"\",\"\",IQ158))","v":""},{"$f":"IF(AO$2>'Wk Input'!$J$2,\"\",IF(IR158=\"\",\"\",IR158))","v":""},{"$f":"IF(AP$2>'Wk Input'!$J$2,\"\",IF(IS158=\"\",\"\",IS158))","v":""},{"$f":"IF(AQ$2>'Wk Input'!$J$2,\"\",IF(IT158=\"\",\"\",IT158))","v":""},{"$f":"IF(AR$2>'Wk Input'!$J$2,\"\",IF(IU158=\"\",\"\",IU158))","v":""},{"$f":"IF(AS$2>'Wk Input'!$J$2,\"\",IF(IV158=\"\",\"\",IV158))","v":""},{"$f":"IF(AT$2>'Wk Input'!$J$2,\"\",IF(IW158=\"\",\"\",IW158))","v":""},{"$f":"IF(AU$2>'Wk Input'!$J$2,\"\",IF(IX158=\"\",\"\",IX158))","v":""},{"$f":"IF(AV$2>'Wk Input'!$J$2,\"\",IF(IY158=\"\",\"\",IY158))","v":""},{"$f":"IF(AW$2>'Wk Input'!$J$2,\"\",IF(IZ158=\"\",\"\",IZ158))","v":""},{"$f":"IF(AX$2>'Wk Input'!$J$2,\"\",IF(JA158=\"\",\"\",JA158))","v":""},{"$f":"IF(AY$2>'Wk Input'!$J$2,\"\",IF(JB158=\"\",\"\",JB158))","v":""},{"$f":"IF(AZ$2>'Wk Input'!$J$2,\"\",IF(JC158=\"\",\"\",JC158))","v":""},{"$f":"IF(BA$2>'Wk Input'!$J$2,\"\",IF(JD158=\"\",\"\",JD158))","v":""},{"$f":"IF(BB$2>'Wk Input'!$J$2,\"\",IF(JE158=\"\",\"\",JE158))","v":""},{"$f":"IF(BC$2>'Wk Input'!$J$2,\"\",IF(JF158=\"\",\"\",JF158))","v":""},{"$f":"IF(BD$2>'Wk Input'!$J$2,\"\",IF(JG158=\"\",\"\",JG158))","v":""},{"$f":"IF(BE$2>'Wk Input'!$J$2,\"\",IF(JH158=\"\",\"\",JH158))","v":""},{"$f":"IF(BF$2>'Wk Input'!$J$2,\"\",IF(JI158=\"\",\"\",JI158))","v":""},{"$f":"IF(BG$2>'Wk Input'!$J$2,\"\",IF(JJ158=\"\",\"\",JJ158))","v":""},{"$f":"IF(BH$2>'Wk Input'!$J$2,\"\",IF(JK158=\"\",\"\",JK158))","v":""},{"$f":"IF(BI$2>'Wk Input'!$J$2,\"\",IF(JL158=\"\",\"\",JL158))","v":""},{"$f":"IF(BJ$2>'Wk Input'!$J$2,\"\",IF(JM158=\"\",\"\",JM158))","v":""},{"$f":"IF(BK$2>'Wk Input'!$J$2,\"\",IF(JN158=\"\",\"\",JN158))","v":""},null,null,null,null,null,null,null,null,null,null,null,null,null,null,null,null,null,null,null,null,null,null,null,null,null,null,null,null,null,null,null,null,null,null,null,null,null,null,null,null,null,null,null,null,null,null,null,null,null,null,null,null,null,null,null,null,null,null,null,null,null,null,null,null,null,null,null,null,null,null,null,null,null,null,null,null,null,null,null,null,null,null,null,null,null,null,null,null,null,null,null,null,null,null,null,null,null,null,null,null,null,null,null,null,null,null,null,null,null,null,null,null,null,null,null,null,null,null,null,null,null,null,null,null,null,null,null,null,null,null,null,null,null,null,null,null,null,null,null,null,null,null,null,null,null,null,null,null,null,null,null,null,null,null,null,null,null,null,null,null,null,null,null,null,null,null,null,null,null,null,null,null,null,null,null,null,null,null,null,null,null,null,null,null,null,null,null,null,null,null,null,null,null,null,null,null,null,null,null,null,null,null,null,null,null,null,null,null,null,null,null,null,null,null,null,null,null,null,null,null,null,null,null,null,null,null,null,null,null,null,null,null,null,null,null,null,null,null,null,null,null,null,null,null,null,null,null,null,null,null,null,null,null,null,null,null,null,null,null,null,null,null,null,null,null,null,null,null,null,null,51,"AF0"]
[null,null,null,null,null,null,null,null,null,null,null,{"$f":"IF(L$2>'Wk Input'!$J$2,\"\",IF(HO159=\"\",\"\",HO159))","v":""},{"$f":"IF(M$2>'Wk Input'!$J$2,\"\",IF(HP159=\"\",\"\",HP159))","v":""},{"$f":"IF(N$2>'Wk Input'!$J$2,\"\",IF(HQ159=\"\",\"\",HQ159))","v":""},{"$f":"IF(O$2>'Wk Input'!$J$2,\"\",IF(HR159=\"\",\"\",HR159))","v":""},{"$f":"IF(P$2>'Wk Input'!$J$2,\"\",IF(HS159=\"\",\"\",HS159))","v":""},{"$f":"IF(Q$2>'Wk Input'!$J$2,\"\",IF(HT159=\"\",\"\",HT159))","v":""},{"$f":"IF(R$2>'Wk Input'!$J$2,\"\",IF(HU159=\"\",\"\",HU159))","v":""},{"$f":"IF(S$2>'Wk Input'!$J$2,\"\",IF(HV159=\"\",\"\",HV159))","v":""},{"$f":"IF(T$2>'Wk Input'!$J$2,\"\",IF(HW159=\"\",\"\",HW159))","v":""},{"$f":"IF(U$2>'Wk Input'!$J$2,\"\",IF(HX159=\"\",\"\",HX159))","v":""},{"$f":"IF(V$2>'Wk Input'!$J$2,\"\",IF(HY159=\"\",\"\",HY159))","v":""},{"$f":"IF(W$2>'Wk Input'!$J$2,\"\",IF(HZ159=\"\",\"\",HZ159))","v":""},{"$f":"IF(X$2>'Wk Input'!$J$2,\"\",IF(IA159=\"\",\"\",IA159))","v":""},{"$f":"IF(Y$2>'Wk Input'!$J$2,\"\",IF(IB159=\"\",\"\",IB159))","v":""},{"$f":"IF(Z$2>'Wk Input'!$J$2,\"\",IF(IC159=\"\",\"\",IC159))","v":""},{"$f":"IF(AA$2>'Wk Input'!$J$2,\"\",IF(ID159=\"\",\"\",ID159))","v":""},{"$f":"IF(AB$2>'Wk Input'!$J$2,\"\",IF(IE159=\"\",\"\",IE159))","v":""},{"$f":"IF(AC$2>'Wk Input'!$J$2,\"\",IF(IF159=\"\",\"\",IF159))","v":""},{"$f":"IF(AD$2>'Wk Input'!$J$2,\"\",IF(IG159=\"\",\"\",IG159))","v":""},{"$f":"IF(AE$2>'Wk Input'!$J$2,\"\",IF(IH159=\"\",\"\",IH159))","v":""},{"$f":"IF(AF$2>'Wk Input'!$J$2,\"\",IF(II159=\"\",\"\",II159))","v":""},{"$f":"IF(AG$2>'Wk Input'!$J$2,\"\",IF(IJ159=\"\",\"\",IJ159))","v":""},{"$f":"IF(AH$2>'Wk Input'!$J$2,\"\",IF(IK159=\"\",\"\",IK159))","v":""},{"$f":"IF(AI$2>'Wk Input'!$J$2,\"\",IF(IL159=\"\",\"\",IL159))","v":""},{"$f":"IF(AJ$2>'Wk Input'!$J$2,\"\",IF(IM159=\"\",\"\",IM159))","v":""},{"$f":"IF(AK$2>'Wk Input'!$J$2,\"\",IF(IN159=\"\",\"\",IN159))","v":""},{"$f":"IF(AL$2>'Wk Input'!$J$2,\"\",IF(IO159=\"\",\"\",IO159))","v":""},{"$f":"IF(AM$2>'Wk Input'!$J$2,\"\",IF(IP159=\"\",\"\",IP159))","v":""},{"$f":"IF(AN$2>'Wk Input'!$J$2,\"\",IF(IQ159=\"\",\"\",IQ159))","v":""},{"$f":"IF(AO$2>'Wk Input'!$J$2,\"\",IF(IR159=\"\",\"\",IR159))","v":""},{"$f":"IF(AP$2>'Wk Input'!$J$2,\"\",IF(IS159=\"\",\"\",IS159))","v":""},{"$f":"IF(AQ$2>'Wk Input'!$J$2,\"\",IF(IT159=\"\",\"\",IT159))","v":""},{"$f":"IF(AR$2>'Wk Input'!$J$2,\"\",IF(IU159=\"\",\"\",IU159))","v":""},{"$f":"IF(AS$2>'Wk Input'!$J$2,\"\",IF(IV159=\"\",\"\",IV159))","v":""},{"$f":"IF(AT$2>'Wk Input'!$J$2,\"\",IF(IW159=\"\",\"\",IW159))","v":""},{"$f":"IF(AU$2>'Wk Input'!$J$2,\"\",IF(IX159=\"\",\"\",IX159))","v":""},{"$f":"IF(AV$2>'Wk Input'!$J$2,\"\",IF(IY159=\"\",\"\",IY159))","v":""},{"$f":"IF(AW$2>'Wk Input'!$J$2,\"\",IF(IZ159=\"\",\"\",IZ159))","v":""},{"$f":"IF(AX$2>'Wk Input'!$J$2,\"\",IF(JA159=\"\",\"\",JA159))","v":""},{"$f":"IF(AY$2>'Wk Input'!$J$2,\"\",IF(JB159=\"\",\"\",JB159))","v":""},{"$f":"IF(AZ$2>'Wk Input'!$J$2,\"\",IF(JC159=\"\",\"\",JC159))","v":""},{"$f":"IF(BA$2>'Wk Input'!$J$2,\"\",IF(JD159=\"\",\"\",JD159))","v":""},{"$f":"IF(BB$2>'Wk Input'!$J$2,\"\",IF(JE159=\"\",\"\",JE159))","v":""},{"$f":"IF(BC$2>'Wk Input'!$J$2,\"\",IF(JF159=\"\",\"\",JF159))","v":""},{"$f":"IF(BD$2>'Wk Input'!$J$2,\"\",IF(JG159=\"\",\"\",JG159))","v":""},{"$f":"IF(BE$2>'Wk Input'!$J$2,\"\",IF(JH159=\"\",\"\",JH159))","v":""},{"$f":"IF(BF$2>'Wk Input'!$J$2,\"\",IF(JI159=\"\",\"\",JI159))","v":""},{"$f":"IF(BG$2>'Wk Input'!$J$2,\"\",IF(JJ159=\"\",\"\",JJ159))","v":""},{"$f":"IF(BH$2>'Wk Input'!$J$2,\"\",IF(JK159=\"\",\"\",JK159))","v":""},{"$f":"IF(BI$2>'Wk Input'!$J$2,\"\",IF(JL159=\"\",\"\",JL159))","v":""},{"$f":"IF(BJ$2>'Wk Input'!$J$2,\"\",IF(JM159=\"\",\"\",JM159))","v":""},{"$f":"IF(BK$2>'Wk Input'!$J$2,\"\",IF(JN159=\"\",\"\",JN159))","v":""},null,null,null,null,null,null,null,null,null,null,null,null,null,null,null,null,null,null,null,null,null,null,null,null,null,null,null,null,null,null,null,null,null,null,null,null,null,null,null,null,null,null,null,null,null,null,null,null,null,null,null,null,null,null,null,null,null,null,null,null,null,null,null,null,null,null,null,null,null,null,null,null,null,null,null,null,null,null,null,null,null,null,null,null,null,null,null,null,null,null,null,null,null,null,null,null,null,null,null,null,null,null,null,null,null,null,null,null,null,null,null,null,null,null,null,null,null,null,null,null,null,null,null,null,null,null,null,null,null,null,null,null,null,null,null,null,null,null,null,null,null,null,null,null,null,null,null,null,null,null,null,null,null,null,null,null,null,null,null,null,null,null,null,null,null,null,null,null,null,null,null,null,null,null,null,null,null,null,null,null,null,null,null,null,null,null,null,null,null,null,null,null,null,null,null,null,null,null,null,null,null,null,null,null,null,null,null,null,null,null,null,null,null,null,null,null,null,null,null,null,null,null,null,null,null,null,null,null,null,null,null,null,null,null,null,null,null,null,null,null,null,null,null,null,null,null,null,null,null,null,null,null,null,null,null,null,null,null,null,null,null,null,null,null,null,null,null,null,null,null,52,"AF1"]
[null,null,null,null,null,null,null,null,null,null,null,{"$f":"IF(L$2>'Wk Input'!$J$2,\"\",IF(HO160=\"\",\"\",HO160))","v":""},{"$f":"IF(M$2>'Wk Input'!$J$2,\"\",IF(HP160=\"\",\"\",HP160))","v":""},{"$f":"IF(N$2>'Wk Input'!$J$2,\"\",IF(HQ160=\"\",\"\",HQ160))","v":""},{"$f":"IF(O$2>'Wk Input'!$J$2,\"\",IF(HR160=\"\",\"\",HR160))","v":""},{"$f":"IF(P$2>'Wk Input'!$J$2,\"\",IF(HS160=\"\",\"\",HS160))","v":""},{"$f":"IF(Q$2>'Wk Input'!$J$2,\"\",IF(HT160=\"\",\"\",HT160))","v":""},{"$f":"IF(R$2>'Wk Input'!$J$2,\"\",IF(HU160=\"\",\"\",HU160))","v":""},{"$f":"IF(S$2>'Wk Input'!$J$2,\"\",IF(HV160=\"\",\"\",HV160))","v":""},{"$f":"IF(T$2>'Wk Input'!$J$2,\"\",IF(HW160=\"\",\"\",HW160))","v":""},{"$f":"IF(U$2>'Wk Input'!$J$2,\"\",IF(HX160=\"\",\"\",HX160))","v":""},{"$f":"IF(V$2>'Wk Input'!$J$2,\"\",IF(HY160=\"\",\"\",HY160))","v":""},{"$f":"IF(W$2>'Wk Input'!$J$2,\"\",IF(HZ160=\"\",\"\",HZ160))","v":""},{"$f":"IF(X$2>'Wk Input'!$J$2,\"\",IF(IA160=\"\",\"\",IA160))","v":""},{"$f":"IF(Y$2>'Wk Input'!$J$2,\"\",IF(IB160=\"\",\"\",IB160))","v":""},{"$f":"IF(Z$2>'Wk Input'!$J$2,\"\",IF(IC160=\"\",\"\",IC160))","v":""},{"$f":"IF(AA$2>'Wk Input'!$J$2,\"\",IF(ID160=\"\",\"\",ID160))","v":""},{"$f":"IF(AB$2>'Wk Input'!$J$2,\"\",IF(IE160=\"\",\"\",IE160))","v":""},{"$f":"IF(AC$2>'Wk Input'!$J$2,\"\",IF(IF160=\"\",\"\",IF160))","v":""},{"$f":"IF(AD$2>'Wk Input'!$J$2,\"\",IF(IG160=\"\",\"\",IG160))","v":""},{"$f":"IF(AE$2>'Wk Input'!$J$2,\"\",IF(IH160=\"\",\"\",IH160))","v":""},{"$f":"IF(AF$2>'Wk Input'!$J$2,\"\",IF(II160=\"\",\"\",II160))","v":""},{"$f":"IF(AG$2>'Wk Input'!$J$2,\"\",IF(IJ160=\"\",\"\",IJ160))","v":""},{"$f":"IF(AH$2>'Wk Input'!$J$2,\"\",IF(IK160=\"\",\"\",IK160))","v":""},{"$f":"IF(AI$2>'Wk Input'!$J$2,\"\",IF(IL160=\"\",\"\",IL160))","v":""},{"$f":"IF(AJ$2>'Wk Input'!$J$2,\"\",IF(IM160=\"\",\"\",IM160))","v":""},{"$f":"IF(AK$2>'Wk Input'!$J$2,\"\",IF(IN160=\"\",\"\",IN160))","v":""},{"$f":"IF(AL$2>'Wk Input'!$J$2,\"\",IF(IO160=\"\",\"\",IO160))","v":""},{"$f":"IF(AM$2>'Wk Input'!$J$2,\"\",IF(IP160=\"\",\"\",IP160))","v":""},{"$f":"IF(AN$2>'Wk Input'!$J$2,\"\",IF(IQ160=\"\",\"\",IQ160))","v":""},{"$f":"IF(AO$2>'Wk Input'!$J$2,\"\",IF(IR160=\"\",\"\",IR160))","v":""},{"$f":"IF(AP$2>'Wk Input'!$J$2,\"\",IF(IS160=\"\",\"\",IS160))","v":""},{"$f":"IF(AQ$2>'Wk Input'!$J$2,\"\",IF(IT160=\"\",\"\",IT160))","v":""},{"$f":"IF(AR$2>'Wk Input'!$J$2,\"\",IF(IU160=\"\",\"\",IU160))","v":""},{"$f":"IF(AS$2>'Wk Input'!$J$2,\"\",IF(IV160=\"\",\"\",IV160))","v":""},{"$f":"IF(AT$2>'Wk Input'!$J$2,\"\",IF(IW160=\"\",\"\",IW160))","v":""},{"$f":"IF(AU$2>'Wk Input'!$J$2,\"\",IF(IX160=\"\",\"\",IX160))","v":""},{"$f":"IF(AV$2>'Wk Input'!$J$2,\"\",IF(IY160=\"\",\"\",IY160))","v":""},{"$f":"IF(AW$2>'Wk Input'!$J$2,\"\",IF(IZ160=\"\",\"\",IZ160))","v":""},{"$f":"IF(AX$2>'Wk Input'!$J$2,\"\",IF(JA160=\"\",\"\",JA160))","v":""},{"$f":"IF(AY$2>'Wk Input'!$J$2,\"\",IF(JB160=\"\",\"\",JB160))","v":""},{"$f":"IF(AZ$2>'Wk Input'!$J$2,\"\",IF(JC160=\"\",\"\",JC160))","v":""},{"$f":"IF(BA$2>'Wk Input'!$J$2,\"\",IF(JD160=\"\",\"\",JD160))","v":""},{"$f":"IF(BB$2>'Wk Input'!$J$2,\"\",IF(JE160=\"\",\"\",JE160))","v":""},{"$f":"IF(BC$2>'Wk Input'!$J$2,\"\",IF(JF160=\"\",\"\",JF160))","v":""},{"$f":"IF(BD$2>'Wk Input'!$J$2,\"\",IF(JG160=\"\",\"\",JG160))","v":""},{"$f":"IF(BE$2>'Wk Input'!$J$2,\"\",IF(JH160=\"\",\"\",JH160))","v":""},{"$f":"IF(BF$2>'Wk Input'!$J$2,\"\",IF(JI160=\"\",\"\",JI160))","v":""},{"$f":"IF(BG$2>'Wk Input'!$J$2,\"\",IF(JJ160=\"\",\"\",JJ160))","v":""},{"$f":"IF(BH$2>'Wk Input'!$J$2,\"\",IF(JK160=\"\",\"\",JK160))","v":""},{"$f":"IF(BI$2>'Wk Input'!$J$2,\"\",IF(JL160=\"\",\"\",JL160))","v":""},{"$f":"IF(BJ$2>'Wk Input'!$J$2,\"\",IF(JM160=\"\",\"\",JM160))","v":""},{"$f":"IF(BK$2>'Wk Input'!$J$2,\"\",IF(JN160=\"\",\"\",JN160))","v":""},null,null,null,null,null,null,null,null,null,null,null,null,null,null,null,null,null,null,null,null,null,null,null,null,null,null,null,null,null,null,null,null,null,null,null,null,null,null,null,null,null,null,null,null,null,null,null,null,null,null,null,null,null,null,null,null,null,null,null,null,null,null,null,null,null,null,null,null,null,null,null,null,null,null,null,null,null,null,null,null,null,null,null,null,null,null,null,null,null,null,null,null,null,null,null,null,null,null,null,null,null,null,null,null,null,null,null,null,null,null,null,null,null,null,null,null,null,null,null,null,null,null,null,null,null,null,null,null,null,null,null,null,null,null,null,null,null,null,null,null,null,null,null,null,null,null,null,null,null,null,null,null,null,null,null,null,null,null,null,null,null,null,null,null,null,null,null,null,null,null,null,null,null,null,null,null,null,null,null,null,null,null,null,null,null,null,null,null,null,null,null,null,null,null,null,null,null,null,null,null,null,null,null,null,null,null,null,null,null,null,null,null,null,null,null,null,null,null,null,null,null,null,null,null,null,null,null,null,null,null,null,null,null,null,null,null,null,null,null,null,null,null,null,null,null,null,null,null,null,null,null,null,null,null,null,null,null,null,null,null,null,null,null,null,null,null,null,null,null,null,53,"AF2"]
[null,null,null,null,null,null,null,null,null,null,null,null,null,null,null,null,null,null,null,null,null,null,null,null,null,null,null,null,null,null,null,null,null,null,null,null,null,null,null,null,null,null,null,null,null,null,null,null,null,null,null,null,null,null,null,null,null,null,null,null,null,null,null,null,null,null,null,null,null,null,null,null,null,null,null,null,null,null,null,null,null,null,null,null,null,null,null,null,null,null,null,null,null,null,null,null,null,null,null,null,null,null,null,null,null,null,null,null,null,null,null,null,null,null,null,null,null,null,null,null,null,null,null,null,null,null,null,null,null,null,null,null,null,null,null,null,null,null,null,null,null,null,null,null,null,null,null,null,null,null,null,null,null,null,null,null,null,null,null,null,null,null,null,null,null,null,null,null,null,null,null,null,null,null,null,null,null,null,null,null,null,null,null,null,null,null,null,null,null,null,null,null,null,null,null,null,null,null,null,null,null,null,null,null,null,null,null,null,null,null,null,null,null,null,null,null,null,null,null,null,null,null,null,null,null,null,null,null,null,null,null,null,null,null,null,null,null,null,null,null,null,null,null,null,null,null,null,null,null,null,null,null,null,null,null,null,null,null,null,null,null,null,null,null,null,null,null,null,null,null,null,null,null,null,null,null,null,null,null,null,null,null,null,null,null,null,null,null,null,null,null,null,null,null,null,null,null,null,null,null,null,null,null,null,null,null,null,null,null,null,null,null,null,null,null,null,null,null,null,null,null,null,null,null,null,null,null,null,null,null,null,null,null,54,"AF3"]
[null,null,null,null,null,null,null,null,null,null,null,null,null,null,null,null,null,null,null,null,null,null,null,null,null,null,null,null,null,null,null,null,null,null,null,null,null,null,null,null,null,null,null,null,null,null,null,null,null,null,null,null,null,null,null,null,null,null,null,null,null,null,null,null,null,null,null,null,null,null,null,null,null,null,null,null,null,null,null,null,null,null,null,null,null,null,null,null,null,null,null,null,null,null,null,null,null,null,null,null,null,null,null,null,null,null,null,null,null,null,null,null,null,null,null,null,null,null,null,null,null,null,null,null,null,null,null,null,null,null,null,null,null,null,null,null,null,null,null,null,null,null,null,null,null,null,null,null,null,null,null,null,null,null,null,null,null,null,null,null,null,null,null,null,null,null,null,null,null,null,null,null,null,null,null,null,null,null,null,null,null,null,null,null,null,null,null,null,null,null,null,null,null,null,null,null,null,null,null,null,null,null,null,null,null,null,null,null,null,null,null,null,null,null,null,null,null,null,null,null,null,null,null,null,null,null,null,null,null,null,null,null,null,null,null,null,null,null,null,null,null,null,null,null,null,null,null,null,null,null,null,null,null,null,null,null,null,null,null,null,null,null,null,null,null,null,null,null,null,null,null,null,null,null,null,null,null,null,null,null,null,null,null,null,null,null,null,null,null,null,null,null,null,null,null,null,null,null,null,null,null,null,null,null,null,null,null,null,null,null,null,null,null,null,null,null,null,null,null,null,null,null,null,null,null,null,null,null,null,null,null,null,null,55,"AF4"]
[null,null,null,null,null,null,null,null,null,null,null,null,null,null,null,null,null,null,null,null,null,null,null,null,null,null,null,null,null,null,null,null,null,null,null,null,null,null,null,null,null,null,null,null,null,null,null,null,null,null,null,null,null,null,null,null,null,null,null,null,null,null,null,null,null,null,null,null,null,null,null,null,null,null,null,null,null,null,null,null,null,null,null,null,null,null,null,null,null,null,null,null,null,null,null,null,null,null,null,null,null,null,null,null,null,null,null,null,null,null,null,null,null,null,null,null,null,null,null,null,null,null,null,null,null,null,null,null,null,null,null,null,null,null,null,null,null,null,null,null,null,null,null,null,null,null,null,null,null,null,null,null,null,null,null,null,null,null,null,null,null,null,null,null,null,null,null,null,null,null,null,null,null,null,null,null,null,null,null,null,null,null,null,null,null,null,null,null,null,null,null,null,null,null,null,null,null,null,null,null,null,null,null,null,null,null,null,null,null,null,null,null,null,null,null,null,null,null,null,null,null,null,null,null,null,null,null,null,null,null,null,null,null,null,null,null,null,null,null,null,null,null,null,null,null,null,null,null,null,null,null,null,null,null,null,null,null,null,null,null,null,null,null,null,null,null,null,null,null,null,null,null,null,null,null,null,null,null,null,null,null,null,null,null,null,null,null,null,null,null,null,null,null,null,null,null,null,null,null,null,null,null,null,null,null,null,null,null,null,null,null,null,null,null,null,null,null,null,null,null,null,null,null,null,null,null,null,null,null,null,null,null,null,56,"AF5"]
[null,null,null,null,null,null,null,null,null,null,null,null,null,null,null,null,null,null,null,null,null,null,null,null,null,null,null,null,null,null,null,null,null,null,null,null,null,null,null,null,null,null,null,null,null,null,null,null,null,null,null,null,null,null,null,null,null,null,null,null,null,null,null,null,null,null,null,null,null,null,null,null,null,null,null,null,null,null,null,null,null,null,null,null,null,null,null,null,null,null,null,null,null,null,null,null,null,null,null,null,null,null,null,null,null,null,null,null,null,null,null,null,null,null,null,null,null,null,null,null,null,null,null,null,null,null,null,null,null,null,null,null,null,null,null,null,null,null,null,null,null,null,null,null,null,null,null,null,null,null,null,null,null,null,null,null,null,null,null,null,null,null,null,null,null,null,null,null,null,null,null,null,null,null,null,null,null,null,null,null,null,null,null,null,null,null,null,null,null,null,null,null,null,null,null,null,null,null,null,null,null,null,null,null,null,null,null,null,null,null,null,null,null,null,null,null,null,null,null,null,null,null,null,null,null,null,null,null,null,null,null,null,null,null,null,null,null,null,null,null,null,null,null,null,null,null,null,null,null,null,null,null,null,null,null,null,null,null,null,null,null,null,null,null,null,null,null,null,null,null,null,null,null,null,null,null,null,null,null,null,null,null,null,null,null,null,null,null,null,null,null,null,null,null,null,null,null,null,null,null,null,null,null,null,null,null,null,null,null,null,null,null,null,null,null,null,null,null,null,null,null,null,null,null,null,null,null,null,null,null,null,null,null,57,"AF6"]
[null,null,null,null,null,null,null,null,null,null,null,null,null,null,null,null,null,null,null,null,null,null,null,null,null,null,null,null,null,null,null,null,null,null,null,null,null,null,null,null,null,null,null,null,null,null,null,null,null,null,null,null,null,null,null,null,null,null,null,null,null,null,null,null,null,null,null,null,null,null,null,null,null,null,null,null,null,null,null,null,null,null,null,null,null,null,null,null,null,null,null,null,null,null,null,null,null,null,null,null,null,null,null,null,null,null,null,null,null,null,null,null,null,null,null,null,null,null,null,null,null,null,null,null,null,null,null,null,null,null,null,null,null,null,null,null,null,null,null,null,null,null,null,null,null,null,null,null,null,null,null,null,null,null,null,null,null,null,null,null,null,null,null,null,null,null,null,null,null,null,null,null,null,null,null,null,null,null,null,null,null,null,null,null,null,null,null,null,null,null,null,null,null,null,null,null,null,null,null,null,null,null,null,null,null,null,null,null,null,null,null,null,null,null,null,null,null,null,null,null,null,null,null,null,null,null,null,null,null,null,null,null,null,null,null,null,null,null,null,null,null,null,null,null,null,null,null,null,null,null,null,null,null,null,null,null,null,null,null,null,null,null,null,null,null,null,null,null,null,null,null,null,null,null,null,null,null,null,null,null,null,null,null,null,null,null,null,null,null,null,null,null,null,null,null,null,null,null,null,null,null,null,null,null,null,null,null,null,null,null,null,null,null,null,null,null,null,null,null,null,null,null,null,null,null,null,null,null,null,null,null,null,null,58,"AF7"]
[null,null,null,null,null,null,null,null,null,null,null,null,null,null,null,null,null,null,null,null,null,null,null,null,null,null,null,null,null,null,null,null,null,null,null,null,null,null,null,null,null,null,null,null,null,null,null,null,null,null,null,null,null,null,null,null,null,null,null,null,null,null,null,null,null,null,null,null,null,null,null,null,null,null,null,null,null,null,null,null,null,null,null,null,null,null,null,null,null,null,null,null,null,null,null,null,null,null,null,null,null,null,null,null,null,null,null,null,null,null,null,null,null,null,null,null,null,null,null,null,null,null,null,null,null,null,null,null,null,null,null,null,null,null,null,null,null,null,null,null,null,null,null,null,null,null,null,null,null,null,null,null,null,null,null,null,null,null,null,null,null,null,null,null,null,null,null,null,null,null,null,null,null,null,null,null,null,null,null,null,null,null,null,null,null,null,null,null,null,null,null,null,null,null,null,null,null,null,null,null,null,null,null,null,null,null,null,null,null,null,null,null,null,null,null,null,null,null,null,null,null,null,null,null,null,null,null,null,null,null,null,null,null,null,null,null,null,null,null,null,null,null,null,null,null,null,null,null,null,null,null,null,null,null,null,null,null,null,null,null,null,null,null,null,null,null,null,null,null,null,null,null,null,null,null,null,null,null,null,null,null,null,null,null,null,null,null,null,null,null,null,null,null,null,null,null,null,null,null,null,null,null,null,null,null,null,null,null,null,null,null,null,null,null,null,null,null,null,null,null,null,null,null,null,null,null,null,null,null,null,null,null,null,59,"AF8"]
[null,null,null,null,null,null,null,null,null,null,null,null,null,null,null,null,null,null,null,null,null,null,null,null,null,null,null,null,null,null,null,null,null,null,null,null,null,null,null,null,null,null,null,null,null,null,null,null,null,null,null,null,null,null,null,null,null,null,null,null,null,null,null,null,null,null,null,null,null,null,null,null,null,null,null,null,null,null,null,null,null,null,null,null,null,null,null,null,null,null,null,null,null,null,null,null,null,null,null,null,null,null,null,null,null,null,null,null,null,null,null,null,null,null,null,null,null,null,null,null,null,null,null,null,null,null,null,null,null,null,null,null,null,null,null,null,null,null,null,null,null,null,null,null,null,null,null,null,null,null,null,null,null,null,null,null,null,null,null,null,null,null,null,null,null,null,null,null,null,null,null,null,null,null,null,null,null,null,null,null,null,null,null,null,null,null,null,null,null,null,null,null,null,null,null,null,null,null,null,null,null,null,null,null,null,null,null,null,null,null,null,null,null,null,null,null,null,null,null,null,null,null,null,null,null,null,null,null,null,null,null,null,null,null,null,null,null,null,null,null,null,null,null,null,null,null,null,null,null,null,null,null,null,null,null,null,null,null,null,null,null,null,null,null,null,null,null,null,null,null,null,null,null,null,null,null,null,null,null,null,null,null,null,null,null,null,null,null,null,null,null,null,null,null,null,null,null,null,null,null,null,null,null,null,null,null,null,null,null,null,null,null,null,null,null,null,null,null,null,null,null,null,null,null,null,null,null,null,null,null,null,null,null,60,"AF9"]
[null,null,null,null,null,null,null,null,null,null,null,null,null,null,null,null,null,null,null,null,null,null,null,null,null,null,null,null,null,null,null,null,null,null,null,null,null,null,null,null,null,null,null,null,null,null,null,null,null,null,null,null,null,null,null,null,null,null,null,null,null,null,null,null,null,null,null,null,null,null,null,null,null,null,null,null,null,null,null,null,null,null,null,null,null,null,null,null,null,null,null,null,null,null,null,null,null,null,null,null,null,null,null,null,null,null,null,null,null,null,null,null,null,null,null,null,null,null,null,null,null,null,null,null,null,null,null,null,null,null,null,null,null,null,null,null,null,null,null,null,null,null,null,null,null,null,null,null,null,null,null,null,null,null,null,null,null,null,null,null,null,null,null,null,null,null,null,null,null,null,null,null,null,null,null,null,null,null,null,null,null,null,null,null,null,null,null,null,null,null,null,null,null,null,null,null,null,null,null,null,null,null,null,null,null,null,null,null,null,null,null,null,null,null,null,null,null,null,null,null,null,null,null,null,null,null,null,null,null,null,null,null,null,null,null,null,null,null,null,null,null,null,null,null,null,null,null,null,null,null,null,null,null,null,null,null,null,null,null,null,null,null,null,null,null,null,null,null,null,null,null,null,null,null,null,null,null,null,null,null,null,null,null,null,null,null,null,null,null,null,null,null,null,null,null,null,null,null,null,null,null,null,null,null,null,null,null,null,null,null,null,null,null,null,null,null,null,null,null,null,null,null,null,null,null,null,null,null,null,null,null,null,null,61,"AG0"]
[null,null,null,null,null,null,null,null,null,null,null,null,null,null,null,null,null,null,null,null,null,null,null,null,null,null,null,null,null,null,null,null,null,null,null,null,null,null,null,null,null,null,null,null,null,null,null,null,null,null,null,null,null,null,null,null,null,null,null,null,null,null,null,null,null,null,null,null,null,null,null,null,null,null,null,null,null,null,null,null,null,null,null,null,null,null,null,null,null,null,null,null,null,null,null,null,null,null,null,null,null,null,null,null,null,null,null,null,null,null,null,null,null,null,null,null,null,null,null,null,null,null,null,null,null,null,null,null,null,null,null,null,null,null,null,null,null,null,null,null,null,null,null,null,null,null,null,null,null,null,null,null,null,null,null,null,null,null,null,null,null,null,null,null,null,null,null,null,null,null,null,null,null,null,null,null,null,null,null,null,null,null,null,null,null,null,null,null,null,null,null,null,null,null,null,null,null,null,null,null,null,null,null,null,null,null,null,null,null,null,null,null,null,null,null,null,null,null,null,null,null,null,null,null,null,null,null,null,null,null,null,null,null,null,null,null,null,null,null,null,null,null,null,null,null,null,null,null,null,null,null,null,null,null,null,null,null,null,null,null,null,null,null,null,null,null,null,null,null,null,null,null,null,null,null,null,null,null,null,null,null,null,null,null,null,null,null,null,null,null,null,null,null,null,null,null,null,null,null,null,null,null,null,null,null,null,null,null,null,null,null,null,null,null,null,null,null,null,null,null,null,null,null,null,null,null,null,null,null,null,null,null,null,62,"AG1"]
[null,null,null,null,null,null,null,null,null,null,null,null,null,null,null,null,null,null,null,null,null,null,null,null,null,null,null,null,null,null,null,null,null,null,null,null,null,null,null,null,null,null,null,null,null,null,null,null,null,null,null,null,null,null,null,null,null,null,null,null,null,null,null,null,null,null,null,null,null,null,null,null,null,null,null,null,null,null,null,null,null,null,null,null,null,null,null,null,null,null,null,null,null,null,null,null,null,null,null,null,null,null,null,null,null,null,null,null,null,null,null,null,null,null,null,null,null,null,null,null,null,null,null,null,null,null,null,null,null,null,null,null,null,null,null,null,null,null,null,null,null,null,null,null,null,null,null,null,null,null,null,null,null,null,null,null,null,null,null,null,null,null,null,null,null,null,null,null,null,null,null,null,null,null,null,null,null,null,null,null,null,null,null,null,null,null,null,null,null,null,null,null,null,null,null,null,null,null,null,null,null,null,null,null,null,null,null,null,null,null,null,null,null,null,null,null,null,null,null,null,null,null,null,null,null,null,null,null,null,null,null,null,null,null,null,null,null,null,null,null,null,null,null,null,null,null,null,null,null,null,null,null,null,null,null,null,null,null,null,null,null,null,null,null,null,null,null,null,null,null,null,null,null,null,null,null,null,null,null,null,null,null,null,null,null,null,null,null,null,null,null,null,null,null,null,null,null,null,null,null,null,null,null,null,null,null,null,null,null,null,null,null,null,null,null,null,null,null,null,null,null,null,null,null,null,null,null,null,null,null,null,null,null,63,"AG2"]
[null,null,null,null,null,null,null,null,null,null,null,null,null,null,null,null,null,null,null,null,null,null,null,null,null,null,null,null,null,null,null,null,null,null,null,null,null,null,null,null,null,null,null,null,null,null,null,null,null,null,null,null,null,null,null,null,null,null,null,null,null,null,null,null,null,null,null,null,null,null,null,null,null,null,null,null,null,null,null,null,null,null,null,null,null,null,null,null,null,null,null,null,null,null,null,null,null,null,null,null,null,null,null,null,null,null,null,null,null,null,null,null,null,null,null,null,null,null,null,null,null,null,null,null,null,null,null,null,null,null,null,null,null,null,null,null,null,null,null,null,null,null,null,null,null,null,null,null,null,null,null,null,null,null,null,null,null,null,null,null,null,null,null,null,null,null,null,null,null,null,null,null,null,null,null,null,null,null,null,null,null,null,null,null,null,null,null,null,null,null,null,null,null,null,null,null,null,null,null,null,null,null,null,null,null,null,null,null,null,null,null,null,null,null,null,null,null,null,null,null,null,null,null,null,null,null,null,null,null,null,null,null,null,null,null,null,null,null,null,null,null,null,null,null,null,null,null,null,null,null,null,null,null,null,null,null,null,null,null,null,null,null,null,null,null,null,null,null,null,null,null,null,null,null,null,null,null,null,null,null,null,null,null,null,null,null,null,null,null,null,null,null,null,null,null,null,null,null,null,null,null,null,null,null,null,null,null,null,null,null,null,null,null,null,null,null,null,null,null,null,null,null,null,null,null,null,null,null,null,null,null,null,null,64,"AG3"]
[null,null,null,null,null,null,null,null,null,null,null,null,null,null,null,null,null,null,null,null,null,null,null,null,null,null,null,null,null,null,null,null,null,null,null,null,null,null,null,null,null,null,null,null,null,null,null,null,null,null,null,null,null,null,null,null,null,null,null,null,null,null,null,null,null,null,null,null,null,null,null,null,null,null,null,null,null,null,null,null,null,null,null,null,null,null,null,null,null,null,null,null,null,null,null,null,null,null,null,null,null,null,null,null,null,null,null,null,null,null,null,null,null,null,null,null,null,null,null,null,null,null,null,null,null,null,null,null,null,null,null,null,null,null,null,null,null,null,null,null,null,null,null,null,null,null,null,null,null,null,null,null,null,null,null,null,null,null,null,null,null,null,null,null,null,null,null,null,null,null,null,null,null,null,null,null,null,null,null,null,null,null,null,null,null,null,null,null,null,null,null,null,null,null,null,null,null,null,null,null,null,null,null,null,null,null,null,null,null,null,null,null,null,null,null,null,null,null,null,null,null,null,null,null,null,null,null,null,null,null,null,null,null,null,null,null,null,null,null,null,null,null,null,null,null,null,null,null,null,null,null,null,null,null,null,null,null,null,null,null,null,null,null,null,null,null,null,null,null,null,null,null,null,null,null,null,null,null,null,null,null,null,null,null,null,null,null,null,null,null,null,null,null,null,null,null,null,null,null,null,null,null,null,null,null,null,null,null,null,null,null,null,null,null,null,null,null,null,null,null,null,null,null,null,null,null,null,null,null,null,null,null,null,65,"AG4"]
[null,null,null,null,null,null,null,null,null,null,null,null,null,null,null,null,null,null,null,null,null,null,null,null,null,null,null,null,null,null,null,null,null,null,null,null,null,null,null,null,null,null,null,null,null,null,null,null,null,null,null,null,null,null,null,null,null,null,null,null,null,null,null,null,null,null,null,null,null,null,null,null,null,null,null,null,null,null,null,null,null,null,null,null,null,null,null,null,null,null,null,null,null,null,null,null,null,null,null,null,null,null,null,null,null,null,null,null,null,null,null,null,null,null,null,null,null,null,null,null,null,null,null,null,null,null,null,null,null,null,null,null,null,null,null,null,null,null,null,null,null,null,null,null,null,null,null,null,null,null,null,null,null,null,null,null,null,null,null,null,null,null,null,null,null,null,null,null,null,null,null,null,null,null,null,null,null,null,null,null,null,null,null,null,null,null,null,null,null,null,null,null,null,null,null,null,null,null,null,null,null,null,null,null,null,null,null,null,null,null,null,null,null,null,null,null,null,null,null,null,null,null,null,null,null,null,null,null,null,null,null,null,null,null,null,null,null,null,null,null,null,null,null,null,null,null,null,null,null,null,null,null,null,null,null,null,null,null,null,null,null,null,null,null,null,null,null,null,null,null,null,null,null,null,null,null,null,null,null,null,null,null,null,null,null,null,null,null,null,null,null,null,null,null,null,null,null,null,null,null,null,null,null,null,null,null,null,null,null,null,null,null,null,null,null,null,null,null,null,null,null,null,null,null,null,null,null,null,null,null,null,null,null,66,"AG5"]
[null,null,null,null,null,null,null,null,null,null,null,null,null,null,null,null,null,null,null,null,null,null,null,null,null,null,null,null,null,null,null,null,null,null,null,null,null,null,null,null,null,null,null,null,null,null,null,null,null,null,null,null,null,null,null,null,null,null,null,null,null,null,null,null,null,null,null,null,null,null,null,null,null,null,null,null,null,null,null,null,null,null,null,null,null,null,null,null,null,null,null,null,null,null,null,null,null,null,null,null,null,null,null,null,null,null,null,null,null,null,null,null,null,null,null,null,null,null,null,null,null,null,null,null,null,null,null,null,null,null,null,null,null,null,null,null,null,null,null,null,null,null,null,null,null,null,null,null,null,null,null,null,null,null,null,null,null,null,null,null,null,null,null,null,null,null,null,null,null,null,null,null,null,null,null,null,null,null,null,null,null,null,null,null,null,null,null,null,null,null,null,null,null,null,null,null,null,null,null,null,null,null,null,null,null,null,null,null,null,null,null,null,null,null,null,null,null,null,null,null,null,null,null,null,null,null,null,null,null,null,null,null,null,null,null,null,null,null,null,null,null,null,null,null,null,null,null,null,null,null,null,null,null,null,null,null,null,null,null,null,null,null,null,null,null,null,null,null,null,null,null,null,null,null,null,null,null,null,null,null,null,null,null,null,null,null,null,null,null,null,null,null,null,null,null,null,null,null,null,null,null,null,null,null,null,null,null,null,null,null,null,null,null,null,null,null,null,null,null,null,null,null,null,null,null,null,null,null,null,null,null,null,null,67,"AG6"]
[null,null,null,null,null,null,null,null,null,null,null,null,null,null,null,null,null,null,null,null,null,null,null,null,null,null,null,null,null,null,null,null,null,null,null,null,null,null,null,null,null,null,null,null,null,null,null,null,null,null,null,null,null,null,null,null,null,null,null,null,null,null,null,null,null,null,null,null,null,null,null,null,null,null,null,null,null,null,null,null,null,null,null,null,null,null,null,null,null,null,null,null,null,null,null,null,null,null,null,null,null,null,null,null,null,null,null,null,null,null,null,null,null,null,null,null,null,null,null,null,null,null,null,null,null,null,null,null,null,null,null,null,null,null,null,null,null,null,null,null,null,null,null,null,null,null,null,null,null,null,null,null,null,null,null,null,null,null,null,null,null,null,null,null,null,null,null,null,null,null,null,null,null,null,null,null,null,null,null,null,null,null,null,null,null,null,null,null,null,null,null,null,null,null,null,null,null,null,null,null,null,null,null,null,null,null,null,null,null,null,null,null,null,null,null,null,null,null,null,null,null,null,null,null,null,null,null,null,null,null,null,null,null,null,null,null,null,null,null,null,null,null,null,null,null,null,null,null,null,null,null,null,null,null,null,null,null,null,null,null,null,null,null,null,null,null,null,null,null,null,null,null,null,null,null,null,null,null,null,null,null,null,null,null,null,null,null,null,null,null,null,null,null,null,null,null,null,null,null,null,null,null,null,null,null,null,null,null,null,null,null,null,null,null,null,null,null,null,null,null,null,null,null,null,null,null,null,null,null,null,null,null,null,68,"AG7"]
[null,null,null,null,null,null,null,null,null,null,null,null,null,null,null,null,null,null,null,null,null,null,null,null,null,null,null,null,null,null,null,null,null,null,null,null,null,null,null,null,null,null,null,null,null,null,null,null,null,null,null,null,null,null,null,null,null,null,null,null,null,null,null,null,null,null,null,null,null,null,null,null,null,null,null,null,null,null,null,null,null,null,null,null,null,null,null,null,null,null,null,null,null,null,null,null,null,null,null,null,null,null,null,null,null,null,null,null,null,null,null,null,null,null,null,null,null,null,null,null,null,null,null,null,null,null,null,null,null,null,null,null,null,null,null,null,null,null,null,null,null,null,null,null,null,null,null,null,null,null,null,null,null,null,null,null,null,null,null,null,null,null,null,null,null,null,null,null,null,null,null,null,null,null,null,null,null,null,null,null,null,null,null,null,null,null,null,null,null,null,null,null,null,null,null,null,null,null,null,null,null,null,null,null,null,null,null,null,null,null,null,null,null,null,null,null,null,null,null,null,null,null,null,null,null,null,null,null,null,null,null,null,null,null,null,null,null,null,null,null,null,null,null,null,null,null,null,null,null,null,null,null,null,null,null,null,null,null,null,null,null,null,null,null,null,null,null,null,null,null,null,null,null,null,null,null,null,null,null,null,null,null,null,null,null,null,null,null,null,null,null,null,null,null,null,null,null,null,null,null,null,null,null,null,null,null,null,null,null,null,null,null,null,null,null,null,null,null,null,null,null,null,null,null,null,null,null,null,null,null,null,null,null,69,"AG8"]
[null,null,null,null,null,null,null,null,null,null,null,null,null,null,null,null,null,null,null,null,null,null,null,null,null,null,null,null,null,null,null,null,null,null,null,null,null,null,null,null,null,null,null,null,null,null,null,null,null,null,null,null,null,null,null,null,null,null,null,null,null,null,null,null,null,null,null,null,null,null,null,null,null,null,null,null,null,null,null,null,null,null,null,null,null,null,null,null,null,null,null,null,null,null,null,null,null,null,null,null,null,null,null,null,null,null,null,null,null,null,null,null,null,null,null,null,null,null,null,null,null,null,null,null,null,null,null,null,null,null,null,null,null,null,null,null,null,null,null,null,null,null,null,null,null,null,null,null,null,null,null,null,null,null,null,null,null,null,null,null,null,null,null,null,null,null,null,null,null,null,null,null,null,null,null,null,null,null,null,null,null,null,null,null,null,null,null,null,null,null,null,null,null,null,null,null,null,null,null,null,null,null,null,null,null,null,null,null,null,null,null,null,null,null,null,null,null,null,null,null,null,null,null,null,null,null,null,null,null,null,null,null,null,null,null,null,null,null,null,null,null,null,null,null,null,null,null,null,null,null,null,null,null,null,null,null,null,null,null,null,null,null,null,null,null,null,null,null,null,null,null,null,null,null,null,null,null,null,null,null,null,null,null,null,null,null,null,null,null,null,null,null,null,null,null,null,null,null,null,null,null,null,null,null,null,null,null,null,null,null,null,null,null,null,null,null,null,null,null,null,null,null,null,null,null,null,null,null,null,null,null,null,null,70,"AG9"]
[null,null,null,null,null,null,null,null,null,null,null,null,null,null,null,null,null,null,null,null,null,null,null,null,null,null,null,null,null,null,null,null,null,null,null,null,null,null,null,null,null,null,null,null,null,null,null,null,null,null,null,null,null,null,null,null,null,null,null,null,null,null,null,null,null,null,null,null,null,null,null,null,null,null,null,null,null,null,null,null,null,null,null,null,null,null,null,null,null,null,null,null,null,null,null,null,null,null,null,null,null,null,null,null,null,null,null,null,null,null,null,null,null,null,null,null,null,null,null,"Consoled Wk Scores Staff #1",null,null,null,null,null,null,null,null,null,null,null,null,null,null,null,null,null,null,null,null,null,null,null,null,null,null,null,null,null,null,null,null,null,null,null,null,null,null,null,null,null,null,null,null,null,null,null,null,null,null,null,null,null,null,null,null,null,null,null,null,null,null,null,null,null,null,null,null,null,null,null,null,null,null,null,null,null,null,null,null,null,null,null,null,null,null,null,null,null,null,null,null,null,null,null,null,null,null,null,null,null,null,null,null,null,null,null,null,null,null,null,null,null,null,null,null,null,null,null,null,null,null,null,null,null,null,null,null,null,null,null,null,null,null,null,null,null,null,null,null,null,null,null,null,null,null,null,null,null,null,null,null,null,null,null,null,null,null,null,null,null,null,null,null,null,null,null,null,null,null,null,null,null,null,null,null,null,null,null,null,null,null,null,null,null,null,null,null,null,null,null,null,null,null,null,null,null,null,null,null,null,null,null,null,null,null,null,null,null,null,null,null,null,71,"AH0"]
[null,null,null,null,null,null,null,null,null,null,null,null,null,null,null,null,null,null,null,null,null,null,null,null,null,null,null,null,null,null,null,null,null,null,null,null,null,null,null,null,null,null,null,null,null,null,null,null,null,null,null,null,null,null,null,null,null,null,null,null,null,null,null,null,null,null,null,null,null,null,null,null,null,null,null,null,null,null,null,null,null,null,null,null,null,null,null,null,null,null,null,null,null,null,null,null,null,null,null,null,null,null,null,null,null,null,null,null,null,null,null,null,null,null,null,null,null,null,null,{"$f":"IF(BE213=\"\",\"\",BE213)","v":0},{"$f":"IF(BF213=\"\",\"\",BF213)","v":0},0,0,0,11.5,11.5,11.5,11.5,11.5,11.5,11.5,11.5,11.5,11.5,11.5,11.5,{"$f":"IF(BV213=\"\",\"\",BV213)","v":11.5},11.5,11.5,11.5,27.5,27.5,27.5,27.5,27.5,27.5,27.5,42.1,42.1,42.1,42.1,42.1,{"$f":"IF(CL213=\"\",\"\",CL213)","v":42.1},42.1,42.1,42.1,42.1,42.1,66.400000000000006,66.400000000000006,66.400000000000006,66.400000000000006,66.400000000000006,66.400000000000006,66.400000000000006,66.400000000000006,66.400000000000006,66.400000000000006,{"$f":"IF(DB213=\"\",\"\",DB213)","v":66.400000000000006},66.400000000000006,100,null,null,null,null,null,null,null,null,null,null,null,null,null,null,null,null,null,null,null,null,null,null,null,null,null,null,null,null,null,null,null,null,null,null,null,null,null,null,null,null,null,null,null,null,null,null,null,null,null,null,null,null,null,null,null,null,null,null,null,null,null,null,null,null,null,null,null,null,null,null,null,null,null,null,null,null,null,null,null,null,null,null,null,null,null,null,null,null,null,null,null,null,null,null,null,null,null,null,null,null,null,null,null,null,null,null,null,null,null,null,null,null,null,null,null,null,null,null,null,null,null,null,null,null,null,null,null,null,null,null,null,null,null,null,null,null,null,null,null,null,null,null,null,null,null,null,null,null,null,null,null,null,null,null,null,null,null,null,null,null,null,null,72,"AH1"]
[null,null,null,null,null,null,null,null,null,null,null,null,null,null,null,null,null,null,null,null,null,null,null,null,null,null,null,null,null,null,null,null,null,null,null,null,null,null,null,null,null,null,null,null,null,null,null,null,null,null,null,null,null,null,null,null,null,null,null,null,null,null,null,null,null,null,null,null,null,null,null,null,null,null,null,null,null,null,null,null,null,null,null,null,null,null,null,null,null,null,null,null,null,null,null,null,null,null,null,null,null,null,null,null,null,null,null,null,null,null,null,null,null,null,null,null,null,null,null,{"$f":"IF(BE214=\"\",\"\",BE214)","v":100},100,89.473684210000002,100,100,100,89.473684210000002,100,100,100,100,100,94.736842109999998,100,100,89.473684210000002,100,100,100,100,100,63.157894740000003,100,100,84.21052632,100,100,100,100,89.473684210000002,100,100,100,100,94.736842109999998,100,100,100,94.736842109999998,89.473684210000002,100,100,100,100,89.473684210000002,100,100,100,100,94.736842109999998,100,100,null,null,null,null,null,null,null,null,null,null,null,null,null,null,null,null,null,null,null,null,null,null,null,null,null,null,null,null,null,null,null,null,null,null,null,null,null,null,null,null,null,null,null,null,null,null,null,null,null,null,null,null,null,null,null,null,null,null,null,null,null,null,null,null,null,null,null,null,null,null,null,null,null,null,null,null,null,null,null,null,null,null,null,null,null,null,null,null,null,null,null,null,null,null,null,null,null,null,null,null,null,null,null,null,null,null,null,null,null,null,null,null,null,null,null,null,null,null,null,null,null,null,null,null,null,null,null,null,null,null,null,null,null,null,null,null,null,null,null,null,null,null,null,null,null,null,null,null,null,null,null,null,null,null,null,null,null,null,null,null,null,null,73,"AH2"]
[null,null,null,null,null,null,null,null,null,null,null,null,null,null,null,null,null,null,null,null,null,null,null,null,null,null,null,null,null,null,null,null,null,null,null,null,null,null,null,null,null,null,null,null,null,null,null,null,null,null,null,null,null,null,null,null,null,null,null,null,null,null,null,null,null,null,null,null,null,null,null,null,null,null,null,null,null,null,null,null,null,null,null,null,null,null,null,null,null,null,null,null,null,null,null,null,null,null,null,null,null,null,null,null,null,null,null,null,null,null,null,null,null,null,null,null,null,null,null,"",70,"",41.25,"",45,"",45,"",73.75,"",35.625,"",77.5,"",80.625,"",100,"",94.375,"",61.875,"",98.125,"",90.625,"",100,"",100,"",100,"",98.75,"",87.5,"",100,"",76.875,"",100,"",88.125,"",100,"",85.625,"",100,"",90.625,null,null,null,null,null,null,null,null,null,null,null,null,null,null,null,null,null,null,null,null,null,null,null,null,null,null,null,null,null,null,null,null,null,null,null,null,null,null,null,null,null,null,null,null,null,null,null,null,null,null,null,null,null,null,null,null,null,null,null,null,null,null,null,null,null,null,null,null,null,null,null,null,null,null,null,null,null,null,null,null,null,null,null,null,null,null,null,null,null,null,null,null,null,null,null,null,null,null,null,null,null,null,null,null,null,null,null,null,null,null,null,null,null,null,null,null,null,null,null,null,null,null,null,null,null,null,null,null,null,null,null,null,null,null,null,null,null,null,null,null,null,null,null,null,null,null,null,null,null,null,null,null,null,null,null,null,null,null,null,null,null,null,74,"AH3"]
[null,null,null,null,null,null,null,null,null,null,null,null,null,null,null,null,null,null,null,null,null,null,null,null,null,null,null,null,null,null,null,null,null,null,null,null,null,null,null,null,null,null,null,null,null,null,null,null,null,null,null,null,null,null,null,null,null,null,null,null,null,null,null,null,null,null,null,null,null,null,null,null,null,null,null,null,null,null,null,null,null,null,null,null,null,null,null,null,null,null,null,null,null,null,null,null,null,null,null,null,null,null,null,null,null,null,null,null,null,null,null,null,null,null,null,null,null,null,null,78.947368420000004,84.21052632,73.684210530000001,63.157894740000003,57.89473684,57.89473684,57.89473684,63.157894740000003,78.947368420000004,78.947368420000004,73.684210530000001,57.89473684,78.947368420000004,84.21052632,84.21052632,84.21052632,89.473684210000002,89.473684210000002,94.736842109999998,94.736842109999998,94.736842109999998,89.473684210000002,89.473684210000002,94.736842109999998,84.21052632,89.473684210000002,94.736842109999998,94.736842109999998,100,94.736842109999998,94.736842109999998,94.736842109999998,84.21052632,84.21052632,89.473684210000002,89.473684210000002,89.473684210000002,84.21052632,94.736842109999998,94.736842109999998,100,100,94.736842109999998,100,94.736842109999998,100,89.473684210000002,89.473684210000002,89.473684210000002,84.21052632,84.21052632,89.473684210000002,null,null,null,null,null,null,null,null,null,null,null,null,null,null,null,null,null,null,null,null,null,null,null,null,null,null,null,null,null,null,null,null,null,null,null,null,null,null,null,null,null,null,null,null,null,null,null,null,null,null,null,null,null,null,null,null,null,null,null,null,null,null,null,null,null,null,null,null,null,null,null,null,null,null,null,null,null,null,null,null,null,null,null,null,null,null,null,null,null,null,null,null,null,null,null,null,null,null,null,null,null,null,null,null,null,null,null,null,null,null,null,null,null,null,null,null,null,null,null,null,null,null,null,null,null,null,null,null,null,null,null,null,null,null,null,null,null,null,null,null,null,null,null,null,null,null,null,null,null,null,null,null,null,null,null,null,null,null,null,null,null,null,75,"AH4"]
[null,null,null,null,null,null,null,null,null,null,null,null,null,null,null,null,null,null,null,null,null,null,null,null,null,null,null,null,null,null,null,null,null,null,null,null,null,null,null,null,null,null,null,null,null,null,null,null,null,null,null,null,null,null,null,null,null,null,null,null,null,null,null,null,null,null,null,null,null,null,null,null,null,null,null,null,null,null,null,null,null,null,null,null,null,null,null,null,null,null,null,null,null,null,null,null,null,null,null,null,null,null,null,null,null,null,null,null,null,null,null,null,null,null,null,null,null,null,null,"","","","",0,0,0,0,0,0,0,0,0,0,0,0,0,0,0,0,0,0,0,0,0,0,0,0,0,0,0,0,0,0,100,100,100,100,100,100,100,100,100,100,100,100,100,100,100,100,100,100,null,null,null,null,null,null,null,null,null,null,null,null,null,null,null,null,null,null,null,null,null,null,null,null,null,null,null,null,null,null,null,null,null,null,null,null,null,null,null,null,null,null,null,null,null,null,null,null,null,null,null,null,null,null,null,null,null,null,null,null,null,null,null,null,null,null,null,null,null,null,null,null,null,null,null,null,null,null,null,null,null,null,null,null,null,null,null,null,null,null,null,null,null,null,null,null,null,null,null,null,null,null,null,null,null,null,null,null,null,null,null,null,null,null,null,null,null,null,null,null,null,null,null,null,null,null,null,null,null,null,null,null,null,null,null,null,null,null,null,null,null,null,null,null,null,null,null,null,null,null,null,null,null,null,null,null,null,null,null,null,null,null,76,"AH5"]
[null,null,null,null,null,null,null,null,null,null,null,null,null,null,null,null,null,null,null,null,null,null,null,null,null,null,null,null,null,null,null,null,null,null,null,null,null,null,null,null,null,null,null,null,null,null,null,null,null,null,null,null,null,null,null,null,null,null,null,null,null,null,null,null,null,null,null,null,null,null,null,null,null,null,null,null,null,null,null,null,null,null,null,null,null,null,null,null,null,null,null,null,null,null,null,null,null,null,null,null,null,null,null,null,null,null,null,null,null,null,null,null,null,null,null,null,null,null,null,"","","","","","","","","","","","","","","","","","","","","","","","","","","","","","","","","","","","","","","","","","","","","","","","","","","","",null,null,null,null,null,null,null,null,null,null,null,null,null,null,null,null,null,null,null,null,null,null,null,null,null,null,null,null,null,null,null,null,null,null,null,null,null,null,null,null,null,null,null,null,null,null,null,null,null,null,null,null,null,null,null,null,null,null,null,null,null,null,null,null,null,null,null,null,null,null,null,null,null,null,null,null,null,null,null,null,null,null,null,null,null,null,null,null,null,null,null,null,null,null,null,null,null,null,null,null,null,null,null,null,null,null,null,null,null,null,null,null,null,null,null,null,null,null,null,null,null,null,null,null,null,null,null,null,null,null,null,null,null,null,null,null,null,null,null,null,null,null,null,null,null,null,null,null,null,null,null,null,null,null,null,null,null,null,null,null,null,null,77,"AH6"]
[null,null,null,null,null,null,null,null,null,null,null,null,null,null,null,null,null,null,null,null,null,null,null,null,null,null,null,null,null,null,null,null,null,null,null,null,null,null,null,null,null,null,null,null,null,null,null,null,null,null,null,null,null,null,null,null,null,null,null,null,null,null,null,null,null,null,null,null,null,null,null,null,null,null,null,null,null,null,null,null,null,null,null,null,null,null,null,null,null,null,null,null,null,null,null,null,null,null,null,null,null,null,null,null,null,null,null,null,null,null,null,null,null,null,null,null,null,null,null,"","","","","","","","","","","","","","","","","","","","","","","","","","","","","","","","","","","","","","","","","","","","","","","","","","","","",null,null,null,null,null,null,null,null,null,null,null,null,null,null,null,null,null,null,null,null,null,null,null,null,null,null,null,null,null,null,null,null,null,null,null,null,null,null,null,null,null,null,null,null,null,null,null,null,null,null,null,null,null,null,null,null,null,null,null,null,null,null,null,null,null,null,null,null,null,null,null,null,null,null,null,null,null,null,null,null,null,null,null,null,null,null,null,null,null,null,null,null,null,null,null,null,null,null,null,null,null,null,null,null,null,null,null,null,null,null,null,null,null,null,null,null,null,null,null,null,null,null,null,null,null,null,null,null,null,null,null,null,null,null,null,null,null,null,null,null,null,null,null,null,null,null,null,null,null,null,null,null,null,null,null,null,null,null,null,null,null,null,78,"AH7"]
[null,null,null,null,null,null,null,null,null,null,null,null,null,null,null,null,null,null,null,null,null,null,null,null,null,null,null,null,null,null,null,null,null,null,null,null,null,null,null,null,null,null,null,null,null,null,null,null,null,null,null,null,null,null,null,null,null,null,null,null,null,null,null,null,null,null,null,null,null,null,null,null,null,null,null,null,null,null,null,null,null,null,null,null,null,null,null,null,null,null,null,null,null,null,null,null,null,null,null,null,null,null,null,null,null,null,null,null,null,null,null,null,null,null,null,null,null,null,null,"","","","","","","","","","","","","","","","","","","","","","","","","","","","","","","","","","","","","","","","","","","","","","","","","","","","",null,null,null,null,null,null,null,null,null,null,null,null,null,null,null,null,null,null,null,null,null,null,null,null,null,null,null,null,null,null,null,null,null,null,null,null,null,null,null,null,null,null,null,null,null,null,null,null,null,null,null,null,null,null,null,null,null,null,null,null,null,null,null,null,null,null,null,null,null,null,null,null,null,null,null,null,null,null,null,null,null,null,null,null,null,null,null,null,null,null,null,null,null,null,null,null,null,null,null,null,null,null,null,null,null,null,null,null,null,null,null,null,null,null,null,null,null,null,null,null,null,null,null,null,null,null,null,null,null,null,null,null,null,null,null,null,null,null,null,null,null,null,null,null,null,null,null,null,null,null,null,null,null,null,null,null,null,null,null,null,null,null,79,"AH8"]
[null,null,null,null,null,null,null,null,null,null,null,null,null,null,null,null,null,null,null,null,null,null,null,null,null,null,null,null,null,null,null,null,null,null,null,null,null,null,null,null,null,null,null,null,null,null,null,null,null,null,null,null,null,null,null,null,null,null,null,null,null,null,null,null,null,null,null,null,null,null,null,null,null,null,null,null,null,null,null,null,null,null,null,null,null,null,null,null,null,null,null,null,null,null,null,null,null,null,null,null,null,null,null,null,null,null,null,null,null,null,null,null,null,null,null,null,null,null,null,"","","","","","","","","","","","","","","","","","","","","","","","","","","","","","","","","","","","","","","","","","","","","","","","","","","","",null,null,null,null,null,null,null,null,null,null,null,null,null,null,null,null,null,null,null,null,null,null,null,null,null,null,null,null,null,null,null,null,null,null,null,null,null,null,null,null,null,null,null,null,null,null,null,null,null,null,null,null,null,null,null,null,null,null,null,null,null,null,null,null,null,null,null,null,null,null,null,null,null,null,null,null,null,null,null,null,null,null,null,null,null,null,null,null,null,null,null,null,null,null,null,null,null,null,null,null,null,null,null,null,null,null,null,null,null,null,null,null,null,null,null,null,null,null,null,null,null,null,null,null,null,null,null,null,null,null,null,null,null,null,null,null,null,null,null,null,null,null,null,null,null,null,null,null,null,null,null,null,null,null,null,null,null,null,null,null,null,null,80,"AH9"]
[null,null,null,null,null,null,null,null,null,null,null,null,null,null,null,null,null,null,null,null,null,null,null,null,null,null,null,null,null,null,null,null,null,null,null,null,null,null,null,null,null,null,null,null,null,null,null,null,null,null,null,null,null,null,null,null,null,null,null,null,null,null,null,null,null,null,null,null,null,null,null,null,null,null,null,null,null,null,null,null,null,null,null,null,null,null,null,null,null,null,null,null,null,null,null,null,null,null,null,null,null,null,null,null,null,null,null,null,null,null,null,null,null,null,null,null,null,null,null,"","","","","","","","","","","","","","","","","","","","","","","","","","","","","","","","","","","","","","","","","","","","","","","","","","","","",null,null,null,null,null,null,null,null,null,null,null,null,null,null,null,null,null,null,null,null,null,null,null,null,null,null,null,null,null,null,null,null,null,null,null,null,null,null,null,null,null,null,null,null,null,null,null,null,null,null,null,null,null,null,null,null,null,null,null,null,null,null,null,null,null,null,null,null,null,null,null,null,null,null,null,null,null,null,null,null,null,null,null,null,null,null,null,null,null,null,null,null,null,null,null,null,null,null,null,null,null,null,null,null,null,null,null,null,null,null,null,null,null,null,null,null,null,null,null,null,null,null,null,null,null,null,null,null,null,null,null,null,null,null,null,null,null,null,null,null,null,null,null,null,null,null,null,null,null,null,null,null,null,null,null,null,null,null,null,null,null,null,81,"AI0"]
[null,null,null,null,null,null,null,null,null,null,null,null,null,null,null,null,null,null,null,null,null,null,null,null,null,null,null,null,null,null,null,null,null,null,null,null,null,null,null,null,null,null,null,null,null,null,null,null,null,null,null,null,null,null,null,null,null,null,null,null,null,null,null,null,null,null,null,null,null,null,null,null,null,null,null,null,null,null,null,null,null,null,null,null,null,null,null,null,null,null,null,null,null,null,null,null,null,null,null,null,null,null,null,null,null,null,null,null,null,null,null,null,null,null,null,null,null,null,null,"","","","","","","","","","","","","","","","","","","","","","","","","","","","","","","","","","","","","","","","","","","","","","","","","","","","",null,null,null,null,null,null,null,null,null,null,null,null,null,null,null,null,null,null,null,null,null,null,null,null,null,null,null,null,null,null,null,null,null,null,null,null,null,null,null,null,null,null,null,null,null,null,null,null,null,null,null,null,null,null,null,null,null,null,null,null,null,null,null,null,null,null,null,null,null,null,null,null,null,null,null,null,null,null,null,null,null,null,null,null,null,null,null,null,null,null,null,null,null,null,null,null,null,null,null,null,null,null,null,null,null,null,null,null,null,null,null,null,null,null,null,null,null,null,null,null,null,null,null,null,null,null,null,null,null,null,null,null,null,null,null,null,null,null,null,null,null,null,null,null,null,null,null,null,null,null,null,null,null,null,null,null,null,null,null,null,null,null,82,"AI1"]
[null,null,null,null,null,null,null,null,null,null,null,null,null,null,null,null,null,null,null,null,null,null,null,null,null,null,null,null,null,null,null,null,null,null,null,null,null,null,null,null,null,null,null,null,null,null,null,null,null,null,null,null,null,null,null,null,null,null,null,null,null,null,null,null,null,null,null,null,null,null,null,null,null,null,null,null,null,null,null,null,null,null,null,null,null,null,null,null,null,null,null,null,null,null,null,null,null,null,null,null,null,null,null,null,null,null,null,null,null,null,null,null,null,null,null,null,null,null,null,"","","","","","","","","","","","","","","","","","","","","","","","","","","","","","","","","","","","","","","","","","","","","","","","","","","","",null,null,null,null,null,null,null,null,null,null,null,null,null,null,null,null,null,null,null,null,null,null,null,null,null,null,null,null,null,null,null,null,null,null,null,null,null,null,null,null,null,null,null,null,null,null,null,null,null,null,null,null,null,null,null,null,null,null,null,null,null,null,null,null,null,null,null,null,null,null,null,null,null,null,null,null,null,null,null,null,null,null,null,null,null,null,null,null,null,null,null,null,null,null,null,null,null,null,null,null,null,null,null,null,null,null,null,null,null,null,null,null,null,null,null,null,null,null,null,null,null,null,null,null,null,null,null,null,null,null,null,null,null,null,null,null,null,null,null,null,null,null,null,null,null,null,null,null,null,null,null,null,null,null,null,null,null,null,null,null,null,null,83,"AI2"]
[null,null,null,null,null,null,null,null,null,null,null,null,null,null,null,null,null,null,null,null,null,null,null,null,null,null,null,null,null,null,null,null,null,null,null,null,null,null,null,null,null,null,null,null,null,null,null,null,null,null,null,null,null,null,null,null,null,null,null,null,null,null,null,null,null,null,null,null,null,null,null,null,null,null,null,null,null,null,null,null,null,null,null,null,null,null,null,null,null,null,null,null,null,null,null,null,null,null,null,null,null,null,null,null,null,null,null,null,null,null,null,null,null,null,null,null,null,null,null,"","","","","","","","","","","","","","","","","","","","","","","","","","","","","","","","","","","","","","","","","","","","","","","","","","","","",null,null,null,null,null,null,null,null,null,null,null,null,null,null,null,null,null,null,null,null,null,null,null,null,null,null,null,null,null,null,null,null,null,null,null,null,null,null,null,null,null,null,null,null,null,null,null,null,null,null,null,null,null,null,null,null,null,null,null,null,null,null,null,null,null,null,null,null,null,null,null,null,null,null,null,null,null,null,null,null,null,null,null,null,null,null,null,null,null,null,null,null,null,null,null,null,null,null,null,null,null,null,null,null,null,null,null,null,null,null,null,null,null,null,null,null,null,null,null,null,null,null,null,null,null,null,null,null,null,null,null,null,null,null,null,null,null,null,null,null,null,null,null,null,null,null,null,null,null,null,null,null,null,null,null,null,null,null,null,null,null,null,84,"AI3"]
[null,null,null,null,null,null,null,null,null,null,null,null,null,null,null,null,null,null,null,null,null,null,null,null,null,null,null,null,null,null,null,null,null,null,null,null,null,null,null,null,null,null,null,null,null,null,null,null,null,null,null,null,null,null,null,null,null,null,null,null,null,null,null,null,null,null,null,null,null,null,null,null,null,null,null,null,null,null,null,null,null,null,null,null,null,null,null,null,null,null,null,null,null,null,null,null,null,null,null,null,null,null,null,null,null,null,null,null,null,null,null,null,null,null,null,null,null,null,null,"","","","","","","","","","","","","","","","","","","","","","","","","","","","","","","","","","","","","","","","","","","","","","","","","","","","",null,null,null,null,null,null,null,null,null,null,null,null,null,null,null,null,null,null,null,null,null,null,null,null,null,null,null,null,null,null,null,null,null,null,null,null,null,null,null,null,null,null,null,null,null,null,null,null,null,null,null,null,null,null,null,null,null,null,null,null,null,null,null,null,null,null,null,null,null,null,null,null,null,null,null,null,null,null,null,null,null,null,null,null,null,null,null,null,null,null,null,null,null,null,null,null,null,null,null,null,null,null,null,null,null,null,null,null,null,null,null,null,null,null,null,null,null,null,null,null,null,null,null,null,null,null,null,null,null,null,null,null,null,null,null,null,null,null,null,null,null,null,null,null,null,null,null,null,null,null,null,null,null,null,null,null,null,null,null,null,null,null,85,"AI4"]
[null,null,null,null,null,null,null,null,null,null,null,null,null,null,null,null,null,null,null,null,null,null,null,null,null,null,null,null,null,null,null,null,null,null,null,null,null,null,null,null,null,null,null,null,null,null,null,null,null,null,null,null,null,null,null,null,null,null,null,null,null,null,null,null,null,null,null,null,null,null,null,null,null,null,null,null,null,null,null,null,null,null,null,null,null,null,null,null,null,null,null,null,null,null,null,null,null,null,null,null,null,null,null,null,null,null,null,null,null,null,null,null,null,null,null,null,null,null,null,"","","","","","","","","","","","","","","","","","","","","","","","","","","","","","","","","","","","","","","","","","","","","","","","","","","","",null,null,null,null,null,null,null,null,null,null,null,null,null,null,null,null,null,null,null,null,null,null,null,null,null,null,null,null,null,null,null,null,null,null,null,null,null,null,null,null,null,null,null,null,null,null,null,null,null,null,null,null,null,null,null,null,null,null,null,null,null,null,null,null,null,null,null,null,null,null,null,null,null,null,null,null,null,null,null,null,null,null,null,null,null,null,null,null,null,null,null,null,null,null,null,null,null,null,null,null,null,null,null,null,null,null,null,null,null,null,null,null,null,null,null,null,null,null,null,null,null,null,null,null,null,null,null,null,null,null,null,null,null,null,null,null,null,null,null,null,null,null,null,null,null,null,null,null,null,null,null,null,null,null,null,null,null,null,null,null,null,null,86,"AI5"]
[null,null,null,null,null,null,null,null,null,null,null,null,null,null,null,null,null,null,null,null,null,null,null,null,null,null,null,null,null,null,null,null,null,null,null,null,null,null,null,null,null,null,null,null,null,null,null,null,null,null,null,null,null,null,null,null,null,null,null,null,null,null,null,null,null,null,null,null,null,null,null,null,null,null,null,null,null,null,null,null,null,null,null,null,null,null,null,null,null,null,null,null,null,null,null,null,null,null,null,null,null,null,null,null,null,null,null,null,null,null,null,null,null,null,null,null,null,null,null,"","","","","","","","","","","","","","","","",{"$f":"IF(BU228=\"\",\"\",BU228)","v":""},"","","","","","","","","","","","","","","",{"$f":"IF(CK228=\"\",\"\",CK228)","v":""},"","","","","","","","","","","","","","","",{"$f":"IF(DA228=\"\",\"\",DA228)","v":""},"","","",null,null,null,null,null,null,null,null,null,null,null,null,null,null,null,null,null,null,null,null,null,null,null,null,null,null,null,null,null,null,null,null,null,null,null,null,null,null,null,null,null,null,null,null,null,null,null,null,null,null,null,null,null,null,null,null,null,null,null,null,null,null,null,null,null,null,null,null,null,null,null,null,null,null,null,null,null,null,null,null,null,null,null,null,null,null,null,null,null,null,null,null,null,null,null,null,null,null,null,null,null,null,null,null,null,null,null,null,null,null,null,null,null,null,null,null,null,null,null,null,null,null,null,null,null,null,null,null,null,null,null,null,null,null,null,null,null,null,null,null,null,null,null,null,null,null,null,null,null,null,null,null,null,null,null,null,null,null,null,null,null,null,87,"AI6"]
[null,null,null,null,null,null,null,null,null,null,null,"Visible for Staff Chart #1",null,null,null,null,null,null,null,null,null,null,null,null,null,null,null,null,null,null,null,null,null,null,null,null,null,null,null,null,null,null,null,null,null,null,null,null,null,null,null,null,null,null,null,null,null,null,null,null,null,null,null,null,null,"YTD Ave Consoled Wk Values",null,null,null,null,null,null,null,null,null,null,null,null,null,null,null,null,null,null,null,null,null,null,null,null,null,null,null,null,null,null,null,null,null,null,null,null,null,null,null,null,null,null,null,null,null,null,null,null,null,null,null,null,null,null,null,null,null,null,null,null,null,null,null,null,null,null,null,null,null,null,null,null,null,null,null,null,null,null,null,null,null,null,null,null,null,null,null,null,null,null,null,null,null,null,null,null,null,null,1,2,3,4,5,6,7,8,9,10,11,12,13,14,15,16,17,18,19,20,21,22,23,24,25,26,27,28,29,30,31,32,33,34,35,36,37,38,39,40,41,42,43,44,45,46,47,48,49,50,51,52,null,null,null,null,null,null,null,null,null,null,null,null,null,null,null,null,null,null,null,null,null,null,null,null,null,null,null,null,null,null,null,null,null,null,null,null,null,null,null,null,null,null,null,null,null,null,null,null,null,null,null,null,null,null,null,null,null,null,null,null,null,null,null,null,null,null,null,null,null,null,null,null,null,null,null,null,null,null,null,null,null,null,null,null,null,null,null,null,null,null,null,null,null,null,null,null,null,null,null,null,null,null,null,null,null,null,null,null,null,null,null,null,null,null,null,null,null,88,"AI7"]
[null,null,null,null,null,null,null,null,null,null,null,{"$f":"IF(L$2>'Wk Input'!$J$2,\"\",DP73)","v":0},{"$f":"IF(M$2>'Wk Input'!$J$2,\"\",DQ73)","v":0},{"$f":"IF(N$2>'Wk Input'!$J$2,\"\",DR73)","v":0},{"$f":"IF(O$2>'Wk Input'!$J$2,\"\",DS73)","v":0},{"$f":"IF(P$2>'Wk Input'!$J$2,\"\",DT73)","v":0},{"$f":"IF(Q$2>'Wk Input'!$J$2,\"\",DU73)","v":11.5},{"$f":"IF(R$2>'Wk Input'!$J$2,\"\",DV73)","v":11.5},{"$f":"IF(S$2>'Wk Input'!$J$2,\"\",DW73)","v":11.5},{"$f":"IF(T$2>'Wk Input'!$J$2,\"\",DX73)","v":11.5},{"$f":"IF(U$2>'Wk Input'!$J$2,\"\",DY73)","v":11.5},{"$f":"IF(V$2>'Wk Input'!$J$2,\"\",DZ73)","v":11.5},{"$f":"IF(W$2>'Wk Input'!$J$2,\"\",EA73)","v":11.5},{"$f":"IF(X$2>'Wk Input'!$J$2,\"\",EB73)","v":11.5},{"$f":"IF(Y$2>'Wk Input'!$J$2,\"\",EC73)","v":11.5},{"$f":"IF(Z$2>'Wk Input'!$J$2,\"\",ED73)","v":11.5},{"$f":"IF(AA$2>'Wk Input'!$J$2,\"\",EE73)","v":11.5},{"$f":"IF(AB$2>'Wk Input'!$J$2,\"\",EF73)","v":11.5},{"$f":"IF(AC$2>'Wk Input'!$J$2,\"\",EG73)","v":11.5},{"$f":"IF(AD$2>'Wk Input'!$J$2,\"\",EH73)","v":11.5},{"$f":"IF(AE$2>'Wk Input'!$J$2,\"\",EI73)","v":11.5},{"$f":"IF(AF$2>'Wk Input'!$J$2,\"\",EJ73)","v":11.5},{"$f":"IF(AG$2>'Wk Input'!$J$2,\"\",EK73)","v":27.5},{"$f":"IF(AH$2>'Wk Input'!$J$2,\"\",EL73)","v":27.5},{"$f":"IF(AI$2>'Wk Input'!$J$2,\"\",EM73)","v":27.5},{"$f":"IF(AJ$2>'Wk Input'!$J$2,\"\",EN73)","v":27.5},{"$f":"IF(AK$2>'Wk Input'!$J$2,\"\",EO73)","v":27.5},{"$f":"IF(AL$2>'Wk Input'!$J$2,\"\",EP73)","v":27.5},{"$f":"IF(AM$2>'Wk Input'!$J$2,\"\",EQ73)","v":27.5},{"$f":"IF(AN$2>'Wk Input'!$J$2,\"\",ER73)","v":42.1},{"$f":"IF(AO$2>'Wk Input'!$J$2,\"\",ES73)","v":42.1},{"$f":"IF(AP$2>'Wk Input'!$J$2,\"\",ET73)","v":42.1},{"$f":"IF(AQ$2>'Wk Input'!$J$2,\"\",EU73)","v":42.1},{"$f":"IF(AR$2>'Wk Input'!$J$2,\"\",EV73)","v":42.1},{"$f":"IF(AS$2>'Wk Input'!$J$2,\"\",EW73)","v":42.1},{"$f":"IF(AT$2>'Wk Input'!$J$2,\"\",EX73)","v":42.1},{"$f":"IF(AU$2>'Wk Input'!$J$2,\"\",EY73)","v":42.1},{"$f":"IF(AV$2>'Wk Input'!$J$2,\"\",EZ73)","v":42.1},{"$f":"IF(AW$2>'Wk Input'!$J$2,\"\",FA73)","v":42.1},{"$f":"IF(AX$2>'Wk Input'!$J$2,\"\",FB73)","v":42.1},{"$f":"IF(AY$2>'Wk Input'!$J$2,\"\",FC73)","v":66.400000000000006},{"$f":"IF(AZ$2>'Wk Input'!$J$2,\"\",FD73)","v":66.400000000000006},{"$f":"IF(BA$2>'Wk Input'!$J$2,\"\",FE73)","v":66.400000000000006},{"$f":"IF(BB$2>'Wk Input'!$J$2,\"\",FF73)","v":66.400000000000006},{"$f":"IF(BC$2>'Wk Input'!$J$2,\"\",FG73)","v":66.400000000000006},{"$f":"IF(BD$2>'Wk Input'!$J$2,\"\",FH73)","v":66.400000000000006},{"$f":"IF(BE$2>'Wk Input'!$J$2,\"\",FI73)","v":66.400000000000006},{"$f":"IF(BF$2>'Wk Input'!$J$2,\"\",FJ73)","v":66.400000000000006},{"$f":"IF(BG$2>'Wk Input'!$J$2,\"\",FK73)","v":66.400000000000006},{"$f":"IF(BH$2>'Wk Input'!$J$2,\"\",FL73)","v":66.400000000000006},{"$f":"IF(BI$2>'Wk Input'!$J$2,\"\",FM73)","v":66.400000000000006},{"$f":"IF(BJ$2>'Wk Input'!$J$2,\"\",FN73)","v":66.400000000000006},{"$f":"IF(BK$2>'Wk Input'!$J$2,\"\",FO73)","v":100},null,null,0,0,0,0,0,1.1499999999999999,1.1499999999999999,1.1499999999999999,1.1499999999999999,1.1499999999999999,1.1499999999999999,1.1499999999999999,1.1499999999999999,1.1499999999999999,1.1499999999999999,1.1499999999999999,1.1499999999999999,1.1499999999999999,1.1499999999999999,1.1499999999999999,1.1499999999999999,2.75,2.75,2.75,2.75,2.75,2.75,2.75,4.21,4.21,4.21,4.21,4.21,4.21,4.21,4.21,4.21,4.21,4.21,6.6400000000000006,6.6400000000000006,6.6400000000000006,6.6400000000000006,6.6400000000000006,6.6400000000000006,6.6400000000000006,6.6400000000000006,6.6400000000000006,6.6400000000000006,6.6400000000000006,6.6400000000000006,10.14,null,null,null,null,null,null,null,null,null,null,null,null,null,null,null,null,null,null,null,null,null,null,null,null,null,null,null,null,null,null,null,null,null,null,null,null,null,null,null,null,null,null,null,null,null,null,"Gcard",{"$f":"IF($BM$49<FI$89,FALSE,FI100)","v":false},{"$f":"IF($BM$49<FJ$89,FALSE,FJ100)","v":false},false,false,false,false,false,false,false,false,false,false,false,false,false,false,false,false,false,false,false,false,true,false,false,false,false,false,false,false,false,false,false,false,false,false,false,false,false,false,false,false,false,false,false,false,false,false,false,false,false,false,null,null,null,null,null,null,null,null,null,null,null,null,null,null,null,null,null,null,null,null,null,null,null,null,null,null,null,null,null,null,null,null,null,null,null,null,null,null,null,null,null,null,null,null,null,null,null,null,null,null,null,null,null,null,null,null,null,null,null,null,null,null,null,null,null,null,null,null,null,null,null,null,null,null,null,null,null,null,null,null,null,null,null,null,null,null,null,null,null,null,null,null,null,null,null,null,null,null,null,null,null,null,null,null,null,null,null,null,null,null,null,null,null,null,null,null,null,89,"AI8"]
[null,null,null,null,null,null,null,null,null,null,null,{"$f":"IF(L$2>'Wk Input'!$J$2,\"\",DP74)","v":100},{"$f":"IF(M$2>'Wk Input'!$J$2,\"\",DQ74)","v":100},{"$f":"IF(N$2>'Wk Input'!$J$2,\"\",DR74)","v":89.473684210000002},{"$f":"IF(O$2>'Wk Input'!$J$2,\"\",DS74)","v":100},{"$f":"IF(P$2>'Wk Input'!$J$2,\"\",DT74)","v":100},{"$f":"IF(Q$2>'Wk Input'!$J$2,\"\",DU74)","v":100},{"$f":"IF(R$2>'Wk Input'!$J$2,\"\",DV74)","v":89.473684210000002},{"$f":"IF(S$2>'Wk Input'!$J$2,\"\",DW74)","v":100},{"$f":"IF(T$2>'Wk Input'!$J$2,\"\",DX74)","v":100},{"$f":"IF(U$2>'Wk Input'!$J$2,\"\",DY74)","v":100},{"$f":"IF(V$2>'Wk Input'!$J$2,\"\",DZ74)","v":100},{"$f":"IF(W$2>'Wk Input'!$J$2,\"\",EA74)","v":100},{"$f":"IF(X$2>'Wk Input'!$J$2,\"\",EB74)","v":94.736842109999998},{"$f":"IF(Y$2>'Wk Input'!$J$2,\"\",EC74)","v":100},{"$f":"IF(Z$2>'Wk Input'!$J$2,\"\",ED74)","v":100},{"$f":"IF(AA$2>'Wk Input'!$J$2,\"\",EE74)","v":89.473684210000002},{"$f":"IF(AB$2>'Wk Input'!$J$2,\"\",EF74)","v":100},{"$f":"IF(AC$2>'Wk Input'!$J$2,\"\",EG74)","v":100},{"$f":"IF(AD$2>'Wk Input'!$J$2,\"\",EH74)","v":100},{"$f":"IF(AE$2>'Wk Input'!$J$2,\"\",EI74)","v":100},{"$f":"IF(AF$2>'Wk Input'!$J$2,\"\",EJ74)","v":100},{"$f":"IF(AG$2>'Wk Input'!$J$2,\"\",EK74)","v":63.157894740000003},{"$f":"IF(AH$2>'Wk Input'!$J$2,\"\",EL74)","v":100},{"$f":"IF(AI$2>'Wk Input'!$J$2,\"\",EM74)","v":100},{"$f":"IF(AJ$2>'Wk Input'!$J$2,\"\",EN74)","v":84.21052632},{"$f":"IF(AK$2>'Wk Input'!$J$2,\"\",EO74)","v":100},{"$f":"IF(AL$2>'Wk Input'!$J$2,\"\",EP74)","v":100},{"$f":"IF(AM$2>'Wk Input'!$J$2,\"\",EQ74)","v":100},{"$f":"IF(AN$2>'Wk Input'!$J$2,\"\",ER74)","v":100},{"$f":"IF(AO$2>'Wk Input'!$J$2,\"\",ES74)","v":89.473684210000002},{"$f":"IF(AP$2>'Wk Input'!$J$2,\"\",ET74)","v":100},{"$f":"IF(AQ$2>'Wk Input'!$J$2,\"\",EU74)","v":100},{"$f":"IF(AR$2>'Wk Input'!$J$2,\"\",EV74)","v":100},{"$f":"IF(AS$2>'Wk Input'!$J$2,\"\",EW74)","v":100},{"$f":"IF(AT$2>'Wk Input'!$J$2,\"\",EX74)","v":94.736842109999998},{"$f":"IF(AU$2>'Wk Input'!$J$2,\"\",EY74)","v":100},{"$f":"IF(AV$2>'Wk Input'!$J$2,\"\",EZ74)","v":100},{"$f":"IF(AW$2>'Wk Input'!$J$2,\"\",FA74)","v":100},{"$f":"IF(AX$2>'Wk Input'!$J$2,\"\",FB74)","v":94.736842109999998},{"$f":"IF(AY$2>'Wk Input'!$J$2,\"\",FC74)","v":89.473684210000002},{"$f":"IF(AZ$2>'Wk Input'!$J$2,\"\",FD74)","v":100},{"$f":"IF(BA$2>'Wk Input'!$J$2,\"\",FE74)","v":100},{"$f":"IF(BB$2>'Wk Input'!$J$2,\"\",FF74)","v":100},{"$f":"IF(BC$2>'Wk Input'!$J$2,\"\",FG74)","v":100},{"$f":"IF(BD$2>'Wk Input'!$J$2,\"\",FH74)","v":89.473684210000002},{"$f":"IF(BE$2>'Wk Input'!$J$2,\"\",FI74)","v":100},{"$f":"IF(BF$2>'Wk Input'!$J$2,\"\",FJ74)","v":100},{"$f":"IF(BG$2>'Wk Input'!$J$2,\"\",FK74)","v":100},{"$f":"IF(BH$2>'Wk Input'!$J$2,\"\",FL74)","v":100},{"$f":"IF(BI$2>'Wk Input'!$J$2,\"\",FM74)","v":94.736842109999998},{"$f":"IF(BJ$2>'Wk Input'!$J$2,\"\",FN74)","v":100},{"$f":"IF(BK$2>'Wk Input'!$J$2,\"\",FO74)","v":100},null,null,100,100,95,96.25,97,97.5,95.714285714285708,96.25,96.666666666666671,96.5,96.818181818181813,97.083333333333329,96.538461538461533,96.785714285714292,96.666666666666671,95.9375,96.17647058823529,96.388888888888886,96.578947368421055,96.75,96.666666666666671,95,95.217391304347828,95.416666666666671,94.8,95,95.18518518518519,95.357142857142861,95.517241379310349,95.166666666666671,95.322580645161295,95.46875,95.606060606060609,95.588235294117652,95.428571428571431,95.555555555555557,95.675675675675677,95.78947368421052,95.641025641025635,95.375,95.487804878048777,95.595238095238102,95.697674418604649,95.681818181818187,95.444444444444443,95.543478260869563,95.638297872340431,95.729166666666671,95.816326530612244,95.7,95.784313725490193,95.865384615384613,null,null,null,null,null,null,null,null,null,null,null,null,null,null,null,null,null,null,null,null,null,null,null,null,null,null,null,null,null,null,null,null,null,null,null,null,null,null,null,null,null,null,null,null,null,null,"GPoints",0,0,0,0,0,0,0,0,0,0,0,0,0,0,0,0,0,0,0,0,0,0,4,0,0,0,0,0,0,0,0,0,0,0,0,0,0,0,0,0,0,0,0,0,0,0,0,0,0,0,0,0,null,null,null,null,null,null,null,null,null,null,null,null,null,null,null,null,null,null,null,null,null,null,null,null,null,null,null,null,null,null,null,null,null,null,null,null,null,null,null,null,null,null,null,null,null,null,null,null,null,null,null,null,null,null,null,null,null,null,null,null,null,null,null,null,null,null,null,null,null,null,null,null,null,null,null,null,null,null,null,null,null,null,null,null,null,null,null,null,null,null,null,null,null,null,null,null,null,null,null,null,null,null,null,null,null,null,null,null,null,null,null,null,null,null,null,null,null,90,"AI9"]
[null,null,null,null,null,null,null,null,null,null,null,{"$f":"IF(L$2>'Wk Input'!$J$2,\"\",DP75)","v":""},{"$f":"IF(M$2>'Wk Input'!$J$2,\"\",DQ75)","v":70},{"$f":"IF(N$2>'Wk Input'!$J$2,\"\",DR75)","v":""},{"$f":"IF(O$2>'Wk Input'!$J$2,\"\",DS75)","v":41.25},{"$f":"IF(P$2>'Wk Input'!$J$2,\"\",DT75)","v":""},{"$f":"IF(Q$2>'Wk Input'!$J$2,\"\",DU75)","v":45},{"$f":"IF(R$2>'Wk Input'!$J$2,\"\",DV75)","v":""},{"$f":"IF(S$2>'Wk Input'!$J$2,\"\",DW75)","v":45},{"$f":"IF(T$2>'Wk Input'!$J$2,\"\",DX75)","v":""},{"$f":"IF(U$2>'Wk Input'!$J$2,\"\",DY75)","v":73.75},{"$f":"IF(V$2>'Wk Input'!$J$2,\"\",DZ75)","v":""},{"$f":"IF(W$2>'Wk Input'!$J$2,\"\",EA75)","v":35.625},{"$f":"IF(X$2>'Wk Input'!$J$2,\"\",EB75)","v":""},{"$f":"IF(Y$2>'Wk Input'!$J$2,\"\",EC75)","v":77.5},{"$f":"IF(Z$2>'Wk Input'!$J$2,\"\",ED75)","v":""},{"$f":"IF(AA$2>'Wk Input'!$J$2,\"\",EE75)","v":80.625},{"$f":"IF(AB$2>'Wk Input'!$J$2,\"\",EF75)","v":""},{"$f":"IF(AC$2>'Wk Input'!$J$2,\"\",EG75)","v":100},{"$f":"IF(AD$2>'Wk Input'!$J$2,\"\",EH75)","v":""},{"$f":"IF(AE$2>'Wk Input'!$J$2,\"\",EI75)","v":94.375},{"$f":"IF(AF$2>'Wk Input'!$J$2,\"\",EJ75)","v":""},{"$f":"IF(AG$2>'Wk Input'!$J$2,\"\",EK75)","v":61.875},{"$f":"IF(AH$2>'Wk Input'!$J$2,\"\",EL75)","v":""},{"$f":"IF(AI$2>'Wk Input'!$J$2,\"\",EM75)","v":98.125},{"$f":"IF(AJ$2>'Wk Input'!$J$2,\"\",EN75)","v":""},{"$f":"IF(AK$2>'Wk Input'!$J$2,\"\",EO75)","v":90.625},{"$f":"IF(AL$2>'Wk Input'!$J$2,\"\",EP75)","v":""},{"$f":"IF(AM$2>'Wk Input'!$J$2,\"\",EQ75)","v":100},{"$f":"IF(AN$2>'Wk Input'!$J$2,\"\",ER75)","v":""},{"$f":"IF(AO$2>'Wk Input'!$J$2,\"\",ES75)","v":100},{"$f":"IF(AP$2>'Wk Input'!$J$2,\"\",ET75)","v":""},{"$f":"IF(AQ$2>'Wk Input'!$J$2,\"\",EU75)","v":100},{"$f":"IF(AR$2>'Wk Input'!$J$2,\"\",EV75)","v":""},{"$f":"IF(AS$2>'Wk Input'!$J$2,\"\",EW75)","v":98.75},{"$f":"IF(AT$2>'Wk Input'!$J$2,\"\",EX75)","v":""},{"$f":"IF(AU$2>'Wk Input'!$J$2,\"\",EY75)","v":87.5},{"$f":"IF(AV$2>'Wk Input'!$J$2,\"\",EZ75)","v":""},{"$f":"IF(AW$2>'Wk Input'!$J$2,\"\",FA75)","v":100},{"$f":"IF(AX$2>'Wk Input'!$J$2,\"\",FB75)","v":""},{"$f":"IF(AY$2>'Wk Input'!$J$2,\"\",FC75)","v":76.875},{"$f":"IF(AZ$2>'Wk Input'!$J$2,\"\",FD75)","v":""},{"$f":"IF(BA$2>'Wk Input'!$J$2,\"\",FE75)","v":100},{"$f":"IF(BB$2>'Wk Input'!$J$2,\"\",FF75)","v":""},{"$f":"IF(BC$2>'Wk Input'!$J$2,\"\",FG75)","v":88.125},{"$f":"IF(BD$2>'Wk Input'!$J$2,\"\",FH75)","v":""},{"$f":"IF(BE$2>'Wk Input'!$J$2,\"\",FI75)","v":100},{"$f":"IF(BF$2>'Wk Input'!$J$2,\"\",FJ75)","v":""},{"$f":"IF(BG$2>'Wk Input'!$J$2,\"\",FK75)","v":85.625},{"$f":"IF(BH$2>'Wk Input'!$J$2,\"\",FL75)","v":""},{"$f":"IF(BI$2>'Wk Input'!$J$2,\"\",FM75)","v":100},{"$f":"IF(BJ$2>'Wk Input'!$J$2,\"\",FN75)","v":""},{"$f":"IF(BK$2>'Wk Input'!$J$2,\"\",FO75)","v":90.625},null,null,71.5,73.349999999999994,74.2,73.3,72.819999999999993,72.55,72.971428571428575,72.75,73,73.28,73.545454545454533,73.224999999999994,73.453846153846143,73.664285714285711,73.826666666666654,74.018749999999997,74.335294117647052,74.666666666666671,74.905263157894737,75.115000000000009,75.052380952380958,75,75,75.195833333333326,75.331999999999994,75.453846153846158,75.511111111111106,75.721428571428561,75.786206896551718,75.933333333333337,76.077419354838696,76.315624999999997,76.403030303030306,76.5029411764706,76.537142857142854,76.577777777777783,76.71621621621621,76.855263157894726,76.91538461538461,76.900000000000006,76.880487804878044,77.033333333333331,77.1279069767442,77.150000000000006,77.217777777777769,77.371739130434776,77.365957446808508,77.372916666666669,77.402040816326533,77.483999999999995,77.566666666666663,77.58461538461539,null,null,null,null,null,null,null,null,null,null,null,null,null,null,null,null,null,null,null,null,null,null,null,null,null,null,null,null,null,null,null,null,null,null,null,null,null,null,null,null,null,null,null,null,null,null,"Acc GPoints",{"$f":"FI91","v":0},{"$f":"FJ91+FI92","v":0},{"$f":"FK91+FJ92","v":0},0,0,0,0,0,0,0,0,0,0,0,0,0,0,0,0,0,0,0,4,4,4,4,4,4,4,4,4,4,4,4,4,4,4,4,4,4,4,4,4,4,4,4,4,4,4,4,4,4,null,null,null,null,null,null,null,null,null,null,null,null,null,null,null,null,null,null,null,null,null,null,null,null,null,null,null,null,null,null,null,null,null,null,null,null,null,null,null,null,null,null,null,null,null,null,null,null,null,null,null,null,null,null,null,null,null,null,null,null,null,null,null,null,null,null,null,null,null,null,null,null,null,null,null,null,null,null,null,null,null,null,null,null,null,null,null,null,null,null,null,null,null,null,null,null,null,null,null,null,null,null,null,null,null,null,null,null,null,null,null,null,null,null,null,null,null,91,"AJ0"]
[null,null,null,null,null,null,null,null,null,null,null,{"$f":"IF(L$2>'Wk Input'!$J$2,\"\",DP76)","v":78.947368420000004},{"$f":"IF(M$2>'Wk Input'!$J$2,\"\",DQ76)","v":84.21052632},{"$f":"IF(N$2>'Wk Input'!$J$2,\"\",DR76)","v":73.684210530000001},{"$f":"IF(O$2>'Wk Input'!$J$2,\"\",DS76)","v":63.157894740000003},{"$f":"IF(P$2>'Wk Input'!$J$2,\"\",DT76)","v":57.89473684},{"$f":"IF(Q$2>'Wk Input'!$J$2,\"\",DU76)","v":57.89473684},{"$f":"IF(R$2>'Wk Input'!$J$2,\"\",DV76)","v":57.89473684},{"$f":"IF(S$2>'Wk Input'!$J$2,\"\",DW76)","v":63.157894740000003},{"$f":"IF(T$2>'Wk Input'!$J$2,\"\",DX76)","v":78.947368420000004},{"$f":"IF(U$2>'Wk Input'!$J$2,\"\",DY76)","v":78.947368420000004},{"$f":"IF(V$2>'Wk Input'!$J$2,\"\",DZ76)","v":73.684210530000001},{"$f":"IF(W$2>'Wk Input'!$J$2,\"\",EA76)","v":57.89473684},{"$f":"IF(X$2>'Wk Input'!$J$2,\"\",EB76)","v":78.947368420000004},{"$f":"IF(Y$2>'Wk Input'!$J$2,\"\",EC76)","v":84.21052632},{"$f":"IF(Z$2>'Wk Input'!$J$2,\"\",ED76)","v":84.21052632},{"$f":"IF(AA$2>'Wk Input'!$J$2,\"\",EE76)","v":84.21052632},{"$f":"IF(AB$2>'Wk Input'!$J$2,\"\",EF76)","v":89.473684210000002},{"$f":"IF(AC$2>'Wk Input'!$J$2,\"\",EG76)","v":89.473684210000002},{"$f":"IF(AD$2>'Wk Input'!$J$2,\"\",EH76)","v":94.736842109999998},{"$f":"IF(AE$2>'Wk Input'!$J$2,\"\",EI76)","v":94.736842109999998},{"$f":"IF(AF$2>'Wk Input'!$J$2,\"\",EJ76)","v":94.736842109999998},{"$f":"IF(AG$2>'Wk Input'!$J$2,\"\",EK76)","v":89.473684210000002},{"$f":"IF(AH$2>'Wk Input'!$J$2,\"\",EL76)","v":89.473684210000002},{"$f":"IF(AI$2>'Wk Input'!$J$2,\"\",EM76)","v":94.736842109999998},{"$f":"IF(AJ$2>'Wk Input'!$J$2,\"\",EN76)","v":84.21052632},{"$f":"IF(AK$2>'Wk Input'!$J$2,\"\",EO76)","v":89.473684210000002},{"$f":"IF(AL$2>'Wk Input'!$J$2,\"\",EP76)","v":94.736842109999998},{"$f":"IF(AM$2>'Wk Input'!$J$2,\"\",EQ76)","v":94.736842109999998},{"$f":"IF(AN$2>'Wk Input'!$J$2,\"\",ER76)","v":100},{"$f":"IF(AO$2>'Wk Input'!$J$2,\"\",ES76)","v":94.736842109999998},{"$f":"IF(AP$2>'Wk Input'!$J$2,\"\",ET76)","v":94.736842109999998},{"$f":"IF(AQ$2>'Wk Input'!$J$2,\"\",EU76)","v":94.736842109999998},{"$f":"IF(AR$2>'Wk Input'!$J$2,\"\",EV76)","v":84.21052632},{"$f":"IF(AS$2>'Wk Input'!$J$2,\"\",EW76)","v":84.21052632},{"$f":"IF(AT$2>'Wk Input'!$J$2,\"\",EX76)","v":89.473684210000002},{"$f":"IF(AU$2>'Wk Input'!$J$2,\"\",EY76)","v":89.473684210000002},{"$f":"IF(AV$2>'Wk Input'!$J$2,\"\",EZ76)","v":89.473684210000002},{"$f":"IF(AW$2>'Wk Input'!$J$2,\"\",FA76)","v":84.21052632},{"$f":"IF(AX$2>'Wk Input'!$J$2,\"\",FB76)","v":94.736842109999998},{"$f":"IF(AY$2>'Wk Input'!$J$2,\"\",FC76)","v":94.736842109999998},{"$f":"IF(AZ$2>'Wk Input'!$J$2,\"\",FD76)","v":100},{"$f":"IF(BA$2>'Wk Input'!$J$2,\"\",FE76)","v":100},{"$f":"IF(BB$2>'Wk Input'!$J$2,\"\",FF76)","v":94.736842109999998},{"$f":"IF(BC$2>'Wk Input'!$J$2,\"\",FG76)","v":100},{"$f":"IF(BD$2>'Wk Input'!$J$2,\"\",FH76)","v":94.736842109999998},{"$f":"IF(BE$2>'Wk Input'!$J$2,\"\",FI76)","v":100},{"$f":"IF(BF$2>'Wk Input'!$J$2,\"\",FJ76)","v":89.473684210000002},{"$f":"IF(BG$2>'Wk Input'!$J$2,\"\",FK76)","v":89.473684210000002},{"$f":"IF(BH$2>'Wk Input'!$J$2,\"\",FL76)","v":89.473684210000002},{"$f":"IF(BI$2>'Wk Input'!$J$2,\"\",FM76)","v":84.21052632},{"$f":"IF(BJ$2>'Wk Input'!$J$2,\"\",FN76)","v":84.21052632},{"$f":"IF(BK$2>'Wk Input'!$J$2,\"\",FO76)","v":89.473684210000002},null,null,75,77.5,75,71.25,68,65.833333333333329,64.285714285714292,63.75,65,66,66.36363636363636,65.416666666666671,66.15384615384616,67.142857142857139,68,68.75,69.705882352941174,70.555555555555557,71.578947368421055,72.5,73.333333333333329,73.86363636363636,74.347826086956516,75,75.2,75.57692307692308,76.111111111111114,76.607142857142861,77.241379310344826,77.666666666666671,78.064516129032256,78.4375,78.484848484848484,78.529411764705884,78.714285714285708,78.888888888888886,79.054054054054049,79.078947368421055,79.358974358974365,79.625,80,80.357142857142861,80.581395348837205,80.909090909090907,81.111111111111114,81.413043478260875,81.489361702127653,81.5625,81.632653061224488,81.599999999999994,81.568627450980387,81.634615384615387,null,null,null,null,null,null,null,null,null,null,null,null,null,null,null,null,null,null,null,null,null,null,null,null,null,null,null,null,null,null,null,null,null,null,null,null,null,null,null,null,null,null,null,null,null,null,"# Gcards",0,{"$f":"IF(FJ90,FI93+1,FI93)","v":0},{"$f":"IF(FK90,FJ93+1,FJ93)","v":0},0,0,0,0,0,0,0,0,0,0,0,0,0,0,0,0,0,0,0,1,1,1,1,1,1,1,1,1,1,1,1,1,1,1,1,1,1,1,1,1,1,1,1,1,1,1,1,1,1,null,null,null,null,null,null,null,null,null,null,null,null,null,null,null,null,null,null,null,null,null,null,null,null,null,null,null,null,null,null,null,null,null,null,null,null,null,null,null,null,null,null,null,null,null,null,null,null,null,null,null,null,null,null,null,null,null,null,null,null,null,null,null,null,null,null,null,null,null,null,null,null,null,null,null,null,null,null,null,null,null,null,null,null,null,null,null,null,null,null,null,null,null,null,null,null,null,null,null,null,null,null,null,null,null,null,null,null,null,null,null,null,null,null,null,null,null,92,"AJ1"]
[null,null,null,null,null,null,null,null,null,null,null,{"$f":"IF(L$2>'Wk Input'!$J$2,\"\",DP77)","v":""},{"$f":"IF(M$2>'Wk Input'!$J$2,\"\",DQ77)","v":""},{"$f":"IF(N$2>'Wk Input'!$J$2,\"\",DR77)","v":""},{"$f":"IF(O$2>'Wk Input'!$J$2,\"\",DS77)","v":""},{"$f":"IF(P$2>'Wk Input'!$J$2,\"\",DT77)","v":0},{"$f":"IF(Q$2>'Wk Input'!$J$2,\"\",DU77)","v":0},{"$f":"IF(R$2>'Wk Input'!$J$2,\"\",DV77)","v":0},{"$f":"IF(S$2>'Wk Input'!$J$2,\"\",DW77)","v":0},{"$f":"IF(T$2>'Wk Input'!$J$2,\"\",DX77)","v":0},{"$f":"IF(U$2>'Wk Input'!$J$2,\"\",DY77)","v":0},{"$f":"IF(V$2>'Wk Input'!$J$2,\"\",DZ77)","v":0},{"$f":"IF(W$2>'Wk Input'!$J$2,\"\",EA77)","v":0},{"$f":"IF(X$2>'Wk Input'!$J$2,\"\",EB77)","v":0},{"$f":"IF(Y$2>'Wk Input'!$J$2,\"\",EC77)","v":0},{"$f":"IF(Z$2>'Wk Input'!$J$2,\"\",ED77)","v":0},{"$f":"IF(AA$2>'Wk Input'!$J$2,\"\",EE77)","v":0},{"$f":"IF(AB$2>'Wk Input'!$J$2,\"\",EF77)","v":0},{"$f":"IF(AC$2>'Wk Input'!$J$2,\"\",EG77)","v":0},{"$f":"IF(AD$2>'Wk Input'!$J$2,\"\",EH77)","v":0},{"$f":"IF(AE$2>'Wk Input'!$J$2,\"\",EI77)","v":0},{"$f":"IF(AF$2>'Wk Input'!$J$2,\"\",EJ77)","v":0},{"$f":"IF(AG$2>'Wk Input'!$J$2,\"\",EK77)","v":0},{"$f":"IF(AH$2>'Wk Input'!$J$2,\"\",EL77)","v":0},{"$f":"IF(AI$2>'Wk Input'!$J$2,\"\",EM77)","v":0},{"$f":"IF(AJ$2>'Wk Input'!$J$2,\"\",EN77)","v":0},{"$f":"IF(AK$2>'Wk Input'!$J$2,\"\",EO77)","v":0},{"$f":"IF(AL$2>'Wk Input'!$J$2,\"\",EP77)","v":0},{"$f":"IF(AM$2>'Wk Input'!$J$2,\"\",EQ77)","v":0},{"$f":"IF(AN$2>'Wk Input'!$J$2,\"\",ER77)","v":0},{"$f":"IF(AO$2>'Wk Input'!$J$2,\"\",ES77)","v":0},{"$f":"IF(AP$2>'Wk Input'!$J$2,\"\",ET77)","v":0},{"$f":"IF(AQ$2>'Wk Input'!$J$2,\"\",EU77)","v":0},{"$f":"IF(AR$2>'Wk Input'!$J$2,\"\",EV77)","v":0},{"$f":"IF(AS$2>'Wk Input'!$J$2,\"\",EW77)","v":0},{"$f":"IF(AT$2>'Wk Input'!$J$2,\"\",EX77)","v":100},{"$f":"IF(AU$2>'Wk Input'!$J$2,\"\",EY77)","v":100},{"$f":"IF(AV$2>'Wk Input'!$J$2,\"\",EZ77)","v":100},{"$f":"IF(AW$2>'Wk Input'!$J$2,\"\",FA77)","v":100},{"$f":"IF(AX$2>'Wk Input'!$J$2,\"\",FB77)","v":100},{"$f":"IF(AY$2>'Wk Input'!$J$2,\"\",FC77)","v":100},{"$f":"IF(AZ$2>'Wk Input'!$J$2,\"\",FD77)","v":100},{"$f":"IF(BA$2>'Wk Input'!$J$2,\"\",FE77)","v":100},{"$f":"IF(BB$2>'Wk Input'!$J$2,\"\",FF77)","v":100},{"$f":"IF(BC$2>'Wk Input'!$J$2,\"\",FG77)","v":100},{"$f":"IF(BD$2>'Wk Input'!$J$2,\"\",FH77)","v":100},{"$f":"IF(BE$2>'Wk Input'!$J$2,\"\",FI77)","v":100},{"$f":"IF(BF$2>'Wk Input'!$J$2,\"\",FJ77)","v":100},{"$f":"IF(BG$2>'Wk Input'!$J$2,\"\",FK77)","v":100},{"$f":"IF(BH$2>'Wk Input'!$J$2,\"\",FL77)","v":100},{"$f":"IF(BI$2>'Wk Input'!$J$2,\"\",FM77)","v":100},{"$f":"IF(BJ$2>'Wk Input'!$J$2,\"\",FN77)","v":100},{"$f":"IF(BK$2>'Wk Input'!$J$2,\"\",FO77)","v":100},null,null,"","","","","No","No","No","No","No","No","No","No","No","No","No","No","No","No","No","No","No","No","No","No","No","No","No","No","No","No","No","No","No","No","Yes","Yes","Yes","Yes","Yes","Yes","Yes","Yes","Yes","Yes","Yes","Yes","Yes","Yes","Yes","Yes","Yes","Yes",null,null,null,null,null,null,null,null,null,null,null,null,null,null,null,null,null,null,null,null,null,null,null,null,null,null,null,null,null,null,null,null,null,null,null,null,null,null,null,null,null,null,null,null,null,null,"Ycard",{"$f":"IF($BM$49<FI$89,FALSE,FI101)","v":false},{"$f":"IF($BM$49<FJ$89,FALSE,FJ101)","v":false},false,false,false,false,false,false,false,false,false,false,false,false,false,false,false,false,false,false,false,false,false,false,false,false,false,false,false,false,false,false,true,false,false,false,false,false,false,false,false,false,false,false,false,false,false,false,false,false,false,false,null,null,null,null,null,null,null,null,null,null,null,null,null,null,null,null,null,null,null,null,null,null,null,null,null,null,null,null,null,null,null,null,null,null,null,null,null,null,null,null,null,null,null,null,null,null,null,null,null,null,null,null,null,null,null,null,null,null,null,null,null,null,null,null,null,null,null,null,null,null,null,null,null,null,null,null,null,null,null,null,null,null,null,null,null,null,null,null,null,null,null,null,null,null,null,null,null,null,null,null,null,null,null,null,null,null,null,null,null,null,null,null,null,null,null,null,null,93,"AJ2"]
[null,null,null,null,null,null,null,null,null,null,null,{"$f":"IF(L$2>'Wk Input'!$J$2,\"\",DP78)","v":""},{"$f":"IF(M$2>'Wk Input'!$J$2,\"\",DQ78)","v":""},{"$f":"IF(N$2>'Wk Input'!$J$2,\"\",DR78)","v":""},{"$f":"IF(O$2>'Wk Input'!$J$2,\"\",DS78)","v":""},{"$f":"IF(P$2>'Wk Input'!$J$2,\"\",DT78)","v":""},{"$f":"IF(Q$2>'Wk Input'!$J$2,\"\",DU78)","v":""},{"$f":"IF(R$2>'Wk Input'!$J$2,\"\",DV78)","v":""},{"$f":"IF(S$2>'Wk Input'!$J$2,\"\",DW78)","v":""},{"$f":"IF(T$2>'Wk Input'!$J$2,\"\",DX78)","v":""},{"$f":"IF(U$2>'Wk Input'!$J$2,\"\",DY78)","v":""},{"$f":"IF(V$2>'Wk Input'!$J$2,\"\",DZ78)","v":""},{"$f":"IF(W$2>'Wk Input'!$J$2,\"\",EA78)","v":""},{"$f":"IF(X$2>'Wk Input'!$J$2,\"\",EB78)","v":""},{"$f":"IF(Y$2>'Wk Input'!$J$2,\"\",EC78)","v":""},{"$f":"IF(Z$2>'Wk Input'!$J$2,\"\",ED78)","v":""},{"$f":"IF(AA$2>'Wk Input'!$J$2,\"\",EE78)","v":""},{"$f":"IF(AB$2>'Wk Input'!$J$2,\"\",EF78)","v":""},{"$f":"IF(AC$2>'Wk Input'!$J$2,\"\",EG78)","v":""},{"$f":"IF(AD$2>'Wk Input'!$J$2,\"\",EH78)","v":""},{"$f":"IF(AE$2>'Wk Input'!$J$2,\"\",EI78)","v":""},{"$f":"IF(AF$2>'Wk Input'!$J$2,\"\",EJ78)","v":""},{"$f":"IF(AG$2>'Wk Input'!$J$2,\"\",EK78)","v":""},{"$f":"IF(AH$2>'Wk Input'!$J$2,\"\",EL78)","v":""},{"$f":"IF(AI$2>'Wk Input'!$J$2,\"\",EM78)","v":""},{"$f":"IF(AJ$2>'Wk Input'!$J$2,\"\",EN78)","v":""},{"$f":"IF(AK$2>'Wk Input'!$J$2,\"\",EO78)","v":""},{"$f":"IF(AL$2>'Wk Input'!$J$2,\"\",EP78)","v":""},{"$f":"IF(AM$2>'Wk Input'!$J$2,\"\",EQ78)","v":""},{"$f":"IF(AN$2>'Wk Input'!$J$2,\"\",ER78)","v":""},{"$f":"IF(AO$2>'Wk Input'!$J$2,\"\",ES78)","v":""},{"$f":"IF(AP$2>'Wk Input'!$J$2,\"\",ET78)","v":""},{"$f":"IF(AQ$2>'Wk Input'!$J$2,\"\",EU78)","v":""},{"$f":"IF(AR$2>'Wk Input'!$J$2,\"\",EV78)","v":""},{"$f":"IF(AS$2>'Wk Input'!$J$2,\"\",EW78)","v":""},{"$f":"IF(AT$2>'Wk Input'!$J$2,\"\",EX78)","v":""},{"$f":"IF(AU$2>'Wk Input'!$J$2,\"\",EY78)","v":""},{"$f":"IF(AV$2>'Wk Input'!$J$2,\"\",EZ78)","v":""},{"$f":"IF(AW$2>'Wk Input'!$J$2,\"\",FA78)","v":""},{"$f":"IF(AX$2>'Wk Input'!$J$2,\"\",FB78)","v":""},{"$f":"IF(AY$2>'Wk Input'!$J$2,\"\",FC78)","v":""},{"$f":"IF(AZ$2>'Wk Input'!$J$2,\"\",FD78)","v":""},{"$f":"IF(BA$2>'Wk Input'!$J$2,\"\",FE78)","v":""},{"$f":"IF(BB$2>'Wk Input'!$J$2,\"\",FF78)","v":""},{"$f":"IF(BC$2>'Wk Input'!$J$2,\"\",FG78)","v":""},{"$f":"IF(BD$2>'Wk Input'!$J$2,\"\",FH78)","v":""},{"$f":"IF(BE$2>'Wk Input'!$J$2,\"\",FI78)","v":""},{"$f":"IF(BF$2>'Wk Input'!$J$2,\"\",FJ78)","v":""},{"$f":"IF(BG$2>'Wk Input'!$J$2,\"\",FK78)","v":""},{"$f":"IF(BH$2>'Wk Input'!$J$2,\"\",FL78)","v":""},{"$f":"IF(BI$2>'Wk Input'!$J$2,\"\",FM78)","v":""},{"$f":"IF(BJ$2>'Wk Input'!$J$2,\"\",FN78)","v":""},{"$f":"IF(BK$2>'Wk Input'!$J$2,\"\",FO78)","v":""},null,null,"","","","","","","","","","","","","","","","","","","","","","","","","","","","","","","","","","","","","","","","","","","","","","","","","","","","",null,null,null,null,null,null,null,null,null,null,null,null,null,null,null,null,null,null,null,null,null,null,null,null,null,null,null,null,null,null,null,null,null,null,null,null,null,null,null,null,null,null,null,null,null,null,"Ypoints",0,0,0,0,0,0,0,0,0,0,0,0,0,0,0,0,0,0,0,0,0,0,0,0,0,0,0,0,0,0,0,0,-2,0,0,0,0,0,0,0,0,0,0,0,0,0,0,0,0,0,0,0,null,null,null,null,null,null,null,null,null,null,null,null,null,null,null,null,null,null,null,null,null,null,null,null,null,null,null,null,null,null,null,null,null,null,null,null,null,null,null,null,null,null,null,null,null,null,null,null,null,null,null,null,null,null,null,null,null,null,null,null,null,null,null,null,null,null,null,null,null,null,null,null,null,null,null,null,null,null,null,null,null,null,null,null,null,null,null,null,null,null,null,null,null,null,null,null,null,null,null,null,null,null,null,null,null,null,null,null,null,null,null,null,null,null,null,null,null,94,"AJ3"]
[null,null,null,null,null,null,null,null,null,null,null,{"$f":"IF(L$2>'Wk Input'!$J$2,\"\",DP79)","v":""},{"$f":"IF(M$2>'Wk Input'!$J$2,\"\",DQ79)","v":""},{"$f":"IF(N$2>'Wk Input'!$J$2,\"\",DR79)","v":""},{"$f":"IF(O$2>'Wk Input'!$J$2,\"\",DS79)","v":""},{"$f":"IF(P$2>'Wk Input'!$J$2,\"\",DT79)","v":""},{"$f":"IF(Q$2>'Wk Input'!$J$2,\"\",DU79)","v":""},{"$f":"IF(R$2>'Wk Input'!$J$2,\"\",DV79)","v":""},{"$f":"IF(S$2>'Wk Input'!$J$2,\"\",DW79)","v":""},{"$f":"IF(T$2>'Wk Input'!$J$2,\"\",DX79)","v":""},{"$f":"IF(U$2>'Wk Input'!$J$2,\"\",DY79)","v":""},{"$f":"IF(V$2>'Wk Input'!$J$2,\"\",DZ79)","v":""},{"$f":"IF(W$2>'Wk Input'!$J$2,\"\",EA79)","v":""},{"$f":"IF(X$2>'Wk Input'!$J$2,\"\",EB79)","v":""},{"$f":"IF(Y$2>'Wk Input'!$J$2,\"\",EC79)","v":""},{"$f":"IF(Z$2>'Wk Input'!$J$2,\"\",ED79)","v":""},{"$f":"IF(AA$2>'Wk Input'!$J$2,\"\",EE79)","v":""},{"$f":"IF(AB$2>'Wk Input'!$J$2,\"\",EF79)","v":""},{"$f":"IF(AC$2>'Wk Input'!$J$2,\"\",EG79)","v":""},{"$f":"IF(AD$2>'Wk Input'!$J$2,\"\",EH79)","v":""},{"$f":"IF(AE$2>'Wk Input'!$J$2,\"\",EI79)","v":""},{"$f":"IF(AF$2>'Wk Input'!$J$2,\"\",EJ79)","v":""},{"$f":"IF(AG$2>'Wk Input'!$J$2,\"\",EK79)","v":""},{"$f":"IF(AH$2>'Wk Input'!$J$2,\"\",EL79)","v":""},{"$f":"IF(AI$2>'Wk Input'!$J$2,\"\",EM79)","v":""},{"$f":"IF(AJ$2>'Wk Input'!$J$2,\"\",EN79)","v":""},{"$f":"IF(AK$2>'Wk Input'!$J$2,\"\",EO79)","v":""},{"$f":"IF(AL$2>'Wk Input'!$J$2,\"\",EP79)","v":""},{"$f":"IF(AM$2>'Wk Input'!$J$2,\"\",EQ79)","v":""},{"$f":"IF(AN$2>'Wk Input'!$J$2,\"\",ER79)","v":""},{"$f":"IF(AO$2>'Wk Input'!$J$2,\"\",ES79)","v":""},{"$f":"IF(AP$2>'Wk Input'!$J$2,\"\",ET79)","v":""},{"$f":"IF(AQ$2>'Wk Input'!$J$2,\"\",EU79)","v":""},{"$f":"IF(AR$2>'Wk Input'!$J$2,\"\",EV79)","v":""},{"$f":"IF(AS$2>'Wk Input'!$J$2,\"\",EW79)","v":""},{"$f":"IF(AT$2>'Wk Input'!$J$2,\"\",EX79)","v":""},{"$f":"IF(AU$2>'Wk Input'!$J$2,\"\",EY79)","v":""},{"$f":"IF(AV$2>'Wk Input'!$J$2,\"\",EZ79)","v":""},{"$f":"IF(AW$2>'Wk Input'!$J$2,\"\",FA79)","v":""},{"$f":"IF(AX$2>'Wk Input'!$J$2,\"\",FB79)","v":""},{"$f":"IF(AY$2>'Wk Input'!$J$2,\"\",FC79)","v":""},{"$f":"IF(AZ$2>'Wk Input'!$J$2,\"\",FD79)","v":""},{"$f":"IF(BA$2>'Wk Input'!$J$2,\"\",FE79)","v":""},{"$f":"IF(BB$2>'Wk Input'!$J$2,\"\",FF79)","v":""},{"$f":"IF(BC$2>'Wk Input'!$J$2,\"\",FG79)","v":""},{"$f":"IF(BD$2>'Wk Input'!$J$2,\"\",FH79)","v":""},{"$f":"IF(BE$2>'Wk Input'!$J$2,\"\",FI79)","v":""},{"$f":"IF(BF$2>'Wk Input'!$J$2,\"\",FJ79)","v":""},{"$f":"IF(BG$2>'Wk Input'!$J$2,\"\",FK79)","v":""},{"$f":"IF(BH$2>'Wk Input'!$J$2,\"\",FL79)","v":""},{"$f":"IF(BI$2>'Wk Input'!$J$2,\"\",FM79)","v":""},{"$f":"IF(BJ$2>'Wk Input'!$J$2,\"\",FN79)","v":""},{"$f":"IF(BK$2>'Wk Input'!$J$2,\"\",FO79)","v":""},null,null,"","","","","","","","","","","","","","","","","","","","","","","","","","","","","","","","","","","","","","","","","","","","","","","","","","","","",null,null,null,null,null,null,null,null,null,null,null,null,null,null,null,null,null,null,null,null,null,null,null,null,null,null,null,null,null,null,null,null,null,null,null,null,null,null,null,null,null,null,null,null,null,null,"GdBehav",0,0,{"$f":"IF(AND(FI95=0,FJ95=0,FJ96=0,FK95=0),2,0)","v":2},{"$f":"IF(AND(FJ95=0,FK95=0,FK96=0,FL95=0),2,0)","v":0},{"$f":"IF(AND(FK95=0,FL95=0,FL96=0,FM95=0),2,0)","v":2},{"$f":"IF(AND(FL95=0,FM95=0,FM96=0,FN95=0),2,0)","v":0},2,0,2,0,2,0,2,0,2,0,2,0,2,0,2,0,2,0,2,0,2,0,2,0,2,0,0,0,0,2,0,2,0,2,0,2,0,2,0,2,0,2,0,2,0,2,null,null,null,null,null,null,null,null,null,null,null,null,null,null,null,null,null,null,null,null,null,null,null,null,null,null,null,null,null,null,null,null,null,null,null,null,null,null,null,null,null,null,null,null,null,null,null,null,null,null,null,null,null,null,null,null,null,null,null,null,null,null,null,null,null,null,null,null,null,null,null,null,null,null,null,null,null,null,null,null,null,null,null,null,null,null,null,null,null,null,null,null,null,null,null,null,null,null,null,null,null,null,null,null,null,null,null,null,null,null,null,null,null,null,null,null,null,95,"AJ4"]
[null,null,null,null,null,null,null,null,null,null,null,{"$f":"IF(L$2>'Wk Input'!$J$2,\"\",DP80)","v":""},{"$f":"IF(M$2>'Wk Input'!$J$2,\"\",DQ80)","v":""},{"$f":"IF(N$2>'Wk Input'!$J$2,\"\",DR80)","v":""},{"$f":"IF(O$2>'Wk Input'!$J$2,\"\",DS80)","v":""},{"$f":"IF(P$2>'Wk Input'!$J$2,\"\",DT80)","v":""},{"$f":"IF(Q$2>'Wk Input'!$J$2,\"\",DU80)","v":""},{"$f":"IF(R$2>'Wk Input'!$J$2,\"\",DV80)","v":""},{"$f":"IF(S$2>'Wk Input'!$J$2,\"\",DW80)","v":""},{"$f":"IF(T$2>'Wk Input'!$J$2,\"\",DX80)","v":""},{"$f":"IF(U$2>'Wk Input'!$J$2,\"\",DY80)","v":""},{"$f":"IF(V$2>'Wk Input'!$J$2,\"\",DZ80)","v":""},{"$f":"IF(W$2>'Wk Input'!$J$2,\"\",EA80)","v":""},{"$f":"IF(X$2>'Wk Input'!$J$2,\"\",EB80)","v":""},{"$f":"IF(Y$2>'Wk Input'!$J$2,\"\",EC80)","v":""},{"$f":"IF(Z$2>'Wk Input'!$J$2,\"\",ED80)","v":""},{"$f":"IF(AA$2>'Wk Input'!$J$2,\"\",EE80)","v":""},{"$f":"IF(AB$2>'Wk Input'!$J$2,\"\",EF80)","v":""},{"$f":"IF(AC$2>'Wk Input'!$J$2,\"\",EG80)","v":""},{"$f":"IF(AD$2>'Wk Input'!$J$2,\"\",EH80)","v":""},{"$f":"IF(AE$2>'Wk Input'!$J$2,\"\",EI80)","v":""},{"$f":"IF(AF$2>'Wk Input'!$J$2,\"\",EJ80)","v":""},{"$f":"IF(AG$2>'Wk Input'!$J$2,\"\",EK80)","v":""},{"$f":"IF(AH$2>'Wk Input'!$J$2,\"\",EL80)","v":""},{"$f":"IF(AI$2>'Wk Input'!$J$2,\"\",EM80)","v":""},{"$f":"IF(AJ$2>'Wk Input'!$J$2,\"\",EN80)","v":""},{"$f":"IF(AK$2>'Wk Input'!$J$2,\"\",EO80)","v":""},{"$f":"IF(AL$2>'Wk Input'!$J$2,\"\",EP80)","v":""},{"$f":"IF(AM$2>'Wk Input'!$J$2,\"\",EQ80)","v":""},{"$f":"IF(AN$2>'Wk Input'!$J$2,\"\",ER80)","v":""},{"$f":"IF(AO$2>'Wk Input'!$J$2,\"\",ES80)","v":""},{"$f":"IF(AP$2>'Wk Input'!$J$2,\"\",ET80)","v":""},{"$f":"IF(AQ$2>'Wk Input'!$J$2,\"\",EU80)","v":""},{"$f":"IF(AR$2>'Wk Input'!$J$2,\"\",EV80)","v":""},{"$f":"IF(AS$2>'Wk Input'!$J$2,\"\",EW80)","v":""},{"$f":"IF(AT$2>'Wk Input'!$J$2,\"\",EX80)","v":""},{"$f":"IF(AU$2>'Wk Input'!$J$2,\"\",EY80)","v":""},{"$f":"IF(AV$2>'Wk Input'!$J$2,\"\",EZ80)","v":""},{"$f":"IF(AW$2>'Wk Input'!$J$2,\"\",FA80)","v":""},{"$f":"IF(AX$2>'Wk Input'!$J$2,\"\",FB80)","v":""},{"$f":"IF(AY$2>'Wk Input'!$J$2,\"\",FC80)","v":""},{"$f":"IF(AZ$2>'Wk Input'!$J$2,\"\",FD80)","v":""},{"$f":"IF(BA$2>'Wk Input'!$J$2,\"\",FE80)","v":""},{"$f":"IF(BB$2>'Wk Input'!$J$2,\"\",FF80)","v":""},{"$f":"IF(BC$2>'Wk Input'!$J$2,\"\",FG80)","v":""},{"$f":"IF(BD$2>'Wk Input'!$J$2,\"\",FH80)","v":""},{"$f":"IF(BE$2>'Wk Input'!$J$2,\"\",FI80)","v":""},{"$f":"IF(BF$2>'Wk Input'!$J$2,\"\",FJ80)","v":""},{"$f":"IF(BG$2>'Wk Input'!$J$2,\"\",FK80)","v":""},{"$f":"IF(BH$2>'Wk Input'!$J$2,\"\",FL80)","v":""},{"$f":"IF(BI$2>'Wk Input'!$J$2,\"\",FM80)","v":""},{"$f":"IF(BJ$2>'Wk Input'!$J$2,\"\",FN80)","v":""},{"$f":"IF(BK$2>'Wk Input'!$J$2,\"\",FO80)","v":""},null,null,"","","","","","","","","","","","","","","","","","","","","","","","","","","","","","","","","","","","","","","","","","","","","","","","","","","","",null,null,null,null,null,null,null,null,null,null,null,null,null,null,null,null,null,null,null,null,null,null,null,null,null,null,null,null,null,null,null,null,null,null,null,null,null,null,null,null,null,null,null,null,null,null,"Acc Ypoints",{"$f":"FI95+FI96","v":0},{"$f":"IF(FI97+FJ95+FJ96>0,0,FI97+FJ95+FJ96)","v":0},{"$f":"IF(FJ97+FK95+FK96>0,0,FJ97+FK95+FK96)","v":0},0,0,0,0,0,0,0,0,0,0,0,0,0,0,0,0,0,0,0,0,0,0,0,0,0,0,0,0,0,-2,-2,-2,0,0,0,0,0,0,0,0,0,0,0,0,0,0,0,0,0,null,null,null,null,null,null,null,null,null,null,null,null,null,null,null,null,null,null,null,null,null,null,null,null,null,null,null,null,null,null,null,null,null,null,null,null,null,null,null,null,null,null,null,null,null,null,null,null,null,null,null,null,null,null,null,null,null,null,null,null,null,null,null,null,null,null,null,null,null,null,null,null,null,null,null,null,null,null,null,null,null,null,null,null,null,null,null,null,null,null,null,null,null,null,null,null,null,null,null,null,null,null,null,null,null,null,null,null,null,null,null,null,null,null,null,null,null,96,"AJ5"]
[null,null,null,null,null,null,null,null,null,null,null,{"$f":"IF(L$2>'Wk Input'!$J$2,\"\",DP81)","v":""},{"$f":"IF(M$2>'Wk Input'!$J$2,\"\",DQ81)","v":""},{"$f":"IF(N$2>'Wk Input'!$J$2,\"\",DR81)","v":""},{"$f":"IF(O$2>'Wk Input'!$J$2,\"\",DS81)","v":""},{"$f":"IF(P$2>'Wk Input'!$J$2,\"\",DT81)","v":""},{"$f":"IF(Q$2>'Wk Input'!$J$2,\"\",DU81)","v":""},{"$f":"IF(R$2>'Wk Input'!$J$2,\"\",DV81)","v":""},{"$f":"IF(S$2>'Wk Input'!$J$2,\"\",DW81)","v":""},{"$f":"IF(T$2>'Wk Input'!$J$2,\"\",DX81)","v":""},{"$f":"IF(U$2>'Wk Input'!$J$2,\"\",DY81)","v":""},{"$f":"IF(V$2>'Wk Input'!$J$2,\"\",DZ81)","v":""},{"$f":"IF(W$2>'Wk Input'!$J$2,\"\",EA81)","v":""},{"$f":"IF(X$2>'Wk Input'!$J$2,\"\",EB81)","v":""},{"$f":"IF(Y$2>'Wk Input'!$J$2,\"\",EC81)","v":""},{"$f":"IF(Z$2>'Wk Input'!$J$2,\"\",ED81)","v":""},{"$f":"IF(AA$2>'Wk Input'!$J$2,\"\",EE81)","v":""},{"$f":"IF(AB$2>'Wk Input'!$J$2,\"\",EF81)","v":""},{"$f":"IF(AC$2>'Wk Input'!$J$2,\"\",EG81)","v":""},{"$f":"IF(AD$2>'Wk Input'!$J$2,\"\",EH81)","v":""},{"$f":"IF(AE$2>'Wk Input'!$J$2,\"\",EI81)","v":""},{"$f":"IF(AF$2>'Wk Input'!$J$2,\"\",EJ81)","v":""},{"$f":"IF(AG$2>'Wk Input'!$J$2,\"\",EK81)","v":""},{"$f":"IF(AH$2>'Wk Input'!$J$2,\"\",EL81)","v":""},{"$f":"IF(AI$2>'Wk Input'!$J$2,\"\",EM81)","v":""},{"$f":"IF(AJ$2>'Wk Input'!$J$2,\"\",EN81)","v":""},{"$f":"IF(AK$2>'Wk Input'!$J$2,\"\",EO81)","v":""},{"$f":"IF(AL$2>'Wk Input'!$J$2,\"\",EP81)","v":""},{"$f":"IF(AM$2>'Wk Input'!$J$2,\"\",EQ81)","v":""},{"$f":"IF(AN$2>'Wk Input'!$J$2,\"\",ER81)","v":""},{"$f":"IF(AO$2>'Wk Input'!$J$2,\"\",ES81)","v":""},{"$f":"IF(AP$2>'Wk Input'!$J$2,\"\",ET81)","v":""},{"$f":"IF(AQ$2>'Wk Input'!$J$2,\"\",EU81)","v":""},{"$f":"IF(AR$2>'Wk Input'!$J$2,\"\",EV81)","v":""},{"$f":"IF(AS$2>'Wk Input'!$J$2,\"\",EW81)","v":""},{"$f":"IF(AT$2>'Wk Input'!$J$2,\"\",EX81)","v":""},{"$f":"IF(AU$2>'Wk Input'!$J$2,\"\",EY81)","v":""},{"$f":"IF(AV$2>'Wk Input'!$J$2,\"\",EZ81)","v":""},{"$f":"IF(AW$2>'Wk Input'!$J$2,\"\",FA81)","v":""},{"$f":"IF(AX$2>'Wk Input'!$J$2,\"\",FB81)","v":""},{"$f":"IF(AY$2>'Wk Input'!$J$2,\"\",FC81)","v":""},{"$f":"IF(AZ$2>'Wk Input'!$J$2,\"\",FD81)","v":""},{"$f":"IF(BA$2>'Wk Input'!$J$2,\"\",FE81)","v":""},{"$f":"IF(BB$2>'Wk Input'!$J$2,\"\",FF81)","v":""},{"$f":"IF(BC$2>'Wk Input'!$J$2,\"\",FG81)","v":""},{"$f":"IF(BD$2>'Wk Input'!$J$2,\"\",FH81)","v":""},{"$f":"IF(BE$2>'Wk Input'!$J$2,\"\",FI81)","v":""},{"$f":"IF(BF$2>'Wk Input'!$J$2,\"\",FJ81)","v":""},{"$f":"IF(BG$2>'Wk Input'!$J$2,\"\",FK81)","v":""},{"$f":"IF(BH$2>'Wk Input'!$J$2,\"\",FL81)","v":""},{"$f":"IF(BI$2>'Wk Input'!$J$2,\"\",FM81)","v":""},{"$f":"IF(BJ$2>'Wk Input'!$J$2,\"\",FN81)","v":""},{"$f":"IF(BK$2>'Wk Input'!$J$2,\"\",FO81)","v":""},null,null,"","","","","","","","","","","","","","","","","","","","","","","","","","","","","","","","","","","","","","","","","","","","","","","","","","","","",null,null,null,null,null,null,null,null,null,null,null,null,null,null,null,null,null,null,null,null,null,null,null,null,null,null,null,null,null,null,null,null,null,null,null,null,null,null,null,null,null,null,null,null,null,null,"Agg Points",{"$f":"FI92+FI97+50","v":50},50,50,50,50,50,50,50,50,50,50,50,50,50,50,50,50,50,50,50,50,50,54,{"$f":"GF92+GF97+50","v":54},{"$f":"GG92+GG97+50","v":54},54,54,54,54,54,54,54,52,52,52,54,54,54,54,54,54,54,54,54,54,54,54,54,54,54,54,54,null,null,null,null,null,null,null,null,null,null,null,null,null,null,null,null,null,null,null,null,null,null,null,null,null,null,null,null,null,null,null,null,null,null,null,null,null,null,null,null,null,null,null,null,null,null,null,null,null,null,null,null,null,null,null,null,null,null,null,null,null,null,null,null,null,null,null,null,null,null,null,null,null,null,null,null,null,null,null,null,null,null,null,null,null,null,null,null,null,null,null,null,null,null,null,null,null,null,null,null,null,null,null,null,null,null,null,null,null,null,null,null,null,null,null,null,null,97,"AJ6"]
[null,null,null,null,null,null,null,null,null,null,null,{"$f":"IF(L$2>'Wk Input'!$J$2,\"\",DP82)","v":""},{"$f":"IF(M$2>'Wk Input'!$J$2,\"\",DQ82)","v":""},{"$f":"IF(N$2>'Wk Input'!$J$2,\"\",DR82)","v":""},{"$f":"IF(O$2>'Wk Input'!$J$2,\"\",DS82)","v":""},{"$f":"IF(P$2>'Wk Input'!$J$2,\"\",DT82)","v":""},{"$f":"IF(Q$2>'Wk Input'!$J$2,\"\",DU82)","v":""},{"$f":"IF(R$2>'Wk Input'!$J$2,\"\",DV82)","v":""},{"$f":"IF(S$2>'Wk Input'!$J$2,\"\",DW82)","v":""},{"$f":"IF(T$2>'Wk Input'!$J$2,\"\",DX82)","v":""},{"$f":"IF(U$2>'Wk Input'!$J$2,\"\",DY82)","v":""},{"$f":"IF(V$2>'Wk Input'!$J$2,\"\",DZ82)","v":""},{"$f":"IF(W$2>'Wk Input'!$J$2,\"\",EA82)","v":""},{"$f":"IF(X$2>'Wk Input'!$J$2,\"\",EB82)","v":""},{"$f":"IF(Y$2>'Wk Input'!$J$2,\"\",EC82)","v":""},{"$f":"IF(Z$2>'Wk Input'!$J$2,\"\",ED82)","v":""},{"$f":"IF(AA$2>'Wk Input'!$J$2,\"\",EE82)","v":""},{"$f":"IF(AB$2>'Wk Input'!$J$2,\"\",EF82)","v":""},{"$f":"IF(AC$2>'Wk Input'!$J$2,\"\",EG82)","v":""},{"$f":"IF(AD$2>'Wk Input'!$J$2,\"\",EH82)","v":""},{"$f":"IF(AE$2>'Wk Input'!$J$2,\"\",EI82)","v":""},{"$f":"IF(AF$2>'Wk Input'!$J$2,\"\",EJ82)","v":""},{"$f":"IF(AG$2>'Wk Input'!$J$2,\"\",EK82)","v":""},{"$f":"IF(AH$2>'Wk Input'!$J$2,\"\",EL82)","v":""},{"$f":"IF(AI$2>'Wk Input'!$J$2,\"\",EM82)","v":""},{"$f":"IF(AJ$2>'Wk Input'!$J$2,\"\",EN82)","v":""},{"$f":"IF(AK$2>'Wk Input'!$J$2,\"\",EO82)","v":""},{"$f":"IF(AL$2>'Wk Input'!$J$2,\"\",EP82)","v":""},{"$f":"IF(AM$2>'Wk Input'!$J$2,\"\",EQ82)","v":""},{"$f":"IF(AN$2>'Wk Input'!$J$2,\"\",ER82)","v":""},{"$f":"IF(AO$2>'Wk Input'!$J$2,\"\",ES82)","v":""},{"$f":"IF(AP$2>'Wk Input'!$J$2,\"\",ET82)","v":""},{"$f":"IF(AQ$2>'Wk Input'!$J$2,\"\",EU82)","v":""},{"$f":"IF(AR$2>'Wk Input'!$J$2,\"\",EV82)","v":""},{"$f":"IF(AS$2>'Wk Input'!$J$2,\"\",EW82)","v":""},{"$f":"IF(AT$2>'Wk Input'!$J$2,\"\",EX82)","v":""},{"$f":"IF(AU$2>'Wk Input'!$J$2,\"\",EY82)","v":""},{"$f":"IF(AV$2>'Wk Input'!$J$2,\"\",EZ82)","v":""},{"$f":"IF(AW$2>'Wk Input'!$J$2,\"\",FA82)","v":""},{"$f":"IF(AX$2>'Wk Input'!$J$2,\"\",FB82)","v":""},{"$f":"IF(AY$2>'Wk Input'!$J$2,\"\",FC82)","v":""},{"$f":"IF(AZ$2>'Wk Input'!$J$2,\"\",FD82)","v":""},{"$f":"IF(BA$2>'Wk Input'!$J$2,\"\",FE82)","v":""},{"$f":"IF(BB$2>'Wk Input'!$J$2,\"\",FF82)","v":""},{"$f":"IF(BC$2>'Wk Input'!$J$2,\"\",FG82)","v":""},{"$f":"IF(BD$2>'Wk Input'!$J$2,\"\",FH82)","v":""},{"$f":"IF(BE$2>'Wk Input'!$J$2,\"\",FI82)","v":""},{"$f":"IF(BF$2>'Wk Input'!$J$2,\"\",FJ82)","v":""},{"$f":"IF(BG$2>'Wk Input'!$J$2,\"\",FK82)","v":""},{"$f":"IF(BH$2>'Wk Input'!$J$2,\"\",FL82)","v":""},{"$f":"IF(BI$2>'Wk Input'!$J$2,\"\",FM82)","v":""},{"$f":"IF(BJ$2>'Wk Input'!$J$2,\"\",FN82)","v":""},{"$f":"IF(BK$2>'Wk Input'!$J$2,\"\",FO82)","v":""},null,null,"","","","","","","","","","","","","","","","","","","","","","","","","","","","","","","","","","","","","","","","","","","","","","","","","","","","",null,null,null,null,null,null,null,null,null,null,null,null,null,null,null,null,null,null,null,null,null,null,null,null,null,null,null,null,null,null,null,null,null,null,null,null,null,null,null,null,null,null,null,null,null,null,"#Ycards",0,{"$f":"IF(FJ94,FI99+1,FI99)","v":0},{"$f":"IF(FK94,FJ99+1,FJ99)","v":0},0,0,0,0,0,0,0,0,0,0,0,0,0,0,0,0,0,0,0,0,0,0,0,0,0,0,0,0,0,1,1,1,1,1,1,1,1,1,1,1,1,1,1,1,1,1,1,1,1,null,null,null,null,null,null,null,null,null,null,null,null,null,null,null,null,null,null,null,null,null,null,null,null,null,null,null,null,null,null,null,null,null,null,null,null,null,null,null,null,null,null,null,null,null,null,null,null,null,null,null,null,null,null,null,null,null,null,null,null,null,null,null,null,null,null,null,null,null,null,null,null,null,null,null,null,null,null,null,null,null,null,null,null,null,null,null,null,null,null,null,null,null,null,null,null,null,null,null,null,null,null,null,null,null,null,null,null,null,null,null,null,null,null,null,null,null,98,"AJ7"]
[null,null,null,null,null,null,null,null,null,null,null,{"$f":"IF(L$2>'Wk Input'!$J$2,\"\",DP83)","v":""},{"$f":"IF(M$2>'Wk Input'!$J$2,\"\",DQ83)","v":""},{"$f":"IF(N$2>'Wk Input'!$J$2,\"\",DR83)","v":""},{"$f":"IF(O$2>'Wk Input'!$J$2,\"\",DS83)","v":""},{"$f":"IF(P$2>'Wk Input'!$J$2,\"\",DT83)","v":""},{"$f":"IF(Q$2>'Wk Input'!$J$2,\"\",DU83)","v":""},{"$f":"IF(R$2>'Wk Input'!$J$2,\"\",DV83)","v":""},{"$f":"IF(S$2>'Wk Input'!$J$2,\"\",DW83)","v":""},{"$f":"IF(T$2>'Wk Input'!$J$2,\"\",DX83)","v":""},{"$f":"IF(U$2>'Wk Input'!$J$2,\"\",DY83)","v":""},{"$f":"IF(V$2>'Wk Input'!$J$2,\"\",DZ83)","v":""},{"$f":"IF(W$2>'Wk Input'!$J$2,\"\",EA83)","v":""},{"$f":"IF(X$2>'Wk Input'!$J$2,\"\",EB83)","v":""},{"$f":"IF(Y$2>'Wk Input'!$J$2,\"\",EC83)","v":""},{"$f":"IF(Z$2>'Wk Input'!$J$2,\"\",ED83)","v":""},{"$f":"IF(AA$2>'Wk Input'!$J$2,\"\",EE83)","v":""},{"$f":"IF(AB$2>'Wk Input'!$J$2,\"\",EF83)","v":""},{"$f":"IF(AC$2>'Wk Input'!$J$2,\"\",EG83)","v":""},{"$f":"IF(AD$2>'Wk Input'!$J$2,\"\",EH83)","v":""},{"$f":"IF(AE$2>'Wk Input'!$J$2,\"\",EI83)","v":""},{"$f":"IF(AF$2>'Wk Input'!$J$2,\"\",EJ83)","v":""},{"$f":"IF(AG$2>'Wk Input'!$J$2,\"\",EK83)","v":""},{"$f":"IF(AH$2>'Wk Input'!$J$2,\"\",EL83)","v":""},{"$f":"IF(AI$2>'Wk Input'!$J$2,\"\",EM83)","v":""},{"$f":"IF(AJ$2>'Wk Input'!$J$2,\"\",EN83)","v":""},{"$f":"IF(AK$2>'Wk Input'!$J$2,\"\",EO83)","v":""},{"$f":"IF(AL$2>'Wk Input'!$J$2,\"\",EP83)","v":""},{"$f":"IF(AM$2>'Wk Input'!$J$2,\"\",EQ83)","v":""},{"$f":"IF(AN$2>'Wk Input'!$J$2,\"\",ER83)","v":""},{"$f":"IF(AO$2>'Wk Input'!$J$2,\"\",ES83)","v":""},{"$f":"IF(AP$2>'Wk Input'!$J$2,\"\",ET83)","v":""},{"$f":"IF(AQ$2>'Wk Input'!$J$2,\"\",EU83)","v":""},{"$f":"IF(AR$2>'Wk Input'!$J$2,\"\",EV83)","v":""},{"$f":"IF(AS$2>'Wk Input'!$J$2,\"\",EW83)","v":""},{"$f":"IF(AT$2>'Wk Input'!$J$2,\"\",EX83)","v":""},{"$f":"IF(AU$2>'Wk Input'!$J$2,\"\",EY83)","v":""},{"$f":"IF(AV$2>'Wk Input'!$J$2,\"\",EZ83)","v":""},{"$f":"IF(AW$2>'Wk Input'!$J$2,\"\",FA83)","v":""},{"$f":"IF(AX$2>'Wk Input'!$J$2,\"\",FB83)","v":""},{"$f":"IF(AY$2>'Wk Input'!$J$2,\"\",FC83)","v":""},{"$f":"IF(AZ$2>'Wk Input'!$J$2,\"\",FD83)","v":""},{"$f":"IF(BA$2>'Wk Input'!$J$2,\"\",FE83)","v":""},{"$f":"IF(BB$2>'Wk Input'!$J$2,\"\",FF83)","v":""},{"$f":"IF(BC$2>'Wk Input'!$J$2,\"\",FG83)","v":""},{"$f":"IF(BD$2>'Wk Input'!$J$2,\"\",FH83)","v":""},{"$f":"IF(BE$2>'Wk Input'!$J$2,\"\",FI83)","v":""},{"$f":"IF(BF$2>'Wk Input'!$J$2,\"\",FJ83)","v":""},{"$f":"IF(BG$2>'Wk Input'!$J$2,\"\",FK83)","v":""},{"$f":"IF(BH$2>'Wk Input'!$J$2,\"\",FL83)","v":""},{"$f":"IF(BI$2>'Wk Input'!$J$2,\"\",FM83)","v":""},{"$f":"IF(BJ$2>'Wk Input'!$J$2,\"\",FN83)","v":""},{"$f":"IF(BK$2>'Wk Input'!$J$2,\"\",FO83)","v":""},null,null,"","","","","","","","","","","","","","","","","","","","","","","","","","","","","","","","","","","","","","","","","","","","","","","","","","","","",null,null,null,null,null,null,null,null,null,null,null,null,null,null,null,null,null,null,null,null,null,null,null,null,null,null,null,null,null,null,null,null,null,null,null,null,null,null,null,null,null,null,null,null,null,null,{"$f":"'Wk Input'!$J$2","v":53},false,false,false,false,false,false,false,false,false,false,false,false,false,false,false,false,false,false,false,false,false,false,true,false,false,false,false,false,false,false,false,false,false,false,false,false,false,false,false,false,false,false,false,false,false,false,false,false,false,false,false,false,null,null,null,null,null,null,null,null,null,null,null,null,null,null,null,null,null,null,null,null,null,null,null,null,null,null,null,null,null,null,null,null,null,null,null,null,null,null,null,null,null,null,null,null,null,null,null,null,null,null,null,null,null,null,null,null,null,null,null,null,null,null,null,null,null,null,null,null,null,null,null,null,null,null,null,null,null,null,null,null,null,null,null,null,null,null,null,null,null,null,null,null,null,null,null,null,null,null,null,null,null,null,null,null,null,null,null,null,null,null,null,null,null,null,null,null,null,99,"AJ8"]
[null,null,null,null,null,null,null,null,null,null,null,{"$f":"IF(L$2>'Wk Input'!$J$2,\"\",DP84)","v":""},{"$f":"IF(M$2>'Wk Input'!$J$2,\"\",DQ84)","v":""},{"$f":"IF(N$2>'Wk Input'!$J$2,\"\",DR84)","v":""},{"$f":"IF(O$2>'Wk Input'!$J$2,\"\",DS84)","v":""},{"$f":"IF(P$2>'Wk Input'!$J$2,\"\",DT84)","v":""},{"$f":"IF(Q$2>'Wk Input'!$J$2,\"\",DU84)","v":""},{"$f":"IF(R$2>'Wk Input'!$J$2,\"\",DV84)","v":""},{"$f":"IF(S$2>'Wk Input'!$J$2,\"\",DW84)","v":""},{"$f":"IF(T$2>'Wk Input'!$J$2,\"\",DX84)","v":""},{"$f":"IF(U$2>'Wk Input'!$J$2,\"\",DY84)","v":""},{"$f":"IF(V$2>'Wk Input'!$J$2,\"\",DZ84)","v":""},{"$f":"IF(W$2>'Wk Input'!$J$2,\"\",EA84)","v":""},{"$f":"IF(X$2>'Wk Input'!$J$2,\"\",EB84)","v":""},{"$f":"IF(Y$2>'Wk Input'!$J$2,\"\",EC84)","v":""},{"$f":"IF(Z$2>'Wk Input'!$J$2,\"\",ED84)","v":""},{"$f":"IF(AA$2>'Wk Input'!$J$2,\"\",EE84)","v":""},{"$f":"IF(AB$2>'Wk Input'!$J$2,\"\",EF84)","v":""},{"$f":"IF(AC$2>'Wk Input'!$J$2,\"\",EG84)","v":""},{"$f":"IF(AD$2>'Wk Input'!$J$2,\"\",EH84)","v":""},{"$f":"IF(AE$2>'Wk Input'!$J$2,\"\",EI84)","v":""},{"$f":"IF(AF$2>'Wk Input'!$J$2,\"\",EJ84)","v":""},{"$f":"IF(AG$2>'Wk Input'!$J$2,\"\",EK84)","v":""},{"$f":"IF(AH$2>'Wk Input'!$J$2,\"\",EL84)","v":""},{"$f":"IF(AI$2>'Wk Input'!$J$2,\"\",EM84)","v":""},{"$f":"IF(AJ$2>'Wk Input'!$J$2,\"\",EN84)","v":""},{"$f":"IF(AK$2>'Wk Input'!$J$2,\"\",EO84)","v":""},{"$f":"IF(AL$2>'Wk Input'!$J$2,\"\",EP84)","v":""},{"$f":"IF(AM$2>'Wk Input'!$J$2,\"\",EQ84)","v":""},{"$f":"IF(AN$2>'Wk Input'!$J$2,\"\",ER84)","v":""},{"$f":"IF(AO$2>'Wk Input'!$J$2,\"\",ES84)","v":""},{"$f":"IF(AP$2>'Wk Input'!$J$2,\"\",ET84)","v":""},{"$f":"IF(AQ$2>'Wk Input'!$J$2,\"\",EU84)","v":""},{"$f":"IF(AR$2>'Wk Input'!$J$2,\"\",EV84)","v":""},{"$f":"IF(AS$2>'Wk Input'!$J$2,\"\",EW84)","v":""},{"$f":"IF(AT$2>'Wk Input'!$J$2,\"\",EX84)","v":""},{"$f":"IF(AU$2>'Wk Input'!$J$2,\"\",EY84)","v":""},{"$f":"IF(AV$2>'Wk Input'!$J$2,\"\",EZ84)","v":""},{"$f":"IF(AW$2>'Wk Input'!$J$2,\"\",FA84)","v":""},{"$f":"IF(AX$2>'Wk Input'!$J$2,\"\",FB84)","v":""},{"$f":"IF(AY$2>'Wk Input'!$J$2,\"\",FC84)","v":""},{"$f":"IF(AZ$2>'Wk Input'!$J$2,\"\",FD84)","v":""},{"$f":"IF(BA$2>'Wk Input'!$J$2,\"\",FE84)","v":""},{"$f":"IF(BB$2>'Wk Input'!$J$2,\"\",FF84)","v":""},{"$f":"IF(BC$2>'Wk Input'!$J$2,\"\",FG84)","v":""},{"$f":"IF(BD$2>'Wk Input'!$J$2,\"\",FH84)","v":""},{"$f":"IF(BE$2>'Wk Input'!$J$2,\"\",FI84)","v":""},{"$f":"IF(BF$2>'Wk Input'!$J$2,\"\",FJ84)","v":""},{"$f":"IF(BG$2>'Wk Input'!$J$2,\"\",FK84)","v":""},{"$f":"IF(BH$2>'Wk Input'!$J$2,\"\",FL84)","v":""},{"$f":"IF(BI$2>'Wk Input'!$J$2,\"\",FM84)","v":""},{"$f":"IF(BJ$2>'Wk Input'!$J$2,\"\",FN84)","v":""},{"$f":"IF(BK$2>'Wk Input'!$J$2,\"\",FO84)","v":""},null,null,"","","","","","","","","","","","","","","","","","","","","","","","","","","","","","","","","","","","","","","","","","","","","","","","","","","","",null,null,null,null,null,null,null,null,null,null,null,null,null,null,null,null,null,null,null,null,null,null,null,null,null,null,null,null,null,null,null,null,null,null,null,null,null,null,null,null,null,null,null,null,null,null,null,false,false,false,false,false,false,false,false,false,false,false,false,false,false,false,false,false,false,false,false,false,false,false,false,false,false,false,false,false,false,false,false,true,false,false,false,false,false,false,false,false,false,false,false,false,false,false,false,false,false,false,false,null,null,null,null,null,null,null,null,null,null,null,null,null,null,null,null,null,null,null,null,null,null,null,null,null,null,null,null,null,null,null,null,null,null,null,null,null,null,null,null,null,null,null,null,null,null,null,null,null,null,null,null,null,null,null,null,null,null,null,null,null,null,null,null,null,null,null,null,null,null,null,null,null,null,null,null,null,null,null,null,null,null,null,null,null,null,null,null,null,null,null,null,null,null,null,null,null,null,null,null,null,null,null,null,null,null,null,null,null,null,null,null,null,null,null,null,null,100,"AJ9"]
[null,null,null,null,null,null,null,null,null,null,null,{"$f":"IF(L$2>'Wk Input'!$J$2,\"\",DP85)","v":""},{"$f":"IF(M$2>'Wk Input'!$J$2,\"\",DQ85)","v":""},{"$f":"IF(N$2>'Wk Input'!$J$2,\"\",DR85)","v":""},{"$f":"IF(O$2>'Wk Input'!$J$2,\"\",DS85)","v":""},{"$f":"IF(P$2>'Wk Input'!$J$2,\"\",DT85)","v":""},{"$f":"IF(Q$2>'Wk Input'!$J$2,\"\",DU85)","v":""},{"$f":"IF(R$2>'Wk Input'!$J$2,\"\",DV85)","v":""},{"$f":"IF(S$2>'Wk Input'!$J$2,\"\",DW85)","v":""},{"$f":"IF(T$2>'Wk Input'!$J$2,\"\",DX85)","v":""},{"$f":"IF(U$2>'Wk Input'!$J$2,\"\",DY85)","v":""},{"$f":"IF(V$2>'Wk Input'!$J$2,\"\",DZ85)","v":""},{"$f":"IF(W$2>'Wk Input'!$J$2,\"\",EA85)","v":""},{"$f":"IF(X$2>'Wk Input'!$J$2,\"\",EB85)","v":""},{"$f":"IF(Y$2>'Wk Input'!$J$2,\"\",EC85)","v":""},{"$f":"IF(Z$2>'Wk Input'!$J$2,\"\",ED85)","v":""},{"$f":"IF(AA$2>'Wk Input'!$J$2,\"\",EE85)","v":""},{"$f":"IF(AB$2>'Wk Input'!$J$2,\"\",EF85)","v":""},{"$f":"IF(AC$2>'Wk Input'!$J$2,\"\",EG85)","v":""},{"$f":"IF(AD$2>'Wk Input'!$J$2,\"\",EH85)","v":""},{"$f":"IF(AE$2>'Wk Input'!$J$2,\"\",EI85)","v":""},{"$f":"IF(AF$2>'Wk Input'!$J$2,\"\",EJ85)","v":""},{"$f":"IF(AG$2>'Wk Input'!$J$2,\"\",EK85)","v":""},{"$f":"IF(AH$2>'Wk Input'!$J$2,\"\",EL85)","v":""},{"$f":"IF(AI$2>'Wk Input'!$J$2,\"\",EM85)","v":""},{"$f":"IF(AJ$2>'Wk Input'!$J$2,\"\",EN85)","v":""},{"$f":"IF(AK$2>'Wk Input'!$J$2,\"\",EO85)","v":""},{"$f":"IF(AL$2>'Wk Input'!$J$2,\"\",EP85)","v":""},{"$f":"IF(AM$2>'Wk Input'!$J$2,\"\",EQ85)","v":""},{"$f":"IF(AN$2>'Wk Input'!$J$2,\"\",ER85)","v":""},{"$f":"IF(AO$2>'Wk Input'!$J$2,\"\",ES85)","v":""},{"$f":"IF(AP$2>'Wk Input'!$J$2,\"\",ET85)","v":""},{"$f":"IF(AQ$2>'Wk Input'!$J$2,\"\",EU85)","v":""},{"$f":"IF(AR$2>'Wk Input'!$J$2,\"\",EV85)","v":""},{"$f":"IF(AS$2>'Wk Input'!$J$2,\"\",EW85)","v":""},{"$f":"IF(AT$2>'Wk Input'!$J$2,\"\",EX85)","v":""},{"$f":"IF(AU$2>'Wk Input'!$J$2,\"\",EY85)","v":""},{"$f":"IF(AV$2>'Wk Input'!$J$2,\"\",EZ85)","v":""},{"$f":"IF(AW$2>'Wk Input'!$J$2,\"\",FA85)","v":""},{"$f":"IF(AX$2>'Wk Input'!$J$2,\"\",FB85)","v":""},{"$f":"IF(AY$2>'Wk Input'!$J$2,\"\",FC85)","v":""},{"$f":"IF(AZ$2>'Wk Input'!$J$2,\"\",FD85)","v":""},{"$f":"IF(BA$2>'Wk Input'!$J$2,\"\",FE85)","v":""},{"$f":"IF(BB$2>'Wk Input'!$J$2,\"\",FF85)","v":""},{"$f":"IF(BC$2>'Wk Input'!$J$2,\"\",FG85)","v":""},{"$f":"IF(BD$2>'Wk Input'!$J$2,\"\",FH85)","v":""},{"$f":"IF(BE$2>'Wk Input'!$J$2,\"\",FI85)","v":""},{"$f":"IF(BF$2>'Wk Input'!$J$2,\"\",FJ85)","v":""},{"$f":"IF(BG$2>'Wk Input'!$J$2,\"\",FK85)","v":""},{"$f":"IF(BH$2>'Wk Input'!$J$2,\"\",FL85)","v":""},{"$f":"IF(BI$2>'Wk Input'!$J$2,\"\",FM85)","v":""},{"$f":"IF(BJ$2>'Wk Input'!$J$2,\"\",FN85)","v":""},{"$f":"IF(BK$2>'Wk Input'!$J$2,\"\",FO85)","v":""},null,null,"","","","","","","","","","","","","","","","","","","","","","","","","","","","","","","","","","","","","","","","","","","","","","","","","","","","",null,null,null,null,null,null,null,null,null,null,null,null,null,null,null,null,null,null,null,null,null,null,null,null,null,null,null,null,null,null,null,null,null,null,null,null,null,null,null,null,null,null,null,null,null,null,null,null,null,null,null,null,null,null,null,null,null,null,null,null,null,null,null,null,null,null,null,null,null,null,null,null,null,null,null,null,null,null,null,null,null,null,null,null,null,null,null,null,null,null,null,null,null,null,null,null,null,null,null,null,null,null,null,null,null,null,null,null,null,null,null,null,null,null,null,null,null,null,null,null,null,null,null,null,null,null,null,null,null,null,null,null,null,null,null,null,null,null,null,null,null,null,null,null,null,null,null,null,null,null,null,null,null,null,null,null,null,null,null,null,null,null,null,null,null,null,null,null,null,null,null,null,null,null,null,null,null,null,null,null,null,null,null,null,null,null,null,null,null,null,null,null,null,null,null,null,null,null,null,null,null,null,null,null,null,null,null,null,null,null,null,null,null,null,null,null,101,"AK0"]
[null,null,null,null,null,null,null,null,null,null,null,{"$f":"IF(L$2>'Wk Input'!$J$2,\"\",DP86)","v":""},{"$f":"IF(M$2>'Wk Input'!$J$2,\"\",DQ86)","v":""},{"$f":"IF(N$2>'Wk Input'!$J$2,\"\",DR86)","v":""},{"$f":"IF(O$2>'Wk Input'!$J$2,\"\",DS86)","v":""},{"$f":"IF(P$2>'Wk Input'!$J$2,\"\",DT86)","v":""},{"$f":"IF(Q$2>'Wk Input'!$J$2,\"\",DU86)","v":""},{"$f":"IF(R$2>'Wk Input'!$J$2,\"\",DV86)","v":""},{"$f":"IF(S$2>'Wk Input'!$J$2,\"\",DW86)","v":""},{"$f":"IF(T$2>'Wk Input'!$J$2,\"\",DX86)","v":""},{"$f":"IF(U$2>'Wk Input'!$J$2,\"\",DY86)","v":""},{"$f":"IF(V$2>'Wk Input'!$J$2,\"\",DZ86)","v":""},{"$f":"IF(W$2>'Wk Input'!$J$2,\"\",EA86)","v":""},{"$f":"IF(X$2>'Wk Input'!$J$2,\"\",EB86)","v":""},{"$f":"IF(Y$2>'Wk Input'!$J$2,\"\",EC86)","v":""},{"$f":"IF(Z$2>'Wk Input'!$J$2,\"\",ED86)","v":""},{"$f":"IF(AA$2>'Wk Input'!$J$2,\"\",EE86)","v":""},{"$f":"IF(AB$2>'Wk Input'!$J$2,\"\",EF86)","v":""},{"$f":"IF(AC$2>'Wk Input'!$J$2,\"\",EG86)","v":""},{"$f":"IF(AD$2>'Wk Input'!$J$2,\"\",EH86)","v":""},{"$f":"IF(AE$2>'Wk Input'!$J$2,\"\",EI86)","v":""},{"$f":"IF(AF$2>'Wk Input'!$J$2,\"\",EJ86)","v":""},{"$f":"IF(AG$2>'Wk Input'!$J$2,\"\",EK86)","v":""},{"$f":"IF(AH$2>'Wk Input'!$J$2,\"\",EL86)","v":""},{"$f":"IF(AI$2>'Wk Input'!$J$2,\"\",EM86)","v":""},{"$f":"IF(AJ$2>'Wk Input'!$J$2,\"\",EN86)","v":""},{"$f":"IF(AK$2>'Wk Input'!$J$2,\"\",EO86)","v":""},{"$f":"IF(AL$2>'Wk Input'!$J$2,\"\",EP86)","v":""},{"$f":"IF(AM$2>'Wk Input'!$J$2,\"\",EQ86)","v":""},{"$f":"IF(AN$2>'Wk Input'!$J$2,\"\",ER86)","v":""},{"$f":"IF(AO$2>'Wk Input'!$J$2,\"\",ES86)","v":""},{"$f":"IF(AP$2>'Wk Input'!$J$2,\"\",ET86)","v":""},{"$f":"IF(AQ$2>'Wk Input'!$J$2,\"\",EU86)","v":""},{"$f":"IF(AR$2>'Wk Input'!$J$2,\"\",EV86)","v":""},{"$f":"IF(AS$2>'Wk Input'!$J$2,\"\",EW86)","v":""},{"$f":"IF(AT$2>'Wk Input'!$J$2,\"\",EX86)","v":""},{"$f":"IF(AU$2>'Wk Input'!$J$2,\"\",EY86)","v":""},{"$f":"IF(AV$2>'Wk Input'!$J$2,\"\",EZ86)","v":""},{"$f":"IF(AW$2>'Wk Input'!$J$2,\"\",FA86)","v":""},{"$f":"IF(AX$2>'Wk Input'!$J$2,\"\",FB86)","v":""},{"$f":"IF(AY$2>'Wk Input'!$J$2,\"\",FC86)","v":""},{"$f":"IF(AZ$2>'Wk Input'!$J$2,\"\",FD86)","v":""},{"$f":"IF(BA$2>'Wk Input'!$J$2,\"\",FE86)","v":""},{"$f":"IF(BB$2>'Wk Input'!$J$2,\"\",FF86)","v":""},{"$f":"IF(BC$2>'Wk Input'!$J$2,\"\",FG86)","v":""},{"$f":"IF(BD$2>'Wk Input'!$J$2,\"\",FH86)","v":""},{"$f":"IF(BE$2>'Wk Input'!$J$2,\"\",FI86)","v":""},{"$f":"IF(BF$2>'Wk Input'!$J$2,\"\",FJ86)","v":""},{"$f":"IF(BG$2>'Wk Input'!$J$2,\"\",FK86)","v":""},{"$f":"IF(BH$2>'Wk Input'!$J$2,\"\",FL86)","v":""},{"$f":"IF(BI$2>'Wk Input'!$J$2,\"\",FM86)","v":""},{"$f":"IF(BJ$2>'Wk Input'!$J$2,\"\",FN86)","v":""},{"$f":"IF(BK$2>'Wk Input'!$J$2,\"\",FO86)","v":""},null,null,"","","","","","","","","","","","","","","","","","","","","","","","","","","","","","","","","","","","","","","","","","","","","","","","","","","","",null,null,null,null,null,null,null,null,null,null,null,null,null,null,null,null,null,null,null,null,null,null,null,null,null,null,null,null,null,null,null,null,null,null,null,null,null,null,null,null,null,null,null,null,null,null,null,null,null,null,null,null,null,null,null,null,null,null,null,null,null,null,null,null,null,null,null,null,null,null,null,null,null,null,null,null,null,null,null,null,null,null,null,null,null,null,null,null,null,null,null,null,null,null,null,null,null,null,null,null,null,null,null,null,null,null,null,null,null,null,null,null,null,null,null,null,null,null,null,null,null,null,null,null,null,null,null,null,null,null,null,null,null,null,null,null,null,null,null,null,null,null,null,null,null,null,null,null,null,null,null,null,null,null,null,null,null,null,null,null,null,null,null,null,null,null,null,null,null,null,null,null,null,null,null,null,null,null,null,null,null,null,null,null,null,null,null,null,null,null,null,null,null,null,null,null,null,null,null,null,null,null,null,null,null,null,null,null,null,null,null,null,null,null,null,null,102,"AK1"]
[null,null,null,null,null,null,null,null,null,null,null,{"$f":"IF(L$2>'Wk Input'!$J$2,\"\",DP87)","v":""},{"$f":"IF(M$2>'Wk Input'!$J$2,\"\",DQ87)","v":""},{"$f":"IF(N$2>'Wk Input'!$J$2,\"\",DR87)","v":""},{"$f":"IF(O$2>'Wk Input'!$J$2,\"\",DS87)","v":""},{"$f":"IF(P$2>'Wk Input'!$J$2,\"\",DT87)","v":""},{"$f":"IF(Q$2>'Wk Input'!$J$2,\"\",DU87)","v":""},{"$f":"IF(R$2>'Wk Input'!$J$2,\"\",DV87)","v":""},{"$f":"IF(S$2>'Wk Input'!$J$2,\"\",DW87)","v":""},{"$f":"IF(T$2>'Wk Input'!$J$2,\"\",DX87)","v":""},{"$f":"IF(U$2>'Wk Input'!$J$2,\"\",DY87)","v":""},{"$f":"IF(V$2>'Wk Input'!$J$2,\"\",DZ87)","v":""},{"$f":"IF(W$2>'Wk Input'!$J$2,\"\",EA87)","v":""},{"$f":"IF(X$2>'Wk Input'!$J$2,\"\",EB87)","v":""},{"$f":"IF(Y$2>'Wk Input'!$J$2,\"\",EC87)","v":""},{"$f":"IF(Z$2>'Wk Input'!$J$2,\"\",ED87)","v":""},{"$f":"IF(AA$2>'Wk Input'!$J$2,\"\",EE87)","v":""},{"$f":"IF(AB$2>'Wk Input'!$J$2,\"\",EF87)","v":""},{"$f":"IF(AC$2>'Wk Input'!$J$2,\"\",EG87)","v":""},{"$f":"IF(AD$2>'Wk Input'!$J$2,\"\",EH87)","v":""},{"$f":"IF(AE$2>'Wk Input'!$J$2,\"\",EI87)","v":""},{"$f":"IF(AF$2>'Wk Input'!$J$2,\"\",EJ87)","v":""},{"$f":"IF(AG$2>'Wk Input'!$J$2,\"\",EK87)","v":""},{"$f":"IF(AH$2>'Wk Input'!$J$2,\"\",EL87)","v":""},{"$f":"IF(AI$2>'Wk Input'!$J$2,\"\",EM87)","v":""},{"$f":"IF(AJ$2>'Wk Input'!$J$2,\"\",EN87)","v":""},{"$f":"IF(AK$2>'Wk Input'!$J$2,\"\",EO87)","v":""},{"$f":"IF(AL$2>'Wk Input'!$J$2,\"\",EP87)","v":""},{"$f":"IF(AM$2>'Wk Input'!$J$2,\"\",EQ87)","v":""},{"$f":"IF(AN$2>'Wk Input'!$J$2,\"\",ER87)","v":""},{"$f":"IF(AO$2>'Wk Input'!$J$2,\"\",ES87)","v":""},{"$f":"IF(AP$2>'Wk Input'!$J$2,\"\",ET87)","v":""},{"$f":"IF(AQ$2>'Wk Input'!$J$2,\"\",EU87)","v":""},{"$f":"IF(AR$2>'Wk Input'!$J$2,\"\",EV87)","v":""},{"$f":"IF(AS$2>'Wk Input'!$J$2,\"\",EW87)","v":""},{"$f":"IF(AT$2>'Wk Input'!$J$2,\"\",EX87)","v":""},{"$f":"IF(AU$2>'Wk Input'!$J$2,\"\",EY87)","v":""},{"$f":"IF(AV$2>'Wk Input'!$J$2,\"\",EZ87)","v":""},{"$f":"IF(AW$2>'Wk Input'!$J$2,\"\",FA87)","v":""},{"$f":"IF(AX$2>'Wk Input'!$J$2,\"\",FB87)","v":""},{"$f":"IF(AY$2>'Wk Input'!$J$2,\"\",FC87)","v":""},{"$f":"IF(AZ$2>'Wk Input'!$J$2,\"\",FD87)","v":""},{"$f":"IF(BA$2>'Wk Input'!$J$2,\"\",FE87)","v":""},{"$f":"IF(BB$2>'Wk Input'!$J$2,\"\",FF87)","v":""},{"$f":"IF(BC$2>'Wk Input'!$J$2,\"\",FG87)","v":""},{"$f":"IF(BD$2>'Wk Input'!$J$2,\"\",FH87)","v":""},{"$f":"IF(BE$2>'Wk Input'!$J$2,\"\",FI87)","v":""},{"$f":"IF(BF$2>'Wk Input'!$J$2,\"\",FJ87)","v":""},{"$f":"IF(BG$2>'Wk Input'!$J$2,\"\",FK87)","v":""},{"$f":"IF(BH$2>'Wk Input'!$J$2,\"\",FL87)","v":""},{"$f":"IF(BI$2>'Wk Input'!$J$2,\"\",FM87)","v":""},{"$f":"IF(BJ$2>'Wk Input'!$J$2,\"\",FN87)","v":""},{"$f":"IF(BK$2>'Wk Input'!$J$2,\"\",FO87)","v":""},null,null,"","","","","","","","","","","","","","","","","","","","","","","","","","","","","","","","","","","","","","","","","","","","","","","","","","","","",null,null,null,null,null,null,null,null,null,null,null,null,null,null,null,null,null,null,null,null,null,null,null,null,null,null,null,null,null,null,null,null,null,null,null,null,null,null,null,null,null,null,null,null,null,null,null,null,null,null,null,null,null,null,null,null,null,null,null,null,null,null,null,null,null,null,null,null,null,null,null,null,null,null,null,null,null,null,null,null,null,null,null,null,null,null,null,null,null,null,null,null,null,null,null,null,null,null,null,null,null,null,null,null,null,null,null,null,null,null,null,null,null,null,null,null,null,null,null,null,null,null,null,null,null,null,null,null,null,null,null,null,null,null,null,null,null,null,null,null,null,null,null,null,null,null,null,null,null,null,null,null,null,null,null,null,null,null,null,null,null,null,null,null,null,null,null,null,null,null,null,null,null,null,null,null,null,null,null,null,null,null,null,null,null,null,null,null,null,null,null,null,null,null,null,null,null,null,null,null,null,null,null,null,null,null,null,null,null,null,null,null,null,null,null,null,103,"AK2"]
[null,null,null,null,null,null,null,null,null,null,null,{"$f":"IF(L$2>'Wk Input'!$J$2,\"\",DP88)","v":""},{"$f":"IF(M$2>'Wk Input'!$J$2,\"\",DQ88)","v":""},{"$f":"IF(N$2>'Wk Input'!$J$2,\"\",DR88)","v":""},{"$f":"IF(O$2>'Wk Input'!$J$2,\"\",DS88)","v":""},{"$f":"IF(P$2>'Wk Input'!$J$2,\"\",DT88)","v":""},{"$f":"IF(Q$2>'Wk Input'!$J$2,\"\",DU88)","v":""},{"$f":"IF(R$2>'Wk Input'!$J$2,\"\",DV88)","v":""},{"$f":"IF(S$2>'Wk Input'!$J$2,\"\",DW88)","v":""},{"$f":"IF(T$2>'Wk Input'!$J$2,\"\",DX88)","v":""},{"$f":"IF(U$2>'Wk Input'!$J$2,\"\",DY88)","v":""},{"$f":"IF(V$2>'Wk Input'!$J$2,\"\",DZ88)","v":""},{"$f":"IF(W$2>'Wk Input'!$J$2,\"\",EA88)","v":""},{"$f":"IF(X$2>'Wk Input'!$J$2,\"\",EB88)","v":""},{"$f":"IF(Y$2>'Wk Input'!$J$2,\"\",EC88)","v":""},{"$f":"IF(Z$2>'Wk Input'!$J$2,\"\",ED88)","v":""},{"$f":"IF(AA$2>'Wk Input'!$J$2,\"\",EE88)","v":""},{"$f":"IF(AB$2>'Wk Input'!$J$2,\"\",EF88)","v":""},{"$f":"IF(AC$2>'Wk Input'!$J$2,\"\",EG88)","v":""},{"$f":"IF(AD$2>'Wk Input'!$J$2,\"\",EH88)","v":""},{"$f":"IF(AE$2>'Wk Input'!$J$2,\"\",EI88)","v":""},{"$f":"IF(AF$2>'Wk Input'!$J$2,\"\",EJ88)","v":""},{"$f":"IF(AG$2>'Wk Input'!$J$2,\"\",EK88)","v":""},{"$f":"IF(AH$2>'Wk Input'!$J$2,\"\",EL88)","v":""},{"$f":"IF(AI$2>'Wk Input'!$J$2,\"\",EM88)","v":""},{"$f":"IF(AJ$2>'Wk Input'!$J$2,\"\",EN88)","v":""},{"$f":"IF(AK$2>'Wk Input'!$J$2,\"\",EO88)","v":""},{"$f":"IF(AL$2>'Wk Input'!$J$2,\"\",EP88)","v":""},{"$f":"IF(AM$2>'Wk Input'!$J$2,\"\",EQ88)","v":""},{"$f":"IF(AN$2>'Wk Input'!$J$2,\"\",ER88)","v":""},{"$f":"IF(AO$2>'Wk Input'!$J$2,\"\",ES88)","v":""},{"$f":"IF(AP$2>'Wk Input'!$J$2,\"\",ET88)","v":""},{"$f":"IF(AQ$2>'Wk Input'!$J$2,\"\",EU88)","v":""},{"$f":"IF(AR$2>'Wk Input'!$J$2,\"\",EV88)","v":""},{"$f":"IF(AS$2>'Wk Input'!$J$2,\"\",EW88)","v":""},{"$f":"IF(AT$2>'Wk Input'!$J$2,\"\",EX88)","v":""},{"$f":"IF(AU$2>'Wk Input'!$J$2,\"\",EY88)","v":""},{"$f":"IF(AV$2>'Wk Input'!$J$2,\"\",EZ88)","v":""},{"$f":"IF(AW$2>'Wk Input'!$J$2,\"\",FA88)","v":""},{"$f":"IF(AX$2>'Wk Input'!$J$2,\"\",FB88)","v":""},{"$f":"IF(AY$2>'Wk Input'!$J$2,\"\",FC88)","v":""},{"$f":"IF(AZ$2>'Wk Input'!$J$2,\"\",FD88)","v":""},{"$f":"IF(BA$2>'Wk Input'!$J$2,\"\",FE88)","v":""},{"$f":"IF(BB$2>'Wk Input'!$J$2,\"\",FF88)","v":""},{"$f":"IF(BC$2>'Wk Input'!$J$2,\"\",FG88)","v":""},{"$f":"IF(BD$2>'Wk Input'!$J$2,\"\",FH88)","v":""},{"$f":"IF(BE$2>'Wk Input'!$J$2,\"\",FI88)","v":""},{"$f":"IF(BF$2>'Wk Input'!$J$2,\"\",FJ88)","v":""},{"$f":"IF(BG$2>'Wk Input'!$J$2,\"\",FK88)","v":""},{"$f":"IF(BH$2>'Wk Input'!$J$2,\"\",FL88)","v":""},{"$f":"IF(BI$2>'Wk Input'!$J$2,\"\",FM88)","v":""},{"$f":"IF(BJ$2>'Wk Input'!$J$2,\"\",FN88)","v":""},{"$f":"IF(BK$2>'Wk Input'!$J$2,\"\",FO88)","v":""},null,null,"","","","","","","","","","","","","","","","","","","","","","","","","","","","","","","","","","","","","","","","","","","","","","","","","","","","",null,null,null,null,null,null,null,null,null,null,null,null,null,null,null,null,null,null,null,null,null,null,null,null,null,null,null,null,null,null,null,null,null,null,null,null,null,null,null,null,null,null,null,null,null,null,null,null,null,null,null,null,null,null,null,null,null,null,null,null,null,null,null,null,null,null,null,null,null,null,null,null,null,null,null,null,null,null,null,null,null,null,null,null,null,null,null,null,null,null,null,null,null,null,null,null,null,null,null,null,null,null,null,null,null,null,null,null,null,null,null,null,null,null,null,null,null,null,null,null,null,null,null,null,null,null,null,null,null,null,null,null,null,null,null,null,null,null,null,null,null,null,null,null,null,null,null,null,null,null,null,null,null,null,null,null,null,null,null,null,null,null,null,null,null,null,null,null,null,null,null,null,null,null,null,null,null,null,null,null,null,null,null,null,null,null,null,null,null,null,null,null,null,null,null,null,null,null,null,null,null,null,null,null,null,null,null,null,null,null,null,null,null,null,null,null,104,"AK3"]
[null,null,null,null,null,null,null,null,null,null,null,null,null,null,null,null,null,null,null,null,null,null,null,null,null,null,null,null,null,null,null,null,null,null,null,null,null,null,null,null,null,null,null,null,null,null,null,null,null,null,null,null,null,null,null,null,null,null,null,null,null,null,null,null,null,null,null,null,null,null,null,null,null,null,null,null,null,null,null,null,null,null,null,null,null,null,null,null,null,null,null,null,null,null,null,null,null,null,null,null,null,null,null,null,null,null,null,null,null,null,null,null,null,null,null,null,null,null,null,"Consoled Wk Scores Staff #2",null,null,null,null,null,null,null,null,null,null,null,null,null,null,null,null,null,null,null,null,null,null,null,null,null,null,null,null,null,null,null,null,null,null,null,null,null,null,null,null,null,null,null,null,null,null,null,null,null,null,null,null,null,null,null,null,null,null,null,null,null,null,null,null,null,null,null,null,null,null,null,null,null,null,null,null,null,null,null,null,null,null,null,null,null,null,null,null,null,null,null,null,null,null,null,null,null,null,null,null,null,null,null,null,null,null,null,null,null,null,null,null,null,null,null,null,null,null,null,null,null,null,null,null,null,null,null,null,null,null,null,null,null,null,null,null,null,null,null,null,null,null,null,null,null,null,null,null,null,null,null,null,null,null,null,null,null,null,null,null,null,null,null,null,null,null,null,null,null,null,null,null,null,null,null,null,null,null,null,null,null,null,null,null,null,null,null,null,null,null,null,null,null,null,null,null,null,null,null,null,null,null,null,null,null,null,null,null,null,null,null,null,null,105,"AK4"]
[null,null,null,null,null,null,null,null,null,null,null,null,null,null,null,null,null,null,null,null,null,null,null,null,null,null,null,null,null,null,null,null,null,null,null,null,null,null,null,null,null,null,null,null,null,null,null,null,null,null,null,null,null,null,null,null,null,null,null,null,null,null,null,null,null,null,null,null,null,null,null,null,null,null,null,null,null,null,null,null,null,null,null,null,null,null,null,null,null,null,null,null,null,null,null,null,null,null,null,null,null,null,null,null,null,null,null,null,null,null,null,null,null,null,null,null,null,null,null,{"$f":"IF(BE247=\"\",\"\",BE247)","v":0},{"$f":"IF(BF247=\"\",\"\",BF247)","v":0},0,0,0,0,0,0,0,0,0,0,0,0,0,0,0,{"$f":"IF(BV247=\"\",\"\",BV247)","v":0},28.571428569999998,28.571428569999998,28.571428569999998,28.571428569999998,28.571428569999998,28.571428569999998,28.571428569999998,28.571428569999998,28.571428569999998,42.857142860000003,42.857142860000003,42.857142860000003,42.857142860000003,42.857142860000003,42.857142860000003,{"$f":"IF(CL247=\"\",\"\",CL247)","v":42.857142860000003},42.857142860000003,42.857142860000003,42.857142860000003,42.857142860000003,42.857142860000003,42.857142860000003,42.857142860000003,85.714285709999999,85.714285709999999,85.714285709999999,85.714285709999999,85.714285709999999,85.714285709999999,85.714285709999999,85.714285709999999,{"$f":"IF(DB247=\"\",\"\",DB247)","v":85.714285709999999},85.714285709999999,85.714285709999999,null,null,null,null,null,null,null,null,null,null,null,null,null,null,null,null,null,null,null,null,null,null,null,null,null,null,null,null,null,null,null,null,null,null,null,null,null,null,null,null,null,null,null,null,null,null,null,null,null,null,null,null,null,null,null,null,null,null,null,null,null,null,null,null,null,null,null,null,null,null,null,null,null,null,null,null,null,null,null,null,null,null,null,null,null,null,null,null,null,null,null,null,null,null,null,null,null,null,null,null,null,null,null,null,null,null,null,null,null,null,null,null,null,null,null,null,null,null,null,null,null,null,null,null,null,null,null,null,null,null,null,null,null,null,null,null,null,null,null,null,null,null,null,null,null,null,null,null,null,null,null,null,null,null,null,null,null,null,null,null,null,null,106,"AK5"]
[null,null,null,null,null,null,null,null,null,null,null,null,null,null,null,null,null,null,null,null,null,null,null,null,null,null,null,null,null,null,null,null,null,null,null,null,null,null,null,null,null,null,null,null,null,null,null,null,null,null,null,null,null,null,null,null,null,null,null,null,null,null,null,null,null,null,null,null,null,null,null,null,null,null,null,null,null,null,null,null,null,null,null,null,null,null,null,null,null,null,null,null,null,null,null,null,null,null,null,null,null,null,null,null,null,null,null,null,null,null,null,null,null,null,null,null,null,null,null,{"$f":"IF(BE248=\"\",\"\",BE248)","v":0},0,0,25.2,25.2,25.2,25.2,25.2,25.2,25.2,25.2,25.2,25.2,25.2,25.2,25.2,25.2,38.700000000000003,38.700000000000003,38.700000000000003,38.700000000000003,38.700000000000003,38.700000000000003,38.700000000000003,38.700000000000003,59.3,59.3,59.3,59.3,59.3,73.599999999999994,73.599999999999994,73.599999999999994,73.599999999999994,73.599999999999994,75.400000000000006,75.400000000000006,75.400000000000006,75.400000000000006,75.400000000000006,75.400000000000006,75.400000000000006,75.400000000000006,75.400000000000006,75.400000000000006,75.400000000000006,75.400000000000006,75.400000000000006,90.9,90.9,90.9,90.9,null,null,null,null,null,null,null,null,null,null,null,null,null,null,null,null,null,null,null,null,null,null,null,null,null,null,null,null,null,null,null,null,null,null,null,null,null,null,null,null,null,null,null,null,null,null,null,null,null,null,null,null,null,null,null,null,null,null,null,null,null,null,null,null,null,null,null,null,null,null,null,null,null,null,null,null,null,null,null,null,null,null,null,null,null,null,null,null,null,null,null,null,null,null,null,null,null,null,null,null,null,null,null,null,null,null,null,null,null,null,null,null,null,null,null,null,null,null,null,null,null,null,null,null,null,null,null,null,null,null,null,null,null,null,null,null,null,null,null,null,null,null,null,null,null,null,null,null,null,null,null,null,null,null,null,null,null,null,null,null,null,null,107,"AK6"]
[null,null,null,null,null,null,null,null,null,null,null,null,null,null,null,null,null,null,null,null,null,null,null,null,null,null,null,null,null,null,null,null,null,null,null,null,null,null,null,null,null,null,null,null,null,null,null,null,null,null,null,null,null,null,null,null,null,null,null,null,null,null,null,null,null,null,null,null,null,null,null,null,null,null,null,null,null,null,null,null,null,null,null,null,null,null,null,null,null,null,null,null,null,null,null,null,null,null,null,null,null,null,null,null,null,null,null,null,null,null,null,null,null,null,null,null,null,null,null,100,63.157894740000003,73.684210530000001,63.157894740000003,57.89473684,36.842105259999997,57.89473684,63.157894740000003,15.78947368,57.89473684,31.578947370000002,36.842105259999997,57.89473684,63.157894740000003,42.10526316,63.157894740000003,89.473684210000002,89.473684210000002,94.736842109999998,52.631578949999998,52.631578949999998,68.421052630000005,26.315789469999999,52.631578949999998,21.05263158,94.736842109999998,52.631578949999998,68.421052630000005,26.315789469999999,42.10526316,52.631578949999998,68.421052630000005,57.89473684,94.736842109999998,68.421052630000005,52.631578949999998,47.368421050000002,47.368421050000002,42.10526316,57.89473684,52.631578949999998,47.368421050000002,57.89473684,57.89473684,52.631578949999998,57.89473684,47.368421050000002,26.315789469999999,26.315789469999999,42.10526316,63.157894740000003,47.368421050000002,null,null,null,null,null,null,null,null,null,null,null,null,null,null,null,null,null,null,null,null,null,null,null,null,null,null,null,null,null,null,null,null,null,null,null,null,null,null,null,null,null,null,null,null,null,null,null,null,null,null,null,null,null,null,null,null,null,null,null,null,null,null,null,null,null,null,null,null,null,null,null,null,null,null,null,null,null,null,null,null,null,null,null,null,null,null,null,null,null,null,null,null,null,null,null,null,null,null,null,null,null,null,null,null,null,null,null,null,null,null,null,null,null,null,null,null,null,null,null,null,null,null,null,null,null,null,null,null,null,null,null,null,null,null,null,null,null,null,null,null,null,null,null,null,null,null,null,null,null,null,null,null,null,null,null,null,null,null,null,null,null,null,108,"AK7"]
[null,null,null,null,null,null,null,null,null,null,null,null,null,null,null,null,null,null,null,null,null,null,null,null,null,null,null,null,null,null,null,null,null,null,null,null,null,null,null,null,null,null,null,null,null,null,null,null,null,null,null,null,null,null,null,null,null,null,null,null,null,null,null,null,null,null,null,null,null,null,null,null,null,null,null,null,null,null,null,null,null,null,null,null,null,null,null,null,null,null,null,null,null,null,null,null,null,null,null,null,null,null,null,null,null,null,null,null,null,null,null,null,null,null,null,null,null,null,null,0,0,0,0,0,1.4619883039999999,1.4619883039999999,2.9239766079999998,2.9239766079999998,4.3859649120000004,5.8479532159999996,8.7719298250000008,8.7719298250000008,11.695906430000001,11.695906430000001,17.543859650000002,19.00584795,19.00584795,21.92982456,21.92982456,27.777777780000001,32.163742689999999,32.163742689999999,40.935672510000003,40.935672510000003,49.707602340000001,54.09356725,54.09356725,62.865497079999997,62.865497079999997,71.637426899999994,71.637426899999994,71.637426899999994,71.637426899999994,76.023391810000007,76.023391810000007,80.409356729999999,80.409356729999999,89.181286549999996,89.181286549999996,89.181286549999996,89.181286549999996,93.567251459999994,93.567251459999994,100,100,100,100,100,100,100,100,null,null,null,null,null,null,null,null,null,null,null,null,null,null,null,null,null,null,null,null,null,null,null,null,null,null,null,null,null,null,null,null,null,null,null,null,null,null,null,null,null,null,null,null,null,null,null,null,null,null,null,null,null,null,null,null,null,null,null,null,null,null,null,null,null,null,null,null,null,null,null,null,null,null,null,null,null,null,null,null,null,null,null,null,null,null,null,null,null,null,null,null,null,null,null,null,null,null,null,null,null,null,null,null,null,null,null,null,null,null,null,null,null,null,null,null,null,null,null,null,null,null,null,null,null,null,null,null,null,null,null,null,null,null,null,null,null,null,null,null,null,null,null,null,null,null,null,null,null,null,null,null,null,null,null,null,null,null,null,null,null,null,109,"AK8"]
[null,null,null,null,null,null,null,null,null,null,null,null,null,null,null,null,null,null,null,null,null,null,null,null,null,null,null,null,null,null,null,null,null,null,null,null,null,null,null,null,null,null,null,null,null,null,null,null,null,null,null,null,null,null,null,null,null,null,null,null,null,null,null,null,null,null,null,null,null,null,null,null,null,null,null,null,null,null,null,null,null,null,null,null,null,null,null,null,null,null,null,null,null,null,null,null,null,null,null,null,null,null,null,null,null,null,null,null,null,null,null,null,null,null,null,null,null,null,null,"","","","","","","","","",0,0,0,0,0,0,0,0,0,0,0,0,0,0,0,0,0,0,0,0,0,0,0,0,0,0,100,100,100,100,100,100,100,100,100,100,100,100,100,100,100,100,100,null,null,null,null,null,null,null,null,null,null,null,null,null,null,null,null,null,null,null,null,null,null,null,null,null,null,null,null,null,null,null,null,null,null,null,null,null,null,null,null,null,null,null,null,null,null,null,null,null,null,null,null,null,null,null,null,null,null,null,null,null,null,null,null,null,null,null,null,null,null,null,null,null,null,null,null,null,null,null,null,null,null,null,null,null,null,null,null,null,null,null,null,null,null,null,null,null,null,null,null,null,null,null,null,null,null,null,null,null,null,null,null,null,null,null,null,null,null,null,null,null,null,null,null,null,null,null,null,null,null,null,null,null,null,null,null,null,null,null,null,null,null,null,null,null,null,null,null,null,null,null,null,null,null,null,null,null,null,null,null,null,null,110,"AK9"]
[null,null,null,null,null,null,null,null,null,null,null,null,null,null,null,null,null,null,null,null,null,null,null,null,null,null,null,null,null,null,null,null,null,null,null,null,null,null,null,null,null,null,null,null,null,null,null,null,null,null,null,null,null,null,null,null,null,null,null,null,null,null,null,null,null,null,null,null,null,null,null,null,null,null,null,null,null,null,null,null,null,null,null,null,null,null,null,null,null,null,null,null,null,null,null,null,null,null,null,null,null,null,null,null,null,null,null,null,null,null,null,null,null,null,null,null,null,null,null,"","","","","","","","","","","","","","","","","","","","","","","","","","","","","","","","","","","","","","","","","","","","","","","","","","","","",null,null,null,null,null,null,null,null,null,null,null,null,null,null,null,null,null,null,null,null,null,null,null,null,null,null,null,null,null,null,null,null,null,null,null,null,null,null,null,null,null,null,null,null,null,null,null,null,null,null,null,null,null,null,null,null,null,null,null,null,null,null,null,null,null,null,null,null,null,null,null,null,null,null,null,null,null,null,null,null,null,null,null,null,null,null,null,null,null,null,null,null,null,null,null,null,null,null,null,null,null,null,null,null,null,null,null,null,null,null,null,null,null,null,null,null,null,null,null,null,null,null,null,null,null,null,null,null,null,null,null,null,null,null,null,null,null,null,null,null,null,null,null,null,null,null,null,null,null,null,null,null,null,null,null,null,null,null,null,null,null,null,111,"AL0"]
[null,null,null,null,null,null,null,null,null,null,null,null,null,null,null,null,null,null,null,null,null,null,null,null,null,null,null,null,null,null,null,null,null,null,null,null,null,null,null,null,null,null,null,null,null,null,null,null,null,null,null,null,null,null,null,null,null,null,null,null,null,null,null,null,null,null,null,null,null,null,null,null,null,null,null,null,null,null,null,null,null,null,null,null,null,null,null,null,null,null,null,null,null,null,null,null,null,null,null,null,null,null,null,null,null,null,null,null,null,null,null,null,null,null,null,null,null,null,null,"","","","","","","","","","","","","","","","","","","","","","","","","","","","","","","","","","","","","","","","","","","","","","","","","","","","",null,null,null,null,null,null,null,null,null,null,null,null,null,null,null,null,null,null,null,null,null,null,null,null,null,null,null,null,null,null,null,null,null,null,null,null,null,null,null,null,null,null,null,null,null,null,null,null,null,null,null,null,null,null,null,null,null,null,null,null,null,null,null,null,null,null,null,null,null,null,null,null,null,null,null,null,null,null,null,null,null,null,null,null,null,null,null,null,null,null,null,null,null,null,null,null,null,null,null,null,null,null,null,null,null,null,null,null,null,null,null,null,null,null,null,null,null,null,null,null,null,null,null,null,null,null,null,null,null,null,null,null,null,null,null,null,null,null,null,null,null,null,null,null,null,null,null,null,null,null,null,null,null,null,null,null,null,null,null,null,null,null,112,"AL1"]
[null,null,null,null,null,null,null,null,null,null,null,null,null,null,null,null,null,null,null,null,null,null,null,null,null,null,null,null,null,null,null,null,null,null,null,null,null,null,null,null,null,null,null,null,null,null,null,null,null,null,null,null,null,null,null,null,null,null,null,null,null,null,null,null,null,null,null,null,null,null,null,null,null,null,null,null,null,null,null,null,null,null,null,null,null,null,null,null,null,null,null,null,null,null,null,null,null,null,null,null,null,null,null,null,null,null,null,null,null,null,null,null,null,null,null,null,null,null,null,"","","","","","","","","","","","","","","","","","","","","","","","","","","","","","","","","","","","","","","","","","","","","","","","","","","","",null,null,null,null,null,null,null,null,null,null,null,null,null,null,null,null,null,null,null,null,null,null,null,null,null,null,null,null,null,null,null,null,null,null,null,null,null,null,null,null,null,null,null,null,null,null,null,null,null,null,null,null,null,null,null,null,null,null,null,null,null,null,null,null,null,null,null,null,null,null,null,null,null,null,null,null,null,null,null,null,null,null,null,null,null,null,null,null,null,null,null,null,null,null,null,null,null,null,null,null,null,null,null,null,null,null,null,null,null,null,null,null,null,null,null,null,null,null,null,null,null,null,null,null,null,null,null,null,null,null,null,null,null,null,null,null,null,null,null,null,null,null,null,null,null,null,null,null,null,null,null,null,null,null,null,null,null,null,null,null,null,null,113,"AL2"]
[null,null,null,null,null,null,null,null,null,null,null,null,null,null,null,null,null,null,null,null,null,null,null,null,null,null,null,null,null,null,null,null,null,null,null,null,null,null,null,null,null,null,null,null,null,null,null,null,null,null,null,null,null,null,null,null,null,null,null,null,null,null,null,null,null,null,null,null,null,null,null,null,null,null,null,null,null,null,null,null,null,null,null,null,null,null,null,null,null,null,null,null,null,null,null,null,null,null,null,null,null,null,null,null,null,null,null,null,null,null,null,null,null,null,null,null,null,null,null,"","","","","","","","","","","","","","","","","","","","","","","","","","","","","","","","","","","","","","","","","","","","","","","","","","","","",null,null,null,null,null,null,null,null,null,null,null,null,null,null,null,null,null,null,null,null,null,null,null,null,null,null,null,null,null,null,null,null,null,null,null,null,null,null,null,null,null,null,null,null,null,null,null,null,null,null,null,null,null,null,null,null,null,null,null,null,null,null,null,null,null,null,null,null,null,null,null,null,null,null,null,null,null,null,null,null,null,null,null,null,null,null,null,null,null,null,null,null,null,null,null,null,null,null,null,null,null,null,null,null,null,null,null,null,null,null,null,null,null,null,null,null,null,null,null,null,null,null,null,null,null,null,null,null,null,null,null,null,null,null,null,null,null,null,null,null,null,null,null,null,null,null,null,null,null,null,null,null,null,null,null,null,null,null,null,null,null,null,114,"AL3"]
[null,null,null,null,null,null,null,null,null,null,null,null,null,null,null,null,null,null,null,null,null,null,null,null,null,null,null,null,null,null,null,null,null,null,null,null,null,null,null,null,null,null,null,null,null,null,null,null,null,null,null,null,null,null,null,null,null,null,null,null,null,null,null,null,null,null,null,null,null,null,null,null,null,null,null,null,null,null,null,null,null,null,null,null,null,null,null,null,null,null,null,null,null,null,null,null,null,null,null,null,null,null,null,null,null,null,null,null,null,null,null,null,null,null,null,null,null,null,null,"","","","","","","","","","","","","","","","","","","","","","","","","","","","","","","","","","","","","","","","","","","","","","","","","","","","",null,null,null,null,null,null,null,null,null,null,null,null,null,null,null,null,null,null,null,null,null,null,null,null,null,null,null,null,null,null,null,null,null,null,null,null,null,null,null,null,null,null,null,null,null,null,null,null,null,null,null,null,null,null,null,null,null,null,null,null,null,null,null,null,null,null,null,null,null,null,null,null,null,null,null,null,null,null,null,null,null,null,null,null,null,null,null,null,null,null,null,null,null,null,null,null,null,null,null,null,null,null,null,null,null,null,null,null,null,null,null,null,null,null,null,null,null,null,null,null,null,null,null,null,null,null,null,null,null,null,null,null,null,null,null,null,null,null,null,null,null,null,null,null,null,null,null,null,null,null,null,null,null,null,null,null,null,null,null,null,null,null,115,"AL4"]
[null,null,null,null,null,null,null,null,null,null,null,null,null,null,null,null,null,null,null,null,null,null,null,null,null,null,null,null,null,null,null,null,null,null,null,null,null,null,null,null,null,null,null,null,null,null,null,null,null,null,null,null,null,null,null,null,null,null,null,null,null,null,null,null,null,null,null,null,null,null,null,null,null,null,null,null,null,null,null,null,null,null,null,null,null,null,null,null,null,null,null,null,null,null,null,null,null,null,null,null,null,null,null,null,null,null,null,null,null,null,null,null,null,null,null,null,null,null,null,"","","","","","","","","","","","","","","","","","","","","","","","","","","","","","","","","","","","","","","","","","","","","","","","","","","","",null,null,null,null,null,null,null,null,null,null,null,null,null,null,null,null,null,null,null,null,null,null,null,null,null,null,null,null,null,null,null,null,null,null,null,null,null,null,null,null,null,null,null,null,null,null,null,null,null,null,null,null,null,null,null,null,null,null,null,null,null,null,null,null,null,null,null,null,null,null,null,null,null,null,null,null,null,null,null,null,null,null,null,null,null,null,null,null,null,null,null,null,null,null,null,null,null,null,null,null,null,null,null,null,null,null,null,null,null,null,null,null,null,null,null,null,null,null,null,null,null,null,null,null,null,null,null,null,null,null,null,null,null,null,null,null,null,null,null,null,null,null,null,null,null,null,null,null,null,null,null,null,null,null,null,null,null,null,null,null,null,null,116,"AL5"]
[null,null,null,null,null,null,null,null,null,null,null,null,null,null,null,null,null,null,null,null,null,null,null,null,null,null,null,null,null,null,null,null,null,null,null,null,null,null,null,null,null,null,null,null,null,null,null,null,null,null,null,null,null,null,null,null,null,null,null,null,null,null,null,null,null,null,null,null,null,null,null,null,null,null,null,null,null,null,null,null,null,null,null,null,null,null,null,null,null,null,null,null,null,null,null,null,null,null,null,null,null,null,null,null,null,null,null,null,null,null,null,null,null,null,null,null,null,null,null,"","","","","","","","","","","","","","","","","","","","","","","","","","","","","","","","","","","","","","","","","","","","","","","","","","","","",null,null,null,null,null,null,null,null,null,null,null,null,null,null,null,null,null,null,null,null,null,null,null,null,null,null,null,null,null,null,null,null,null,null,null,null,null,null,null,null,null,null,null,null,null,null,null,null,null,null,null,null,null,null,null,null,null,null,null,null,null,null,null,null,null,null,null,null,null,null,null,null,null,null,null,null,null,null,null,null,null,null,null,null,null,null,null,null,null,null,null,null,null,null,null,null,null,null,null,null,null,null,null,null,null,null,null,null,null,null,null,null,null,null,null,null,null,null,null,null,null,null,null,null,null,null,null,null,null,null,null,null,null,null,null,null,null,null,null,null,null,null,null,null,null,null,null,null,null,null,null,null,null,null,null,null,null,null,null,null,null,null,117,"AL6"]
[null,null,null,null,null,null,null,null,null,null,null,null,null,null,null,null,null,null,null,null,null,null,null,null,null,null,null,null,null,null,null,null,null,null,null,null,null,null,null,null,null,null,null,null,null,null,null,null,null,null,null,null,null,null,null,null,null,null,null,null,null,null,null,null,null,null,null,null,null,null,null,null,null,null,null,null,null,null,null,null,null,null,null,null,null,null,null,null,null,null,null,null,null,null,null,null,null,null,null,null,null,null,null,null,null,null,null,null,null,null,null,null,null,null,null,null,null,null,null,"","","","","","","","","","","","","","","","","","","","","","","","","","","","","","","","","","","","","","","","","","","","","","","","","","","","",null,null,null,null,null,null,null,null,null,null,null,null,null,null,null,null,null,null,null,null,null,null,null,null,null,null,null,null,null,null,null,null,null,null,null,null,null,null,null,null,null,null,null,null,null,null,null,null,null,null,null,null,null,null,null,null,null,null,null,null,null,null,null,null,null,null,null,null,null,null,null,null,null,null,null,null,null,null,null,null,null,null,null,null,null,null,null,null,null,null,null,null,null,null,null,null,null,null,null,null,null,null,null,null,null,null,null,null,null,null,null,null,null,null,null,null,null,null,null,null,null,null,null,null,null,null,null,null,null,null,null,null,null,null,null,null,null,null,null,null,null,null,null,null,null,null,null,null,null,null,null,null,null,null,null,null,null,null,null,null,null,null,118,"AL7"]
[null,null,null,null,null,null,null,null,null,null,null,null,null,null,null,null,null,null,null,null,null,null,null,null,null,null,null,null,null,null,null,null,null,null,null,null,null,null,null,null,null,null,null,null,null,null,null,null,null,null,null,null,null,null,null,null,null,null,null,null,null,null,null,null,null,null,null,null,null,null,null,null,null,null,null,null,null,null,null,null,null,null,null,null,null,null,null,null,null,null,null,null,null,null,null,null,null,null,null,null,null,null,null,null,null,null,null,null,null,null,null,null,null,null,null,null,null,null,null,"","","","","","","","","","","","","","","","","","","","","","","","","","","","","","","","","","","","","","","","","","","","","","","","","","","","",null,null,null,null,null,null,null,null,null,null,null,null,null,null,null,null,null,null,null,null,null,null,null,null,null,null,null,null,null,null,null,null,null,null,null,null,null,null,null,null,null,null,null,null,null,null,null,null,null,null,null,null,null,null,null,null,null,null,null,null,null,null,null,null,null,null,null,null,null,null,null,null,null,null,null,null,null,null,null,null,null,null,null,null,null,null,null,null,null,null,null,null,null,null,null,null,null,null,null,null,null,null,null,null,null,null,null,null,null,null,null,null,null,null,null,null,null,null,null,null,null,null,null,null,null,null,null,null,null,null,null,null,null,null,null,null,null,null,null,null,null,null,null,null,null,null,null,null,null,null,null,null,null,null,null,null,null,null,null,null,null,null,119,"AL8"]
[null,null,null,null,null,null,null,null,null,null,null,null,null,null,null,null,null,null,null,null,null,null,null,null,null,null,null,null,null,null,null,null,null,null,null,null,null,null,null,null,null,null,null,null,null,null,null,null,null,null,null,null,null,null,null,null,null,null,null,null,null,null,null,null,null,null,null,null,null,null,null,null,null,null,null,null,null,null,null,null,null,null,null,null,null,null,null,null,null,null,null,null,null,null,null,null,null,null,null,null,null,null,null,null,null,null,null,null,null,null,null,null,null,null,null,null,null,null,null,"","","","","","","","","","","","","","","","","","","","","","","","","","","","","","","","","","","","","","","","","","","","","","","","","","","","",null,null,null,null,null,null,null,null,null,null,null,null,null,null,null,null,null,null,null,null,null,null,null,null,null,null,null,null,null,null,null,null,null,null,null,null,null,null,null,null,null,null,null,null,null,null,null,null,null,null,null,null,null,null,null,null,null,null,null,null,null,null,null,null,null,null,null,null,null,null,null,null,null,null,null,null,null,null,null,null,null,null,null,null,null,null,null,null,null,null,null,null,null,null,null,null,null,null,null,null,null,null,null,null,null,null,null,null,null,null,null,null,null,null,null,null,null,null,null,null,null,null,null,null,null,null,null,null,null,null,null,null,null,null,null,null,null,null,null,null,null,null,null,null,null,null,null,null,null,null,null,null,null,null,null,null,null,null,null,null,null,null,120,"AL9"]
[null,null,null,null,null,null,null,null,null,null,null,null,null,null,null,null,null,null,null,null,null,null,null,null,null,null,null,null,null,null,null,null,null,null,null,null,null,null,null,null,null,null,null,null,null,null,null,null,null,null,null,null,null,null,null,null,null,null,null,null,null,null,null,null,null,null,null,null,null,null,null,null,null,null,null,null,null,null,null,null,null,null,null,null,null,null,null,null,null,null,null,null,null,null,null,null,null,null,null,null,null,null,null,null,null,null,null,null,null,null,null,null,null,null,null,null,null,null,null,"","","","","","","","","","","","","","","","",{"$f":"IF(BU262=\"\",\"\",BU262)","v":""},"","","","","","","","","","","","","","","",{"$f":"IF(CK262=\"\",\"\",CK262)","v":""},"","","","","","","","","","","","","","","",{"$f":"IF(DA262=\"\",\"\",DA262)","v":""},"","","",null,null,null,null,null,null,null,null,null,null,null,null,null,null,null,null,null,null,null,null,null,null,null,null,null,null,null,null,null,null,null,null,null,null,null,null,null,null,null,null,null,null,null,null,null,null,null,null,null,null,null,null,null,null,null,null,null,null,null,null,null,null,null,null,null,null,null,null,null,null,null,null,null,null,null,null,null,null,null,null,null,null,null,null,null,null,null,null,null,null,null,null,null,null,null,null,null,null,null,null,null,null,null,null,null,null,null,null,null,null,null,null,null,null,null,null,null,null,null,null,null,null,null,null,null,null,null,null,null,null,null,null,null,null,null,null,null,null,null,null,null,null,null,null,null,null,null,null,null,null,null,null,null,null,null,null,null,null,null,null,null,null,121,"AM0"]
[null,null,null,null,null,null,null,null,null,null,null,"Visible for Staff Chart #2",null,null,null,null,null,null,null,null,null,null,null,null,null,null,null,null,null,null,null,null,null,null,null,null,null,null,null,null,null,null,null,null,null,null,null,null,null,null,null,null,null,null,null,null,null,null,null,null,null,null,null,null,null,"YTD Ave Consoled Wk Values",null,null,null,null,null,null,null,null,null,null,null,null,null,null,null,null,null,null,null,null,null,null,null,null,null,null,null,null,null,null,null,null,null,null,null,null,null,null,null,null,null,null,null,null,null,null,null,null,null,null,null,null,null,null,null,null,null,null,null,null,null,null,null,null,null,null,null,null,null,null,null,null,null,null,null,null,null,null,null,null,null,null,null,null,null,null,null,null,null,null,null,null,null,null,null,null,null,null,1,2,3,4,5,6,7,8,9,10,11,12,13,14,15,16,17,18,19,20,21,22,23,24,25,26,27,28,29,30,31,32,33,34,35,36,37,38,39,40,41,42,43,44,45,46,47,48,49,50,51,52,null,null,null,null,null,null,null,null,null,null,null,null,null,null,null,null,null,null,null,null,null,null,null,null,null,null,null,null,null,null,null,null,null,null,null,null,null,null,null,null,null,null,null,null,null,null,null,null,null,null,null,null,null,null,null,null,null,null,null,null,null,null,null,null,null,null,null,null,null,null,null,null,null,null,null,null,null,null,null,null,null,null,null,null,null,null,null,null,null,null,null,null,null,null,null,null,null,null,null,null,null,null,null,null,null,null,null,null,null,null,null,null,null,null,null,null,null,122,"AM1"]
[null,null,null,null,null,null,null,null,null,null,null,{"$f":"IF(L$2>'Wk Input'!$J$2,\"\",DP107)","v":0},{"$f":"IF(M$2>'Wk Input'!$J$2,\"\",DQ107)","v":0},{"$f":"IF(N$2>'Wk Input'!$J$2,\"\",DR107)","v":0},{"$f":"IF(O$2>'Wk Input'!$J$2,\"\",DS107)","v":0},{"$f":"IF(P$2>'Wk Input'!$J$2,\"\",DT107)","v":0},{"$f":"IF(Q$2>'Wk Input'!$J$2,\"\",DU107)","v":0},{"$f":"IF(R$2>'Wk Input'!$J$2,\"\",DV107)","v":0},{"$f":"IF(S$2>'Wk Input'!$J$2,\"\",DW107)","v":0},{"$f":"IF(T$2>'Wk Input'!$J$2,\"\",DX107)","v":0},{"$f":"IF(U$2>'Wk Input'!$J$2,\"\",DY107)","v":0},{"$f":"IF(V$2>'Wk Input'!$J$2,\"\",DZ107)","v":0},{"$f":"IF(W$2>'Wk Input'!$J$2,\"\",EA107)","v":0},{"$f":"IF(X$2>'Wk Input'!$J$2,\"\",EB107)","v":0},{"$f":"IF(Y$2>'Wk Input'!$J$2,\"\",EC107)","v":0},{"$f":"IF(Z$2>'Wk Input'!$J$2,\"\",ED107)","v":0},{"$f":"IF(AA$2>'Wk Input'!$J$2,\"\",EE107)","v":0},{"$f":"IF(AB$2>'Wk Input'!$J$2,\"\",EF107)","v":0},{"$f":"IF(AC$2>'Wk Input'!$J$2,\"\",EG107)","v":0},{"$f":"IF(AD$2>'Wk Input'!$J$2,\"\",EH107)","v":28.571428569999998},{"$f":"IF(AE$2>'Wk Input'!$J$2,\"\",EI107)","v":28.571428569999998},{"$f":"IF(AF$2>'Wk Input'!$J$2,\"\",EJ107)","v":28.571428569999998},{"$f":"IF(AG$2>'Wk Input'!$J$2,\"\",EK107)","v":28.571428569999998},{"$f":"IF(AH$2>'Wk Input'!$J$2,\"\",EL107)","v":28.571428569999998},{"$f":"IF(AI$2>'Wk Input'!$J$2,\"\",EM107)","v":28.571428569999998},{"$f":"IF(AJ$2>'Wk Input'!$J$2,\"\",EN107)","v":28.571428569999998},{"$f":"IF(AK$2>'Wk Input'!$J$2,\"\",EO107)","v":28.571428569999998},{"$f":"IF(AL$2>'Wk Input'!$J$2,\"\",EP107)","v":28.571428569999998},{"$f":"IF(AM$2>'Wk Input'!$J$2,\"\",EQ107)","v":42.857142860000003},{"$f":"IF(AN$2>'Wk Input'!$J$2,\"\",ER107)","v":42.857142860000003},{"$f":"IF(AO$2>'Wk Input'!$J$2,\"\",ES107)","v":42.857142860000003},{"$f":"IF(AP$2>'Wk Input'!$J$2,\"\",ET107)","v":42.857142860000003},{"$f":"IF(AQ$2>'Wk Input'!$J$2,\"\",EU107)","v":42.857142860000003},{"$f":"IF(AR$2>'Wk Input'!$J$2,\"\",EV107)","v":42.857142860000003},{"$f":"IF(AS$2>'Wk Input'!$J$2,\"\",EW107)","v":42.857142860000003},{"$f":"IF(AT$2>'Wk Input'!$J$2,\"\",EX107)","v":42.857142860000003},{"$f":"IF(AU$2>'Wk Input'!$J$2,\"\",EY107)","v":42.857142860000003},{"$f":"IF(AV$2>'Wk Input'!$J$2,\"\",EZ107)","v":42.857142860000003},{"$f":"IF(AW$2>'Wk Input'!$J$2,\"\",FA107)","v":42.857142860000003},{"$f":"IF(AX$2>'Wk Input'!$J$2,\"\",FB107)","v":42.857142860000003},{"$f":"IF(AY$2>'Wk Input'!$J$2,\"\",FC107)","v":42.857142860000003},{"$f":"IF(AZ$2>'Wk Input'!$J$2,\"\",FD107)","v":42.857142860000003},{"$f":"IF(BA$2>'Wk Input'!$J$2,\"\",FE107)","v":85.714285709999999},{"$f":"IF(BB$2>'Wk Input'!$J$2,\"\",FF107)","v":85.714285709999999},{"$f":"IF(BC$2>'Wk Input'!$J$2,\"\",FG107)","v":85.714285709999999},{"$f":"IF(BD$2>'Wk Input'!$J$2,\"\",FH107)","v":85.714285709999999},{"$f":"IF(BE$2>'Wk Input'!$J$2,\"\",FI107)","v":85.714285709999999},{"$f":"IF(BF$2>'Wk Input'!$J$2,\"\",FJ107)","v":85.714285709999999},{"$f":"IF(BG$2>'Wk Input'!$J$2,\"\",FK107)","v":85.714285709999999},{"$f":"IF(BH$2>'Wk Input'!$J$2,\"\",FL107)","v":85.714285709999999},{"$f":"IF(BI$2>'Wk Input'!$J$2,\"\",FM107)","v":85.714285709999999},{"$f":"IF(BJ$2>'Wk Input'!$J$2,\"\",FN107)","v":85.714285709999999},{"$f":"IF(BK$2>'Wk Input'!$J$2,\"\",FO107)","v":85.714285709999999},null,null,0,0,0,0,0,0,0,0,0,0,0,0,0,0,0,0,0,0,2,2,2,2,2,2,2,2,2,3,3,3,3,3,3,3,3,3,3,3,3,3,3,6,6,6,6,6,6,6,6,6,6,6,null,null,null,null,null,null,null,null,null,null,null,null,null,null,null,null,null,null,null,null,null,null,null,null,null,null,null,null,null,null,null,null,null,null,null,null,null,null,null,null,null,null,null,null,null,null,"Gcard",{"$f":"IF($BM$49<FI$123,FALSE,FI134)","v":false},{"$f":"IF($BM$49<FJ$123,FALSE,FJ134)","v":false},false,false,false,false,false,false,false,false,false,false,false,false,false,false,false,false,false,false,false,false,false,false,false,false,false,false,false,false,false,false,false,false,false,false,false,true,false,false,false,false,false,false,false,false,false,false,false,false,false,false,null,null,null,null,null,null,null,null,null,null,null,null,null,null,null,null,null,null,null,null,null,null,null,null,null,null,null,null,null,null,null,null,null,null,null,null,null,null,null,null,null,null,null,null,null,null,null,null,null,null,null,null,null,null,null,null,null,null,null,null,null,null,null,null,null,null,null,null,null,null,null,null,null,null,null,null,null,null,null,null,null,null,null,null,null,null,null,null,null,null,null,null,null,null,null,null,null,null,null,null,null,null,null,null,null,null,null,null,null,null,null,null,null,null,null,null,null,123,"AM2"]
[null,null,null,null,null,null,null,null,null,null,null,{"$f":"IF(L$2>'Wk Input'!$J$2,\"\",DP108)","v":0},{"$f":"IF(M$2>'Wk Input'!$J$2,\"\",DQ108)","v":0},{"$f":"IF(N$2>'Wk Input'!$J$2,\"\",DR108)","v":0},{"$f":"IF(O$2>'Wk Input'!$J$2,\"\",DS108)","v":25.2},{"$f":"IF(P$2>'Wk Input'!$J$2,\"\",DT108)","v":25.2},{"$f":"IF(Q$2>'Wk Input'!$J$2,\"\",DU108)","v":25.2},{"$f":"IF(R$2>'Wk Input'!$J$2,\"\",DV108)","v":25.2},{"$f":"IF(S$2>'Wk Input'!$J$2,\"\",DW108)","v":25.2},{"$f":"IF(T$2>'Wk Input'!$J$2,\"\",DX108)","v":25.2},{"$f":"IF(U$2>'Wk Input'!$J$2,\"\",DY108)","v":25.2},{"$f":"IF(V$2>'Wk Input'!$J$2,\"\",DZ108)","v":25.2},{"$f":"IF(W$2>'Wk Input'!$J$2,\"\",EA108)","v":25.2},{"$f":"IF(X$2>'Wk Input'!$J$2,\"\",EB108)","v":25.2},{"$f":"IF(Y$2>'Wk Input'!$J$2,\"\",EC108)","v":25.2},{"$f":"IF(Z$2>'Wk Input'!$J$2,\"\",ED108)","v":25.2},{"$f":"IF(AA$2>'Wk Input'!$J$2,\"\",EE108)","v":25.2},{"$f":"IF(AB$2>'Wk Input'!$J$2,\"\",EF108)","v":25.2},{"$f":"IF(AC$2>'Wk Input'!$J$2,\"\",EG108)","v":38.700000000000003},{"$f":"IF(AD$2>'Wk Input'!$J$2,\"\",EH108)","v":38.700000000000003},{"$f":"IF(AE$2>'Wk Input'!$J$2,\"\",EI108)","v":38.700000000000003},{"$f":"IF(AF$2>'Wk Input'!$J$2,\"\",EJ108)","v":38.700000000000003},{"$f":"IF(AG$2>'Wk Input'!$J$2,\"\",EK108)","v":38.700000000000003},{"$f":"IF(AH$2>'Wk Input'!$J$2,\"\",EL108)","v":38.700000000000003},{"$f":"IF(AI$2>'Wk Input'!$J$2,\"\",EM108)","v":38.700000000000003},{"$f":"IF(AJ$2>'Wk Input'!$J$2,\"\",EN108)","v":38.700000000000003},{"$f":"IF(AK$2>'Wk Input'!$J$2,\"\",EO108)","v":59.3},{"$f":"IF(AL$2>'Wk Input'!$J$2,\"\",EP108)","v":59.3},{"$f":"IF(AM$2>'Wk Input'!$J$2,\"\",EQ108)","v":59.3},{"$f":"IF(AN$2>'Wk Input'!$J$2,\"\",ER108)","v":59.3},{"$f":"IF(AO$2>'Wk Input'!$J$2,\"\",ES108)","v":59.3},{"$f":"IF(AP$2>'Wk Input'!$J$2,\"\",ET108)","v":73.599999999999994},{"$f":"IF(AQ$2>'Wk Input'!$J$2,\"\",EU108)","v":73.599999999999994},{"$f":"IF(AR$2>'Wk Input'!$J$2,\"\",EV108)","v":73.599999999999994},{"$f":"IF(AS$2>'Wk Input'!$J$2,\"\",EW108)","v":73.599999999999994},{"$f":"IF(AT$2>'Wk Input'!$J$2,\"\",EX108)","v":73.599999999999994},{"$f":"IF(AU$2>'Wk Input'!$J$2,\"\",EY108)","v":75.400000000000006},{"$f":"IF(AV$2>'Wk Input'!$J$2,\"\",EZ108)","v":75.400000000000006},{"$f":"IF(AW$2>'Wk Input'!$J$2,\"\",FA108)","v":75.400000000000006},{"$f":"IF(AX$2>'Wk Input'!$J$2,\"\",FB108)","v":75.400000000000006},{"$f":"IF(AY$2>'Wk Input'!$J$2,\"\",FC108)","v":75.400000000000006},{"$f":"IF(AZ$2>'Wk Input'!$J$2,\"\",FD108)","v":75.400000000000006},{"$f":"IF(BA$2>'Wk Input'!$J$2,\"\",FE108)","v":75.400000000000006},{"$f":"IF(BB$2>'Wk Input'!$J$2,\"\",FF108)","v":75.400000000000006},{"$f":"IF(BC$2>'Wk Input'!$J$2,\"\",FG108)","v":75.400000000000006},{"$f":"IF(BD$2>'Wk Input'!$J$2,\"\",FH108)","v":75.400000000000006},{"$f":"IF(BE$2>'Wk Input'!$J$2,\"\",FI108)","v":75.400000000000006},{"$f":"IF(BF$2>'Wk Input'!$J$2,\"\",FJ108)","v":75.400000000000006},{"$f":"IF(BG$2>'Wk Input'!$J$2,\"\",FK108)","v":75.400000000000006},{"$f":"IF(BH$2>'Wk Input'!$J$2,\"\",FL108)","v":90.9},{"$f":"IF(BI$2>'Wk Input'!$J$2,\"\",FM108)","v":90.9},{"$f":"IF(BJ$2>'Wk Input'!$J$2,\"\",FN108)","v":90.9},{"$f":"IF(BK$2>'Wk Input'!$J$2,\"\",FO108)","v":90.9},null,null,0,0,0,2.52,2.52,2.52,2.52,2.52,2.52,2.52,2.52,2.52,2.52,2.52,2.52,2.52,2.52,3.87,3.87,3.87,3.87,3.87,3.87,3.87,3.87,5.93,5.93,5.93,5.93,5.93,7.3599999999999994,7.3599999999999994,7.3599999999999994,7.3599999999999994,7.3599999999999994,7.5399999999999991,7.5399999999999991,7.5399999999999991,7.5399999999999991,7.5399999999999991,7.5399999999999991,7.5399999999999991,7.5399999999999991,7.5399999999999991,7.5399999999999991,7.5399999999999991,7.5399999999999991,7.5399999999999991,9.09,9.09,9.09,9.09,null,null,null,null,null,null,null,null,null,null,null,null,null,null,null,null,null,null,null,null,null,null,null,null,null,null,null,null,null,null,null,null,null,null,null,null,null,null,null,null,null,null,null,null,null,null,"GPoints",0,0,0,0,0,0,0,0,0,0,0,0,0,0,0,0,0,0,0,0,0,0,0,0,0,0,0,0,0,0,0,0,0,0,0,0,0,5,0,0,0,0,0,0,0,0,0,0,0,0,0,0,null,null,null,null,null,null,null,null,null,null,null,null,null,null,null,null,null,null,null,null,null,null,null,null,null,null,null,null,null,null,null,null,null,null,null,null,null,null,null,null,null,null,null,null,null,null,null,null,null,null,null,null,null,null,null,null,null,null,null,null,null,null,null,null,null,null,null,null,null,null,null,null,null,null,null,null,null,null,null,null,null,null,null,null,null,null,null,null,null,null,null,null,null,null,null,null,null,null,null,null,null,null,null,null,null,null,null,null,null,null,null,null,null,null,null,null,null,124,"AM3"]
[null,null,null,null,null,null,null,null,null,null,null,{"$f":"IF(L$2>'Wk Input'!$J$2,\"\",DP112)","v":""},{"$f":"IF(M$2>'Wk Input'!$J$2,\"\",DQ112)","v":""},{"$f":"IF(N$2>'Wk Input'!$J$2,\"\",DR112)","v":""},{"$f":"IF(O$2>'Wk Input'!$J$2,\"\",DS112)","v":""},{"$f":"IF(P$2>'Wk Input'!$J$2,\"\",DT112)","v":""},{"$f":"IF(Q$2>'Wk Input'!$J$2,\"\",DU112)","v":""},{"$f":"IF(R$2>'Wk Input'!$J$2,\"\",DV112)","v":""},{"$f":"IF(S$2>'Wk Input'!$J$2,\"\",DW112)","v":""},{"$f":"IF(T$2>'Wk Input'!$J$2,\"\",DX112)","v":""},{"$f":"IF(U$2>'Wk Input'!$J$2,\"\",DY112)","v":""},{"$f":"IF(V$2>'Wk Input'!$J$2,\"\",DZ112)","v":""},{"$f":"IF(W$2>'Wk Input'!$J$2,\"\",EA112)","v":""},{"$f":"IF(X$2>'Wk Input'!$J$2,\"\",EB112)","v":""},{"$f":"IF(Y$2>'Wk Input'!$J$2,\"\",EC112)","v":""},{"$f":"IF(Z$2>'Wk Input'!$J$2,\"\",ED112)","v":""},{"$f":"IF(AA$2>'Wk Input'!$J$2,\"\",EE112)","v":""},{"$f":"IF(AB$2>'Wk Input'!$J$2,\"\",EF112)","v":""},{"$f":"IF(AC$2>'Wk Input'!$J$2,\"\",EG112)","v":""},{"$f":"IF(AD$2>'Wk Input'!$J$2,\"\",EH112)","v":""},{"$f":"IF(AE$2>'Wk Input'!$J$2,\"\",EI112)","v":""},{"$f":"IF(AF$2>'Wk Input'!$J$2,\"\",EJ112)","v":""},{"$f":"IF(AG$2>'Wk Input'!$J$2,\"\",EK112)","v":""},{"$f":"IF(AH$2>'Wk Input'!$J$2,\"\",EL112)","v":""},{"$f":"IF(AI$2>'Wk Input'!$J$2,\"\",EM112)","v":""},{"$f":"IF(AJ$2>'Wk Input'!$J$2,\"\",EN112)","v":""},{"$f":"IF(AK$2>'Wk Input'!$J$2,\"\",EO112)","v":""},{"$f":"IF(AL$2>'Wk Input'!$J$2,\"\",EP112)","v":""},{"$f":"IF(AM$2>'Wk Input'!$J$2,\"\",EQ112)","v":""},{"$f":"IF(AN$2>'Wk Input'!$J$2,\"\",ER112)","v":""},{"$f":"IF(AO$2>'Wk Input'!$J$2,\"\",ES112)","v":""},{"$f":"IF(AP$2>'Wk Input'!$J$2,\"\",ET112)","v":""},{"$f":"IF(AQ$2>'Wk Input'!$J$2,\"\",EU112)","v":""},{"$f":"IF(AR$2>'Wk Input'!$J$2,\"\",EV112)","v":""},{"$f":"IF(AS$2>'Wk Input'!$J$2,\"\",EW112)","v":""},{"$f":"IF(AT$2>'Wk Input'!$J$2,\"\",EX112)","v":""},{"$f":"IF(AU$2>'Wk Input'!$J$2,\"\",EY112)","v":""},{"$f":"IF(AV$2>'Wk Input'!$J$2,\"\",EZ112)","v":""},{"$f":"IF(AW$2>'Wk Input'!$J$2,\"\",FA112)","v":""},{"$f":"IF(AX$2>'Wk Input'!$J$2,\"\",FB112)","v":""},{"$f":"IF(AY$2>'Wk Input'!$J$2,\"\",FC112)","v":""},{"$f":"IF(AZ$2>'Wk Input'!$J$2,\"\",FD112)","v":""},{"$f":"IF(BA$2>'Wk Input'!$J$2,\"\",FE112)","v":""},{"$f":"IF(BB$2>'Wk Input'!$J$2,\"\",FF112)","v":""},{"$f":"IF(BC$2>'Wk Input'!$J$2,\"\",FG112)","v":""},{"$f":"IF(BD$2>'Wk Input'!$J$2,\"\",FH112)","v":""},{"$f":"IF(BE$2>'Wk Input'!$J$2,\"\",FI112)","v":""},{"$f":"IF(BF$2>'Wk Input'!$J$2,\"\",FJ112)","v":""},{"$f":"IF(BG$2>'Wk Input'!$J$2,\"\",FK112)","v":""},{"$f":"IF(BH$2>'Wk Input'!$J$2,\"\",FL112)","v":""},{"$f":"IF(BI$2>'Wk Input'!$J$2,\"\",FM112)","v":""},{"$f":"IF(BJ$2>'Wk Input'!$J$2,\"\",FN112)","v":""},{"$f":"IF(BK$2>'Wk Input'!$J$2,\"\",FO112)","v":""},null,null,"","","","","","","","","","","","","","","","","","","","","","","","","","","","","","","","","","","","","","","","","","","","","","","","","","","","",null,null,null,null,null,null,null,null,null,null,null,null,null,null,null,null,null,null,null,null,null,null,null,null,null,null,null,null,null,null,null,null,null,null,null,null,null,null,null,null,null,null,null,null,null,null,"Ypoints",0,0,0,0,0,0,0,0,0,0,0,0,0,0,0,0,0,0,0,0,0,0,0,0,0,0,0,0,0,0,0,0,0,0,0,0,0,0,0,0,0,0,0,0,0,0,0,0,0,0,0,0,null,null,null,null,null,null,null,null,null,null,null,null,null,null,null,null,null,null,null,null,null,null,null,null,null,null,null,null,null,null,null,null,null,null,null,null,null,null,null,null,null,null,null,null,null,null,null,null,null,null,null,null,null,null,null,null,null,null,null,null,null,null,null,null,null,null,null,null,null,null,null,null,null,null,null,null,null,null,null,null,null,null,null,null,null,null,null,null,null,null,null,null,null,null,null,null,null,null,null,null,null,null,null,null,null,null,null,null,null,null,null,null,null,null,null,null,null,128,"AM7"]
[null,null,null,null,null,null,null,null,null,null,null,{"$f":"IF(L$2>'Wk Input'!$J$2,\"\",DP117)","v":""},{"$f":"IF(M$2>'Wk Input'!$J$2,\"\",DQ117)","v":""},{"$f":"IF(N$2>'Wk Input'!$J$2,\"\",DR117)","v":""},{"$f":"IF(O$2>'Wk Input'!$J$2,\"\",DS117)","v":""},{"$f":"IF(P$2>'Wk Input'!$J$2,\"\",DT117)","v":""},{"$f":"IF(Q$2>'Wk Input'!$J$2,\"\",DU117)","v":""},{"$f":"IF(R$2>'Wk Input'!$J$2,\"\",DV117)","v":""},{"$f":"IF(S$2>'Wk Input'!$J$2,\"\",DW117)","v":""},{"$f":"IF(T$2>'Wk Input'!$J$2,\"\",DX117)","v":""},{"$f":"IF(U$2>'Wk Input'!$J$2,\"\",DY117)","v":""},{"$f":"IF(V$2>'Wk Input'!$J$2,\"\",DZ117)","v":""},{"$f":"IF(W$2>'Wk Input'!$J$2,\"\",EA117)","v":""},{"$f":"IF(X$2>'Wk Input'!$J$2,\"\",EB117)","v":""},{"$f":"IF(Y$2>'Wk Input'!$J$2,\"\",EC117)","v":""},{"$f":"IF(Z$2>'Wk Input'!$J$2,\"\",ED117)","v":""},{"$f":"IF(AA$2>'Wk Input'!$J$2,\"\",EE117)","v":""},{"$f":"IF(AB$2>'Wk Input'!$J$2,\"\",EF117)","v":""},{"$f":"IF(AC$2>'Wk Input'!$J$2,\"\",EG117)","v":""},{"$f":"IF(AD$2>'Wk Input'!$J$2,\"\",EH117)","v":""},{"$f":"IF(AE$2>'Wk Input'!$J$2,\"\",EI117)","v":""},{"$f":"IF(AF$2>'Wk Input'!$J$2,\"\",EJ117)","v":""},{"$f":"IF(AG$2>'Wk Input'!$J$2,\"\",EK117)","v":""},{"$f":"IF(AH$2>'Wk Input'!$J$2,\"\",EL117)","v":""},{"$f":"IF(AI$2>'Wk Input'!$J$2,\"\",EM117)","v":""},{"$f":"IF(AJ$2>'Wk Input'!$J$2,\"\",EN117)","v":""},{"$f":"IF(AK$2>'Wk Input'!$J$2,\"\",EO117)","v":""},{"$f":"IF(AL$2>'Wk Input'!$J$2,\"\",EP117)","v":""},{"$f":"IF(AM$2>'Wk Input'!$J$2,\"\",EQ117)","v":""},{"$f":"IF(AN$2>'Wk Input'!$J$2,\"\",ER117)","v":""},{"$f":"IF(AO$2>'Wk Input'!$J$2,\"\",ES117)","v":""},{"$f":"IF(AP$2>'Wk Input'!$J$2,\"\",ET117)","v":""},{"$f":"IF(AQ$2>'Wk Input'!$J$2,\"\",EU117)","v":""},{"$f":"IF(AR$2>'Wk Input'!$J$2,\"\",EV117)","v":""},{"$f":"IF(AS$2>'Wk Input'!$J$2,\"\",EW117)","v":""},{"$f":"IF(AT$2>'Wk Input'!$J$2,\"\",EX117)","v":""},{"$f":"IF(AU$2>'Wk Input'!$J$2,\"\",EY117)","v":""},{"$f":"IF(AV$2>'Wk Input'!$J$2,\"\",EZ117)","v":""},{"$f":"IF(AW$2>'Wk Input'!$J$2,\"\",FA117)","v":""},{"$f":"IF(AX$2>'Wk Input'!$J$2,\"\",FB117)","v":""},{"$f":"IF(AY$2>'Wk Input'!$J$2,\"\",FC117)","v":""},{"$f":"IF(AZ$2>'Wk Input'!$J$2,\"\",FD117)","v":""},{"$f":"IF(BA$2>'Wk Input'!$J$2,\"\",FE117)","v":""},{"$f":"IF(BB$2>'Wk Input'!$J$2,\"\",FF117)","v":""},{"$f":"IF(BC$2>'Wk Input'!$J$2,\"\",FG117)","v":""},{"$f":"IF(BD$2>'Wk Input'!$J$2,\"\",FH117)","v":""},{"$f":"IF(BE$2>'Wk Input'!$J$2,\"\",FI117)","v":""},{"$f":"IF(BF$2>'Wk Input'!$J$2,\"\",FJ117)","v":""},{"$f":"IF(BG$2>'Wk Input'!$J$2,\"\",FK117)","v":""},{"$f":"IF(BH$2>'Wk Input'!$J$2,\"\",FL117)","v":""},{"$f":"IF(BI$2>'Wk Input'!$J$2,\"\",FM117)","v":""},{"$f":"IF(BJ$2>'Wk Input'!$J$2,\"\",FN117)","v":""},{"$f":"IF(BK$2>'Wk Input'!$J$2,\"\",FO117)","v":""},null,null,"","","","","","","","","","","","","","","","","","","","","","","","","","","","","","","","","","","","","","","","","","","","","","","","","","","","",null,null,null,null,null,null,null,null,null,null,null,null,null,null,null,null,null,null,null,null,null,null,null,null,null,null,null,null,null,null,null,null,null,null,null,null,null,null,null,null,null,null,null,null,null,null,{"$f":"'Wk Input'!$J$2","v":53},false,false,false,false,false,false,false,false,false,false,false,false,false,false,false,false,false,false,false,false,false,false,false,false,false,false,false,false,false,false,false,false,false,false,false,false,false,true,false,false,false,false,false,false,false,false,false,false,false,false,false,false,null,null,null,null,null,null,null,null,null,null,null,null,null,null,null,null,null,null,null,null,null,null,null,null,null,null,null,null,null,null,null,null,null,null,null,null,null,null,null,null,null,null,null,null,null,null,null,null,null,null,null,null,null,null,null,null,null,null,null,null,null,null,null,null,null,null,null,null,null,null,null,null,null,null,null,null,null,null,null,null,null,null,null,null,null,null,null,null,null,null,null,null,null,null,null,null,null,null,null,null,null,null,null,null,null,null,null,null,null,null,null,null,null,null,null,null,null,133,"AN2"]
[null,null,null,null,null,null,null,null,null,null,null,null,null,null,null,null,null,null,null,null,null,null,null,null,null,null,null,null,null,null,null,null,null,null,null,null,null,null,null,null,null,null,null,null,null,null,null,null,null,null,null,null,null,null,null,null,null,null,null,null,null,null,null,null,null,null,null,null,null,null,null,null,null,null,null,null,null,null,null,null,null,null,null,null,null,null,null,null,null,null,null,null,null,null,null,null,null,null,null,null,null,null,null,null,null,null,null,null,null,null,null,null,null,null,null,null,null,null,null,null,null,null,null,null,null,null,null,null,null,null,null,null,null,null,null,null,null,null,null,null,null,null,null,null,null,null,null,null,null,null,null,null,null,null,null,null,null,null,null,null,null,null,null,null,null,null,null,null,null,null,null,null,null,null,null,null,null,null,null,null,null,null,null,null,null,null,null,null,null,null,null,null,null,null,null,null,null,null,null,null,null,null,null,null,null,null,null,null,null,null,null,null,null,null,null,null,null,null,null,null,null,null,null,null,null,null,null,null,null,null,null,null,null,null,null,null,null,null,null,null,null,null,null,null,null,null,null,null,null,null,null,null,null,null,null,null,null,null,null,null,null,null,null,null,null,null,null,null,null,null,null,null,null,null,null,null,null,null,null,null,null,null,null,null,null,null,null,null,null,null,null,null,null,null,null,null,null,null,null,null,null,null,null,null,null,null,null,null,null,null,null,null,null,null,null,null,null,null,null,null,null,null,null,null,null,null,null,null,null,null,null,null,null,141,"AO0"]
[null,null,100,100,93,88,100,84,97,100,100,87,100,100,82,100,99,97,100,96,100,96,99,92,96,100,96,100,100,96,96,97,100,88,100,99,82,100,100,96,98,97,100,88,96,99,97,100,100,100,88,98,100,100,null,null,100,100,97.894736839999993,92.631578950000005,100,88.421052630000005,100,100,100,91.578947369999995,100,100,86.315789469999999,100,100,100,100,100,100,100,100,96.842105259999997,100,100,100,100,100,100,100,100,100,92.631578950000005,100,100,86.315789469999999,100,100,100,100,100,100,92.631578950000005,100,100,100,100,100,100,92.631578950000005,100,100,100,null,null,100,100,97.67,95.25,96.2,94.17,94.57,95.25,95.78,94.9,95.36,95.75,94.69,95.07,95.33,95.44,95.71,95.72,95.95,95.95,96.1,95.91,95.91,96.08,96.08,96.23,96.37,96.36,96.34,96.37,96.48,96.22,96.33,96.41,96,96.11,96.22,96.21,96.26,96.28,96.37,96.17,96.16,96.23,96.24,96.33,96.4,96.48,96.31,96.34,96.41,96.48,null,null,100,100,100,100,100,99.122807019999996,99.548872180000004,100,100,99.894736839999993,100,100,99.676113360000002,100,100,100,100,100,100,100,100,100,100,100,100,100,100,100,100,100,100,100,100,100,100,100,100,100,100,100,100,100,100,100,100,100,100,100,100,100,100,100,null,null,"AA103","WP31 Mengekalkan pencapaian Service Level Agreement 5 Klien Tertinggi","1M",100,null,null,null,null,94,null,null,null,89.5,null,null,null,null,95.5,null,null,null,92,null,null,null,null,54,null,null,null,90,null,null,null,92.5,null,null,null,null,91.5,null,null,null,93.5,null,null,null,95.5,null,null,null,null,98.5,null,null,98,null,null,null,null,null,null,94,null,null,null,91.75,null,null,null,null,93,null,null,null,92.75,null,null,null,null,92.9,null,null,null,92.3,null,null,null,92.357142859999996,null,null,null,null,92.196428569999995,null,null,null,92.333333330000002,null,null,null,92.666666669999998,null,null,null,null,93.20909091,null,null,93.602272729999996,"LR",44008.426388888889,null,null,null,146,"AO5"]
[null,null,null,null,null,null,null,null,null,null,null,null,null,null,null,null,null,null,null,null,null,null,null,null,null,null,null,null,null,null,null,null,null,null,null,null,null,null,null,null,null,null,null,null,null,null,null,null,null,null,null,null,null,null,null,null,null,null,null,null,null,null,null,null,null,null,null,null,null,null,null,null,null,null,null,null,null,null,null,null,null,null,null,null,null,null,null,null,null,null,null,null,null,null,null,null,null,null,null,null,null,null,null,null,null,null,null,null,null,null,null,null,null,null,null,null,null,null,null,null,null,null,null,null,null,null,null,null,null,null,null,null,null,null,null,null,null,null,null,null,null,null,null,null,null,null,null,null,null,null,null,null,null,null,null,null,null,null,null,null,null,null,null,null,null,null,null,null,null,null,null,null,null,null,null,null,null,null,null,null,null,null,null,null,null,null,null,null,null,null,null,null,null,null,null,null,null,null,null,null,null,null,null,null,null,null,null,null,null,null,null,null,null,null,null,null,null,null,null,null,null,null,null,null,null,null,null,null,null,null,null,null,null,null,null,null,null,null,null,null,null,null,null,null,null,null,null,null,null,null,null,null,null,null,null,null,null,null,null,null,null,null,null,null,null,null,null,null,null,null,null,null,null,null,null,null,null,null,null,null,null,null,null,null,null,null,null,null,null,null,null,null,null,null,null,null,null,null,null,null,null,null,null,null,null,null,null,null,null,null,null,null,null,null,null,null,null,null,null,null,null,null,null,null,null,null,null,null,null,null,null,null,null,157,"AP6"]
[null,null,"DM101","BM301","WK01 Mencapai sasaran pendapatan korporat yang meningkat bagi Sektor Perumahan (RM Juta)",22.727272729999999,"Number",38.5,"A",1,52,"Absolute",18.5,"CG801",10,"DK602",10,"***",0,"***",0,"***",0,null,null,null,null,null,null,null,null,1.74,null,2.65,null,null,null,5.18,null,null,null,null,null,null,null,null,7.09,null,null,null,null,null,null,null,null,null,null,9.27,null,null,null,null,null,null,null,null,15.6,null,null,18.97,null,null,null,null,null,44008.417690000002,null,820400,100000,100000,100000,100000,100000,null,null,null,null,null,null,null,null,null,null,null,null,null,null,null,null,null,null,null,null,null,null,null,null,null,null,null,null,null,null,null,null,null,null,null,null,null,null,null,null,null,null,null,null,null,null,null,null,null,null,null,null,null,null,null,null,null,null,null,null,null,null,null,null,null,null,null,null,null,null,null,null,null,null,null,null,null,null,null,null,null,null,null,null,null,null,null,null,null,null,null,null,null,null,null,null,null,null,null,null,null,null,null,null,null,null,null,null,null,null,null,null,null,null,null,null,null,null,null,null,null,null,null,null,null,null,null,null,null,null,null,null,null,null,null,"AB003","WL018 Mencapai penyempurnaan program Pelan Penggantian Anggota","1A",80,0,1.875,2,2.8125,3,4,4,4.6875,5,7,7,7.5,10.628500000000001,11.9375,15.941000000000001,15.941000000000001,15.941000000000001,17.5,17.5,18.25,20,20,23,23,23,24.065999999999999,26.625,26.625,26.625,27.1875,28.125,31.125,31.125,31.875,35.125,39.5,39.5,39.5,41.875,42.8125,44.5625,44.5625,49.0625,49.0625,50.9375,50.9375,50.9375,50.9375,50.9375,53.5625,53.5625,55.3125,"AA0AB0","Percentage&1(52",0,2.34375,2.5,3.515625,3.75,5,5,5.859375,6.25,8.75,8.75,9.375,13.285625,14.921875,19.92625,19.92625,19.92625,21.875,21.875,22.8125,25,25,28.75,28.75,28.75,30.0825,33.28125,33.28125,33.28125,33.984375,35.15625,38.90625,38.90625,39.84375,43.90625,49.375,49.375,49.375,52.34375,53.515625,55.703125,55.703125,61.328125,61.328125,63.671875,63.671875,63.671875,63.671875,63.671875,66.953125,66.953125,69.140625,"PR",44007.904861111114,null,null,null,161,"AQ0"]
[null,null,"DM106","***","OR05 Mencapai pensijilan ISO18001:2007 oleh badan pensijilan",18.18181818,"Yes/No","Yes","A",10,45,"No",100,"***",0,"***",0,"***",0,"***",0,"***",0,null,null,null,null,null,null,null,null,null,null,null,null,null,null,null,null,null,null,null,null,null,null,null,null,null,null,null,null,null,null,null,null,null,null,null,null,null,null,null,null,null,null,null,"Yes",null,null,null,null,null,null,null,null,null,null,0,100000,100000,100000,100000,100000,null,null,null,null,null,null,null,null,null,null,null,null,null,null,null,null,null,null,null,null,null,null,null,null,null,null,null,null,null,null,null,null,null,null,null,null,null,null,null,null,null,null,null,null,null,null,null,null,null,null,null,null,null,null,null,null,null,null,null,null,null,null,null,null,null,null,null,null,null,null,null,null,null,null,null,null,null,null,null,null,null,null,null,null,null,null,null,null,null,null,null,null,null,null,null,null,null,null,null,null,null,null,null,null,null,null,null,null,null,null,null,null,null,null,null,null,null,null,null,null,null,null,null,null,null,null,null,null,null,null,null,null,null,null,null,"AG003","C017 Mencapai penyempurnaan 5 Pakej Produk yang baru","1A",90,0,0,0,0,10,10,15,15,15,20,20,20,20,25,25,25,30,30,35,35,35,40,40,45,45,50,50,50,55,55,60,60,60,61.5,61.5,66.5,66.5,66.5,66.5,66.5,71.5,71.5,73,73,76.5,78,78,81.5,81.5,83,83,83,"AA0AC0AG0","Percentage&1(52",0,0,0,0,11.11111111,11.11111111,16.666666670000001,16.666666670000001,16.666666670000001,22.222222219999999,22.222222219999999,22.222222219999999,22.222222219999999,27.777777780000001,27.777777780000001,27.777777780000001,33.333333330000002,33.333333330000002,38.888888889999997,38.888888889999997,38.888888889999997,44.444444439999998,44.444444439999998,50,50,55.555555560000002,55.555555560000002,55.555555560000002,61.111111110000003,61.111111110000003,66.666666669999998,66.666666669999998,66.666666669999998,68.333333330000002,68.333333330000002,73.888888890000004,73.888888890000004,73.888888890000004,73.888888890000004,73.888888890000004,79.444444439999998,79.444444439999998,81.111111109999996,81.111111109999996,85,86.666666669999998,86.666666669999998,90.555555560000002,90.555555560000002,92.222222220000006,92.222222220000006,92.222222220000006,null,null,null,null,null,166,"AQ5"]
[null,null,"DM114","***","N/A",null,null,null,"A",null,null,null,0,"***",0,"***",0,"***",0,"***",0,"***",0,null,null,null,null,null,null,null,null,null,null,null,null,null,null,null,null,null,null,null,null,null,null,null,null,null,null,null,null,null,null,null,null,null,null,null,null,null,null,null,null,null,null,null,null,null,null,null,null,null,null,null,null,null,null,0,100000,100000,100000,100000,100000,null,null,null,null,null,null,null,null,null,null,null,null,null,null,null,null,null,null,null,null,null,null,null,null,null,null,null,null,null,null,null,null,null,null,null,null,null,null,null,null,null,null,null,null,null,null,null,null,null,null,null,null,null,null,null,null,null,null,null,null,null,null,null,null,null,null,null,null,null,null,null,null,null,null,null,null,null,null,null,null,null,null,null,null,null,null,null,null,null,null,null,null,null,null,null,null,null,null,null,null,null,null,null,null,null,null,null,null,null,null,null,null,null,null,null,null,null,null,null,null,null,null,null,null,null,null,null,null,null,null,null,null,null,null,null,null,null,null,null,null,null,null,null,null,null,null,null,null,null,null,null,null,null,null,null,null,null,null,null,null,null,null,null,null,null,null,null,null,null,null,null,null,null,null,null,null,null,null,null,null,null,null,null,null,null,null,null,null,null,null,null,null,null,null,null,null,null,null,null,null,null,null,null,null,null,null,null,null,null,null,null,null,null,null,null,null,null,null,null,null,null,null,null,null,null,null,null,null,null,null,null,null,null,null,null,null,null,null,null,null,null,null,null,null,null,null,null,null,null,null,174,"AR3"]
[null,null,null,null,null,null,null,null,null,null,null,null,null,null,null,null,null,null,null,null,null,null,null,null,null,null,null,null,null,null,null,null,null,null,null,null,null,null,null,null,null,null,null,null,null,null,null,null,null,null,null,null,null,null,null,null,null,null,null,null,null,null,null,null,null,null,null,null,null,null,null,null,null,null,null,null,null,null,null,null,null,null,null,null,null,null,null,null,null,null,null,null,null,null,null,null,null,null,null,null,null,null,null,null,null,null,null,null,null,null,null,null,null,null,null,null,null,null,null,null,null,null,null,null,null,null,null,null,null,null,null,null,null,null,null,null,null,null,null,null,null,null,null,null,null,null,null,null,null,null,null,null,null,null,null,null,null,null,null,null,null,null,null,null,null,null,null,null,null,null,null,null,null,null,null,null,null,null,null,null,null,null,null,null,null,null,null,null,null,null,null,null,null,null,null,null,null,null,null,null,null,null,null,null,null,null,null,null,null,null,null,null,null,null,null,null,null,null,"AK003","P158 Mencapai penyempurnaan Inventori Aset","1A",90,0,0,0,0,1.6,3.8,5.6,7.4,8.4,10.4,12.2,13.6,15.6,16.600000000000001,18.600000000000001,19.600000000000001,22.2,24,26,27,28.2,30.4,31.4,33.4,34.6,36.4,37.799999999999997,39.200000000000003,39.200000000000003,41.8,43.6,46,47.2,48,49,50.8,52.2,52.2,52.8,53.4,55.2,59.2,59.4,65.8,67.8,68.599999999999994,70.400000000000006,72,73.2,73.2,75,75,"AA0AB0AE0AK0","Percentage&1(52",0,0,0,0,1.7777777779999999,4.2222222220000001,6.2222222220000001,8.2222222219999992,9.3333333330000006,11.55555556,13.55555556,15.11111111,17.333333329999999,18.444444440000002,20.666666670000001,21.777777780000001,24.666666670000001,26.666666670000001,28.88888889,30,31.333333329999999,33.777777780000001,34.888888889999997,37.111111110000003,38.444444439999998,40.444444439999998,42,43.555555560000002,43.555555560000002,46.444444439999998,48.444444439999998,51.111111110000003,52.444444439999998,53.333333330000002,54.444444439999998,56.444444439999998,58,58,58.666666669999998,59.333333330000002,61.333333330000002,65.777777779999994,66,73.111111109999996,75.333333330000002,76.222222220000006,78.222222220000006,80,81.333333330000002,81.333333330000002,83.333333330000002,83.333333330000002,"LR",44008.426388888889,null,null,null,180,"AR9"]
[null,null,null,null,null,null,null,null,null,null,null,null,null,null,null,null,null,null,null,null,null,null,null,null,null,null,null,null,null,null,null,null,null,null,null,null,null,null,null,null,null,null,null,null,null,null,null,null,null,null,null,null,null,null,null,null,null,null,null,null,null,null,null,null,null,null,null,null,null,null,null,null,null,null,null,null,null,null,null,null,null,null,null,null,null,null,null,null,null,null,null,null,null,null,null,null,null,null,null,null,null,null,null,null,null,null,null,null,null,null,null,null,null,null,null,null,null,null,null,null,null,null,null,null,null,null,null,null,null,null,null,null,null,null,null,null,null,null,null,null,null,null,null,null,null,null,null,null,null,null,null,null,null,null,null,null,null,null,null,null,null,null,null,null,null,null,null,null,null,null,null,null,null,null,null,null,null,null,null,null,null,null,null,null,null,null,null,null,null,null,null,null,null,null,null,null,null,null,null,null,null,null,null,null,null,null,null,null,null,null,null,null,null,null,null,null,null,null,null,null,null,null,null,null,null,null,null,null,null,null,null,null,null,null,null,null,null,null,null,null,null,null,null,null,null,null,null,null,null,null,null,null,null,null,null,null,null,null,null,null,null,null,null,null,null,null,null,null,null,null,null,null,null,null,null,null,null,null,null,null,null,null,null,null,null,null,null,null,null,null,null,null,null,null,null,null,null,null,null,null,null,null,null,null,null,null,null,null,null,null,null,null,null,null,null,null,null,null,null,null,null,null,null,null,null,null,null,null,null,null,null,null,null,186,"AS5"]
[null,null,null,null,null,null,null,null,null,null,null,null,null,null,null,null,null,null,null,null,null,null,null,null,null,null,null,null,null,null,null,null,null,null,null,null,null,null,null,null,null,null,null,null,null,null,null,null,null,null,null,null,null,null,null,null,null,null,null,null,null,null,null,null,null,null,null,null,null,null,null,null,null,null,null,null,null,null,null,null,null,null,null,null,null,null,null,null,null,null,null,null,null,null,null,null,null,null,null,null,null,null,null,null,null,null,null,null,null,null,null,null,null,null,null,null,null,null,null,null,null,null,null,null,null,null,null,null,null,null,null,null,null,null,null,null,null,null,null,null,null,null,null,null,null,null,null,null,null,null,null,null,null,null,null,null,null,null,null,null,null,null,null,null,null,null,null,null,null,null,null,null,null,null,null,null,null,null,null,null,null,null,null,null,null,null,null,null,null,null,null,null,null,null,null,null,null,null,null,null,null,null,null,null,null,null,null,null,null,null,null,null,null,null,null,null,null,null,null,null,null,null,"PKEN Charts Values Miles",null,null,null,null,null,null,null,null,null,null,null,null,null,null,null,null,null,null,null,null,null,null,null,null,null,null,null,null,null,null,null,null,null,null,null,null,null,null,null,null,null,null,null,null,null,null,null,null,null,null,null,null,null,"PKEN Charts Scores Miles",null,null,null,null,null,null,null,null,null,null,null,null,null,null,null,null,null,null,null,null,null,null,null,null,null,null,null,null,null,null,null,null,null,null,null,null,null,null,null,null,null,null,null,null,null,null,null,null,null,null,null,null,null,null,null,null,194,"AT3"]
[null,null,null,null,null,null,null,null,null,null,null,null,null,null,null,null,null,null,null,null,null,null,null,null,null,null,null,null,null,null,null,null,null,null,null,null,null,null,null,null,null,null,null,null,null,null,null,null,null,null,null,null,null,null,null,null,null,null,null,null,null,null,null,null,null,null,null,null,null,null,null,null,null,null,null,null,null,null,null,null,null,null,null,null,null,null,null,null,null,null,null,null,null,null,null,null,null,null,null,null,null,null,null,null,null,null,null,null,null,null,null,null,null,null,null,null,null,null,null,null,null,null,null,null,null,null,null,null,null,null,null,null,null,null,null,null,null,null,null,null,null,null,null,null,null,null,null,null,null,null,null,null,null,null,null,null,null,null,null,null,null,null,null,null,null,null,null,null,null,null,null,null,null,null,null,null,null,null,null,null,null,null,null,null,null,null,null,null,null,null,null,null,null,null,null,null,null,null,null,null,null,null,null,null,null,null,null,null,null,null,null,null,null,null,null,null,null,null,null,null,null,null,null,null,null,null,null,null,null,null,null,null,null,null,null,null,null,null,null,null,null,null,null,null,null,null,null,null,null,null,null,null,null,null,null,null,null,null,null,null,null,null,null,null,null,null,null,null,null,null,null,null,null,null,null,null,null,null,null,null,null,null,null,null,null,null,null,null,null,null,null,null,null,null,null,null,null,null,null,null,null,null,null,null,null,null,null,null,null,null,null,null,null,null,null,null,null,null,null,null,null,null,null,null,null,null,null,null,null,null,null,null,null,199,"AT8"]
[null,null,null,null,null,null,null,null,null,null,null,null,null,null,null,null,null,null,null,null,null,null,null,null,null,null,null,null,null,null,null,null,null,null,null,null,null,null,null,null,null,null,null,null,null,null,null,null,null,null,null,null,null,null,null,null,null,null,null,null,null,null,null,null,null,null,null,null,null,null,null,null,null,null,null,null,null,null,null,null,null,null,null,null,null,null,null,null,null,null,null,null,null,null,null,null,null,null,null,null,null,null,null,null,null,null,null,null,null,null,null,null,null,null,null,null,null,null,null,null,null,null,null,null,null,null,null,null,null,null,null,null,null,null,null,null,null,null,null,null,null,null,null,null,null,null,null,null,null,null,null,null,null,null,null,null,null,null,null,null,null,null,null,null,null,null,null,null,null,null,null,null,null,null,null,null,null,null,null,null,null,null,null,null,null,null,null,null,null,null,null,null,null,null,null,null,null,null,null,null,null,null,null,null,null,null,null,null,null,null,null,null,null,null,null,null,null,null,null,null,null,null,null,null,null,null,null,null,null,null,null,null,null,null,null,null,null,null,null,null,null,null,null,null,null,null,null,null,null,null,null,null,null,null,null,null,null,null,null,null,null,null,null,null,null,null,null,null,null,null,null,null,null,null,null,null,null,null,null,null,null,null,null,null,null,null,null,null,null,null,null,null,null,null,null,null,null,null,null,null,null,null,null,null,null,null,null,null,null,null,null,null,null,null,null,null,null,null,null,null,null,null,null,null,null,null,null,null,null,null,null,null,null,211,"AV0"]
[null,null,71.5,75.2,75.900000000000006,70.599999999999994,70.900000000000006,71.2,75.5,71.2,75,75.8,76.2,69.7,76.2,76.400000000000006,76.099999999999994,76.900000000000006,79.400000000000006,80.3,79.2,79.099999999999994,73.8,73.900000000000006,75,79.7,78.599999999999994,78.5,77,81.400000000000006,77.599999999999994,80.2,80.400000000000006,83.7,79.2,79.8,77.7,78,81.7,82,79.2,76.3,76.099999999999994,83.3,81.099999999999994,78.099999999999994,80.2,84.3,77.099999999999994,77.7,78.8,81.5,81.7,78.5,null,null,null,70,null,41.25,null,45,null,45,null,73.75,null,35.625,null,77.5,null,80.625,null,100,null,94.375,null,61.875,null,98.125,null,90.625,null,100,null,100,null,100,null,98.75,null,87.5,null,100,null,76.875,null,100,null,88.125,null,100,null,85.625,null,100,null,90.625,null,null,71.5,73.349999999999994,74.2,73.3,72.819999999999993,72.55,72.97,72.75,73,73.28,73.55,73.23,73.45,73.66,73.83,74.02,74.34,74.67,74.91,75.12,75.05,75,75,75.2,75.33,75.45,75.510000000000005,75.72,75.790000000000006,75.930000000000007,76.08,76.319999999999993,76.400000000000006,76.5,76.540000000000006,76.58,76.72,76.86,76.92,76.900000000000006,76.88,77.03,77.13,77.150000000000006,77.22,77.37,77.37,77.37,77.400000000000006,77.48,77.569999999999993,77.58,null,null,46.875,58.4375,63.75,58.125,55.125,53.4375,56.071428570000002,54.6875,56.25,58,59.659090910000003,57.65625,59.08653846,60.401785709999999,61.416666669999998,62.6171875,64.595588239999998,66.666666669999998,68.157894740000003,69.46875,69.077380950000006,68.75,68.75,69.973958330000002,70.825000000000003,71.58653846,71.944444439999998,73.258928569999995,73.663793100000007,74.583333330000002,75.483870969999998,76.97265625,77.51893939,78.143382349999996,78.357142859999996,78.611111109999996,79.476351350000002,80.345394740000003,80.721153849999993,80.625,80.50304878,81.458333330000002,82.049418599999996,82.1875,82.611111109999996,83.573369569999997,83.537234040000001,83.580729169999998,83.762755100000007,84.275000000000006,84.791666669999998,84.903846150000007,null,null,"AA004","WC031 Mengekalkan pencapaian Service Level Agreement 5 Klien Tertinggi","1M",100,0,0,0,0,94,0,0,0,89.5,0,0,0,0,95.5,0,0,0,92,0,0,0,0,54,0,0,0,90,0,0,0,92.5,0,0,0,0,91.5,0,0,0,93.5,0,0,0,95.5,0,0,0,0,98.5,0,0,98,null,null,0,0,0,0,94,0,0,0,91.75,0,0,0,0,93,0,0,0,92.75,0,0,0,0,92.9,0,0,0,92.3,0,0,0,92.357142859999996,0,0,0,0,92.196428569999995,0,0,0,92.333333330000002,0,0,0,92.666666669999998,0,0,0,0,93.20909091,0,0,93.602272729999996,"LR",44008.426388888889,null,null,null,214,"AV3"]
[null,null,null,null,null,null,null,null,null,null,null,null,null,null,null,null,null,null,null,null,null,null,null,null,null,null,null,null,null,null,null,null,null,null,null,null,null,null,null,null,null,null,null,null,null,null,null,null,null,null,null,null,null,null,null,null,null,null,null,null,null,null,null,null,null,null,null,null,null,null,null,null,null,null,null,null,null,null,null,null,null,null,null,null,null,null,null,null,null,null,null,null,null,null,null,null,null,null,null,null,null,null,null,null,null,null,null,null,null,null,null,null,null,null,null,null,null,null,null,null,null,null,null,null,null,null,null,null,null,null,null,null,null,null,null,null,null,null,null,null,null,null,null,null,null,null,null,null,null,null,null,null,null,null,null,null,null,null,null,null,null,null,null,null,null,null,null,null,null,null,null,null,null,null,null,null,null,null,null,null,null,null,null,null,null,null,null,null,null,null,null,null,null,null,null,null,null,null,null,null,null,null,null,null,null,null,null,null,null,null,null,null,null,null,null,null,null,null,null,null,null,null,null,null,null,null,null,null,null,null,null,null,null,null,null,null,null,null,null,null,null,null,null,null,null,null,null,null,null,null,null,null,null,null,null,null,null,null,null,null,null,null,null,null,null,null,null,null,null,null,null,null,null,null,null,null,null,null,null,null,null,null,null,null,null,null,null,null,null,null,null,null,null,null,null,null,null,null,null,null,null,null,null,null,null,null,null,null,null,null,null,null,null,null,null,null,null,null,null,null,null,null,null,null,null,null,null,null,null,null,null,null,null,219,"AV8"]
[null,null,null,null,null,null,null,null,null,null,null,null,null,null,null,null,null,null,null,null,null,null,null,null,null,null,null,null,null,null,null,null,null,null,null,null,null,null,null,null,null,null,null,null,null,null,null,null,null,null,null,null,null,null,null,null,null,null,null,null,null,null,null,null,null,null,null,null,null,null,null,null,null,null,null,null,null,null,null,null,null,null,null,null,null,null,null,null,null,null,null,null,null,null,null,null,null,null,null,null,null,null,null,null,null,null,null,null,null,null,null,null,null,null,null,null,null,null,null,null,null,null,null,null,null,null,null,null,null,null,null,null,null,null,null,null,null,null,null,null,null,null,null,null,null,null,null,null,null,null,null,null,null,null,null,null,null,null,null,null,null,null,null,null,null,null,null,null,null,null,null,null,null,null,null,null,null,null,null,null,null,null,null,null,null,null,null,null,null,null,null,null,null,null,null,null,null,null,null,null,null,null,null,null,null,null,null,null,null,null,null,null,null,null,null,null,"AZ",null,null,null,null,null,null,null,null,null,null,null,null,null,null,null,null,null,null,null,null,null,null,null,null,null,null,null,null,null,null,null,null,null,null,null,null,null,null,null,null,null,null,null,null,null,null,null,null,null,null,null,null,null,null,null,null,null,null,null,"Active","MUHAMMAD UZAYR UBAID","0569CG8","EKSEKUTIF PEMASARAN DAN LOGISTIK","PEMASARAN DAN PERKHIDMATAN",13,"PRESTASIA CORPORATION LIMITED","uzayr.ubaid@prestasia.com","011-2340569","DM1","ADAM NAUFAL HASMADI","1234HM","PEN. KETUA PEMASARAN DAN PERKHIDMATAN","PEMASARAN DAN PERKHIDMATAN","adam.naufal@prestasia.com","011-2345678",80,10,10,0,"AA0AA4AB3AF3BM3DM1CG8","Unlocked",0,null,"AZ",null,null,null,null,null,null,null,null,null,null,null,null,null,null,null,null,null,null,null,null,null,null,null,null,null,null,null,null,null,null,null,null,227,"AW6"]
[null,null,"CG806","***","N/A",null,null,null,"A",null,null,null,0,"***",0,"***",0,"***",0,"***",0,"***",0,null,null,null,null,null,null,null,null,null,null,null,null,null,null,null,null,null,null,null,null,null,null,null,null,null,null,null,null,null,null,null,null,null,null,null,null,null,null,null,null,null,null,null,null,null,null,null,null,null,null,null,null,null,null,0,100000,100000,100000,100000,100000,null,null,null,null,null,null,null,null,null,null,null,null,null,null,null,null,null,null,null,null,null,null,null,null,null,null,null,null,null,null,null,null,null,null,null,null,null,null,null,null,null,null,null,null,null,null,null,null,null,null,null,null,null,null,null,null,null,null,null,null,null,null,null,null,null,null,null,null,null,null,null,null,null,null,null,null,null,null,null,null,null,null,null,null,null,null,null,null,null,null,null,null,null,null,null,null,null,null,null,null,null,null,null,null,null,null,null,null,null,null,null,null,null,null,null,null,null,null,null,null,null,null,null,null,null,null,null,null,null,null,null,null,null,null,null,"AG003","C017 Mencapai penyempurnaan 5 Pakej Produk yang baru","1A",90,0,0,0,0,10,10,15,15,15,20,20,20,20,25,25,25,30,30,35,35,35,40,40,45,45,50,50,50,55,55,60,60,60,61.5,61.5,66.5,66.5,66.5,66.5,66.5,71.5,71.5,73,73,76.5,78,78,81.5,81.5,83,83,83,"AA0AC0AG0","Percentage&1(52",0,0,0,0,11.11111111,11.11111111,16.666666670000001,16.666666670000001,16.666666670000001,22.222222219999999,22.222222219999999,22.222222219999999,22.222222219999999,27.777777780000001,27.777777780000001,27.777777780000001,33.333333330000002,33.333333330000002,38.888888889999997,38.888888889999997,38.888888889999997,44.444444439999998,44.444444439999998,50,50,55.555555560000002,55.555555560000002,55.555555560000002,61.111111110000003,61.111111110000003,66.666666669999998,66.666666669999998,66.666666669999998,68.333333330000002,68.333333330000002,73.888888890000004,73.888888890000004,73.888888890000004,73.888888890000004,73.888888890000004,79.444444439999998,79.444444439999998,81.111111109999996,81.111111109999996,85,86.666666669999998,86.666666669999998,90.555555560000002,90.555555560000002,92.222222220000006,92.222222220000006,92.222222220000006,null,null,null,null,null,234,"AX3"]
[null,null,"CG811","***","N/A",null,null,null,"A",null,null,null,0,"***",0,"***",0,"***",0,"***",0,"***",0,null,null,null,null,null,null,null,null,null,null,null,null,null,null,null,null,null,null,null,null,null,null,null,null,null,null,null,null,null,null,null,null,null,null,null,null,null,null,null,null,null,null,null,null,null,null,null,null,null,null,null,null,null,null,0,100000,100000,100000,100000,100000,null,null,null,null,null,null,null,null,null,null,null,null,null,null,null,null,null,null,null,null,null,null,null,null,null,null,null,null,null,null,null,null,null,null,null,null,null,null,null,null,null,null,null,null,null,null,null,null,null,null,null,null,null,null,null,null,null,null,null,null,null,null,null,null,null,null,null,null,null,null,null,null,null,null,null,null,null,null,null,null,null,null,null,null,null,null,null,null,null,null,null,null,null,null,null,null,null,null,null,null,null,null,null,null,null,null,null,null,null,null,null,null,null,null,null,null,null,null,null,null,null,null,null,null,null,null,null,null,null,null,null,null,null,null,null,null,null,null,null,null,null,null,null,null,null,null,null,null,null,null,null,null,null,null,null,null,null,null,null,null,null,null,null,null,null,null,null,null,null,null,null,null,null,null,null,null,null,null,null,null,null,null,null,null,null,null,null,null,null,null,null,null,null,null,null,null,null,null,null,null,null,null,null,null,null,null,null,null,null,null,null,null,null,null,null,null,null,null,null,null,null,null,null,null,null,null,null,null,null,null,null,null,null,null,null,null,null,null,null,null,null,null,null,null,null,null,null,null,null,null,239,"AX8"]
[null,null,0,0,0,2.52,2.52,2.52,2.52,2.52,2.52,2.52,2.52,2.52,2.52,2.52,2.52,2.52,2.52,3.87,3.87,3.87,3.87,3.87,3.87,3.87,3.87,5.93,5.93,5.93,5.93,5.93,7.36,7.36,7.36,7.36,7.36,7.54,7.54,7.54,7.54,7.54,7.54,7.54,7.54,7.54,7.54,7.54,7.54,7.54,9.09,9.09,9.09,9.09,null,null,0,0,0,25.2,25.2,25.2,25.2,25.2,25.2,25.2,25.2,25.2,25.2,25.2,25.2,25.2,25.2,38.700000000000003,38.700000000000003,38.700000000000003,38.700000000000003,38.700000000000003,38.700000000000003,38.700000000000003,38.700000000000003,59.3,59.3,59.3,59.3,59.3,73.599999999999994,73.599999999999994,73.599999999999994,73.599999999999994,73.599999999999994,75.400000000000006,75.400000000000006,75.400000000000006,75.400000000000006,75.400000000000006,75.400000000000006,75.400000000000006,75.400000000000006,75.400000000000006,75.400000000000006,75.400000000000006,75.400000000000006,75.400000000000006,90.9,90.9,90.9,90.9,null,null,0,0,0,2.52,2.52,2.52,2.52,2.52,2.52,2.52,2.52,2.52,2.52,2.52,2.52,2.52,2.52,3.87,3.87,3.87,3.87,3.87,3.87,3.87,3.87,5.93,5.93,5.93,5.93,5.93,7.36,7.36,7.36,7.36,7.36,7.54,7.54,7.54,7.54,7.54,7.54,7.54,7.54,7.54,7.54,7.54,7.54,7.54,9.09,9.09,9.09,9.09,null,null,0,0,0,25.2,25.2,25.2,25.2,25.2,25.2,25.2,25.2,25.2,25.2,25.2,25.2,25.2,25.2,38.700000000000003,38.700000000000003,38.700000000000003,38.700000000000003,38.700000000000003,38.700000000000003,38.700000000000003,38.700000000000003,59.3,59.3,59.3,59.3,59.3,73.599999999999994,73.599999999999994,73.599999999999994,73.599999999999994,73.599999999999994,75.400000000000006,75.400000000000006,75.400000000000006,75.400000000000006,75.400000000000006,75.400000000000006,75.400000000000006,75.400000000000006,75.400000000000006,75.400000000000006,75.400000000000006,75.400000000000006,75.400000000000006,90.9,90.9,90.9,90.9,null,null,"AA003","WP011 Mencapai Pensijilan Korporat ISO9001:2015","1A",100,0,0,0,1.5,1.5,1.5,4.5,6,9,10.5,15.5,17.248999999999999,18.584,18.584,20.251999999999999,21.751999999999999,21.815000000000001,21.815000000000001,24.978999999999999,26.416,26.542000000000002,27.126000000000001,30.5,32,35.5,35.749000000000002,39,39,40.752000000000002,42.003,46,46.9,48.816000000000003,50.414999999999999,52.2,54.2,55.7,58.813000000000002,58.813000000000002,60.813000000000002,70.623999999999995,70.623999999999995,74.292000000000002,74.623999999999995,76.123999999999995,81.331999999999994,81.394999999999996,85.1,86,87.2,88.573999999999998,90.658000000000001,null,null,0,0,0,1.5,1.5,1.5,4.5,6,9,10.5,15.5,17.248999999999999,18.584,18.584,20.251999999999999,21.751999999999999,21.815000000000001,21.815000000000001,24.978999999999999,26.416,26.542000000000002,27.126000000000001,30.5,32,35.5,35.749000000000002,39,39,40.752000000000002,42.003,46,46.9,48.816000000000003,50.414999999999999,52.2,54.2,55.7,58.813000000000002,58.813000000000002,60.813000000000002,70.623999999999995,70.623999999999995,74.292000000000002,74.623999999999995,76.123999999999995,81.331999999999994,81.394999999999996,85.1,86,87.2,88.573999999999998,90.658000000000001,"PC","25/6/2020 22:00",null,null,null,247,"AY6"]
[null,null,null,null,null,null,null,null,null,null,null,null,null,null,null,null,null,null,null,null,null,null,null,null,null,null,null,null,null,null,null,null,null,null,null,null,null,null,null,null,null,null,null,null,null,null,null,null,null,null,null,null,null,null,null,null,null,null,null,null,null,null,null,null,null,null,null,null,null,null,null,null,null,null,null,null,null,null,null,null,null,null,null,null,null,null,null,null,null,null,null,null,null,null,null,null,null,null,null,null,null,null,null,null,null,null,null,null,null,null,null,null,null,null,null,null,null,null,null,null,null,null,null,null,null,null,null,null,null,null,null,null,null,null,null,null,null,null,null,null,null,null,null,null,null,null,null,null,null,null,null,null,null,null,null,null,null,null,null,null,null,null,null,null,null,null,null,null,null,null,null,null,null,null,null,null,null,null,null,null,null,null,null,null,null,null,null,null,null,null,null,null,null,null,null,null,null,null,null,null,null,null,null,null,null,null,null,null,null,null,null,null,null,null,null,null,null,null,null,null,null,null,null,null,null,null,null,null,null,null,null,null,null,null,null,null,null,null,null,null,null,null,null,null,null,null,null,null,null,null,null,null,null,null,null,null,null,null,null,null,null,null,null,null,null,null,null,null,null,null,null,null,null,null,null,null,null,null,null,null,null,null,null,null,null,null,null,null,null,null,null,null,null,null,null,null,null,null,null,null,null,null,null,null,null,null,null,null,null,null,null,null,null,null,null,null,null,null,null,null,null,null,null,null,null,null,null,null,null,null,null,null,null,259,"BA8"]
[null,null,"DK603","***","BP49 Mengekalkan Penghantaran shipment Pelanggan menepati sasaran (peratusan)",18.75,"MinLimit",95,"M",1,52,"No",100,"***",0,"***",0,"***",0,"***",0,"***",0,95,88,90,88,87,83,87,88,79,87,82,83,87,88,84,88,93,93,94,86,86,89,81,86,80,73,70,66,67,58,58,58,60,60,61,57,57,56,58,58,67,71,74,87,86,87,85,81,81,84,88,85,null,null,0,100000,100000,100000,100000,100000,null,null,null,null,null,null,null,null,null,null,null,null,null,null,null,null,null,null,null,null,null,null,null,null,null,null,null,null,null,null,null,null,null,null,null,null,null,null,null,null,null,null,null,null,null,null,null,null,null,null,null,null,null,null,null,null,null,null,null,null,null,null,null,null,null,null,null,null,null,null,null,null,null,null,null,null,null,null,null,null,null,null,null,null,null,null,null,null,null,null,null,null,null,null,null,null,null,null,null,null,null,null,null,null,null,null,null,null,null,null,null,null,null,null,null,null,null,null,null,null,null,null,null,null,null,null,null,null,null,null,null,null,null,null,null,"AD003","F013 Mengekalkan ratio varians Belanjawan:Staf menepati bajet (peratusan varians)","4M",5,0,0,0,0,3.5,0,0,0,4.5,0,0,0,0,4.5,0,0,0,4.5,0,0,0,0,5.5,0,0,0,5.5,0,0,0,6.5,0,0,0,0,5.5,0,0,0,6.5,0,0,0,5,0,0,0,0,5.5,0,0,5.5,"AA0AB0AD0","+Variance&1(52",0,0,0,0,100,0,0,0,100,0,0,0,0,100,0,0,0,100,0,0,0,0,100,0,0,0,100,0,0,0,100,0,0,0,0,100,0,0,0,98.333333330000002,0,0,0,98.5,0,0,0,0,98.181818179999993,0,0,97.916666669999998,"LR","26/6/2020 10:14",null,null,null,265,"BB4"]
[null,null,"DK609","***","N/A",null,null,null,"A",null,null,null,0,"***",0,"***",0,"***",0,"***",0,"***",0,null,null,null,null,null,null,null,null,null,null,null,null,null,null,null,null,null,null,null,null,null,null,null,null,null,null,null,null,null,null,null,null,null,null,null,null,null,null,null,null,null,null,null,null,null,null,null,null,null,null,null,null,null,null,0,100000,100000,100000,100000,100000,null,null,null,null,null,null,null,null,null,null,null,null,null,null,null,null,null,null,null,null,null,null,null,null,null,null,null,null,null,null,null,null,null,null,null,null,null,null,null,null,null,null,null,null,null,null,null,null,null,null,null,null,null,null,null,null,null,null,null,null,null,null,null,null,null,null,null,null,null,null,null,null,null,null,null,null,null,null,null,null,null,null,null,null,null,null,null,null,null,null,null,null,null,null,null,null,null,null,null,null,null,null,null,null,null,null,null,null,null,null,null,null,null,null,null,null,null,null,null,null,null,null,null,null,null,null,null,null,null,null,null,null,null,null,null,null,null,null,null,null,null,null,null,null,null,null,null,null,null,null,null,null,null,null,null,null,null,null,null,null,null,null,null,null,null,null,null,null,null,null,null,null,null,null,null,null,null,null,null,null,null,null,null,null,null,null,null,null,null,null,null,null,null,null,null,null,null,null,null,null,null,null,null,null,null,null,null,null,null,null,null,null,null,null,null,null,null,null,null,null,null,null,null,null,null,null,null,null,null,null,null,null,null,null,null,null,null,null,null,null,null,null,null,null,null,null,null,null,null,null,271,"BC0"]
[null,null,null,null,null,null,null,null,null,null,null,null,null,null,null,null,null,null,null,null,null,null,null,null,null,null,null,null,null,null,null,null,null,null,null,null,null,null,null,null,null,null,null,null,null,null,null,null,null,null,null,null,null,null,null,null,null,null,null,null,null,null,null,null,null,null,null,null,null,null,null,null,null,null,null,null,null,null,null,null,null,null,null,null,null,null,null,null,null,null,null,null,null,null,null,null,null,null,null,null,null,null,null,null,null,null,null,null,null,null,null,null,null,null,null,null,null,null,null,null,null,null,null,null,null,null,null,null,null,null,null,null,null,null,null,null,null,null,null,null,null,null,null,null,null,null,null,null,null,null,null,null,null,null,null,null,null,null,null,null,null,null,null,null,null,null,null,null,null,null,null,null,null,null,null,null,null,null,null,null,null,null,null,null,null,null,null,null,null,null,null,null,null,null,null,null,null,null,null,null,null,null,null,null,null,null,null,null,null,null,null,null,null,null,null,null,null,null,null,null,null,null,null,null,null,null,null,null,null,null,null,null,null,null,null,null,null,null,null,null,null,null,null,null,null,null,null,null,null,null,null,null,null,null,null,null,null,null,null,null,null,null,null,null,null,null,null,null,null,null,null,null,null,null,null,null,null,null,null,null,null,null,null,null,null,null,null,null,null,null,null,null,null,null,null,null,null,null,null,null,null,null,null,null,null,null,null,null,null,null,null,null,null,null,null,null,null,null,null,null,null,null,null,null,null,null,null,null,null,null,null,null,null,279,"BC8"]
[null,null,null,null,null,null,null,null,null,null,null,null,null,null,null,null,null,null,null,null,null,null,null,null,null,null,null,null,null,null,null,null,null,null,null,null,null,null,null,null,null,null,null,null,null,null,null,null,null,null,null,null,null,null,null,null,null,null,null,null,null,null,null,null,null,null,null,null,null,null,null,null,null,null,null,null,null,null,null,null,null,null,null,null,null,null,null,null,null,null,null,null,null,null,null,null,null,null,null,null,null,null,null,null,null,null,null,null,null,null,null,null,null,null,null,null,null,null,null,null,null,null,null,null,null,null,null,null,null,null,null,null,null,null,null,null,null,null,null,null,null,null,null,null,null,null,null,null,null,null,null,null,null,null,null,null,null,null,null,null,null,null,null,null,null,null,null,null,null,null,null,null,null,null,null,null,null,null,null,null,null,null,null,null,null,null,null,null,null,null,null,null,null,null,null,null,null,null,null,null,null,null,null,null,null,null,null,null,null,null,null,null,null,null,null,null,null,null,null,null,null,null,null,null,null,null,null,null,null,null,null,null,null,null,null,null,null,null,null,null,null,null,null,null,null,null,null,null,null,null,null,null,null,null,null,null,null,null,null,null,null,null,null,null,null,null,null,null,null,null,null,null,null,null,null,null,null,null,null,null,null,null,null,null,null,null,null,null,null,null,null,null,null,null,null,null,null,null,null,null,null,null,null,null,null,null,null,null,null,null,null,null,null,null,null,null,null,null,null,null,null,null,null,null,null,null,null,null,null,null,null,null,null,280,"BC9"]
[null,null,null,null,null,null,null,null,null,null,null,null,null,null,null,null,null,null,null,null,null,null,null,null,null,null,null,null,null,null,null,null,null,null,null,null,null,null,null,null,null,null,null,null,null,null,null,null,null,null,null,null,null,null,null,null,null,null,null,null,null,null,null,null,null,null,null,null,null,null,null,null,null,null,null,null,null,null,null,null,null,null,null,null,null,null,null,null,null,null,null,null,null,null,null,null,null,null,null,null,null,null,null,null,null,null,null,null,null,null,null,null,null,null,null,null,null,null,null,null,null,null,null,null,null,null,null,null,null,null,null,null,null,null,null,null,null,null,null,null,null,null,null,null,null,null,null,null,null,null,null,null,null,null,null,null,null,null,null,null,null,null,null,null,null,null,null,null,null,null,null,null,null,null,null,null,null,null,null,null,null,null,null,null,null,null,null,null,null,null,null,null,null,null,null,null,null,null,null,null,null,null,null,null,null,null,null,null,null,null,null,null,null,null,null,null,null,null,null,null,null,null,null,null,null,null,null,null,null,null,null,null,null,null,null,null,null,null,null,null,null,null,null,null,null,null,null,null,null,null,null,null,null,null,null,null,null,null,null,null,null,null,null,null,null,null,null,null,null,null,null,null,null,null,null,null,null,null,null,null,null,null,null,null,null,null,null,null,null,null,null,null,null,null,null,null,null,null,null,null,null,null,null,null,null,null,null,null,null,null,null,null,null,null,null,null,null,null,null,null,null,null,null,null,null,null,null,null,null,null,null,null,null,292,"BE1"]
[null,null,null,null,null,null,null,null,null,null,null,null,null,null,null,null,null,null,null,null,null,null,null,null,null,null,null,null,null,null,null,null,null,null,null,null,null,null,null,null,null,null,null,null,null,null,null,null,null,null,null,null,null,null,null,null,null,null,null,null,null,null,null,null,null,null,null,null,null,null,null,null,null,null,null,null,null,null,null,null,null,null,null,null,null,null,null,null,null,null,null,null,null,null,null,null,null,null,null,null,null,null,null,null,null,null,null,null,null,null,null,null,null,null,null,null,null,null,null,null,null,null,null,null,null,null,null,null,null,null,null,null,null,null,null,null,null,null,null,null,null,null,null,null,null,null,null,null,null,null,null,null,null,null,null,null,null,null,null,null,null,null,null,null,null,null,null,null,null,null,null,null,null,null,null,null,null,null,null,null,null,null,null,null,null,null,null,null,null,null,null,null,null,null,null,null,null,null,null,null,null,null,null,null,null,null,null,null,null,null,null,null,null,null,null,null,null,null,null,null,null,null,null,null,null,null,null,null,null,null,null,null,null,null,null,null,null,null,null,null,null,null,null,null,null,null,null,null,null,null,null,null,null,null,null,null,null,null,null,null,null,null,null,null,null,null,null,null,null,null,null,null,null,null,null,null,null,null,null,null,null,null,null,null,null,null,null,null,null,null,null,null,null,null,null,null,null,null,null,null,null,null,null,null,null,null,null,null,null,null,null,null,null,null,null,null,null,null,null,null,null,null,null,null,null,null,null,null,null,null,null,null,null,298,"BE7"]
[null,null,null,null,null,null,null,null,null,null,null,null,null,null,null,null,null,null,null,null,null,null,null,null,null,null,null,null,null,null,null,null,null,null,null,null,null,null,null,null,null,null,null,null,null,null,null,null,null,null,null,null,null,null,null,null,null,null,null,null,null,null,null,null,null,null,null,null,null,null,null,null,null,null,null,null,null,null,null,null,null,null,null,null,null,null,null,null,null,null,null,null,null,null,null,null,null,null,null,null,null,null,null,null,null,null,null,null,null,null,null,null,null,null,null,null,null,null,null,null,null,null,null,null,null,null,null,null,null,null,null,null,null,null,null,null,null,null,null,null,null,null,null,null,null,null,null,null,null,null,null,null,null,null,null,null,null,null,null,null,null,null,null,null,null,null,null,null,null,null,null,null,null,null,null,null,null,null,null,null,null,null,null,null,null,null,null,null,null,null,null,null,null,null,null,null,null,null,null,null,null,null,null,null,null,null,null,null,null,null,null,null,null,null,null,null,null,null,null,null,null,null,null,null,null,null,null,null,null,null,null,null,null,null,null,null,null,null,null,null,null,null,null,null,null,null,null,null,null,null,null,null,null,null,null,null,null,null,null,null,null,null,null,null,null,null,null,null,null,null,null,null,null,null,null,null,null,null,null,null,null,null,null,null,null,null,null,null,null,null,null,null,null,null,null,null,null,null,null,null,null,null,null,null,null,null,null,null,null,null,null,null,null,null,null,null,null,null,null,null,null,null,null,null,null,null,null,null,null,null,null,null,null,300,"BE9"]
[null,null,null,null,null,null,null,null,null,null,null,null,null,null,null,null,null,null,null,null,null,null,null,null,null,null,null,null,null,null,null,null,null,null,null,null,null,null,null,null,null,null,null,null,null,null,null,null,null,null,null,null,null,null,null,null,null,null,null,null,null,null,null,null,null,null,null,null,null,null,null,null,null,null,null,null,null,null,null,null,null,null,null,null,null,null,null,null,null,null,null,null,null,null,null,null,null,null,null,null,null,null,null,null,null,null,null,null,null,null,null,null,null,null,null,null,null,null,null,null,null,null,null,null,null,null,null,null,null,null,null,null,null,null,null,null,null,null,null,null,null,null,null,null,null,null,null,null,null,null,null,null,null,null,null,null,null,null,null,null,null,null,null,null,null,null,null,null,null,null,null,null,null,null,null,null,null,null,null,null,null,null,null,null,null,null,null,null,null,null,null,null,null,null,null,null,null,null,null,null,null,null,null,null,null,null,null,null,null,null,null,null,null,null,null,null,null,null,null,null,null,null,null,null,null,null,null,null,null,null,null,null,null,null,null,null,null,null,null,null,null,null,null,null,null,null,null,null,null,null,null,null,null,null,null,null,null,null,null,null,null,null,null,null,null,null,null,null,null,null,null,null,null,null,null,null,null,null,null,null,null,null,null,null,null,null,null,null,null,null,null,null,null,null,null,null,null,null,null,null,null,null,null,null,null,null,null,null,null,null,null,null,null,null,null,null,null,null,null,null,null,null,null,null,null,null,null,null,null,null,null,null,null,312,"BG1"]
[null,null,null,null,null,null,null,null,null,null,null,null,null,null,null,null,null,null,null,null,null,null,null,null,null,null,null,null,null,null,null,null,null,null,null,null,null,null,null,null,null,null,null,null,null,null,null,null,null,null,null,null,null,null,null,null,null,null,null,null,null,null,null,null,null,null,null,null,null,null,null,null,null,null,null,null,null,null,null,null,null,null,null,null,null,null,null,null,null,null,null,null,null,null,null,null,null,null,null,null,null,null,null,null,null,null,null,null,null,null,null,null,null,null,null,null,null,null,null,null,null,null,null,null,null,null,null,null,null,null,null,null,null,null,null,null,null,null,null,null,null,null,null,null,null,null,null,null,null,null,null,null,null,null,null,null,null,null,null,null,null,null,null,null,null,null,null,null,null,null,null,null,null,null,null,null,null,null,null,null,null,null,null,null,null,null,null,null,null,null,null,null,null,null,null,null,null,null,null,null,null,null,null,null,null,null,null,null,null,null,null,null,null,null,null,null,null,null,null,null,null,null,null,null,null,null,null,null,null,null,null,null,null,null,null,null,null,null,null,null,null,null,null,null,null,null,null,null,null,null,null,null,null,null,null,null,null,null,null,null,null,null,null,null,null,null,null,null,null,null,null,null,null,null,null,null,null,null,null,null,null,null,null,null,null,null,null,null,null,null,null,null,null,null,null,null,null,null,null,null,null,null,null,null,null,null,null,null,null,null,null,null,null,null,null,null,null,null,null,null,null,null,null,null,null,null,null,null,null,null,null,null,null,320,"BG9"]
[null,null,null,null,null,null,null,null,null,null,null,null,null,null,null,null,null,null,null,null,null,null,null,null,null,null,null,null,null,null,null,null,null,null,null,null,null,null,null,null,null,null,null,null,null,null,null,null,null,null,null,null,null,null,null,null,null,null,null,null,null,null,null,null,null,null,null,null,null,null,null,null,null,null,null,null,null,null,null,null,null,null,null,null,null,null,null,null,null,null,null,null,null,null,null,null,null,null,null,null,null,null,null,null,null,null,null,null,null,null,null,null,null,null,null,null,null,null,null,null,null,null,null,null,null,null,null,null,null,null,null,null,null,null,null,null,null,null,null,null,null,null,null,null,null,null,null,null,null,null,null,null,null,null,null,null,null,null,null,null,null,null,null,null,null,null,null,null,null,null,null,null,null,null,null,null,null,null,null,null,null,null,null,null,null,null,null,null,null,null,null,null,null,null,null,null,null,null,null,null,null,null,null,null,null,null,null,null,null,null,null,null,null,null,null,null,null,null,null,null,null,null,null,null,null,null,null,null,null,null,null,null,null,null,null,null,null,null,null,null,null,null,null,null,null,null,null,null,null,null,null,null,null,null,null,null,null,null,null,null,null,null,null,null,null,null,null,null,null,null,null,null,null,null,null,null,null,null,null,null,null,null,null,null,null,null,null,null,null,null,null,null,null,null,null,null,null,null,null,null,null,null,null,null,null,null,null,null,null,null,null,null,null,null,null,null,null,null,null,null,null,null,null,null,null,null,null,null,null,null,null,null,null,321,"BH0"]
[null,null,null,null,null,null,null,null,null,null,null,null,null,null,null,null,null,null,null,null,null,null,null,null,null,null,null,null,null,null,null,null,null,null,null,null,null,null,null,null,null,null,null,null,null,null,null,null,null,null,null,null,null,null,null,null,null,null,null,null,null,null,null,null,null,null,null,null,null,null,null,null,null,null,null,null,null,null,null,null,null,null,null,null,null,null,null,null,null,null,null,null,null,null,null,null,null,null,null,null,null,null,null,null,null,null,null,null,null,null,null,null,null,null,null,null,null,null,null,null,null,null,null,null,null,null,null,null,null,null,null,null,null,null,null,null,null,null,null,null,null,null,null,null,null,null,null,null,null,null,null,null,null,null,null,null,null,null,null,null,null,null,null,null,null,null,null,null,null,null,null,null,null,null,null,null,null,null,null,null,null,null,null,null,null,null,null,null,null,null,null,null,null,null,null,null,null,null,null,null,null,null,null,null,null,null,null,null,null,null,null,null,null,null,null,null,null,null,null,null,null,null,null,null,null,null,null,null,null,null,null,null,null,null,null,null,null,null,null,null,null,null,null,null,null,null,null,null,null,null,null,null,null,null,null,null,null,null,null,null,null,null,null,null,null,null,null,null,null,null,null,null,null,null,null,null,null,null,null,null,null,null,null,null,null,null,null,null,null,null,null,null,null,null,null,null,null,null,null,null,null,null,null,null,null,null,null,null,null,null,null,null,null,null,null,null,null,null,null,null,null,null,null,null,null,null,null,null,null,null,null,null,null,332,"BI1"]
[null,null,null,null,null,null,null,null,null,null,null,null,null,null,null,null,null,null,null,null,null,null,null,null,null,null,null,null,null,null,null,null,null,null,null,null,null,null,null,null,null,null,null,null,null,null,null,null,null,null,null,null,null,null,null,null,null,null,null,null,null,null,null,null,null,null,null,null,null,null,null,null,null,null,null,null,null,null,null,null,null,null,null,null,null,null,null,null,null,null,null,null,null,null,null,null,null,null,null,null,null,null,null,null,null,null,null,null,null,null,null,null,null,null,null,null,null,null,null,null,null,null,null,null,null,null,null,null,null,null,null,null,null,null,null,null,null,null,null,null,null,null,null,null,null,null,null,null,null,null,null,null,null,null,null,null,null,null,null,null,null,null,null,null,null,null,null,null,null,null,null,null,null,null,null,null,null,null,null,null,null,null,null,null,null,null,null,null,null,null,null,null,null,null,null,null,null,null,null,null,null,null,null,null,null,null,null,null,null,null,null,null,null,null,null,null,null,null,null,null,null,null,null,null,null,null,null,null,null,null,null,null,null,null,null,null,null,null,null,null,null,null,null,null,null,null,null,null,null,null,null,null,null,null,null,null,null,null,null,null,null,null,null,null,null,null,null,null,null,null,null,null,null,null,null,null,null,null,null,null,null,null,null,null,null,null,null,null,null,null,null,null,null,null,null,null,null,null,null,null,null,null,null,null,null,null,null,null,null,null,null,null,null,null,null,null,null,null,null,null,null,null,null,null,null,null,null,null,null,null,null,null,null,340,"BI9"]
[null,null,null,null,null,"M02","Menyumbang idea innovasi yang mendatangkan faedah kepada organisasi secara signifikan",12,null,"D02","Terbukti bersikap kasar atau biadap terhadap klien tanpa alasan munasabah",-12,null,null,null,null,"Adakah anggota ini menunjukkan kepatuhan yang baik terhadap proses dan prosidur kerja yang ada?",null,null,null,null,null,null,null,null,null,null,null,null,null,null,null,null,null,null,null,null,null,null,null,null,null,null,null,null,null,null,null,null,null,null,null,null,null,null,null,null,null,null,null,null,null,null,null,null,null,null,null,null,null,null,null,null,null,null,null,null,null,null,null,null,null,null,null,null,null,null,null,null,null,null,null,null,null,null,null,null,null,null,null,null,null,null,null,null,null,null,null,null,null,null,null,null,null,null,null,null,null,null,null,null,null,null,null,null,null,null,null,null,null,null,null,null,null,null,null,null,null,null,null,null,null,null,null,null,null,null,null,null,null,null,null,null,null,null,null,null,null,null,null,null,null,null,null,null,null,null,null,null,null,null,null,null,null,null,null,null,null,null,null,null,null,null,null,null,null,null,null,null,null,null,null,null,null,null,null,null,null,null,null,null,null,null,null,null,null,null,null,null,null,null,null,null,null,null,null,null,null,null,null,null,null,null,null,null,null,null,null,null,null,null,null,null,null,null,null,null,null,null,null,null,null,null,null,null,null,null,null,null,null,null,null,null,null,null,null,null,null,null,null,null,null,null,null,null,null,null,null,null,null,null,null,null,null,null,null,null,null,null,null,null,null,null,null,null,null,null,null,null,null,null,null,null,null,null,null,null,null,null,null,null,null,null,null,null,null,null,null,null,null,null,null,null,null,null,null,null,null,null,null,null,null,null,null,null,null,null,null,null,null,null,null,null,345,"BJ4"]
[null,null,null,null,null,"M09","Menyumbang idea innovasi yang mendatangkan faedah kepada organisasi",2,null,"D09","Gagal memenuhi komitmen yang dijanjikan tanpa notis dan tanpa alasan munasabah",-2,null,null,null,null,null,null,null,null,null,null,null,null,null,null,null,null,null,null,null,null,null,null,null,null,null,null,null,null,null,null,null,null,null,null,null,null,null,null,null,null,null,null,null,null,null,null,null,null,null,null,null,null,null,null,null,null,null,null,null,null,null,null,null,null,null,null,null,null,null,null,null,null,null,null,null,null,null,null,null,null,null,null,null,null,null,null,null,null,null,null,null,null,null,null,null,null,null,null,null,null,null,null,null,null,null,null,null,null,null,null,null,null,null,null,null,null,null,null,null,null,null,null,null,null,null,null,null,null,null,null,null,null,null,null,null,null,null,null,null,null,null,null,null,null,null,null,null,null,null,null,null,null,null,null,null,null,null,null,null,null,null,null,null,null,null,null,null,null,null,null,null,null,null,null,null,null,null,null,null,null,null,null,null,null,null,null,null,null,null,null,null,null,null,null,null,null,null,null,null,null,null,null,null,null,null,null,null,null,null,null,null,null,null,null,null,null,null,null,null,null,null,null,null,null,null,null,null,null,null,null,null,null,null,null,null,null,null,null,null,null,null,null,null,null,null,null,null,null,null,null,null,null,null,null,null,null,null,null,null,null,null,null,null,null,null,null,null,null,null,null,null,null,null,null,null,null,null,null,null,null,null,null,null,null,null,null,null,null,null,null,null,null,null,null,null,null,null,null,null,null,null,null,null,null,null,null,null,null,null,null,null,null,null,null,null,null,null,null,null,null,null,352,"BK1"]
[null,null,null,null,null,"M17",null,null,null,"D17",null,null,null,null,null,null,"Total Grp",null,null,null,null,null,null,null,null,null,null,null,null,null,null,null,null,null,null,null,null,null,null,null,null,null,null,null,null,null,null,null,null,null,null,null,null,null,null,null,null,null,null,null,null,null,null,null,null,null,null,null,null,null,null,null,null,null,null,null,null,null,null,null,null,null,null,null,null,null,null,null,null,null,null,null,null,null,null,null,null,null,null,null,null,null,null,null,null,null,null,null,null,null,null,null,null,null,null,null,null,null,null,null,null,null,null,null,null,null,null,null,null,null,null,null,null,null,null,null,null,null,null,null,null,null,null,null,null,null,null,null,null,null,null,null,null,null,null,null,null,null,null,null,null,null,null,null,null,null,null,null,null,null,null,null,null,null,null,null,null,null,null,null,null,null,null,null,null,null,null,null,null,null,null,null,null,null,null,null,null,null,null,null,null,null,null,null,null,null,null,null,null,null,null,null,null,null,null,null,null,null,null,null,null,null,null,null,null,null,null,null,null,null,null,null,null,null,null,null,null,null,null,null,null,null,null,null,null,null,null,null,null,null,null,null,null,null,null,null,null,null,null,null,null,null,null,null,null,null,null,null,null,null,null,null,null,null,null,null,null,null,null,null,null,null,null,null,null,null,null,null,null,null,null,null,null,null,null,null,null,null,null,null,null,null,null,null,null,null,null,null,null,null,null,null,null,null,null,null,null,null,null,null,null,null,null,null,null,null,null,null,null,null,null,null,null,360,"BK9"]
[null,null,null,null,null,"M22",null,null,null,"D22",null,null,null,null,null,null,"Adakah anggota ini menunjukkan kesanggupan bertanggungjawab terhadap kesilapan yang berlaku dalam pengawasannya?",null,null,null,null,null,null,null,null,null,null,null,null,null,null,null,null,null,null,null,null,null,null,null,null,null,null,null,null,null,null,null,null,null,null,null,null,null,null,null,null,null,null,null,null,null,null,null,null,null,null,null,null,null,null,null,null,null,null,null,null,null,null,null,null,null,null,null,null,null,null,null,null,null,null,null,null,null,null,null,null,null,null,null,null,null,null,null,null,null,null,null,null,null,null,null,null,null,null,null,null,null,null,null,null,null,null,null,null,null,null,null,null,null,null,null,null,null,null,null,null,null,null,null,null,null,null,null,null,null,null,null,null,null,null,null,null,null,null,null,null,null,null,null,null,null,null,null,null,null,null,null,null,null,null,null,null,null,null,null,null,null,null,null,null,null,null,null,null,null,null,null,null,null,null,null,null,null,null,null,null,null,null,null,null,null,null,null,null,null,null,null,null,null,null,null,null,null,null,null,null,null,null,null,null,null,null,null,null,null,null,null,null,null,null,null,null,null,null,null,null,null,null,null,null,null,null,null,null,null,null,null,null,null,null,null,null,null,null,null,null,null,null,null,null,null,null,null,null,null,null,null,null,null,null,null,null,null,null,null,null,null,null,null,null,null,null,null,null,null,null,null,null,null,null,null,null,null,null,null,null,null,null,null,null,null,null,null,null,null,null,null,null,null,null,null,null,null,null,null,null,null,null,null,null,null,null,null,null,null,null,null,null,null,null,null,null,365,"BL4"]
[null,null,null,null,null,"M30",null,null,null,"D30",null,null,null,null,null,null,"Apakah anggota ini menunjukkan pengetahuan yang mendalam dalam bidang kerjanya?",null,null,null,null,null,null,null,null,null,null,null,null,null,null,null,null,null,null,null,null,null,null,null,null,null,null,null,null,null,null,null,null,null,null,null,null,null,null,null,null,null,null,null,null,null,null,null,null,null,null,null,null,null,null,null,null,null,null,null,null,null,null,null,null,null,null,null,null,null,null,null,null,null,null,null,null,null,null,null,null,null,null,null,null,null,null,null,null,null,null,null,null,null,null,null,null,null,null,null,null,null,null,null,null,null,null,null,null,null,null,null,null,null,null,null,null,null,null,null,null,null,null,null,null,null,null,null,null,null,null,null,null,null,null,null,null,null,null,null,null,null,null,null,null,null,null,null,null,null,null,null,null,null,null,null,null,null,null,null,null,null,null,null,null,null,null,null,null,null,null,null,null,null,null,null,null,null,null,null,null,null,null,null,null,null,null,null,null,null,null,null,null,null,null,null,null,null,null,null,null,null,null,null,null,null,null,null,null,null,null,null,null,null,null,null,null,null,null,null,null,null,null,null,null,null,null,null,null,null,null,null,null,null,null,null,null,null,null,null,null,null,null,null,null,null,null,null,null,null,null,null,null,null,null,null,null,null,null,null,null,null,null,null,null,null,null,null,null,null,null,null,null,null,null,null,null,null,null,null,null,null,null,null,null,null,null,null,null,null,null,null,null,null,null,null,null,null,null,null,null,null,null,null,null,null,null,null,null,null,null,null,null,null,null,null,null,373,"BM2"]
[null,null,null,null,null,null,null,null,null,null,null,null,null,null,null,null,"",null,null,null,null,null,null,null,null,null,null,null,null,null,null,null,null,null,null,null,null,null,null,null,null,null,null,null,null,null,null,null,null,null,null,null,null,null,null,null,null,null,null,null,null,null,null,null,null,null,null,null,null,null,null,null,null,null,null,null,null,null,null,null,null,null,null,null,null,null,null,null,null,null,null,null,null,null,null,null,null,null,null,null,null,null,null,null,null,null,null,null,null,null,null,null,null,null,null,null,null,null,null,null,null,null,null,null,null,null,null,null,null,null,null,null,null,null,null,null,null,null,null,null,null,null,null,null,null,null,null,null,null,null,null,null,null,null,null,null,null,null,null,null,null,null,null,null,null,null,null,null,null,null,null,null,null,null,null,null,null,null,null,null,null,null,null,null,null,null,null,null,null,null,null,null,null,null,null,null,null,null,null,null,null,null,null,null,null,null,null,null,null,null,null,null,null,null,null,null,null,null,null,null,null,null,null,null,null,null,null,null,null,null,null,null,null,null,null,null,null,null,null,null,null,null,null,null,null,null,null,null,null,null,null,null,null,null,null,null,null,null,null,null,null,null,null,null,null,null,null,null,null,null,null,null,null,null,null,null,null,null,null,null,null,null,null,null,null,null,null,null,null,null,null,null,null,null,null,null,null,null,null,null,null,null,null,null,null,null,null,null,null,null,null,null,null,null,null,null,null,null,null,null,null,null,null,null,null,null,null,null,null,null,null,null,null,375,"BM4"]
[null,null,null,null,null,null,null,null,null,null,null,null,null,null,null,null,"",null,null,null,null,null,null,null,null,null,null,null,null,null,null,null,null,null,null,null,null,null,null,null,null,null,null,null,null,null,null,null,null,null,null,null,null,null,null,null,null,null,null,null,null,null,null,null,null,null,null,null,null,null,null,null,null,null,null,null,null,null,null,null,null,null,null,null,null,null,null,null,null,null,null,null,null,null,null,null,null,null,null,null,null,null,null,null,null,null,null,null,null,null,null,null,null,null,null,null,null,null,null,null,null,null,null,null,null,null,null,null,null,null,null,null,null,null,null,null,null,null,null,null,null,null,null,null,null,null,null,null,null,null,null,null,null,null,null,null,null,null,null,null,null,null,null,null,null,null,null,null,null,null,null,null,null,null,null,null,null,null,null,null,null,null,null,null,null,null,null,null,null,null,null,null,null,null,null,null,null,null,null,null,null,null,null,null,null,null,null,null,null,null,null,null,null,null,null,null,null,null,null,null,null,null,null,null,null,null,null,null,null,null,null,null,null,null,null,null,null,null,null,null,null,null,null,null,null,null,null,null,null,null,null,null,null,null,null,null,null,null,null,null,null,null,null,null,null,null,null,null,null,null,null,null,null,null,null,null,null,null,null,null,null,null,null,null,null,null,null,null,null,null,null,null,null,null,null,null,null,null,null,null,null,null,null,null,null,null,null,null,null,null,null,null,null,null,null,null,null,null,null,null,null,null,null,null,null,null,null,null,null,null,null,null,null,385,"BN4"]
[null,null,null,null,null,null,null,null,null,null,null,null,null,null,null,null,"",null,null,null,null,null,null,null,null,null,null,null,null,null,null,null,null,null,null,null,null,null,null,null,null,null,null,null,null,null,null,null,null,null,null,null,null,null,null,null,null,null,null,null,null,null,null,null,null,null,null,null,null,null,null,null,null,null,null,null,null,null,null,null,null,null,null,null,null,null,null,null,null,null,null,null,null,null,null,null,null,null,null,null,null,null,null,null,null,null,null,null,null,null,null,null,null,null,null,null,null,null,null,null,null,null,null,null,null,null,null,null,null,null,null,null,null,null,null,null,null,null,null,null,null,null,null,null,null,null,null,null,null,null,null,null,null,null,null,null,null,null,null,null,null,null,null,null,null,null,null,null,null,null,null,null,null,null,null,null,null,null,null,null,null,null,null,null,null,null,null,null,null,null,null,null,null,null,null,null,null,null,null,null,null,null,null,null,null,null,null,null,null,null,null,null,null,null,null,null,null,null,null,null,null,null,null,null,null,null,null,null,null,null,null,null,null,null,null,null,null,null,null,null,null,null,null,null,null,null,null,null,null,null,null,null,null,null,null,null,null,null,null,null,null,null,null,null,null,null,null,null,null,null,null,null,null,null,null,null,null,null,null,null,null,null,null,null,null,null,null,null,null,null,null,null,null,null,null,null,null,null,null,null,null,null,null,null,null,null,null,null,null,null,null,null,null,null,null,null,null,null,null,null,null,null,null,null,null,null,null,null,null,null,null,null,null,393,"BO2"]
[null,null,null,null,null,null,null,null,null,null,null,null,null,null,null,null,"",null,null,null,null,null,null,null,null,null,null,null,null,null,null,null,null,null,null,null,null,null,null,null,null,null,null,null,null,null,null,null,null,null,null,null,null,null,null,null,null,null,null,null,null,null,null,null,null,null,null,null,null,null,null,null,null,null,null,null,null,null,null,null,null,null,null,null,null,null,null,null,null,null,null,null,null,null,null,null,null,null,null,null,null,null,null,null,null,null,null,null,null,null,null,null,null,null,null,null,null,null,null,null,null,null,null,null,null,null,null,null,null,null,null,null,null,null,null,null,null,null,null,null,null,null,null,null,null,null,null,null,null,null,null,null,null,null,null,null,null,null,null,null,null,null,null,null,null,null,null,null,null,null,null,null,null,null,null,null,null,null,null,null,null,null,null,null,null,null,null,null,null,null,null,null,null,null,null,null,null,null,null,null,null,null,null,null,null,null,null,null,null,null,null,null,null,null,null,null,null,null,null,null,null,null,null,null,null,null,null,null,null,null,null,null,null,null,null,null,null,null,null,null,null,null,null,null,null,null,null,null,null,null,null,null,null,null,null,null,null,null,null,null,null,null,null,null,null,null,null,null,null,null,null,null,null,null,null,null,null,null,null,null,null,null,null,null,null,null,null,null,null,null,null,null,null,null,null,null,null,null,null,null,null,null,null,null,null,null,null,null,null,null,null,null,null,null,null,null,null,null,null,null,null,null,null,null,null,null,null,null,null,null,null,null,null,398,"BO7"]
[null,null,null,null,null,null,null,null,null,null,null,null,null,null,null,null,null,null,null,null,null,null,null,null,null,null,null,null,null,null,null,null,null,null,null,null,null,null,null,null,null,null,null,null,null,null,null,null,null,null,null,null,null,null,null,null,null,null,null,null,null,null,null,null,null,null,null,null,null,null,null,null,null,null,null,null,null,null,null,null,null,null,null,null,null,null,null,null,null,null,null,null,null,null,null,null,null,null,null,null,null,null,null,null,null,null,null,null,null,null,null,null,null,null,null,null,null,null,null,null,null,null,null,null,null,null,null,null,null,null,null,null,null,null,null,null,null,null,null,null,null,null,null,null,null,null,null,null,null,null,null,null,null,null,null,null,null,null,null,null,null,null,null,null,null,null,null,null,null,null,null,null,null,null,null,null,null,null,null,null,null,null,null,null,null,null,null,null,null,null,null,null,null,null,null,null,null,null,null,null,null,null,null,null,null,null,null,null,null,null,null,null,null,null,null,null,null,null,null,null,null,null,null,null,null,null,null,null,null,null,null,null,null,null,null,null,null,null,null,null,null,null,null,null,null,null,null,null,null,null,null,null,null,null,null,null,null,null,null,null,null,null,null,null,null,null,null,null,null,null,null,null,null,null,null,null,null,null,null,null,null,null,null,null,null,null,null,null,null,null,null,null,null,null,null,null,null,null,null,null,null,null,null,null,null,null,null,null,null,null,null,null,null,null,null,null,null,null,null,null,null,null,null,null,null,null,null,null,null,null,null,null,null,406,"BP5"]
[null,null,null,null,null,null,null,null,null,null,null,null,null,null,null,null,null,null,null,null,null,null,null,null,null,null,null,null,null,null,null,null,null,null,null,null,null,null,null,null,null,null,null,null,null,null,null,null,null,null,null,null,null,null,null,null,null,null,null,null,null,null,null,null,null,null,null,null,null,null,null,null,null,null,null,null,null,null,null,null,null,null,null,null,null,null,null,null,null,null,null,null,null,null,null,null,null,null,null,null,null,null,null,null,null,null,null,null,null,null,null,null,null,null,null,null,null,null,null,null,null,null,null,null,null,null,null,null,null,null,null,null,null,null,null,null,null,null,null,null,null,null,null,null,null,null,null,null,null,null,null,null,null,null,null,null,null,null,null,null,null,null,null,null,null,null,null,null,null,null,null,null,null,null,null,null,null,null,null,null,null,null,null,null,null,null,null,null,null,null,null,null,null,null,null,null,null,null,null,null,null,null,null,null,null,null,null,null,null,null,null,null,null,null,null,null,null,null,null,null,null,null,null,null,null,null,null,null,null,null,null,null,null,null,null,null,null,null,null,null,null,null,null,null,null,null,null,null,null,null,null,null,null,null,null,null,null,null,null,null,null,null,null,null,null,null,null,null,null,null,null,null,null,null,null,null,null,null,null,null,null,null,null,null,null,null,null,null,null,null,null,null,null,null,null,null,null,null,null,null,null,null,null,null,null,null,null,null,null,null,null,null,null,null,null,null,null,null,null,null,null,null,null,null,null,null,null,null,null,null,null,null,null,410,"BP9"]
[null,null,null,null,null,null,null,null,null,null,null,null,null,null,null,null,null,null,null,null,null,null,null,null,null,null,null,null,null,null,null,null,null,null,null,null,null,null,null,null,null,null,null,null,null,null,null,null,null,null,null,null,null,null,null,null,null,null,null,null,null,null,null,null,null,null,null,null,null,null,null,null,null,null,null,null,null,null,null,null,null,null,null,null,null,null,null,null,null,null,null,null,null,null,null,null,null,null,null,null,null,null,null,null,null,null,null,null,null,null,null,null,null,null,null,null,null,null,null,null,null,null,null,null,null,null,null,null,null,null,null,null,null,null,null,null,null,null,null,null,null,null,null,null,null,null,null,null,null,null,null,null,null,null,null,null,null,null,null,null,null,null,null,null,null,null,null,null,null,null,null,null,null,null,null,null,null,null,null,null,null,null,null,null,null,null,null,null,null,null,null,null,null,null,null,null,null,null,null,null,null,null,null,null,null,null,null,null,null,null,null,null,null,null,null,null,null,null,null,null,null,null,null,null,null,null,null,null,null,null,null,null,null,null,null,null,null,null,null,null,null,null,null,null,null,null,null,null,null,null,null,null,null,null,null,null,null,null,null,null,null,null,null,null,null,null,null,null,null,null,null,null,null,null,null,null,null,null,null,null,null,null,null,null,null,null,null,null,null,null,null,null,null,null,null,null,null,null,null,null,null,null,null,null,null,null,null,null,null,null,null,null,null,null,null,null,null,null,null,null,null,null,null,null,null,null,null,null,null,null,null,null,null,418,"BQ7"]
[null,null,null,null,null,null,null,null,null,null,null,null,null,null,null,null,null,null,null,null,null,null,null,null,null,null,null,null,null,null,null,null,null,null,null,null,null,null,null,null,null,null,null,null,null,null,null,null,null,null,null,null,null,null,null,null,null,null,null,null,null,null,null,null,null,null,null,null,null,null,null,null,null,null,null,null,null,null,null,null,null,null,null,null,null,null,null,null,null,null,null,null,null,null,null,null,null,null,null,null,null,null,null,null,null,null,null,null,null,null,null,null,null,null,null,null,null,null,null,null,null,null,null,null,null,null,null,null,null,null,null,null,null,null,null,null,null,null,null,null,null,null,null,null,null,null,null,null,null,null,null,null,null,null,null,null,null,null,null,null,null,null,null,null,null,null,null,null,null,null,null,null,null,null,null,null,null,null,null,null,null,null,null,null,null,null,null,null,null,null,null,null,null,null,null,null,null,null,null,null,null,null,null,null,null,null,null,null,null,null,null,null,null,null,null,null,null,null,null,null,null,null,null,null,null,null,null,null,null,null,null,null,null,null,null,null,null,null,null,null,null,null,null,null,null,null,null,null,null,null,null,null,null,null,null,null,null,null,null,null,null,null,null,null,null,null,null,null,null,null,null,null,null,null,null,null,null,null,null,null,null,null,null,null,null,null,null,null,null,null,null,null,null,null,null,null,null,null,null,null,null,null,null,null,null,null,null,null,null,null,null,null,null,null,null,null,null,null,null,null,null,null,null,null,null,null,null,null,null,null,null,null,null,426,"BR5"]
[null,null,null,null,null,null,null,null,null,null,null,null,null,null,null,null,null,null,null,null,null,null,null,null,null,null,null,null,null,null,null,null,null,null,null,null,null,null,null,null,null,null,null,null,null,null,null,null,null,null,null,null,null,null,null,null,null,null,null,null,null,null,null,null,null,null,null,null,null,null,null,null,null,null,null,null,null,null,null,null,null,null,null,null,null,null,null,null,null,null,null,null,null,null,null,null,null,null,null,null,null,null,null,null,null,null,null,null,null,null,null,null,null,null,null,null,null,null,null,null,null,null,null,null,null,null,null,null,null,null,null,null,null,null,null,null,null,null,null,null,null,null,null,null,null,null,null,null,null,null,null,null,null,null,null,null,null,null,null,null,null,null,null,null,null,null,null,null,null,null,null,null,null,null,null,null,null,null,null,null,null,null,null,null,null,null,null,null,null,null,null,null,null,null,null,null,null,null,null,null,null,null,null,null,null,null,null,null,null,null,null,null,null,null,null,null,null,null,null,null,null,null,null,null,null,null,null,null,null,null,null,null,null,null,null,null,null,null,null,null,null,null,null,null,null,null,null,null,null,null,null,null,null,null,null,null,null,null,null,null,null,null,null,null,null,null,null,null,null,null,null,null,null,null,null,null,null,null,null,null,null,null,null,null,null,null,null,null,null,null,null,null,null,null,null,null,null,null,null,null,null,null,null,null,null,null,null,null,null,null,null,null,null,null,null,null,null,null,null,null,null,null,null,null,null,null,null,null,null,null,null,null,null,429,"BR8"]
[null,null,null,null,null,null,null,null,null,null,null,null,null,null,null,null,null,null,null,null,null,null,null,null,null,null,null,null,null,null,null,null,null,null,null,null,null,null,null,null,null,null,null,null,null,null,null,null,null,null,null,null,null,null,null,null,null,null,null,null,null,null,null,null,null,null,null,null,null,null,null,null,null,null,null,null,null,null,null,null,null,null,null,null,null,null,null,null,null,null,null,null,null,null,null,null,null,null,null,null,null,null,null,null,null,null,null,null,null,null,null,null,null,null,null,null,null,null,null,null,null,null,null,null,null,null,null,null,null,null,null,null,null,null,null,null,null,null,null,null,null,null,null,null,null,null,null,null,null,null,null,null,null,null,null,null,null,null,null,null,null,null,null,null,null,null,null,null,null,null,null,null,null,null,null,null,null,null,null,null,null,null,null,null,null,null,null,null,null,null,null,null,null,null,null,null,null,null,null,null,null,null,null,null,null,null,null,null,null,null,null,null,null,null,null,null,null,null,null,null,null,null,null,null,null,null,null,null,null,null,null,null,null,null,null,null,null,null,null,null,null,null,null,null,null,null,null,null,null,null,null,null,null,null,null,null,null,null,null,null,null,null,null,null,null,null,null,null,null,null,null,null,null,null,null,null,null,null,null,null,null,null,null,null,null,null,null,null,null,null,null,null,null,null,null,null,null,null,null,null,null,null,null,null,null,null,null,null,null,null,null,null,null,null,null,null,null,null,null,null,null,null,null,null,null,null,null,null,null,null,null,null,null,438,"BS7"]
[null,null,null,null,null,null,null,null,null,null,null,null,null,null,null,null,null,null,null,null,null,null,null,null,null,null,null,null,null,null,null,null,null,null,null,null,null,null,null,null,null,null,null,null,null,null,null,null,null,null,null,null,null,null,null,null,null,null,null,null,null,null,null,null,null,null,null,null,null,null,null,null,null,null,null,null,null,null,null,null,null,null,null,null,null,null,null,null,null,null,null,null,null,null,null,null,null,null,null,null,null,null,null,null,null,null,null,null,null,null,null,null,null,null,null,null,null,null,null,null,null,null,null,null,null,null,null,null,null,null,null,null,null,null,null,null,null,null,null,null,null,null,null,null,null,null,null,null,null,null,null,null,null,null,null,null,null,null,null,null,null,null,null,null,null,null,null,null,null,null,null,null,null,null,null,null,null,null,null,null,null,null,null,null,null,null,null,null,null,null,null,null,null,null,null,null,null,null,null,null,null,null,null,null,null,null,null,null,null,null,null,null,null,null,null,null,null,null,null,null,null,null,null,null,null,null,null,null,null,null,null,null,null,null,null,null,null,null,null,null,null,null,null,null,null,null,null,null,null,null,null,null,null,null,null,null,null,null,null,null,null,null,null,null,null,null,null,null,null,null,null,null,null,null,null,null,null,null,null,null,null,null,null,null,null,null,null,null,null,null,null,null,null,null,null,null,null,null,null,null,null,null,null,null,null,null,null,null,null,null,null,null,null,null,null,null,null,null,null,null,null,null,null,null,null,null,null,null,null,null,null,null,null,446,"BT5"]
[null,null,null,null,null,null,null,null,null,null,null,null,null,null,null,null,null,null,null,null,null,null,null,null,null,null,null,null,null,null,null,null,null,null,null,null,null,null,null,null,null,null,null,null,null,null,null,null,null,null,null,null,null,null,null,null,null,null,null,null,null,null,null,null,null,null,null,null,null,null,null,null,null,null,null,null,null,null,null,null,null,null,null,null,null,null,null,null,null,null,null,null,null,null,null,null,null,null,null,null,null,null,null,null,null,null,null,null,null,null,null,null,null,null,null,null,null,null,null,null,null,null,null,null,null,null,null,null,null,null,null,null,null,null,null,null,null,null,null,null,null,null,null,null,null,null,null,null,null,null,null,null,null,null,null,null,null,null,null,null,null,null,null,null,null,null,null,null,null,null,null,null,null,null,null,null,null,null,null,null,null,null,null,null,null,null,null,null,null,null,null,null,null,null,null,null,null,null,null,null,null,null,null,null,null,null,null,null,null,null,null,null,null,null,null,null,null,null,null,null,null,null,null,null,null,null,null,null,null,null,null,null,null,null,null,null,null,null,null,null,null,null,null,null,null,null,null,null,null,null,null,null,null,null,null,null,null,null,null,null,null,null,null,null,null,null,null,null,null,null,null,null,null,null,null,null,null,null,null,null,null,null,null,null,null,null,null,null,null,null,null,null,null,null,null,null,null,null,null,null,null,null,null,null,null,null,null,null,null,null,null,null,null,null,null,null,null,null,null,null,null,null,null,null,null,null,null,null,null,null,null,null,null,451,"BU0"]
[null,null,null,null,null,null,null,null,null,null,null,null,null,null,null,null,null,null,null,null,null,null,null,null,null,null,null,null,null,null,null,null,null,null,null,null,null,null,null,null,null,null,null,null,null,null,null,null,null,null,null,null,null,null,null,null,null,null,null,null,null,null,null,null,null,null,null,null,null,null,null,null,null,null,null,null,null,null,null,null,null,null,null,null,null,null,null,null,null,null,null,null,null,null,null,null,null,null,null,null,null,null,null,null,null,null,null,null,null,null,null,null,null,null,null,null,null,null,null,null,null,null,null,null,null,null,null,null,null,null,null,null,null,null,null,null,null,null,null,null,null,null,null,null,null,null,null,null,null,null,null,null,null,null,null,null,null,null,null,null,null,null,null,null,null,null,null,null,null,null,null,null,null,null,null,null,null,null,null,null,null,null,null,null,null,null,null,null,null,null,null,null,null,null,null,null,null,null,null,null,null,null,null,null,null,null,null,null,null,null,null,null,null,null,null,null,null,null,null,null,null,null,null,null,null,null,null,null,null,null,null,null,null,null,null,null,null,null,null,null,null,null,null,null,null,null,null,null,null,null,null,null,null,null,null,null,null,null,null,null,null,null,null,null,null,null,null,null,null,null,null,null,null,null,null,null,null,null,null,null,null,null,null,null,null,null,null,null,null,null,null,null,null,null,null,null,null,null,null,null,null,null,null,null,null,null,null,null,null,null,null,null,null,null,null,null,null,null,null,null,null,null,null,null,null,null,null,null,null,null,null,null,null,459,"BU8"]
[null,null,null,null,null,null,null,null,null,null,null,null,null,null,null,null,null,null,null,null,null,null,null,null,null,null,null,null,null,null,null,null,null,null,null,null,null,null,null,null,null,null,null,null,null,null,null,null,null,null,null,null,null,null,null,null,null,null,null,null,null,null,null,null,null,null,null,null,null,null,null,null,null,null,null,null,null,null,null,null,null,null,null,null,null,null,null,null,null,null,null,null,null,null,null,null,null,null,null,null,null,null,null,null,null,null,null,null,null,null,null,null,null,null,null,null,null,null,null,null,null,null,null,null,null,null,null,null,null,null,null,null,null,null,null,null,null,null,null,null,null,null,null,null,null,null,null,null,null,null,null,null,null,null,null,null,null,null,null,null,null,null,null,null,null,null,null,null,null,null,null,null,null,null,null,null,null,null,null,null,null,null,null,null,null,null,null,null,null,null,null,null,null,null,null,null,null,null,null,null,null,null,null,null,null,null,null,null,null,null,null,null,null,null,null,null,null,null,null,null,null,null,null,null,null,null,null,null,null,null,null,null,null,null,null,null,null,null,null,null,null,null,null,null,null,null,null,null,null,null,null,null,null,null,null,null,null,null,null,null,null,null,null,null,null,null,null,null,null,null,null,null,null,null,null,null,null,null,null,null,null,null,null,null,null,null,null,null,null,null,null,null,null,null,null,null,null,null,null,null,null,null,null,null,null,null,null,null,null,null,null,null,null,null,null,null,null,null,null,null,null,null,null,null,null,null,null,null,null,null,null,null,null,468,"BV7"]
[null,null,null,null,null,null,null,null,null,null,null,null,null,null,null,null,null,null,null,null,null,null,null,null,null,null,null,null,null,null,null,null,null,null,null,null,null,null,null,null,null,null,null,null,null,null,null,null,null,null,null,null,null,null,null,null,null,null,null,null,null,null,null,null,null,null,null,null,null,null,null,null,null,null,null,null,null,null,null,null,null,null,null,null,null,null,null,null,null,null,null,null,null,null,null,null,null,null,null,null,null,null,null,null,null,null,null,null,null,null,null,null,null,null,null,null,null,null,null,null,null,null,null,null,null,null,null,null,null,null,null,null,null,null,null,null,null,null,null,null,null,null,null,null,null,null,null,null,null,null,null,null,null,null,null,null,null,null,null,null,null,null,null,null,null,null,null,null,null,null,null,null,null,null,null,null,null,null,null,null,null,null,null,null,null,null,null,null,null,null,null,null,null,null,null,null,null,null,null,null,null,null,null,null,null,null,null,null,null,null,null,null,null,null,null,null,null,null,null,null,null,null,null,null,null,null,null,null,null,null,null,null,null,null,null,null,null,null,null,null,null,null,null,null,null,null,null,null,null,null,null,null,null,null,null,null,null,null,null,null,null,null,null,null,null,null,null,null,null,null,null,null,null,null,null,null,null,null,null,null,null,null,null,null,null,null,null,null,null,null,null,null,null,null,null,null,null,null,null,null,null,null,null,null,null,null,null,null,null,null,null,null,null,null,null,null,null,null,null,null,null,null,null,null,null,null,null,null,null,null,null,null,null,471,"BW0"]
[null,null,null,null,null,null,null,null,null,null,null,null,null,null,null,null,null,null,null,null,null,null,null,null,null,null,null,null,null,null,null,null,null,null,null,null,null,null,null,null,null,null,null,null,null,null,null,null,null,null,null,null,null,null,null,null,null,null,null,null,null,null,null,null,null,null,null,null,null,null,null,null,null,null,null,null,null,null,null,null,null,null,null,null,null,null,null,null,null,null,null,null,null,null,null,null,null,null,null,null,null,null,null,null,null,null,null,null,null,null,null,null,null,null,null,null,null,null,null,null,null,null,null,null,null,null,null,null,null,null,null,null,null,null,null,null,null,null,null,null,null,null,null,null,null,null,null,null,null,null,null,null,null,null,null,null,null,null,null,null,null,null,null,null,null,null,null,null,null,null,null,null,null,null,null,null,null,null,null,null,null,null,null,null,null,null,null,null,null,null,null,null,null,null,null,null,null,null,null,null,null,null,null,null,null,null,null,null,null,null,null,null,null,null,null,null,null,null,null,null,null,null,null,null,null,null,null,null,null,null,null,null,null,null,null,null,null,null,null,null,null,null,null,null,null,null,null,null,null,null,null,null,null,null,null,null,null,null,null,null,null,null,null,null,null,null,null,null,null,null,null,null,null,null,null,null,null,null,null,null,null,null,null,null,null,null,null,null,null,null,null,null,null,null,null,null,null,null,null,null,null,null,null,null,null,null,null,null,null,null,null,null,null,null,null,null,null,null,null,null,null,null,null,null,null,null,null,null,null,null,null,null,null,479,"BW8"]
[null,null,null,null,null,null,null,null,null,null,null,null,null,null,null,null,null,null,null,null,null,null,null,null,null,null,null,null,null,null,null,null,null,null,null,null,null,null,null,null,null,null,null,null,null,null,null,null,null,null,null,null,null,null,null,null,null,null,null,null,null,null,null,null,null,null,null,null,null,null,null,null,null,null,null,null,null,null,null,null,null,null,null,null,null,null,null,null,null,null,null,null,null,null,null,null,null,null,null,null,null,null,null,null,null,null,null,null,null,null,null,null,null,null,null,null,null,null,null,null,null,null,null,null,null,null,null,null,null,null,null,null,null,null,null,null,null,null,null,null,null,null,null,null,null,null,null,null,null,null,null,null,null,null,null,null,null,null,null,null,null,null,null,null,null,null,null,null,null,null,null,null,null,null,null,null,null,null,null,null,null,null,null,null,null,null,null,null,null,null,null,null,null,null,null,null,null,null,null,null,null,null,null,null,null,null,null,null,null,null,null,null,null,null,null,null,null,null,null,null,null,null,null,null,null,null,null,null,null,null,null,null,null,null,null,null,null,null,null,null,null,null,null,null,null,null,null,null,null,null,null,null,null,null,null,null,null,null,null,null,null,null,null,null,null,null,null,null,null,null,null,null,null,null,null,null,null,null,null,null,null,null,null,null,null,null,null,null,null,null,null,null,null,null,null,null,null,null,null,null,null,null,null,null,null,null,null,null,null,null,null,null,null,null,null,null,null,null,null,null,null,null,null,null,null,null,null,null,null,null,null,null,null,484,"BX3"]
[null,null,null,null,null,null,null,null,null,null,null,null,null,null,null,null,null,null,null,null,null,null,null,null,null,null,null,null,null,null,null,null,null,null,null,null,null,null,null,null,null,null,null,null,null,null,null,null,null,null,null,null,null,null,null,null,null,null,null,null,null,null,null,null,null,null,null,null,null,null,null,null,null,null,null,null,null,null,null,null,null,null,null,null,null,null,null,null,null,null,null,null,null,null,null,null,null,null,null,null,null,null,null,null,null,null,null,null,null,null,null,null,null,null,null,null,null,null,null,null,null,null,null,null,null,null,null,null,null,null,null,null,null,null,null,null,null,null,null,null,null,null,null,null,null,null,null,null,null,null,null,null,null,null,null,null,null,null,null,null,null,null,null,null,null,null,null,null,null,null,null,null,null,null,null,null,null,null,null,null,null,null,null,null,null,null,null,null,null,null,null,null,null,null,null,null,null,null,null,null,null,null,null,null,null,null,null,null,null,null,null,null,null,null,null,null,null,null,null,null,null,null,null,null,null,null,null,null,null,null,null,null,null,null,null,null,null,null,null,null,null,null,null,null,null,null,null,null,null,null,null,null,null,null,null,null,null,null,null,null,null,null,null,null,null,null,null,null,null,null,null,null,null,null,null,null,null,null,null,null,null,null,null,null,null,null,null,null,null,null,null,null,null,null,null,null,null,null,null,null,null,null,null,null,null,null,null,null,null,null,null,null,null,null,null,null,null,null,null,null,null,null,null,null,null,null,null,null,null,null,null,null,null,493,"BY2"]
[null,null,null,null,null,null,null,null,null,null,null,null,null,null,null,null,null,null,null,null,null,null,null,null,null,null,null,null,null,null,null,null,null,null,null,null,null,null,null,null,null,null,null,null,null,null,null,null,null,null,null,null,null,null,null,null,null,null,null,null,null,null,null,null,null,null,null,null,null,null,null,null,null,null,null,null,null,null,null,null,null,null,null,null,null,null,null,null,null,null,null,null,null,null,null,null,null,null,null,null,null,null,null,null,null,null,null,null,null,null,null,null,null,null,null,null,null,null,null,null,null,null,null,null,null,null,null,null,null,null,null,null,null,null,null,null,null,null,null,null,null,null,null,null,null,null,null,null,null,null,null,null,null,null,null,null,null,null,null,null,null,null,null,null,null,null,null,null,null,null,null,null,null,null,null,null,null,null,null,null,null,null,null,null,null,null,null,null,null,null,null,null,null,null,null,null,null,null,null,null,null,null,null,null,null,null,null,null,null,null,null,null,null,null,null,null,null,null,null,null,null,null,null,null,null,null,null,null,null,null,null,null,null,null,null,null,null,null,null,null,null,null,null,null,null,null,null,null,null,null,null,null,null,null,null,null,null,null,null,null,null,null,null,null,null,null,null,null,null,null,null,null,null,null,null,null,null,null,null,null,null,null,null,null,null,null,null,null,null,null,null,null,null,null,null,null,null,null,null,null,null,null,null,null,null,null,null,null,null,null,null,null,null,null,null,null,null,null,null,null,null,null,null,null,null,null,null,null,null,null,null,null,null,496,"BY5"]
[null,null,null,null,null,null,null,null,null,null,null,null,null,null,null,null,null,null,null,null,null,null,null,null,null,null,null,null,null,null,null,null,null,null,null,null,null,null,null,null,null,null,null,null,null,null,null,null,null,null,null,null,null,null,null,null,null,null,null,null,null,null,null,null,null,null,null,null,null,null,null,null,null,null,null,null,null,null,null,null,null,null,null,null,null,null,null,null,null,null,null,null,null,null,null,null,null,null,null,null,null,null,null,null,null,null,null,null,null,null,null,null,null,null,null,null,null,null,null,null,null,null,null,null,null,null,null,null,null,null,null,null,null,null,null,null,null,null,null,null,null,null,null,null,null,null,null,null,null,null,null,null,null,null,null,null,null,null,null,null,null,null,null,null,null,null,null,null,null,null,null,null,null,null,null,null,null,null,null,null,null,null,null,null,null,null,null,null,null,null,null,null,null,null,null,null,null,null,null,null,null,null,null,null,null,null,null,null,null,null,null,null,null,null,null,null,null,null,null,null,null,null,null,null,null,null,null,null,null,null,null,null,null,null,null,null,null,null,null,null,null,null,null,null,null,null,null,null,null,null,null,null,null,null,null,null,null,null,null,null,null,null,null,null,null,null,null,null,null,null,null,null,null,null,null,null,null,null,null,null,null,null,null,null,null,null,null,null,null,null,null,null,null,null,null,null,null,null,null,null,null,null,null,null,null,null,null,null,null,null,null,null,null,null,null,null,null,null,null,null,null,null,null,null,null,null,null,null,null,null,null,null,null,504,"CA3"]
[null,null,null,null,null,null,null,null,null,null,null,null,null,null,null,null,null,null,null,null,null,null,null,null,null,null,null,null,null,null,null,null,null,null,null,null,null,null,null,null,null,null,null,null,null,null,null,null,null,null,null,null,null,null,null,null,null,null,null,null,null,null,null,null,null,null,null,null,null,null,null,null,null,null,null,null,null,null,null,null,null,null,null,null,null,null,null,null,null,null,null,null,null,null,null,null,null,null,null,null,null,null,null,null,null,null,null,null,null,null,null,null,null,null,null,null,null,null,null,null,null,null,null,null,null,null,null,null,null,null,null,null,null,null,null,null,null,null,null,null,null,null,null,null,null,null,null,null,null,null,null,null,null,null,null,null,null,null,null,null,null,null,null,null,null,null,null,null,null,null,null,null,null,null,null,null,null,null,null,null,null,null,null,null,null,null,null,null,null,null,null,null,null,null,null,null,null,null,null,null,null,null,null,null,null,null,null,null,null,null,null,null,null,null,null,null,null,null,null,null,null,null,null,null,null,null,null,null,null,null,null,null,null,null,null,null,null,null,null,null,null,null,null,null,null,null,null,null,null,null,null,null,null,null,null,null,null,null,null,null,null,null,null,null,null,null,null,null,null,null,null,null,null,null,null,null,null,null,null,null,null,null,null,null,null,null,null,null,null,null,null,null,null,null,null,null,null,null,null,null,null,null,null,null,null,null,null,null,null,null,null,null,null,null,null,null,null,null,null,null,null,null,null,null,null,null,null,null,null,null,null,null,null,512,"CB1"]
[null,null,null,null,null,null,null,null,null,null,null,null,null,null,null,null,null,null,null,null,null,null,null,null,null,null,null,null,null,null,null,null,null,null,null,null,null,null,null,null,null,null,null,null,null,null,null,null,null,null,null,null,null,null,null,null,null,null,null,null,null,null,null,null,null,null,null,null,null,null,null,null,null,null,null,null,null,null,null,null,null,null,null,null,null,null,null,null,null,null,null,null,null,null,null,null,null,null,null,null,null,null,null,null,null,null,null,null,null,null,null,null,null,null,null,null,null,null,null,null,null,null,null,null,null,null,null,null,null,null,null,null,null,null,null,null,null,null,null,null,null,null,null,null,null,null,null,null,null,null,null,null,null,null,null,null,null,null,null,null,null,null,null,null,null,null,null,null,null,null,null,null,null,null,null,null,null,null,null,null,null,null,null,null,null,null,null,null,null,null,null,null,null,null,null,null,null,null,null,null,null,null,null,null,null,null,null,null,null,null,null,null,null,null,null,null,null,null,null,null,null,null,null,null,null,null,null,null,null,null,null,null,null,null,null,null,null,null,null,null,null,null,null,null,null,null,null,null,null,null,null,null,null,null,null,null,null,null,null,null,null,null,null,null,null,null,null,null,null,null,null,null,null,null,null,null,null,null,null,null,null,null,null,null,null,null,null,null,null,null,null,null,null,null,null,null,null,null,null,null,null,null,null,null,null,null,null,null,null,null,null,null,null,null,null,null,null,null,null,null,null,null,null,null,null,null,null,null,null,null,null,null,null,522,"CC1"]
[null,null,null,null,null,null,null,null,null,null,null,null,null,null,null,null,null,null,null,null,null,null,null,null,null,null,null,null,null,null,null,null,null,null,null,null,null,null,null,null,null,null,null,null,null,null,null,null,null,null,null,null,null,null,null,null,null,null,null,null,null,null,null,null,null,null,null,null,null,null,null,null,null,null,null,null,null,null,null,null,null,null,null,null,null,null,null,null,null,null,null,null,null,null,null,null,null,null,null,null,null,null,null,null,null,null,null,null,null,null,null,null,null,null,null,null,null,null,null,null,null,null,null,null,null,null,null,null,null,null,null,null,null,null,null,null,null,null,null,null,null,null,null,null,null,null,null,null,null,null,null,null,null,null,null,null,null,null,null,null,null,null,null,null,null,null,null,null,null,null,null,null,null,null,null,null,null,null,null,null,null,null,null,null,null,null,null,null,null,null,null,null,null,null,null,null,null,null,null,null,null,null,null,null,null,null,null,null,null,null,null,null,null,null,null,null,null,null,null,null,null,null,null,null,null,null,null,null,null,null,null,null,null,null,null,null,null,null,null,null,null,null,null,null,null,null,null,null,null,null,null,null,null,null,null,null,null,null,null,null,null,null,null,null,null,null,null,null,null,null,null,null,null,null,null,null,null,null,null,null,null,null,null,null,null,null,null,null,null,null,null,null,null,null,null,null,null,null,null,null,null,null,null,null,null,null,null,null,null,null,null,null,null,null,null,null,null,null,null,null,null,null,null,null,null,null,null,null,null,null,null,null,null,524,"CC3"]
[null,null,null,null,null,null,null,null,null,null,null,null,null,null,null,null,null,null,null,null,null,null,null,null,null,null,null,null,null,null,null,null,null,null,null,null,null,null,null,null,null,null,null,null,null,null,null,null,null,null,null,null,null,null,null,null,null,null,null,null,null,null,null,null,null,null,null,null,null,null,null,null,null,null,null,null,null,null,null,null,null,null,null,null,null,null,null,null,null,null,null,null,null,null,null,null,null,null,null,null,null,null,null,null,null,null,null,null,null,null,null,null,null,null,null,null,null,null,null,null,null,null,null,null,null,null,null,null,null,null,null,null,null,null,null,null,null,null,null,null,null,null,null,null,null,null,null,null,null,null,null,null,null,null,null,null,null,null,null,null,null,null,null,null,null,null,null,null,null,null,null,null,null,null,null,null,null,null,null,null,null,null,null,null,null,null,null,null,null,null,null,null,null,null,null,null,null,null,null,null,null,null,null,null,null,null,null,null,null,null,null,null,null,null,null,null,null,null,null,null,null,null,null,null,null,null,null,null,null,null,null,null,null,null,null,null,null,null,null,null,null,null,null,null,null,null,null,null,null,null,null,null,null,null,null,null,null,null,null,null,null,null,null,null,null,null,null,null,null,null,null,null,null,null,null,null,null,null,null,null,null,null,null,null,null,null,null,null,null,null,null,null,null,null,null,null,null,null,null,null,null,null,null,null,null,null,null,null,null,null,null,null,null,null,null,null,null,null,null,null,null,null,null,null,null,null,null,null,null,null,null,null,null,532,"CD1"]
[null,null,null,null,null,null,null,null,null,null,null,null,null,null,null,null,null,null,null,null,null,null,null,null,null,null,null,null,null,null,null,null,null,null,null,null,null,null,null,null,null,null,null,null,null,null,null,null,null,null,null,null,null,null,null,null,null,null,null,null,null,null,null,null,null,null,null,null,null,null,null,null,null,null,null,null,null,null,null,null,null,null,null,null,null,null,null,null,null,null,null,null,null,null,null,null,null,null,null,null,null,null,null,null,null,null,null,null,null,null,null,null,null,null,null,null,null,null,null,null,null,null,null,null,null,null,null,null,null,null,null,null,null,null,null,null,null,null,null,null,null,null,null,null,null,null,null,null,null,null,null,null,null,null,null,null,null,null,null,null,null,null,null,null,null,null,null,null,null,null,null,null,null,null,null,null,null,null,null,null,null,null,null,null,null,null,null,null,null,null,null,null,null,null,null,null,null,null,null,null,null,null,null,null,null,null,null,null,null,null,null,null,null,null,null,null,null,null,null,null,null,null,null,null,null,null,null,null,null,null,null,null,null,null,null,null,null,null,null,null,null,null,null,null,null,null,null,null,null,null,null,null,null,null,null,null,null,null,null,null,null,null,null,null,null,null,null,null,null,null,null,null,null,null,null,null,null,null,null,null,null,null,null,null,null,null,null,null,null,null,null,null,null,null,null,null,null,null,null,null,null,null,null,null,null,null,null,null,null,null,null,null,null,null,null,null,null,null,null,null,null,null,null,null,null,null,null,null,null,null,null,null,null,537,"CD6"]
[null,null,null,null,null,null,null,null,null,null,null,null,null,null,null,null,null,null,null,null,null,null,null,null,null,null,null,null,null,null,null,null,null,null,null,null,null,null,null,null,null,null,null,null,null,null,null,null,null,null,null,null,null,null,null,null,null,null,null,null,null,null,null,null,null,null,null,null,null,null,null,null,null,null,null,null,null,null,null,null,null,null,null,null,null,null,null,null,null,null,null,null,null,null,null,null,null,null,null,null,null,null,null,null,null,null,null,null,null,null,null,null,null,null,null,null,null,null,null,null,null,null,null,null,null,null,null,null,null,null,null,null,null,null,null,null,null,null,null,null,null,null,null,null,null,null,null,null,null,null,null,null,null,null,null,null,null,null,null,null,null,null,null,null,null,null,null,null,null,null,null,null,null,null,null,null,null,null,null,null,null,null,null,null,null,null,null,null,null,null,null,null,null,null,null,null,null,null,null,null,null,null,null,null,null,null,null,null,null,null,null,null,null,null,null,null,null,null,null,null,null,null,null,null,null,null,null,null,null,null,null,null,null,null,null,null,null,null,null,null,null,null,null,null,null,null,null,null,null,null,null,null,null,null,null,null,null,null,null,null,null,null,null,null,null,null,null,null,null,null,null,null,null,null,null,null,null,null,null,null,null,null,null,null,null,null,null,null,null,null,null,null,null,null,null,null,null,null,null,null,null,null,null,null,null,null,null,null,null,null,null,null,null,null,null,null,null,null,null,null,null,null,null,null,null,null,null,null,null,null,null,null,null,547,"CE6"]
[null,null,null,null,null,null,null,null,null,null,null,null,null,null,null,null,null,null,null,null,null,null,null,null,null,null,null,null,null,null,null,null,null,null,null,null,null,null,null,null,null,null,null,null,null,null,null,null,null,null,null,null,null,null,null,null,null,null,null,null,null,null,null,null,null,null,null,null,null,null,null,null,null,null,null,null,null,null,null,null,null,null,null,null,null,null,null,null,null,null,null,null,null,null,null,null,null,null,null,null,null,null,null,null,null,null,null,null,null,null,null,null,null,null,null,null,null,null,null,null,null,null,null,null,null,null,null,null,null,null,null,null,null,null,null,null,null,null,null,null,null,null,null,null,null,null,null,null,null,null,null,null,null,null,null,null,null,null,null,null,null,null,null,null,null,null,null,null,null,null,null,null,null,null,null,null,null,null,null,null,null,null,null,null,null,null,null,null,null,null,null,null,null,null,null,null,null,null,null,null,null,null,null,null,null,null,null,null,null,null,null,null,null,null,null,null,null,null,null,null,null,null,null,null,null,null,null,null,null,null,null,null,null,null,null,null,null,null,null,null,null,null,null,null,null,null,null,null,null,null,null,null,null,null,null,null,null,null,null,null,null,null,null,null,null,null,null,null,null,null,null,null,null,null,null,null,null,null,null,null,null,null,null,null,null,null,null,null,null,null,null,null,null,null,null,null,null,null,null,null,null,null,null,null,null,null,null,null,null,null,null,null,null,null,null,null,null,null,null,null,null,null,null,null,null,null,null,null,null,null,null,null,null,556,"CF5"]
[null,null,null,null,null,null,null,null,null,null,null,null,null,null,null,null,null,null,null,null,null,null,null,null,null,null,null,null,null,null,null,null,null,null,null,null,null,null,null,null,null,null,null,null,null,null,null,null,null,null,null,null,null,null,null,null,null,null,null,null,null,null,null,null,null,null,null,null,null,null,null,null,null,null,null,null,null,null,null,null,null,null,null,null,null,null,null,null,null,null,null,null,null,null,null,null,null,null,null,null,null,null,null,null,null,null,null,null,null,null,null,null,null,null,null,null,null,null,null,null,null,null,null,null,null,null,null,null,null,null,null,null,null,null,null,null,null,null,null,null,null,null,null,null,null,null,null,null,null,null,null,null,null,null,null,null,null,null,null,null,null,null,null,null,null,null,null,null,null,null,null,null,null,null,null,null,null,null,null,null,null,null,null,null,null,null,null,null,null,null,null,null,null,null,null,null,null,null,null,null,null,null,null,null,null,null,null,null,null,null,null,null,null,null,null,null,null,null,null,null,null,null,null,null,null,null,null,null,null,null,null,null,null,null,null,null,null,null,null,null,null,null,null,null,null,null,null,null,null,null,null,null,null,null,null,null,null,null,null,null,null,null,null,null,null,null,null,null,null,null,null,null,null,null,null,null,null,null,null,null,null,null,null,null,null,null,null,null,null,null,null,null,null,null,null,null,null,null,null,null,null,null,null,null,null,null,null,null,null,null,null,null,null,null,null,null,null,null,null,null,null,null,null,null,null,null,null,null,null,null,null,null,null,557,"CF6"]
[null,null,null,null,null,null,null,null,null,null,null,null,null,null,null,null,null,null,null,null,null,null,null,null,null,null,null,null,null,null,null,null,null,null,null,null,null,null,null,null,null,null,null,null,null,null,null,null,null,null,null,null,null,null,null,null,null,null,null,null,null,null,null,null,null,null,null,null,null,null,null,null,null,null,null,null,null,null,null,null,null,null,null,null,null,null,null,null,null,null,null,null,null,null,null,null,null,null,null,null,null,null,null,null,null,null,null,null,null,null,null,null,null,null,null,null,null,null,null,null,null,null,null,null,null,null,null,null,null,null,null,null,null,null,null,null,null,null,null,null,null,null,null,null,null,null,null,null,null,null,null,null,null,null,null,null,null,null,null,null,null,null,null,null,null,null,null,null,null,null,null,null,null,null,null,null,null,null,null,null,null,null,null,null,null,null,null,null,null,null,null,null,null,null,null,null,null,null,null,null,null,null,null,null,null,null,null,null,null,null,null,null,null,null,null,null,null,null,null,null,null,null,null,null,null,null,null,null,null,null,null,null,null,null,null,null,null,null,null,null,null,null,null,null,null,null,null,null,null,null,null,null,null,null,null,null,null,null,null,null,null,null,null,null,null,null,null,null,null,null,null,null,null,null,null,null,null,null,null,null,null,null,null,null,null,null,null,null,null,null,null,null,null,null,null,null,null,null,null,null,null,null,null,null,null,null,null,null,null,null,null,null,null,null,null,null,null,null,null,null,null,null,null,null,null,null,null,null,null,null,null,null,null,565,"CG4"]
[null,null,null,null,null,null,null,null,null,null,null,null,null,null,null,null,null,null,null,null,null,null,null,null,null,null,null,null,null,null,null,null,null,null,null,null,null,null,null,null,null,null,null,null,null,null,null,null,null,null,null,null,null,null,null,null,null,null,null,null,null,null,null,null,null,null,null,null,null,null,null,null,null,null,null,null,null,null,null,null,null,null,null,null,null,null,null,null,null,null,null,null,null,null,null,null,null,null,null,null,null,null,null,null,null,null,null,null,null,null,null,null,null,null,null,null,null,null,null,null,null,null,null,null,null,null,null,null,null,null,null,null,null,null,null,null,null,null,null,null,null,null,null,null,null,null,null,null,null,null,null,null,null,null,null,null,null,null,null,null,null,null,null,null,null,null,null,null,null,null,null,null,null,null,null,null,null,null,null,null,null,null,null,null,null,null,null,null,null,null,null,null,null,null,null,null,null,null,null,null,null,null,null,null,null,null,null,null,null,null,null,null,null,null,null,null,null,null,null,null,null,null,null,null,null,null,null,null,null,null,null,null,null,null,null,null,null,null,null,null,null,null,null,null,null,null,null,null,null,null,null,null,null,null,null,null,null,null,null,null,null,null,null,null,null,null,null,null,null,null,null,null,null,null,null,null,null,null,null,null,null,null,null,null,null,null,null,null,null,null,null,null,null,null,null,null,null,null,null,null,null,null,null,null,null,null,null,null,null,null,null,null,null,null,null,null,null,null,null,null,null,null,null,null,null,null,null,null,null,null,null,null,null,576,"CH5"]
[null,null,null,null,null,null,null,null,null,null,null,null,null,null,null,null,null,null,null,null,null,null,null,null,null,null,null,null,null,null,null,null,null,null,null,null,null,null,null,null,null,null,null,null,null,null,null,null,null,null,null,null,null,null,null,null,null,null,null,null,null,null,null,null,null,null,null,null,null,null,null,null,null,null,null,null,null,null,null,null,null,null,null,null,null,null,null,null,null,null,null,null,null,null,null,null,null,null,null,null,null,null,null,null,null,null,null,null,null,null,null,null,null,null,null,null,null,null,null,null,null,null,null,null,null,null,null,null,null,null,null,null,null,null,null,null,null,null,null,null,null,null,null,null,null,null,null,null,null,null,null,null,null,null,null,null,null,null,null,null,null,null,null,null,null,null,null,null,null,null,null,null,null,null,null,null,null,null,null,null,null,null,null,null,null,null,null,null,null,null,null,null,null,null,null,null,null,null,null,null,null,null,null,null,null,null,null,null,null,null,null,null,null,null,null,null,null,null,null,null,null,null,null,null,null,null,null,null,null,null,null,null,null,null,null,null,null,null,null,null,null,null,null,null,null,null,null,null,null,null,null,null,null,null,null,null,null,null,null,null,null,null,null,null,null,null,null,null,null,null,null,null,null,null,null,null,null,null,null,null,null,null,null,null,null,null,null,null,null,null,null,null,null,null,null,null,null,null,null,null,null,null,null,null,null,null,null,null,null,null,null,null,null,null,null,null,null,null,null,null,null,null,null,null,null,null,null,null,null,null,null,null,null,577,"CH6"]
[null,null,null,null,null,null,null,null,null,null,null,null,null,null,null,null,null,null,null,null,null,null,null,null,null,null,null,null,null,null,null,null,null,null,null,null,null,null,null,null,null,null,null,null,null,null,null,null,null,null,null,null,null,null,null,null,null,null,null,null,null,null,null,null,null,null,null,null,null,null,null,null,null,null,null,null,null,null,null,null,null,null,null,null,null,null,null,null,null,null,null,null,null,null,null,null,null,null,null,null,null,null,null,null,null,null,null,null,null,null,null,null,null,null,null,null,null,null,null,null,null,null,null,null,null,null,null,null,null,null,null,null,null,null,null,null,null,null,null,null,null,null,null,null,null,null,null,null,null,null,null,null,null,null,null,null,null,null,null,null,null,null,null,null,null,null,null,null,null,null,null,null,null,null,null,null,null,null,null,null,null,null,null,null,null,null,null,null,null,null,null,null,null,null,null,null,null,null,null,null,null,null,null,null,null,null,null,null,null,null,null,null,null,null,null,null,null,null,null,null,null,null,null,null,null,null,null,null,null,null,null,null,null,null,null,null,null,null,null,null,null,null,null,null,null,null,null,null,null,null,null,null,null,null,null,null,null,null,null,null,null,null,null,null,null,null,null,null,null,null,null,null,null,null,null,null,null,null,null,null,null,null,null,null,null,null,null,null,null,null,null,null,null,null,null,null,null,null,null,null,null,null,null,null,null,null,null,null,null,null,null,null,null,null,null,null,null,null,null,null,null,null,null,null,null,null,null,null,null,null,null,null,null,585,"CI4"]
[null,null,null,null,null,null,null,null,null,null,null,null,null,null,null,null,null,null,null,null,null,null,null,null,null,null,null,null,null,null,null,null,null,null,null,null,null,null,null,null,null,null,null,null,null,null,null,null,null,null,null,null,null,null,null,null,null,null,null,null,null,null,null,null,null,null,null,null,null,null,null,null,null,null,null,null,null,null,null,null,null,null,null,null,null,null,null,null,null,null,null,null,null,null,null,null,null,null,null,null,null,null,null,null,null,null,null,null,null,null,null,null,null,null,null,null,null,null,null,null,null,null,null,null,null,null,null,null,null,null,null,null,null,null,null,null,null,null,null,null,null,null,null,null,null,null,null,null,null,null,null,null,null,null,null,null,null,null,null,null,null,null,null,null,null,null,null,null,null,null,null,null,null,null,null,null,null,null,null,null,null,null,null,null,null,null,null,null,null,null,null,null,null,null,null,null,null,null,null,null,null,null,null,null,null,null,null,null,null,null,null,null,null,null,null,null,null,null,null,null,null,null,null,null,null,null,null,null,null,null,null,null,null,null,null,null,null,null,null,null,null,null,null,null,null,null,null,null,null,null,null,null,null,null,null,null,null,null,null,null,null,null,null,null,null,null,null,null,null,null,null,null,null,null,null,null,null,null,null,null,null,null,null,null,null,null,null,null,null,null,null,null,null,null,null,null,null,null,null,null,null,null,null,null,null,null,null,null,null,null,null,null,null,null,null,null,null,null,null,null,null,null,null,null,null,null,null,null,null,null,null,null,null,597,"CJ6"]
[null,null,null,null,null,null,null,null,null,null,null,null,null,null,null,null,null,null,null,null,null,null,null,null,null,null,null,null,null,null,null,null,null,null,null,null,null,null,null,null,null,null,null,null,null,null,null,null,null,null,null,null,null,null,null,null,null,null,null,null,null,null,null,null,null,null,null,null,null,null,null,null,null,null,null,null,null,null,null,null,null,null,null,null,null,null,null,null,null,null,null,null,null,null,null,null,null,null,null,null,null,null,null,null,null,null,null,null,null,null,null,null,null,null,null,null,null,null,null,null,null,null,null,null,null,null,null,null,null,null,null,null,null,null,null,null,null,null,null,null,null,null,null,null,null,null,null,null,null,null,null,null,null,null,null,null,null,null,null,null,null,null,null,null,null,null,null,null,null,null,null,null,null,null,null,null,null,null,null,null,null,null,null,null,null,null,null,null,null,null,null,null,null,null,null,null,null,null,null,null,null,null,null,null,null,null,null,null,null,null,null,null,null,null,null,null,null,null,null,null,null,null,null,null,null,null,null,null,null,null,null,null,null,null,null,null,null,null,null,null,null,null,null,null,null,null,null,null,null,null,null,null,null,null,null,null,null,null,null,null,null,null,null,null,null,null,null,null,null,null,null,null,null,null,null,null,null,null,null,null,null,null,null,null,null,null,null,null,null,null,null,null,null,null,null,null,null,null,null,null,null,null,null,null,null,null,null,null,null,null,null,null,null,null,null,null,null,null,null,null,null,null,null,null,null,null,null,null,null,null,null,null,null,601,"CK0"]
[null,null,null,null,null,null,null,null,null,null,null,null,null,null,null,null,null,null,null,null,null,null,null,null,null,null,null,null,null,null,null,null,null,null,null,null,null,null,null,null,null,null,null,null,null,null,null,null,null,null,null,null,null,null,null,null,null,null,null,null,null,null,null,null,null,null,null,null,null,null,null,null,null,null,null,null,null,null,null,null,null,null,null,null,null,null,null,null,null,null,null,null,null,null,null,null,null,null,null,null,null,null,null,null,null,null,null,null,null,null,null,null,null,null,null,null,null,null,null,null,null,null,null,null,null,null,null,null,null,null,null,null,null,null,null,null,null,null,null,null,null,null,null,null,null,null,null,null,null,null,null,null,null,null,null,null,null,null,null,null,null,null,null,null,null,null,null,null,null,null,null,null,null,null,null,null,null,null,null,null,null,null,null,null,null,null,null,null,null,null,null,null,null,null,null,null,null,null,null,null,null,null,null,null,null,null,null,null,null,null,null,null,null,null,null,null,null,null,null,null,null,null,null,null,null,null,null,null,null,null,null,null,null,null,null,null,null,null,null,null,null,null,null,null,null,null,null,null,null,null,null,null,null,null,null,null,null,null,null,null,null,null,null,null,null,null,null,null,null,null,null,null,null,null,null,null,null,null,null,null,null,null,null,null,null,null,null,null,null,null,null,null,null,null,null,null,null,null,null,null,null,null,null,null,null,null,null,null,null,null,null,null,null,null,null,null,null,null,null,null,null,null,null,null,null,null,null,null,null,null,null,null,null,609,"CK8"]
[null,null,null,null,null,null,null,null,null,null,null,null,null,null,null,null,null,null,null,null,null,null,null,null,null,null,null,null,null,null,null,null,null,null,null,null,null,null,null,null,null,null,null,null,null,null,null,null,null,null,null,null,null,null,null,null,null,null,null,null,null,null,null,null,null,null,null,null,null,null,null,null,null,null,null,null,null,null,null,null,null,null,null,null,null,null,null,null,null,null,null,null,null,null,null,null,null,null,null,null,null,null,null,null,null,null,null,null,null,null,null,null,null,null,null,null,null,null,null,null,null,null,null,null,null,null,null,null,null,null,null,null,null,null,null,null,null,null,null,null,null,null,null,null,null,null,null,null,null,null,null,null,null,null,null,null,null,null,null,null,null,null,null,null,null,null,null,null,null,null,null,null,null,null,null,null,null,null,null,null,null,null,null,null,null,null,null,null,null,null,null,null,null,null,null,null,null,null,null,null,null,null,null,null,null,null,null,null,null,null,null,null,null,null,null,null,null,null,null,null,null,null,null,null,null,null,null,null,null,null,null,null,null,null,null,null,null,null,null,null,null,null,null,null,null,null,null,null,null,null,null,null,null,null,null,null,null,null,null,null,null,null,null,null,null,null,null,null,null,null,null,null,null,null,null,null,null,null,null,null,null,null,null,null,null,null,null,null,null,null,null,null,null,null,null,null,null,null,null,null,null,null,null,null,null,null,null,null,null,null,null,null,null,null,null,null,null,null,null,null,null,null,null,null,null,null,null,null,null,null,null,null,null,617,"CL6"]
[null,null,null,null,null,null,null,null,null,null,null,null,null,null,null,null,null,null,null,null,null,null,null,null,null,null,null,null,null,null,null,null,null,null,null,null,null,null,null,null,null,null,null,null,null,null,null,null,null,null,null,null,null,null,null,null,null,null,null,null,null,null,null,null,null,null,null,null,null,null,null,null,null,null,null,null,null,null,null,null,null,null,null,null,null,null,null,null,null,null,null,null,null,null,null,null,null,null,null,null,null,null,null,null,null,null,null,null,null,null,null,null,null,null,null,null,null,null,null,null,null,null,null,null,null,null,null,null,null,null,null,null,null,null,null,null,null,null,null,null,null,null,null,null,null,null,null,null,null,null,null,null,null,null,null,null,null,null,null,null,null,null,null,null,null,null,null,null,null,null,null,null,null,null,null,null,null,null,null,null,null,null,null,null,null,null,null,null,null,null,null,null,null,null,null,null,null,null,null,null,null,null,null,null,null,null,null,null,null,null,null,null,null,null,null,null,null,null,null,null,null,null,null,null,null,null,null,null,null,null,null,null,null,null,null,null,null,null,null,null,null,null,null,null,null,null,null,null,null,null,null,null,null,null,null,null,null,null,null,null,null,null,null,null,null,null,null,null,null,null,null,null,null,null,null,null,null,null,null,null,null,null,null,null,null,null,null,null,null,null,null,null,null,null,null,null,null,null,null,null,null,null,null,null,null,null,null,null,null,null,null,null,null,null,null,null,null,null,null,null,null,null,null,null,null,null,null,null,null,null,null,null,null,618,"CL7"]
[null,null,null,null,null,null,null,null,null,null,null,null,null,null,null,null,null,null,null,null,null,null,null,null,null,null,null,null,null,null,null,null,null,null,null,null,null,null,null,null,null,null,null,null,null,null,null,null,null,null,null,null,null,null,null,null,null,null,null,null,null,null,null,null,null,null,null,null,null,null,null,null,null,null,null,null,null,null,null,null,null,null,null,null,null,null,null,null,null,null,null,null,null,null,null,null,null,null,null,null,null,null,null,null,null,null,null,null,null,null,null,null,null,null,null,null,null,null,null,null,null,null,null,null,null,null,null,null,null,null,null,null,null,null,null,null,null,null,null,null,null,null,null,null,null,null,null,null,null,null,null,null,null,null,null,null,null,null,null,null,null,null,null,null,null,null,null,null,null,null,null,null,null,null,null,null,null,null,null,null,null,null,null,null,null,null,null,null,null,null,null,null,null,null,null,null,null,null,null,null,null,null,null,null,null,null,null,null,null,null,null,null,null,null,null,null,null,null,null,null,null,null,null,null,null,null,null,null,null,null,null,null,null,null,null,null,null,null,null,null,null,null,null,null,null,null,null,null,null,null,null,null,null,null,null,null,null,null,null,null,null,null,null,null,null,null,null,null,null,null,null,null,null,null,null,null,null,null,null,null,null,null,null,null,null,null,null,null,null,null,null,null,null,null,null,null,null,null,null,null,null,null,null,null,null,null,null,null,null,null,null,null,null,null,null,null,null,null,null,null,null,null,null,null,null,null,null,null,null,null,null,null,null,630,"CM9"]
[null,null,null,null,null,null,null,null,null,null,null,null,null,null,null,null,null,null,null,null,null,null,null,null,null,null,null,null,null,null,null,null,null,null,null,null,null,null,null,null,null,null,null,null,null,null,null,null,null,null,null,null,null,null,null,null,null,null,null,null,null,null,null,null,null,null,null,null,null,null,null,null,null,null,null,null,null,null,null,null,null,null,null,null,null,null,null,null,null,null,null,null,null,null,null,null,null,null,null,null,null,null,null,null,null,null,null,null,null,null,null,null,null,null,null,null,null,null,null,null,null,null,null,null,null,null,null,null,null,null,null,null,null,null,null,null,null,null,null,null,null,null,null,null,null,null,null,null,null,null,null,null,null,null,null,null,null,null,null,null,null,null,null,null,null,null,null,null,null,null,null,null,null,null,null,null,null,null,null,null,null,null,null,null,null,null,null,null,null,null,null,null,null,null,null,null,null,null,null,null,null,null,null,null,null,null,null,null,null,null,null,null,null,null,null,null,null,null,null,null,null,null,null,null,null,null,null,null,null,null,null,null,null,null,null,null,null,null,null,null,null,null,null,null,null,null,null,null,null,null,null,null,null,null,null,null,null,null,null,null,null,null,null,null,null,null,null,null,null,null,null,null,null,null,null,null,null,null,null,null,null,null,null,null,null,null,null,null,null,null,null,null,null,null,null,null,null,null,null,null,null,null,null,null,null,null,null,null,null,null,null,null,null,null,null,null,null,null,null,null,null,null,null,null,null,null,null,null,null,null,null,null,null,634,"CN3"]
[null,null,null,null,null,null,null,null,null,null,null,null,null,null,null,null,null,null,null,null,null,null,null,null,null,null,null,null,null,null,null,null,null,null,null,null,null,null,null,null,null,null,null,null,null,null,null,null,null,null,null,null,null,null,null,null,null,null,null,null,null,null,null,null,null,null,null,null,null,null,null,null,null,null,null,null,null,null,null,null,null,null,null,null,null,null,null,null,null,null,null,null,null,null,null,null,null,null,null,null,null,null,null,null,null,null,null,null,null,null,null,null,null,null,null,null,null,null,null,null,null,null,null,null,null,null,null,null,null,null,null,null,null,null,null,null,null,null,null,null,null,null,null,null,null,null,null,null,null,null,null,null,null,null,null,null,null,null,null,null,null,null,null,null,null,null,null,null,null,null,null,null,null,null,null,null,null,null,null,null,null,null,null,null,null,null,null,null,null,null,null,null,null,null,null,null,null,null,null,null,null,null,null,null,null,null,null,null,null,null,null,null,null,null,null,null,null,null,null,null,null,null,null,null,null,null,null,null,null,null,null,null,null,null,null,null,null,null,null,null,null,null,null,null,null,null,null,null,null,null,null,null,null,null,null,null,null,null,null,null,null,null,null,null,null,null,null,null,null,null,null,null,null,null,null,null,null,null,null,null,null,null,null,null,null,null,null,null,null,null,null,null,null,null,null,null,null,null,null,null,null,null,null,null,null,null,null,null,null,null,null,null,null,null,null,null,null,null,null,null,null,null,null,null,null,null,null,null,null,null,null,null,null,642,"CO1"]
[null,null,null,null,null,null,null,null,null,null,null,null,null,null,null,null,null,null,null,null,null,null,null,null,null,null,null,null,null,null,null,null,null,null,null,null,null,null,null,null,null,null,null,null,null,null,null,null,null,null,null,null,null,null,null,null,null,null,null,null,null,null,null,null,null,null,null,null,null,null,null,null,null,null,null,null,null,null,null,null,null,null,null,null,null,null,null,null,null,null,null,null,null,null,null,null,null,null,null,null,null,null,null,null,null,null,null,null,null,null,null,null,null,null,null,null,null,null,null,null,null,null,null,null,null,null,null,null,null,null,null,null,null,null,null,null,null,null,null,null,null,null,null,null,null,null,null,null,null,null,null,null,null,null,null,null,null,null,null,null,null,null,null,null,null,null,null,null,null,null,null,null,null,null,null,null,null,null,null,null,null,null,null,null,null,null,null,null,null,null,null,null,null,null,null,null,null,null,null,null,null,null,null,null,null,null,null,null,null,null,null,null,null,null,null,null,null,null,null,null,null,null,null,null,null,null,null,null,null,null,null,null,null,null,null,null,null,null,null,null,null,null,null,null,null,null,null,null,null,null,null,null,null,null,null,null,null,null,null,null,null,null,null,null,null,null,null,null,null,null,null,null,null,null,null,null,null,null,null,null,null,null,null,null,null,null,null,null,null,null,null,null,null,null,null,null,null,null,null,null,null,null,null,null,null,null,null,null,null,null,null,null,null,null,null,null,null,null,null,null,null,null,null,null,null,null,null,null,null,null,null,null,null,650,"CO9"]
[null,null,null,null,null,null,null,null,null,null,null,null,null,null,null,null,null,null,null,null,null,null,null,null,null,null,null,null,null,null,null,null,null,null,null,null,null,null,null,null,null,null,null,null,null,null,null,null,null,null,null,null,null,null,null,null,null,null,null,null,null,null,null,null,null,null,null,null,null,null,null,null,null,null,null,null,null,null,null,null,null,null,null,null,null,null,null,null,null,null,null,null,null,null,null,null,null,null,null,null,null,null,null,null,null,null,null,null,null,null,null,null,null,null,null,null,null,null,null,null,null,null,null,null,null,null,null,null,null,null,null,null,null,null,null,null,null,null,null,null,null,null,null,null,null,null,null,null,null,null,null,null,null,null,null,null,null,null,null,null,null,null,null,null,null,null,null,null,null,null,null,null,null,null,null,null,null,null,null,null,null,null,null,null,null,null,null,null,null,null,null,null,null,null,null,null,null,null,null,null,null,null,null,null,null,null,null,null,null,null,null,null,null,null,null,null,null,null,null,null,null,null,null,null,null,null,null,null,null,null,null,null,null,null,null,null,null,null,null,null,null,null,null,null,null,null,null,null,null,null,null,null,null,null,null,null,null,null,null,null,null,null,null,null,null,null,null,null,null,null,null,null,null,null,null,null,null,null,null,null,null,null,null,null,null,null,null,null,null,null,null,null,null,null,null,null,null,null,null,null,null,null,null,null,null,null,null,null,null,null,null,null,null,null,null,null,null,null,null,null,null,null,null,null,null,null,null,null,null,null,null,null,null,658,"CP7"]
[null,null,null,null,null,null,null,null,null,null,null,null,null,null,null,null,null,null,null,null,null,null,null,null,null,null,null,null,null,null,null,null,null,null,null,null,null,null,null,null,null,null,null,null,null,null,null,null,null,null,null,null,null,null,null,null,null,null,null,null,null,null,null,null,null,null,null,null,null,null,null,null,null,null,null,null,null,null,null,null,null,null,null,null,null,null,null,null,null,null,null,null,null,null,null,null,null,null,null,null,null,null,null,null,null,null,null,null,null,null,null,null,null,null,null,null,null,null,null,null,null,null,null,null,null,null,null,null,null,null,null,null,null,null,null,null,null,null,null,null,null,null,null,null,null,null,null,null,null,null,null,null,null,null,null,null,null,null,null,null,null,null,null,null,null,null,null,null,null,null,null,null,null,null,null,null,null,null,null,null,null,null,null,null,null,null,null,null,null,null,null,null,null,null,null,null,null,null,null,null,null,null,null,null,null,null,null,null,null,null,null,null,null,null,null,null,null,null,null,null,null,null,null,null,null,null,null,null,null,null,null,null,null,null,null,null,null,null,null,null,null,null,null,null,null,null,null,null,null,null,null,null,null,null,null,null,null,null,null,null,null,null,null,null,null,null,null,null,null,null,null,null,null,null,null,null,null,null,null,null,null,null,null,null,null,null,null,null,null,null,null,null,null,null,null,null,null,null,null,null,null,null,null,null,null,null,null,null,null,null,null,null,null,null,null,null,null,null,null,null,null,null,null,null,null,null,null,null,null,null,null,null,null,663,"CQ2"]
[null,null,null,null,null,null,null,null,null,null,null,null,null,null,null,null,null,null,null,null,null,null,null,null,null,null,null,null,null,null,null,null,null,null,null,null,null,null,null,null,null,null,null,null,null,null,null,null,null,null,null,null,null,null,null,null,null,null,null,null,null,null,null,null,null,null,null,null,null,null,null,null,null,null,null,null,null,null,null,null,null,null,null,null,null,null,null,null,null,null,null,null,null,null,null,null,null,null,null,null,null,null,null,null,null,null,null,null,null,null,null,null,null,null,null,null,null,null,null,null,null,null,null,null,null,null,null,null,null,null,null,null,null,null,null,null,null,null,null,null,null,null,null,null,null,null,null,null,null,null,null,null,null,null,null,null,null,null,null,null,null,null,null,null,null,null,null,null,null,null,null,null,null,null,null,null,null,null,null,null,null,null,null,null,null,null,null,null,null,null,null,null,null,null,null,null,null,null,null,null,null,null,null,null,null,null,null,null,null,null,null,null,null,null,null,null,null,null,null,null,null,null,null,null,null,null,null,null,null,null,null,null,null,null,null,null,null,null,null,null,null,null,null,null,null,null,null,null,null,null,null,null,null,null,null,null,null,null,null,null,null,null,null,null,null,null,null,null,null,null,null,null,null,null,null,null,null,null,null,null,null,null,null,null,null,null,null,null,null,null,null,null,null,null,null,null,null,null,null,null,null,null,null,null,null,null,null,null,null,null,null,null,null,null,null,null,null,null,null,null,null,null,null,null,null,null,null,null,null,null,null,null,null,670,"CQ9"]
[null,null,null,null,null,null,null,null,null,null,null,null,null,null,null,null,null,null,null,null,null,null,null,null,null,null,null,null,null,null,null,null,null,null,null,null,null,null,null,null,null,null,null,null,null,null,null,null,null,null,null,null,null,null,null,null,null,null,null,null,null,null,null,null,null,null,null,null,null,null,null,null,null,null,null,null,null,null,null,null,null,null,null,null,null,null,null,null,null,null,null,null,null,null,null,null,null,null,null,null,null,null,null,null,null,null,null,null,null,null,null,null,null,null,null,null,null,null,null,null,null,null,null,null,null,null,null,null,null,null,null,null,null,null,null,null,null,null,null,null,null,null,null,null,null,null,null,null,null,null,null,null,null,null,null,null,null,null,null,null,null,null,null,null,null,null,null,null,null,null,null,null,null,null,null,null,null,null,null,null,null,null,null,null,null,null,null,null,null,null,null,null,null,null,null,null,null,null,null,null,null,null,null,null,null,null,null,null,null,null,null,null,null,null,null,null,null,null,null,null,null,null,null,null,null,null,null,null,null,null,null,null,null,null,null,null,null,null,null,null,null,null,null,null,null,null,null,null,null,null,null,null,null,null,null,null,null,null,null,null,null,null,null,null,null,null,null,null,null,null,null,null,null,null,null,null,null,null,null,null,null,null,null,null,null,null,null,null,null,null,null,null,null,null,null,null,null,null,null,null,null,null,null,null,null,null,null,null,null,null,null,null,null,null,null,null,null,null,null,null,null,null,null,null,null,null,null,null,null,null,null,null,null,678,"CR7"]
[null,null,null,null,null,null,null,null,null,null,null,null,null,null,null,null,null,null,null,null,null,null,null,null,null,null,null,null,null,null,null,null,null,null,null,null,null,null,null,null,null,null,null,null,null,null,null,null,null,null,null,null,null,null,null,null,null,null,null,null,null,null,null,null,null,null,null,null,null,null,null,null,null,null,null,null,null,null,null,null,null,null,null,null,null,null,null,null,null,null,null,null,null,null,null,null,null,null,null,null,null,null,null,null,null,null,null,null,null,null,null,null,null,null,null,null,null,null,null,null,null,null,null,null,null,null,null,null,null,null,null,null,null,null,null,null,null,null,null,null,null,null,null,null,null,null,null,null,null,null,null,null,null,null,null,null,null,null,null,null,null,null,null,null,null,null,null,null,null,null,null,null,null,null,null,null,null,null,null,null,null,null,null,null,null,null,null,null,null,null,null,null,null,null,null,null,null,null,null,null,null,null,null,null,null,null,null,null,null,null,null,null,null,null,null,null,null,null,null,null,null,null,null,null,null,null,null,null,null,null,null,null,null,null,null,null,null,null,null,null,null,null,null,null,null,null,null,null,null,null,null,null,null,null,null,null,null,null,null,null,null,null,null,null,null,null,null,null,null,null,null,null,null,null,null,null,null,null,null,null,null,null,null,null,null,null,null,null,null,null,null,null,null,null,null,null,null,null,null,null,null,null,null,null,null,null,null,null,null,null,null,null,null,null,null,null,null,null,null,null,null,null,null,null,null,null,null,null,null,null,null,null,null,683,"CS2"]
[null,null,null,null,null,null,null,null,null,null,null,null,null,null,null,null,null,null,null,null,null,null,null,null,null,null,null,null,null,null,null,null,null,null,null,null,null,null,null,null,null,null,null,null,null,null,null,null,null,null,null,null,null,null,null,null,null,null,null,null,null,null,null,null,null,null,null,null,null,null,null,null,null,null,null,null,null,null,null,null,null,null,null,null,null,null,null,null,null,null,null,null,null,null,null,null,null,null,null,null,null,null,null,null,null,null,null,null,null,null,null,null,null,null,null,null,null,null,null,null,null,null,null,null,null,null,null,null,null,null,null,null,null,null,null,null,null,null,null,null,null,null,null,null,null,null,null,null,null,null,null,null,null,null,null,null,null,null,null,null,null,null,null,null,null,null,null,null,null,null,null,null,null,null,null,null,null,null,null,null,null,null,null,null,null,null,null,null,null,null,null,null,null,null,null,null,null,null,null,null,null,null,null,null,null,null,null,null,null,null,null,null,null,null,null,null,null,null,null,null,null,null,null,null,null,null,null,null,null,null,null,null,null,null,null,null,null,null,null,null,null,null,null,null,null,null,null,null,null,null,null,null,null,null,null,null,null,null,null,null,null,null,null,null,null,null,null,null,null,null,null,null,null,null,null,null,null,null,null,null,null,null,null,null,null,null,null,null,null,null,null,null,null,null,null,null,null,null,null,null,null,null,null,null,null,null,null,null,null,null,null,null,null,null,null,null,null,null,null,null,null,null,null,null,null,null,null,null,null,null,null,null,null,688,"CS7"]
[null,null,null,null,null,null,null,null,null,null,null,null,null,null,null,null,null,null,null,null,null,null,null,null,null,null,null,null,null,null,null,null,null,null,null,null,null,null,null,null,null,null,null,null,null,null,null,null,null,null,null,null,null,null,null,null,null,null,null,null,null,null,null,null,null,null,null,null,null,null,null,null,null,null,null,null,null,null,null,null,null,null,null,null,null,null,null,null,null,null,null,null,null,null,null,null,null,null,null,null,null,null,null,null,null,null,null,null,null,null,null,null,null,null,null,null,null,null,null,null,null,null,null,null,null,null,null,null,null,null,null,null,null,null,null,null,null,null,null,null,null,null,null,null,null,null,null,null,null,null,null,null,null,null,null,null,null,null,null,null,null,null,null,null,null,null,null,null,null,null,null,null,null,null,null,null,null,null,null,null,null,null,null,null,null,null,null,null,null,null,null,null,null,null,null,null,null,null,null,null,null,null,null,null,null,null,null,null,null,null,null,null,null,null,null,null,null,null,null,null,null,null,null,null,null,null,null,null,null,null,null,null,null,null,null,null,null,null,null,null,null,null,null,null,null,null,null,null,null,null,null,null,null,null,null,null,null,null,null,null,null,null,null,null,null,null,null,null,null,null,null,null,null,null,null,null,null,null,null,null,null,null,null,null,null,null,null,null,null,null,null,null,null,null,null,null,null,null,null,null,null,null,null,null,null,null,null,null,null,null,null,null,null,null,null,null,null,null,null,null,null,null,null,null,null,null,null,null,null,null,null,null,null,695,"CT4"]
[null,null,null,null,null,null,null,null,null,null,null,null,null,null,null,null,null,null,null,null,null,null,null,null,null,null,null,null,null,null,null,null,null,null,null,null,null,null,null,null,null,null,null,null,null,null,null,null,null,null,null,null,null,null,null,null,null,null,null,null,null,null,null,null,null,null,null,null,null,null,null,null,null,null,null,null,null,null,null,null,null,null,null,null,null,null,null,null,null,null,null,null,null,null,null,null,null,null,null,null,null,null,null,null,null,null,null,null,null,null,null,null,null,null,null,null,null,null,null,null,null,null,null,null,null,null,null,null,null,null,null,null,null,null,null,null,null,null,null,null,null,null,null,null,null,null,null,null,null,null,null,null,null,null,null,null,null,null,null,null,null,null,null,null,null,null,null,null,null,null,null,null,null,null,null,null,null,null,null,null,null,null,null,null,null,null,null,null,null,null,null,null,null,null,null,null,null,null,null,null,null,null,null,null,null,null,null,null,null,null,null,null,null,null,null,null,null,null,null,null,null,null,null,null,null,null,null,null,null,null,null,null,null,null,null,null,null,null,null,null,null,null,null,null,null,null,null,null,null,null,null,null,null,null,null,null,null,null,null,null,null,null,null,null,null,null,null,null,null,null,null,null,null,null,null,null,null,null,null,null,null,null,null,null,null,null,null,null,null,null,null,null,null,null,null,null,null,null,null,null,null,null,null,null,null,null,null,null,null,null,null,null,null,null,null,null,null,null,null,null,null,null,null,null,null,null,null,null,null,null,null,null,null,703,"CU2"]
[null,null,null,null,null,null,null,null,null,null,null,null,null,null,null,null,null,null,null,null,null,null,null,null,null,null,null,null,null,null,null,null,null,null,null,null,null,null,null,null,null,null,null,null,null,null,null,null,null,null,null,null,null,null,null,null,null,null,null,null,null,null,null,null,null,null,null,null,null,null,null,null,null,null,null,null,null,null,null,null,null,null,null,null,null,null,null,null,null,null,null,null,null,null,null,null,null,null,null,null,null,null,null,null,null,null,null,null,null,null,null,null,null,null,null,null,null,null,null,null,null,null,null,null,null,null,null,null,null,null,null,null,null,null,null,null,null,null,null,null,null,null,null,null,null,null,null,null,null,null,null,null,null,null,null,null,null,null,null,null,null,null,null,null,null,null,null,null,null,null,null,null,null,null,null,null,null,null,null,null,null,null,null,null,null,null,null,null,null,null,null,null,null,null,null,null,null,null,null,null,null,null,null,null,null,null,null,null,null,null,null,null,null,null,null,null,null,null,null,null,null,null,null,null,null,null,null,null,null,null,null,null,null,null,null,null,null,null,null,null,null,null,null,null,null,null,null,null,null,null,null,null,null,null,null,null,null,null,null,null,null,null,null,null,null,null,null,null,null,null,null,null,null,null,null,null,null,null,null,null,null,null,null,null,null,null,null,null,null,null,null,null,null,null,null,null,null,null,null,null,null,null,null,null,null,null,null,null,null,null,null,null,null,null,null,null,null,null,null,null,null,null,null,null,null,null,null,null,null,null,null,null,null,711,"CV0"]
[null,null,null,null,null,null,null,null,null,null,null,null,null,null,null,null,null,null,null,null,null,null,null,null,null,null,null,null,null,null,null,null,null,null,null,null,null,null,null,null,null,null,null,null,null,null,null,null,null,null,null,null,null,null,null,null,null,null,null,null,null,null,null,null,null,null,null,null,null,null,null,null,null,null,null,null,null,null,null,null,null,null,null,null,null,null,null,null,null,null,null,null,null,null,null,null,null,null,null,null,null,null,null,null,null,null,null,null,null,null,null,null,null,null,null,null,null,null,null,null,null,null,null,null,null,null,null,null,null,null,null,null,null,null,null,null,null,null,null,null,null,null,null,null,null,null,null,null,null,null,null,null,null,null,null,null,null,null,null,null,null,null,null,null,null,null,null,null,null,null,null,null,null,null,null,null,null,null,null,null,null,null,null,null,null,null,null,null,null,null,null,null,null,null,null,null,null,null,null,null,null,null,null,null,null,null,null,null,null,null,null,null,null,null,null,null,null,null,null,null,null,null,null,null,null,null,null,null,null,null,null,null,null,null,null,null,null,null,null,null,null,null,null,null,null,null,null,null,null,null,null,null,null,null,null,null,null,null,null,null,null,null,null,null,null,null,null,null,null,null,null,null,null,null,null,null,null,null,null,null,null,null,null,null,null,null,null,null,null,null,null,null,null,null,null,null,null,null,null,null,null,null,null,null,null,null,null,null,null,null,null,null,null,null,null,null,null,null,null,null,null,null,null,null,null,null,null,null,null,null,null,null,null,717,"CV6"]
[null,null,null,null,null,null,null,null,null,null,null,null,null,null,null,null,null,null,null,null,null,null,null,null,null,null,null,null,null,null,null,null,null,null,null,null,null,null,null,null,null,null,null,null,null,null,null,null,null,null,null,null,null,null,null,null,null,null,null,null,null,null,null,null,null,null,null,null,null,null,null,null,null,null,null,null,null,null,null,null,null,null,null,null,null,null,null,null,null,null,null,null,null,null,null,null,null,null,null,null,null,null,null,null,null,null,null,null,null,null,null,null,null,null,null,null,null,null,null,null,null,null,null,null,null,null,null,null,null,null,null,null,null,null,null,null,null,null,null,null,null,null,null,null,null,null,null,null,null,null,null,null,null,null,null,null,null,null,null,null,null,null,null,null,null,null,null,null,null,null,null,null,null,null,null,null,null,null,null,null,null,null,null,null,null,null,null,null,null,null,null,null,null,null,null,null,null,null,null,null,null,null,null,null,null,null,null,null,null,null,null,null,null,null,null,null,null,null,null,null,null,null,null,null,null,null,null,null,null,null,null,null,null,null,null,null,null,null,null,null,null,null,null,null,null,null,null,null,null,null,null,null,null,null,null,null,null,null,null,null,null,null,null,null,null,null,null,null,null,null,null,null,null,null,null,null,null,null,null,null,null,null,null,null,null,null,null,null,null,null,null,null,null,null,null,null,null,null,null,null,null,null,null,null,null,null,null,null,null,null,null,null,null,null,null,null,null,null,null,null,null,null,null,null,null,null,null,null,null,null,null,null,null,723,"CW2"]
[null,null,null,null,null,null,null,null,null,null,null,null,null,null,null,null,null,null,null,null,null,null,null,null,null,null,null,null,null,null,null,null,null,null,null,null,null,null,null,null,null,null,null,null,null,null,null,null,null,null,null,null,null,null,null,null,null,null,null,null,null,null,null,null,null,null,null,null,null,null,null,null,null,null,null,null,null,null,null,null,null,null,null,null,null,null,null,null,null,null,null,null,null,null,null,null,null,null,null,null,null,null,null,null,null,null,null,null,null,null,null,null,null,null,null,null,null,null,null,null,null,null,null,null,null,null,null,null,null,null,null,null,null,null,null,null,null,null,null,null,null,null,null,null,null,null,null,null,null,null,null,null,null,null,null,null,null,null,null,null,null,null,null,null,null,null,null,null,null,null,null,null,null,null,null,null,null,null,null,null,null,null,null,null,null,null,null,null,null,null,null,null,null,null,null,null,null,null,null,null,null,null,null,null,null,null,null,null,null,null,null,null,null,null,null,null,null,null,null,null,null,null,null,null,null,null,null,null,null,null,null,null,null,null,null,null,null,null,null,null,null,null,null,null,null,null,null,null,null,null,null,null,null,null,null,null,null,null,null,null,null,null,null,null,null,null,null,null,null,null,null,null,null,null,null,null,null,null,null,null,null,null,null,null,null,null,null,null,null,null,null,null,null,null,null,null,null,null,null,null,null,null,null,null,null,null,null,null,null,null,null,null,null,null,null,null,null,null,null,null,null,null,null,null,null,null,null,null,null,null,null,null,null,731,"CX0"]
[null,null,null,null,null,null,null,null,null,null,null,null,null,null,null,null,null,null,null,null,null,null,null,null,null,null,null,null,null,null,null,null,null,null,null,null,null,null,null,null,null,null,null,null,null,null,null,null,null,null,null,null,null,null,null,null,null,null,null,null,null,null,null,null,null,null,null,null,null,null,null,null,null,null,null,null,null,null,null,null,null,null,null,null,null,null,null,null,null,null,null,null,null,null,null,null,null,null,null,null,null,null,null,null,null,null,null,null,null,null,null,null,null,null,null,null,null,null,null,null,null,null,null,null,null,null,null,null,null,null,null,null,null,null,null,null,null,null,null,null,null,null,null,null,null,null,null,null,null,null,null,null,null,null,null,null,null,null,null,null,null,null,null,null,null,null,null,null,null,null,null,null,null,null,null,null,null,null,null,null,null,null,null,null,null,null,null,null,null,null,null,null,null,null,null,null,null,null,null,null,null,null,null,null,null,null,null,null,null,null,null,null,null,null,null,null,null,null,null,null,null,null,null,null,null,null,null,null,null,null,null,null,null,null,null,null,null,null,null,null,null,null,null,null,null,null,null,null,null,null,null,null,null,null,null,null,null,null,null,null,null,null,null,null,null,null,null,null,null,null,null,null,null,null,null,null,null,null,null,null,null,null,null,null,null,null,null,null,null,null,null,null,null,null,null,null,null,null,null,null,null,null,null,null,null,null,null,null,null,null,null,null,null,null,null,null,null,null,null,null,null,null,null,null,null,null,null,null,null,null,null,null,null,736,"CX5"]
[null,null,null,null,null,null,null,null,null,null,null,null,null,null,null,null,null,null,null,null,null,null,null,null,null,null,null,null,null,null,null,null,null,null,null,null,null,null,null,null,null,null,null,null,null,null,null,null,null,null,null,null,null,null,null,null,null,null,null,null,null,null,null,null,null,null,null,null,null,null,null,null,null,null,null,null,null,null,null,null,null,null,null,null,null,null,null,null,null,null,null,null,null,null,null,null,null,null,null,null,null,null,null,null,null,null,null,null,null,null,null,null,null,null,null,null,null,null,null,null,null,null,null,null,null,null,null,null,null,null,null,null,null,null,null,null,null,null,null,null,null,null,null,null,null,null,null,null,null,null,null,null,null,null,null,null,null,null,null,null,null,null,null,null,null,null,null,null,null,null,null,null,null,null,null,null,null,null,null,null,null,null,null,null,null,null,null,null,null,null,null,null,null,null,null,null,null,null,null,null,null,null,null,null,null,null,null,null,null,null,null,null,null,null,null,null,null,null,null,null,null,null,null,null,null,null,null,null,null,null,null,null,null,null,null,null,null,null,null,null,null,null,null,null,null,null,null,null,null,null,null,null,null,null,null,null,null,null,null,null,null,null,null,null,null,null,null,null,null,null,null,null,null,null,null,null,null,null,null,null,null,null,null,null,null,null,null,null,null,null,null,null,null,null,null,null,null,null,null,null,null,null,null,null,null,null,null,null,null,null,null,null,null,null,null,null,null,null,null,null,null,null,null,null,null,null,null,null,null,null,null,null,null,742,"CY1"]
[null,null,null,null,null,null,null,null,null,null,null,null,null,null,null,null,null,null,null,null,null,null,null,null,null,null,null,null,null,null,null,null,null,null,null,null,null,null,null,null,null,null,null,null,null,null,null,null,null,null,null,null,null,null,null,null,null,null,null,null,null,null,null,null,null,null,null,null,null,null,null,null,null,null,null,null,null,null,null,null,null,null,null,null,null,null,null,null,null,null,null,null,null,null,null,null,null,null,null,null,null,null,null,null,null,null,null,null,null,null,null,null,null,null,null,null,null,null,null,null,null,null,null,null,null,null,null,null,null,null,null,null,null,null,null,null,null,null,null,null,null,null,null,null,null,null,null,null,null,null,null,null,null,null,null,null,null,null,null,null,null,null,null,null,null,null,null,null,null,null,null,null,null,null,null,null,null,null,null,null,null,null,null,null,null,null,null,null,null,null,null,null,null,null,null,null,null,null,null,null,null,null,null,null,null,null,null,null,null,null,null,null,null,null,null,null,null,null,null,null,null,null,null,null,null,null,null,null,null,null,null,null,null,null,null,null,null,null,null,null,null,null,null,null,null,null,null,null,null,null,null,null,null,null,null,null,null,null,null,null,null,null,null,null,null,null,null,null,null,null,null,null,null,null,null,null,null,null,null,null,null,null,null,null,null,null,null,null,null,null,null,null,null,null,null,null,null,null,null,null,null,null,null,null,null,null,null,null,null,null,null,null,null,null,null,null,null,null,null,null,null,null,null,null,null,null,null,null,null,null,null,null,null,748,"CY7"]
[null,null,null,null,null,null,null,null,null,null,null,null,null,null,null,null,null,null,null,null,null,null,null,null,null,null,null,null,null,null,null,null,null,null,null,null,null,null,null,null,null,null,null,null,null,null,null,null,null,null,null,null,null,null,null,null,null,null,null,null,null,null,null,null,null,null,null,null,null,null,null,null,null,null,null,null,null,null,null,null,null,null,null,null,null,null,null,null,null,null,null,null,null,null,null,null,null,null,null,null,null,null,null,null,null,null,null,null,null,null,null,null,null,null,null,null,null,null,null,null,null,null,null,null,null,null,null,null,null,null,null,null,null,null,null,null,null,null,null,null,null,null,null,null,null,null,null,null,null,null,null,null,null,null,null,null,null,null,null,null,null,null,null,null,null,null,null,null,null,null,null,null,null,null,null,null,null,null,null,null,null,null,null,null,null,null,null,null,null,null,null,null,null,null,null,null,null,null,null,null,null,null,null,null,null,null,null,null,null,null,null,null,null,null,null,null,null,null,null,null,null,null,null,null,null,null,null,null,null,null,null,null,null,null,null,null,null,null,null,null,null,null,null,null,null,null,null,null,null,null,null,null,null,null,null,null,null,null,null,null,null,null,null,null,null,null,null,null,null,null,null,null,null,null,null,null,null,null,null,null,null,null,null,null,null,null,null,null,null,null,null,null,null,null,null,null,null,null,null,null,null,null,null,null,null,null,null,null,null,null,null,null,null,null,null,null,null,null,null,null,null,null,null,null,null,null,null,null,null,null,null,null,null,756,"DA5"]
[null,null,null,null,null,null,null,null,null,null,null,null,null,null,null,null,null,null,null,null,null,null,null,null,null,null,null,null,null,null,null,null,null,null,null,null,null,null,null,null,null,null,null,null,null,null,null,null,null,null,null,null,null,null,null,null,null,null,null,null,null,null,null,null,null,null,null,null,null,null,null,null,null,null,null,null,null,null,null,null,null,null,null,null,null,null,null,null,null,null,null,null,null,null,null,null,null,null,null,null,null,null,null,null,null,null,null,null,null,null,null,null,null,null,null,null,null,null,null,null,null,null,null,null,null,null,null,null,null,null,null,null,null,null,null,null,null,null,null,null,null,null,null,null,null,null,null,null,null,null,null,null,null,null,null,null,null,null,null,null,null,null,null,null,null,null,null,null,null,null,null,null,null,null,null,null,null,null,null,null,null,null,null,null,null,null,null,null,null,null,null,null,null,null,null,null,null,null,null,null,null,null,null,null,null,null,null,null,null,null,null,null,null,null,null,null,null,null,null,null,null,null,null,null,null,null,null,null,null,null,null,null,null,null,null,null,null,null,null,null,null,null,null,null,null,null,null,null,null,null,null,null,null,null,null,null,null,null,null,null,null,null,null,null,null,null,null,null,null,null,null,null,null,null,null,null,null,null,null,null,null,null,null,null,null,null,null,null,null,null,null,null,null,null,null,null,null,null,null,null,null,null,null,null,null,null,null,null,null,null,null,null,null,null,null,null,null,null,null,null,null,null,null,null,null,null,null,null,null,null,null,null,null,764,"DB3"]
[null,null,null,null,null,null,null,null,null,null,null,null,null,null,null,null,null,null,null,null,null,null,null,null,null,null,null,null,null,null,null,null,null,null,null,null,null,null,null,null,null,null,null,null,null,null,null,null,null,null,null,null,null,null,null,null,null,null,null,null,null,null,null,null,null,null,null,null,null,null,null,null,null,null,null,null,null,null,null,null,null,null,null,null,null,null,null,null,null,null,null,null,null,null,null,null,null,null,null,null,null,null,null,null,null,null,null,null,null,null,null,null,null,null,null,null,null,null,null,null,null,null,null,null,null,null,null,null,null,null,null,null,null,null,null,null,null,null,null,null,null,null,null,null,null,null,null,null,null,null,null,null,null,null,null,null,null,null,null,null,null,null,null,null,null,null,null,null,null,null,null,null,null,null,null,null,null,null,null,null,null,null,null,null,null,null,null,null,null,null,null,null,null,null,null,null,null,null,null,null,null,null,null,null,null,null,null,null,null,null,null,null,null,null,null,null,null,null,null,null,null,null,null,null,null,null,null,null,null,null,null,null,null,null,null,null,null,null,null,null,null,null,null,null,null,null,null,null,null,null,null,null,null,null,null,null,null,null,null,null,null,null,null,null,null,null,null,null,null,null,null,null,null,null,null,null,null,null,null,null,null,null,null,null,null,null,null,null,null,null,null,null,null,null,null,null,null,null,null,null,null,null,null,null,null,null,null,null,null,null,null,null,null,null,null,null,null,null,null,null,null,null,null,null,null,null,null,null,null,null,null,null,null,771,"DC0"]
[null,null,null,null,null,null,null,null,null,null,null,null,null,null,null,null,null,null,null,null,null,null,null,null,null,null,null,null,null,null,null,null,null,null,null,null,null,null,null,null,null,null,null,null,null,null,null,null,null,null,null,null,null,null,null,null,null,null,null,null,null,null,null,null,null,null,null,null,null,null,null,null,null,null,null,null,null,null,null,null,null,null,null,null,null,null,null,null,null,null,null,null,null,null,null,null,null,null,null,null,null,null,null,null,null,null,null,null,null,null,null,null,null,null,null,null,null,null,null,null,null,null,null,null,null,null,null,null,null,null,null,null,null,null,null,null,null,null,null,null,null,null,null,null,null,null,null,null,null,null,null,null,null,null,null,null,null,null,null,null,null,null,null,null,null,null,null,null,null,null,null,null,null,null,null,null,null,null,null,null,null,null,null,null,null,null,null,null,null,null,null,null,null,null,null,null,null,null,null,null,null,null,null,null,null,null,null,null,null,null,null,null,null,null,null,null,null,null,null,null,null,null,null,null,null,null,null,null,null,null,null,null,null,null,null,null,null,null,null,null,null,null,null,null,null,null,null,null,null,null,null,null,null,null,null,null,null,null,null,null,null,null,null,null,null,null,null,null,null,null,null,null,null,null,null,null,null,null,null,null,null,null,null,null,null,null,null,null,null,null,null,null,null,null,null,null,null,null,null,null,null,null,null,null,null,null,null,null,null,null,null,null,null,null,null,null,null,null,null,null,null,null,null,null,null,null,null,null,null,null,null,null,null,776,"DC5"]
[null,null,null,null,null,null,null,null,null,null,null,null,null,null,null,null,null,null,null,null,null,null,null,null,null,null,null,null,null,null,null,null,null,null,null,null,null,null,null,null,null,null,null,null,null,null,null,null,null,null,null,null,null,null,null,null,null,null,null,null,null,null,null,null,null,null,null,null,null,null,null,null,null,null,null,null,null,null,null,null,null,null,null,null,null,null,null,null,null,null,null,null,null,null,null,null,null,null,null,null,null,null,null,null,null,null,null,null,null,null,null,null,null,null,null,null,null,null,null,null,null,null,null,null,null,null,null,null,null,null,null,null,null,null,null,null,null,null,null,null,null,null,null,null,null,null,null,null,null,null,null,null,null,null,null,null,null,null,null,null,null,null,null,null,null,null,null,null,null,null,null,null,null,null,null,null,null,null,null,null,null,null,null,null,null,null,null,null,null,null,null,null,null,null,null,null,null,null,null,null,null,null,null,null,null,null,null,null,null,null,null,null,null,null,null,null,null,null,null,null,null,null,null,null,null,null,null,null,null,null,null,null,null,null,null,null,null,null,null,null,null,null,null,null,null,null,null,null,null,null,null,null,null,null,null,null,null,null,null,null,null,null,null,null,null,null,null,null,null,null,null,null,null,null,null,null,null,null,null,null,null,null,null,null,null,null,null,null,null,null,null,null,null,null,null,null,null,null,null,null,null,null,null,null,null,null,null,null,null,null,null,null,null,null,null,null,null,null,null,null,null,null,null,null,null,null,null,null,null,null,null,null,null,781,"DD0"]
[null,null,null,null,null,null,null,null,null,null,null,null,null,null,null,null,null,null,null,null,null,null,null,null,null,null,null,null,null,null,null,null,null,null,null,null,null,null,null,null,null,null,null,null,null,null,null,null,null,null,null,null,null,null,null,null,null,null,null,null,null,null,null,null,null,null,null,null,null,null,null,null,null,null,null,null,null,null,null,null,null,null,null,null,null,null,null,null,null,null,null,null,null,null,null,null,null,null,null,null,null,null,null,null,null,null,null,null,null,null,null,null,null,null,null,null,null,null,null,null,null,null,null,null,null,null,null,null,null,null,null,null,null,null,null,null,null,null,null,null,null,null,null,null,null,null,null,null,null,null,null,null,null,null,null,null,null,null,null,null,null,null,null,null,null,null,null,null,null,null,null,null,null,null,null,null,null,null,null,null,null,null,null,null,null,null,null,null,null,null,null,null,null,null,null,null,null,null,null,null,null,null,null,null,null,null,null,null,null,null,null,null,null,null,null,null,null,null,null,null,null,null,null,null,null,null,null,null,null,null,null,null,null,null,null,null,null,null,null,null,null,null,null,null,null,null,null,null,null,null,null,null,null,null,null,null,null,null,null,null,null,null,null,null,null,null,null,null,null,null,null,null,null,null,null,null,null,null,null,null,null,null,null,null,null,null,null,null,null,null,null,null,null,null,null,null,null,null,null,null,null,null,null,null,null,null,null,null,null,null,null,null,null,null,null,null,null,null,null,null,null,null,null,null,null,null,null,null,null,null,null,null,null,789,"DD8"]
[null,null,null,null,null,null,null,null,null,null,null,null,null,null,null,null,null,null,null,null,null,null,null,null,null,null,null,null,null,null,null,null,null,null,null,null,null,null,null,null,null,null,null,null,null,null,null,null,null,null,null,null,null,null,null,null,null,null,null,null,null,null,null,null,null,null,null,null,null,null,null,null,null,null,null,null,null,null,null,null,null,null,null,null,null,null,null,null,null,null,null,null,null,null,null,null,null,null,null,null,null,null,null,null,null,null,null,null,null,null,null,null,null,null,null,null,null,null,null,null,null,null,null,null,null,null,null,null,null,null,null,null,null,null,null,null,null,null,null,null,null,null,null,null,null,null,null,null,null,null,null,null,null,null,null,null,null,null,null,null,null,null,null,null,null,null,null,null,null,null,null,null,null,null,null,null,null,null,null,null,null,null,null,null,null,null,null,null,null,null,null,null,null,null,null,null,null,null,null,null,null,null,null,null,null,null,null,null,null,null,null,null,null,null,null,null,null,null,null,null,null,null,null,null,null,null,null,null,null,null,null,null,null,null,null,null,null,null,null,null,null,null,null,null,null,null,null,null,null,null,null,null,null,null,null,null,null,null,null,null,null,null,null,null,null,null,null,null,null,null,null,null,null,null,null,null,null,null,null,null,null,null,null,null,null,null,null,null,null,null,null,null,null,null,null,null,null,null,null,null,null,null,null,null,null,null,null,null,null,null,null,null,null,null,null,null,null,null,null,null,null,null,null,null,null,null,null,null,null,null,null,null,null,797,"DE6"]
[null,null,null,null,null,null,null,null,null,null,null,null,null,null,null,null,null,null,null,null,null,null,null,null,null,null,null,null,null,null,null,null,null,null,null,null,null,null,null,null,null,null,null,null,null,null,null,null,null,null,null,null,null,null,null,null,null,null,null,null,null,null,null,null,null,null,null,null,null,null,null,null,null,null,null,null,null,null,null,null,null,null,null,null,null,null,null,null,null,null,null,null,null,null,null,null,null,null,null,null,null,null,null,null,null,null,null,null,null,null,null,null,null,null,null,null,null,null,null,null,null,null,null,null,null,null,null,null,null,null,null,null,null,null,null,null,null,null,null,null,null,null,null,null,null,null,null,null,null,null,null,null,null,null,null,null,null,null,null,null,null,null,null,null,null,null,null,null,null,null,null,null,null,null,null,null,null,null,null,null,null,null,null,null,null,null,null,null,null,null,null,null,null,null,null,null,null,null,null,null,null,null,null,null,null,null,null,null,null,null,null,null,null,null,null,null,null,null,null,null,null,null,null,null,null,null,null,null,null,null,null,null,null,null,null,null,null,null,null,null,null,null,null,null,null,null,null,null,null,null,null,null,null,null,null,null,null,null,null,null,null,null,null,null,null,null,null,null,null,null,null,null,null,null,null,null,null,null,null,null,null,null,null,null,null,null,null,null,null,null,null,null,null,null,null,null,null,null,null,null,null,null,null,null,null,null,null,null,null,null,null,null,null,null,null,null,null,null,null,null,null,null,null,null,null,null,null,null,null,null,null,null,null,804,"DF3"]
[null,null,null,null,null,null,null,null,null,null,null,null,null,null,null,null,null,null,null,null,null,null,null,null,null,null,null,null,null,null,null,null,null,null,null,null,null,null,null,null,null,null,null,null,null,null,null,null,null,null,null,null,null,null,null,null,null,null,null,null,null,null,null,null,null,null,null,null,null,null,null,null,null,null,null,null,null,null,null,null,null,null,null,null,null,null,null,null,null,null,null,null,null,null,null,null,null,null,null,null,null,null,null,null,null,null,null,null,null,null,null,null,null,null,null,null,null,null,null,null,null,null,null,null,null,null,null,null,null,null,null,null,null,null,null,null,null,null,null,null,null,null,null,null,null,null,null,null,null,null,null,null,null,null,null,null,null,null,null,null,null,null,null,null,null,null,null,null,null,null,null,null,null,null,null,null,null,null,null,null,null,null,null,null,null,null,null,null,null,null,null,null,null,null,null,null,null,null,null,null,null,null,null,null,null,null,null,null,null,null,null,null,null,null,null,null,null,null,null,null,null,null,null,null,null,null,null,null,null,null,null,null,null,null,null,null,null,null,null,null,null,null,null,null,null,null,null,null,null,null,null,null,null,null,null,null,null,null,null,null,null,null,null,null,null,null,null,null,null,null,null,null,null,null,null,null,null,null,null,null,null,null,null,null,null,null,null,null,null,null,null,null,null,null,null,null,null,null,null,null,null,null,null,null,null,null,null,null,null,null,null,null,null,null,null,null,null,null,null,null,null,null,null,null,null,null,null,null,null,null,null,null,null,809,"DF8"]
[null,null,null,null,null,null,null,null,null,null,null,null,null,null,null,null,null,null,null,null,null,null,null,null,null,null,null,null,null,null,null,null,null,null,null,null,null,null,null,null,null,null,null,null,null,null,null,null,null,null,null,null,null,null,null,null,null,null,null,null,null,null,null,null,null,null,null,null,null,null,null,null,null,null,null,null,null,null,null,null,null,null,null,null,null,null,null,null,null,null,null,null,null,null,null,null,null,null,null,null,null,null,null,null,null,null,null,null,null,null,null,null,null,null,null,null,null,null,null,null,null,null,null,null,null,null,null,null,null,null,null,null,null,null,null,null,null,null,null,null,null,null,null,null,null,null,null,null,null,null,null,null,null,null,null,null,null,null,null,null,null,null,null,null,null,null,null,null,null,null,null,null,null,null,null,null,null,null,null,null,null,null,null,null,null,null,null,null,null,null,null,null,null,null,null,null,null,null,null,null,null,null,null,null,null,null,null,null,null,null,null,null,null,null,null,null,null,null,null,null,null,null,null,null,null,null,null,null,null,null,null,null,null,null,null,null,null,null,null,null,null,null,null,null,null,null,null,null,null,null,null,null,null,null,null,null,null,null,null,null,null,null,null,null,null,null,null,null,null,null,null,null,null,null,null,null,null,null,null,null,null,null,null,null,null,null,null,null,null,null,null,null,null,null,null,null,null,null,null,null,null,null,null,null,null,null,null,null,null,null,null,null,null,null,null,null,null,null,null,null,null,null,null,null,null,null,null,null,null,null,null,null,null,817,"DG6"]
[null,null,null,null,null,null,null,null,null,null,null,null,null,null,null,null,null,null,null,null,null,null,null,null,null,null,null,null,null,null,null,null,null,null,null,null,null,null,null,null,null,null,null,null,null,null,null,null,null,null,null,null,null,null,null,null,null,null,null,null,null,null,null,null,null,null,null,null,null,null,null,null,null,null,null,null,null,null,null,null,null,null,null,null,null,null,null,null,null,null,null,null,null,null,null,null,null,null,null,null,null,null,null,null,null,null,null,null,null,null,null,null,null,null,null,null,null,null,null,null,null,null,null,null,null,null,null,null,null,null,null,null,null,null,null,null,null,null,null,null,null,null,null,null,null,null,null,null,null,null,null,null,null,null,null,null,null,null,null,null,null,null,null,null,null,null,null,null,null,null,null,null,null,null,null,null,null,null,null,null,null,null,null,null,null,null,null,null,null,null,null,null,null,null,null,null,null,null,null,null,null,null,null,null,null,null,null,null,null,null,null,null,null,null,null,null,null,null,null,null,null,null,null,null,null,null,null,null,null,null,null,null,null,null,null,null,null,null,null,null,null,null,null,null,null,null,null,null,null,null,null,null,null,null,null,null,null,null,null,null,null,null,null,null,null,null,null,null,null,null,null,null,null,null,null,null,null,null,null,null,null,null,null,null,null,null,null,null,null,null,null,null,null,null,null,null,null,null,null,null,null,null,null,null,null,null,null,null,null,null,null,null,null,null,null,null,null,null,null,null,null,null,null,null,null,null,null,null,null,null,null,null,null,822,"DH1"]
[null,null,null,null,null,null,null,null,null,null,null,null,null,null,null,null,null,null,null,null,null,null,null,null,null,null,null,null,null,null,null,null,null,null,null,null,null,null,null,null,null,null,null,null,null,null,null,null,null,null,null,null,null,null,null,null,null,null,null,null,null,null,null,null,null,null,null,null,null,null,null,null,null,null,null,null,null,null,null,null,null,null,null,null,null,null,null,null,null,null,null,null,null,null,null,null,null,null,null,null,null,null,null,null,null,null,null,null,null,null,null,null,null,null,null,null,null,null,null,null,null,null,null,null,null,null,null,null,null,null,null,null,null,null,null,null,null,null,null,null,null,null,null,null,null,null,null,null,null,null,null,null,null,null,null,null,null,null,null,null,null,null,null,null,null,null,null,null,null,null,null,null,null,null,null,null,null,null,null,null,null,null,null,null,null,null,null,null,null,null,null,null,null,null,null,null,null,null,null,null,null,null,null,null,null,null,null,null,null,null,null,null,null,null,null,null,null,null,null,null,null,null,null,null,null,null,null,null,null,null,null,null,null,null,null,null,null,null,null,null,null,null,null,null,null,null,null,null,null,null,null,null,null,null,null,null,null,null,null,null,null,null,null,null,null,null,null,null,null,null,null,null,null,null,null,null,null,null,null,null,null,null,null,null,null,null,null,null,null,null,null,null,null,null,null,null,null,null,null,null,null,null,null,null,null,null,null,null,null,null,null,null,null,null,null,null,null,null,null,null,null,null,null,null,null,null,null,null,null,null,null,null,null,829,"DH8"]
[null,null,null,null,null,null,null,null,null,null,null,null,null,null,null,null,null,null,null,null,null,null,null,null,null,null,null,null,null,null,null,null,null,null,null,null,null,null,null,null,null,null,null,null,null,null,null,null,null,null,null,null,null,null,null,null,null,null,null,null,null,null,null,null,null,null,null,null,null,null,null,null,null,null,null,null,null,null,null,null,null,null,null,null,null,null,null,null,null,null,null,null,null,null,null,null,null,null,null,null,null,null,null,null,null,null,null,null,null,null,null,null,null,null,null,null,null,null,null,null,null,null,null,null,null,null,null,null,null,null,null,null,null,null,null,null,null,null,null,null,null,null,null,null,null,null,null,null,null,null,null,null,null,null,null,null,null,null,null,null,null,null,null,null,null,null,null,null,null,null,null,null,null,null,null,null,null,null,null,null,null,null,null,null,null,null,null,null,null,null,null,null,null,null,null,null,null,null,null,null,null,null,null,null,null,null,null,null,null,null,null,null,null,null,null,null,null,null,null,null,null,null,null,null,null,null,null,null,null,null,null,null,null,null,null,null,null,null,null,null,null,null,null,null,null,null,null,null,null,null,null,null,null,null,null,null,null,null,null,null,null,null,null,null,null,null,null,null,null,null,null,null,null,null,null,null,null,null,null,null,null,null,null,null,null,null,null,null,null,null,null,null,null,null,null,null,null,null,null,null,null,null,null,null,null,null,null,null,null,null,null,null,null,null,null,null,null,null,null,null,null,null,null,null,null,null,null,null,null,null,null,null,null,834,"DI3"]
[null,null,null,null,null,null,null,null,null,null,null,null,null,null,null,null,null,null,null,null,null,null,null,null,null,null,null,null,null,null,null,null,null,null,null,null,null,null,null,null,null,null,null,null,null,null,null,null,null,null,null,null,null,null,null,null,null,null,null,null,null,null,null,null,null,null,null,null,null,null,null,null,null,null,null,null,null,null,null,null,null,null,null,null,null,null,null,null,null,null,null,null,null,null,null,null,null,null,null,null,null,null,null,null,null,null,null,null,null,null,null,null,null,null,null,null,null,null,null,null,null,null,null,null,null,null,null,null,null,null,null,null,null,null,null,null,null,null,null,null,null,null,null,null,null,null,null,null,null,null,null,null,null,null,null,null,null,null,null,null,null,null,null,null,null,null,null,null,null,null,null,null,null,null,null,null,null,null,null,null,null,null,null,null,null,null,null,null,null,null,null,null,null,null,null,null,null,null,null,null,null,null,null,null,null,null,null,null,null,null,null,null,null,null,null,null,null,null,null,null,null,null,null,null,null,null,null,null,null,null,null,null,null,null,null,null,null,null,null,null,null,null,null,null,null,null,null,null,null,null,null,null,null,null,null,null,null,null,null,null,null,null,null,null,null,null,null,null,null,null,null,null,null,null,null,null,null,null,null,null,null,null,null,null,null,null,null,null,null,null,null,null,null,null,null,null,null,null,null,null,null,null,null,null,null,null,null,null,null,null,null,null,null,null,null,null,null,null,null,null,null,null,null,null,null,null,null,null,null,null,null,null,null,842,"DJ1"]
[null,null,null,null,null,null,null,null,null,null,null,null,null,null,null,null,null,null,null,null,null,null,null,null,null,null,null,null,null,null,null,null,null,null,null,null,null,null,null,null,null,null,null,null,null,null,null,null,null,null,null,null,null,null,null,null,null,null,null,null,null,null,null,null,null,null,null,null,null,null,null,null,null,null,null,null,null,null,null,null,null,null,null,null,null,null,null,null,null,null,null,null,null,null,null,null,null,null,null,null,null,null,null,null,null,null,null,null,null,null,null,null,null,null,null,null,null,null,null,null,null,null,null,null,null,null,null,null,null,null,null,null,null,null,null,null,null,null,null,null,null,null,null,null,null,null,null,null,null,null,null,null,null,null,null,null,null,null,null,null,null,null,null,null,null,null,null,null,null,null,null,null,null,null,null,null,null,null,null,null,null,null,null,null,null,null,null,null,null,null,null,null,null,null,null,null,null,null,null,null,null,null,null,null,null,null,null,null,null,null,null,null,null,null,null,null,null,null,null,null,null,null,null,null,null,null,null,null,null,null,null,null,null,null,null,null,null,null,null,null,null,null,null,null,null,null,null,null,null,null,null,null,null,null,null,null,null,null,null,null,null,null,null,null,null,null,null,null,null,null,null,null,null,null,null,null,null,null,null,null,null,null,null,null,null,null,null,null,null,null,null,null,null,null,null,null,null,null,null,null,null,null,null,null,null,null,null,null,null,null,null,null,null,null,null,null,null,null,null,null,null,null,null,null,null,null,null,null,null,null,null,null,null,850,"DJ9"]
[null,null,null,null,null,null,null,null,null,null,null,null,null,null,null,null,null,null,null,null,null,null,null,null,null,null,null,null,null,null,null,null,null,null,null,null,null,null,null,null,null,null,null,null,null,null,null,null,null,null,null,null,null,null,null,null,null,null,null,null,null,null,null,null,null,null,null,null,null,null,null,null,null,null,null,null,null,null,null,null,null,null,null,null,null,null,null,null,null,null,null,null,null,null,null,null,null,null,null,null,null,null,null,null,null,null,null,null,null,null,null,null,null,null,null,null,null,null,null,null,null,null,null,null,null,null,null,null,null,null,null,null,null,null,null,null,null,null,null,null,null,null,null,null,null,null,null,null,null,null,null,null,null,null,null,null,null,null,null,null,null,null,null,null,null,null,null,null,null,null,null,null,null,null,null,null,null,null,null,null,null,null,null,null,null,null,null,null,null,null,null,null,null,null,null,null,null,null,null,null,null,null,null,null,null,null,null,null,null,null,null,null,null,null,null,null,null,null,null,null,null,null,null,null,null,null,null,null,null,null,null,null,null,null,null,null,null,null,null,null,null,null,null,null,null,null,null,null,null,null,null,null,null,null,null,null,null,null,null,null,null,null,null,null,null,null,null,null,null,null,null,null,null,null,null,null,null,null,null,null,null,null,null,null,null,null,null,null,null,null,null,null,null,null,null,null,null,null,null,null,null,null,null,null,null,null,null,null,null,null,null,null,null,null,null,null,null,null,null,null,null,null,null,null,null,null,null,null,null,null,null,null,null,858,"DK7"]
[null,null,null,null,null,null,null,null,null,null,null,null,null,null,null,null,null,null,null,null,null,null,null,null,null,null,null,null,null,null,null,null,null,null,null,null,null,null,null,null,null,null,null,null,null,null,null,null,null,null,null,null,null,null,null,null,null,null,null,null,null,null,null,null,null,null,null,null,null,null,null,null,null,null,null,null,null,null,null,null,null,null,null,null,null,null,null,null,null,null,null,null,null,null,null,null,null,null,null,null,null,null,null,null,null,null,null,null,null,null,null,null,null,null,null,null,null,null,null,null,null,null,null,null,null,null,null,null,null,null,null,null,null,null,null,null,null,null,null,null,null,null,null,null,null,null,null,null,null,null,null,null,null,null,null,null,null,null,null,null,null,null,null,null,null,null,null,null,null,null,null,null,null,null,null,null,null,null,null,null,null,null,null,null,null,null,null,null,null,null,null,null,null,null,null,null,null,null,null,null,null,null,null,null,null,null,null,null,null,null,null,null,null,null,null,null,null,null,null,null,null,null,null,null,null,null,null,null,null,null,null,null,null,null,null,null,null,null,null,null,null,null,null,null,null,null,null,null,null,null,null,null,null,null,null,null,null,null,null,null,null,null,null,null,null,null,null,null,null,null,null,null,null,null,null,null,null,null,null,null,null,null,null,null,null,null,null,null,null,null,null,null,null,null,null,null,null,null,null,null,null,null,null,null,null,null,null,null,null,null,null,null,null,null,null,null,null,null,null,null,null,null,null,null,null,null,null,null,null,null,null,null,null,862,"DL1"]
[null,null,null,null,null,null,null,null,null,null,null,null,null,null,null,null,null,null,null,null,null,null,null,null,null,null,null,null,null,null,null,null,null,null,null,null,null,null,null,null,null,null,null,null,null,null,null,null,null,null,null,null,null,null,null,null,null,null,null,null,null,null,null,null,null,null,null,null,null,null,null,null,null,null,null,null,null,null,null,null,null,null,null,null,null,null,null,null,null,null,null,null,null,null,null,null,null,null,null,null,null,null,null,null,null,null,null,null,null,null,null,null,null,null,null,null,null,null,null,null,null,null,null,null,null,null,null,null,null,null,null,null,null,null,null,null,null,null,null,null,null,null,null,null,null,null,null,null,null,null,null,null,null,null,null,null,null,null,null,null,null,null,null,null,null,null,null,null,null,null,null,null,null,null,null,null,null,null,null,null,null,null,null,null,null,null,null,null,null,null,null,null,null,null,null,null,null,null,null,null,null,null,null,null,null,null,null,null,null,null,null,null,null,null,null,null,null,null,null,null,null,null,null,null,null,null,null,null,null,null,null,null,null,null,null,null,null,null,null,null,null,null,null,null,null,null,null,null,null,null,null,null,null,null,null,null,null,null,null,null,null,null,null,null,null,null,null,null,null,null,null,null,null,null,null,null,null,null,null,null,null,null,null,null,null,null,null,null,null,null,null,null,null,null,null,null,null,null,null,null,null,null,null,null,null,null,null,null,null,null,null,null,null,null,null,null,null,null,null,null,null,null,null,null,null,null,null,null,null,null,null,null,null,874,"DM3"]
[null,null,null,null,null,null,null,null,null,null,null,null,null,null,null,null,null,null,null,null,null,null,null,null,null,null,null,null,null,null,null,null,null,null,null,null,null,null,null,null,null,null,null,null,null,null,null,null,null,null,null,null,null,null,null,null,null,null,null,null,null,null,null,null,null,null,null,null,null,null,null,null,null,null,null,null,null,null,null,null,null,null,null,null,null,null,null,null,null,null,null,null,null,null,null,null,null,null,null,null,null,null,null,null,null,null,null,null,null,null,null,null,null,null,null,null,null,null,null,null,null,null,null,null,null,null,null,null,null,null,null,null,null,null,null,null,null,null,null,null,null,null,null,null,null,null,null,null,null,null,null,null,null,null,null,null,null,null,null,null,null,null,null,null,null,null,null,null,null,null,null,null,null,null,null,null,null,null,null,null,null,null,null,null,null,null,null,null,null,null,null,null,null,null,null,null,null,null,null,null,null,null,null,null,null,null,null,null,null,null,null,null,null,null,null,null,null,null,null,null,null,null,null,null,null,null,null,null,null,null,null,null,null,null,null,null,null,null,null,null,null,null,null,null,null,null,null,null,null,null,null,null,null,null,null,null,null,null,null,null,null,null,null,null,null,null,null,null,null,null,null,null,null,null,null,null,null,null,null,null,null,null,null,null,null,null,null,null,null,null,null,null,null,null,null,null,null,null,null,null,null,null,null,null,null,null,null,null,null,null,null,null,null,null,null,null,null,null,null,null,null,null,null,null,null,null,null,null,null,null,null,null,null,875,"DM4"]
[null,null,null,null,null,null,null,null,null,null,null,null,null,null,null,null,null,null,null,null,null,null,null,null,null,null,null,null,null,null,null,null,null,null,null,null,null,null,null,null,null,null,null,null,null,null,null,null,null,null,null,null,null,null,null,null,null,null,null,null,null,null,null,null,null,null,null,null,null,null,null,null,null,null,null,null,null,null,null,null,null,null,null,null,null,null,null,null,null,null,null,null,null,null,null,null,null,null,null,null,null,null,null,null,null,null,null,null,null,null,null,null,null,null,null,null,null,null,null,null,null,null,null,null,null,null,null,null,null,null,null,null,null,null,null,null,null,null,null,null,null,null,null,null,null,null,null,null,null,null,null,null,null,null,null,null,null,null,null,null,null,null,null,null,null,null,null,null,null,null,null,null,null,null,null,null,null,null,null,null,null,null,null,null,null,null,null,null,null,null,null,null,null,null,null,null,null,null,null,null,null,null,null,null,null,null,null,null,null,null,null,null,null,null,null,null,null,null,null,null,null,null,null,null,null,null,null,null,null,null,null,null,null,null,null,null,null,null,null,null,null,null,null,null,null,null,null,null,null,null,null,null,null,null,null,null,null,null,null,null,null,null,null,null,null,null,null,null,null,null,null,null,null,null,null,null,null,null,null,null,null,null,null,null,null,null,null,null,null,null,null,null,null,null,null,null,null,null,null,null,null,null,null,null,null,null,null,null,null,null,null,null,null,null,null,null,null,null,null,null,null,null,null,null,null,null,null,null,null,null,null,null,null,883,"DN2"]
[null,null,null,null,null,null,null,null,null,null,null,null,null,null,null,null,null,null,null,null,null,null,null,null,null,null,null,null,null,null,null,null,null,null,null,null,null,null,null,null,null,null,null,null,null,null,null,null,null,null,null,null,null,null,null,null,null,null,null,null,null,null,null,null,null,null,null,null,null,null,null,null,null,null,null,null,null,null,null,null,null,null,null,null,null,null,null,null,null,null,null,null,null,null,null,null,null,null,null,null,null,null,null,null,null,null,null,null,null,null,null,null,null,null,null,null,null,null,null,null,null,null,null,null,null,null,null,null,null,null,null,null,null,null,null,null,null,null,null,null,null,null,null,null,null,null,null,null,null,null,null,null,null,null,null,null,null,null,null,null,null,null,null,null,null,null,null,null,null,null,null,null,null,null,null,null,null,null,null,null,null,null,null,null,null,null,null,null,null,null,null,null,null,null,null,null,null,null,null,null,null,null,null,null,null,null,null,null,null,null,null,null,null,null,null,null,null,null,null,null,null,null,null,null,null,null,null,null,null,null,null,null,null,null,null,null,null,null,null,null,null,null,null,null,null,null,null,null,null,null,null,null,null,null,null,null,null,null,null,null,null,null,null,null,null,null,null,null,null,null,null,null,null,null,null,null,null,null,null,null,null,null,null,null,null,null,null,null,null,null,null,null,null,null,null,null,null,null,null,null,null,null,null,null,null,null,null,null,null,null,null,null,null,null,null,null,null,null,null,null,null,null,null,null,null,null,null,null,null,null,null,null,null,894,"DO3"]
[null,null,null,null,null,null,null,null,null,null,null,null,null,null,null,null,null,null,null,null,null,null,null,null,null,null,null,null,null,null,null,null,null,null,null,null,null,null,null,null,null,null,null,null,null,null,null,null,null,null,null,null,null,null,null,null,null,null,null,null,null,null,null,null,null,null,null,null,null,null,null,null,null,null,null,null,null,null,null,null,null,null,null,null,null,null,null,null,null,null,null,null,null,null,null,null,null,null,null,null,null,null,null,null,null,null,null,null,null,null,null,null,null,null,null,null,null,null,null,null,null,null,null,null,null,null,null,null,null,null,null,null,null,null,null,null,null,null,null,null,null,null,null,null,null,null,null,null,null,null,null,null,null,null,null,null,null,null,null,null,null,null,null,null,null,null,null,null,null,null,null,null,null,null,null,null,null,null,null,null,null,null,null,null,null,null,null,null,null,null,null,null,null,null,null,null,null,null,null,null,null,null,null,null,null,null,null,null,null,null,null,null,null,null,null,null,null,null,null,null,null,null,null,null,null,null,null,null,null,null,null,null,null,null,null,null,null,null,null,null,null,null,null,null,null,null,null,null,null,null,null,null,null,null,null,null,null,null,null,null,null,null,null,null,null,null,null,null,null,null,null,null,null,null,null,null,null,null,null,null,null,null,null,null,null,null,null,null,null,null,null,null,null,null,null,null,null,null,null,null,null,null,null,null,null,null,null,null,null,null,null,null,null,null,null,null,null,null,null,null,null,null,null,null,null,null,null,null,null,null,null,null,null,895,"DO4"]
[null,null,null,null,null,null,null,null,null,null,null,null,null,null,null,null,null,null,null,null,null,null,null,null,null,null,null,null,null,null,null,null,null,null,null,null,null,null,null,null,null,null,null,null,null,null,null,null,null,null,null,null,null,null,null,null,null,null,null,null,null,null,null,null,null,null,null,null,null,null,null,null,null,null,null,null,null,null,null,null,null,null,null,null,null,null,null,null,null,null,null,null,null,null,null,null,null,null,null,null,null,null,null,null,null,null,null,null,null,null,null,null,null,null,null,null,null,null,null,null,null,null,null,null,null,null,null,null,null,null,null,null,null,null,null,null,null,null,null,null,null,null,null,null,null,null,null,null,null,null,null,null,null,null,null,null,null,null,null,null,null,null,null,null,null,null,null,null,null,null,null,null,null,null,null,null,null,null,null,null,null,null,null,null,null,null,null,null,null,null,null,null,null,null,null,null,null,null,null,null,null,null,null,null,null,null,null,null,null,null,null,null,null,null,null,null,null,null,null,null,null,null,null,null,null,null,null,null,null,null,null,null,null,null,null,null,null,null,null,null,null,null,null,null,null,null,null,null,null,null,null,null,null,null,null,null,null,null,null,null,null,null,null,null,null,null,null,null,null,null,null,null,null,null,null,null,null,null,null,null,null,null,null,null,null,null,null,null,null,null,null,null,null,null,null,null,null,null,null,null,null,null,null,null,null,null,null,null,null,null,null,null,null,null,null,null,null,null,null,null,null,null,null,null,null,null,null,null,null,null,null,null,null,903,"DP2"]
[null,null,null,null,null,null,null,null,null,null,null,null,null,null,null,null,null,null,null,null,null,null,null,null,null,null,null,null,null,null,null,null,null,null,null,null,null,null,null,null,null,null,null,null,null,null,null,null,null,null,null,null,null,null,null,null,null,null,null,null,null,null,null,null,null,null,null,null,null,null,null,null,null,null,null,null,null,null,null,null,null,null,null,null,null,null,null,null,null,null,null,null,null,null,null,null,null,null,null,null,null,null,null,null,null,null,null,null,null,null,null,null,null,null,null,null,null,null,null,null,null,null,null,null,null,null,null,null,null,null,null,null,null,null,null,null,null,null,null,null,null,null,null,null,null,null,null,null,null,null,null,null,null,null,null,null,null,null,null,null,null,null,null,null,null,null,null,null,null,null,null,null,null,null,null,null,null,null,null,null,null,null,null,null,null,null,null,null,null,null,null,null,null,null,null,null,null,null,null,null,null,null,null,null,null,null,null,null,null,null,null,null,null,null,null,null,null,null,null,null,null,null,null,null,null,null,null,null,null,null,null,null,null,null,null,null,null,null,null,null,null,null,null,null,null,null,null,null,null,null,null,null,null,null,null,null,null,null,null,null,null,null,null,null,null,null,null,null,null,null,null,null,null,null,null,null,null,null,null,null,null,null,null,null,null,null,null,null,null,null,null,null,null,null,null,null,null,null,null,null,null,null,null,null,null,null,null,null,null,null,null,null,null,null,null,null,null,null,null,null,null,null,null,null,null,null,null,null,null,null,null,null,null,912,"DQ1"]
[null,null,null,null,null,null,null,null,null,null,null,null,null,null,null,null,null,null,null,null,null,null,null,null,null,null,null,null,null,null,null,null,null,null,null,null,null,null,null,null,null,null,null,null,null,null,null,null,null,null,null,null,null,null,null,null,null,null,null,null,null,null,null,null,null,null,null,null,null,null,null,null,null,null,null,null,null,null,null,null,null,null,null,null,null,null,null,null,null,null,null,null,null,null,null,null,null,null,null,null,null,null,null,null,null,null,null,null,null,null,null,null,null,null,null,null,null,null,null,null,null,null,null,null,null,null,null,null,null,null,null,null,null,null,null,null,null,null,null,null,null,null,null,null,null,null,null,null,null,null,null,null,null,null,null,null,null,null,null,null,null,null,null,null,null,null,null,null,null,null,null,null,null,null,null,null,null,null,null,null,null,null,null,null,null,null,null,null,null,null,null,null,null,null,null,null,null,null,null,null,null,null,null,null,null,null,null,null,null,null,null,null,null,null,null,null,null,null,null,null,null,null,null,null,null,null,null,null,null,null,null,null,null,null,null,null,null,null,null,null,null,null,null,null,null,null,null,null,null,null,null,null,null,null,null,null,null,null,null,null,null,null,null,null,null,null,null,null,null,null,null,null,null,null,null,null,null,null,null,null,null,null,null,null,null,null,null,null,null,null,null,null,null,null,null,null,null,null,null,null,null,null,null,null,null,null,null,null,null,null,null,null,null,null,null,null,null,null,null,null,null,null,null,null,null,null,null,null,null,null,null,null,null,915,"DQ4"]
[null,null,null,null,null,null,null,null,null,null,null,null,null,null,null,null,null,null,null,null,null,null,null,null,null,null,null,null,null,null,null,null,null,null,null,null,null,null,null,null,null,null,null,null,null,null,null,null,null,null,null,null,null,null,null,null,null,null,null,null,null,null,null,null,null,null,null,null,null,null,null,null,null,null,null,null,null,null,null,null,null,null,null,null,null,null,null,null,null,null,null,null,null,null,null,null,null,null,null,null,null,null,null,null,null,null,null,null,null,null,null,null,null,null,null,null,null,null,null,null,null,null,null,null,null,null,null,null,null,null,null,null,null,null,null,null,null,null,null,null,null,null,null,null,null,null,null,null,null,null,null,null,null,null,null,null,null,null,null,null,null,null,null,null,null,null,null,null,null,null,null,null,null,null,null,null,null,null,null,null,null,null,null,null,null,null,null,null,null,null,null,null,null,null,null,null,null,null,null,null,null,null,null,null,null,null,null,null,null,null,null,null,null,null,null,null,null,null,null,null,null,null,null,null,null,null,null,null,null,null,null,null,null,null,null,null,null,null,null,null,null,null,null,null,null,null,null,null,null,null,null,null,null,null,null,null,null,null,null,null,null,null,null,null,null,null,null,null,null,null,null,null,null,null,null,null,null,null,null,null,null,null,null,null,null,null,null,null,null,null,null,null,null,null,null,null,null,null,null,null,null,null,null,null,null,null,null,null,null,null,null,null,null,null,null,null,null,null,null,null,null,null,null,null,null,null,null,null,null,null,null,null,null,927,"DR6"]
[null,null,null,null,null,null,null,null,null,null,null,null,null,null,null,null,null,null,null,null,null,null,null,null,null,null,null,null,null,null,null,null,null,null,null,null,null,null,null,null,null,null,null,null,null,null,null,null,null,null,null,null,null,null,null,null,null,null,null,null,null,null,null,null,null,null,null,null,null,null,null,null,null,null,null,null,null,null,null,null,null,null,null,null,null,null,null,null,null,null,null,null,null,null,null,null,null,null,null,null,null,null,null,null,null,null,null,null,null,null,null,null,null,null,null,null,null,null,null,null,null,null,null,null,null,null,null,null,null,null,null,null,null,null,null,null,null,null,null,null,null,null,null,null,null,null,null,null,null,null,null,null,null,null,null,null,null,null,null,null,null,null,null,null,null,null,null,null,null,null,null,null,null,null,null,null,null,null,null,null,null,null,null,null,null,null,null,null,null,null,null,null,null,null,null,null,null,null,null,null,null,null,null,null,null,null,null,null,null,null,null,null,null,null,null,null,null,null,null,null,null,null,null,null,null,null,null,null,null,null,null,null,null,null,null,null,null,null,null,null,null,null,null,null,null,null,null,null,null,null,null,null,null,null,null,null,null,null,null,null,null,null,null,null,null,null,null,null,null,null,null,null,null,null,null,null,null,null,null,null,null,null,null,null,null,null,null,null,null,null,null,null,null,null,null,null,null,null,null,null,null,null,null,null,null,null,null,null,null,null,null,null,null,null,null,null,null,null,null,null,null,null,null,null,null,null,null,null,null,null,null,null,null,935,"DS4"]
[null,null,null,null,null,null,null,null,null,null,null,null,null,null,null,null,null,null,null,null,null,null,null,null,null,null,null,null,null,null,null,null,null,null,null,null,null,null,null,null,null,null,null,null,null,null,null,null,null,null,null,null,null,null,null,null,null,null,null,null,null,null,null,null,null,null,null,null,null,null,null,null,null,null,null,null,null,null,null,null,null,null,null,null,null,null,null,null,null,null,null,null,null,null,null,null,null,null,null,null,null,null,null,null,null,null,null,null,null,null,null,null,null,null,null,null,null,null,null,null,null,null,null,null,null,null,null,null,null,null,null,null,null,null,null,null,null,null,null,null,null,null,null,null,null,null,null,null,null,null,null,null,null,null,null,null,null,null,null,null,null,null,null,null,null,null,null,null,null,null,null,null,null,null,null,null,null,null,null,null,null,null,null,null,null,null,null,null,null,null,null,null,null,null,null,null,null,null,null,null,null,null,null,null,null,null,null,null,null,null,null,null,null,null,null,null,null,null,null,null,null,null,null,null,null,null,null,null,null,null,null,null,null,null,null,null,null,null,null,null,null,null,null,null,null,null,null,null,null,null,null,null,null,null,null,null,null,null,null,null,null,null,null,null,null,null,null,null,null,null,null,null,null,null,null,null,null,null,null,null,null,null,null,null,null,null,null,null,null,null,null,null,null,null,null,null,null,null,null,null,null,null,null,null,null,null,null,null,null,null,null,null,null,null,null,null,null,null,null,null,null,null,null,null,null,null,null,null,null,null,null,null,null,937,"DS6"]
[null,null,null,null,null,null,null,null,null,null,null,null,null,null,null,null,null,null,null,null,null,null,null,null,null,null,null,null,null,null,null,null,null,null,null,null,null,null,null,null,null,null,null,null,null,null,null,null,null,null,null,null,null,null,null,null,null,null,null,null,null,null,null,null,null,null,null,null,null,null,null,null,null,null,null,null,null,null,null,null,null,null,null,null,null,null,null,null,null,null,null,null,null,null,null,null,null,null,null,null,null,null,null,null,null,null,null,null,null,null,null,null,null,null,null,null,null,null,null,null,null,null,null,null,null,null,null,null,null,null,null,null,null,null,null,null,null,null,null,null,null,null,null,null,null,null,null,null,null,null,null,null,null,null,null,null,null,null,null,null,null,null,null,null,null,null,null,null,null,null,null,null,null,null,null,null,null,null,null,null,null,null,null,null,null,null,null,null,null,null,null,null,null,null,null,null,null,null,null,null,null,null,null,null,null,null,null,null,null,null,null,null,null,null,null,null,null,null,null,null,null,null,null,null,null,null,null,null,null,null,null,null,null,null,null,null,null,null,null,null,null,null,null,null,null,null,null,null,null,null,null,null,null,null,null,null,null,null,null,null,null,null,null,null,null,null,null,null,null,null,null,null,null,null,null,null,null,null,null,null,null,null,null,null,null,null,null,null,null,null,null,null,null,null,null,null,null,null,null,null,null,null,null,null,null,null,null,null,null,null,null,null,null,null,null,null,null,null,null,null,null,null,null,null,null,null,null,null,null,null,null,null,null,947,"DT6"]
[null,null,null,null,null,null,null,null,null,null,null,null,null,null,null,null,null,null,null,null,null,null,null,null,null,null,null,null,null,null,null,null,null,null,null,null,null,null,null,null,null,null,null,null,null,null,null,null,null,null,null,null,null,null,null,null,null,null,null,null,null,null,null,null,null,null,null,null,null,null,null,null,null,null,null,null,null,null,null,null,null,null,null,null,null,null,null,null,null,null,null,null,null,null,null,null,null,null,null,null,null,null,null,null,null,null,null,null,null,null,null,null,null,null,null,null,null,null,null,null,null,null,null,null,null,null,null,null,null,null,null,null,null,null,null,null,null,null,null,null,null,null,null,null,null,null,null,null,null,null,null,null,null,null,null,null,null,null,null,null,null,null,null,null,null,null,null,null,null,null,null,null,null,null,null,null,null,null,null,null,null,null,null,null,null,null,null,null,null,null,null,null,null,null,null,null,null,null,null,null,null,null,null,null,null,null,null,null,null,null,null,null,null,null,null,null,null,null,null,null,null,null,null,null,null,null,null,null,null,null,null,null,null,null,null,null,null,null,null,null,null,null,null,null,null,null,null,null,null,null,null,null,null,null,null,null,null,null,null,null,null,null,null,null,null,null,null,null,null,null,null,null,null,null,null,null,null,null,null,null,null,null,null,null,null,null,null,null,null,null,null,null,null,null,null,null,null,null,null,null,null,null,null,null,null,null,null,null,null,null,null,null,null,null,null,null,null,null,null,null,null,null,null,null,null,null,null,null,null,null,null,null,null,955,"DU4"]
[null,null,null,null,null,null,null,null,null,null,null,null,null,null,null,null,null,null,null,null,null,null,null,null,null,null,null,null,null,null,null,null,null,null,null,null,null,null,null,null,null,null,null,null,null,null,null,null,null,null,null,null,null,null,null,null,null,null,null,null,null,null,null,null,null,null,null,null,null,null,null,null,null,null,null,null,null,null,null,null,null,null,null,null,null,null,null,null,null,null,null,null,null,null,null,null,null,null,null,null,null,null,null,null,null,null,null,null,null,null,null,null,null,null,null,null,null,null,null,null,null,null,null,null,null,null,null,null,null,null,null,null,null,null,null,null,null,null,null,null,null,null,null,null,null,null,null,null,null,null,null,null,null,null,null,null,null,null,null,null,null,null,null,null,null,null,null,null,null,null,null,null,null,null,null,null,null,null,null,null,null,null,null,null,null,null,null,null,null,null,null,null,null,null,null,null,null,null,null,null,null,null,null,null,null,null,null,null,null,null,null,null,null,null,null,null,null,null,null,null,null,null,null,null,null,null,null,null,null,null,null,null,null,null,null,null,null,null,null,null,null,null,null,null,null,null,null,null,null,null,null,null,null,null,null,null,null,null,null,null,null,null,null,null,null,null,null,null,null,null,null,null,null,null,null,null,null,null,null,null,null,null,null,null,null,null,null,null,null,null,null,null,null,null,null,null,null,null,null,null,null,null,null,null,null,null,null,null,null,null,null,null,null,null,null,null,null,null,null,null,null,null,null,null,null,null,null,null,null,null,null,null,null,956,"DU5"]
[null,null,null,null,null,null,null,null,null,null,null,null,null,null,null,null,null,null,null,null,null,null,null,null,null,null,null,null,null,null,null,null,null,null,null,null,null,null,null,null,null,null,null,null,null,null,null,null,null,null,null,null,null,null,null,null,null,null,null,null,null,null,null,null,null,null,null,null,null,null,null,null,null,null,null,null,null,null,null,null,null,null,null,null,null,null,null,null,null,null,null,null,null,null,null,null,null,null,null,null,null,null,null,null,null,null,null,null,null,null,null,null,null,null,null,null,null,null,null,null,null,null,null,null,null,null,null,null,null,null,null,null,null,null,null,null,null,null,null,null,null,null,null,null,null,null,null,null,null,null,null,null,null,null,null,null,null,null,null,null,null,null,null,null,null,null,null,null,null,null,null,null,null,null,null,null,null,null,null,null,null,null,null,null,null,null,null,null,null,null,null,null,null,null,null,null,null,null,null,null,null,null,null,null,null,null,null,null,null,null,null,null,null,null,null,null,null,null,null,null,null,null,null,null,null,null,null,null,null,null,null,null,null,null,null,null,null,null,null,null,null,null,null,null,null,null,null,null,null,null,null,null,null,null,null,null,null,null,null,null,null,null,null,null,null,null,null,null,null,null,null,null,null,null,null,null,null,null,null,null,null,null,null,null,null,null,null,null,null,null,null,null,null,null,null,null,null,null,null,null,null,null,null,null,null,null,null,null,null,null,null,null,null,null,null,null,null,null,null,null,null,null,null,null,null,null,null,null,null,null,null,null,null,968,"DV7"]
[null,null,null,null,null,null,null,null,null,null,null,null,null,null,null,null,null,null,null,null,null,null,null,null,null,null,null,null,null,null,null,null,null,null,null,null,null,null,null,null,null,null,null,null,null,null,null,null,null,null,null,null,null,null,null,null,null,null,null,null,null,null,null,null,null,null,null,null,null,null,null,null,null,null,null,null,null,null,null,null,null,null,null,null,null,null,null,null,null,null,null,null,null,null,null,null,null,null,null,null,null,null,null,null,null,null,null,null,null,null,null,null,null,null,null,null,null,null,null,null,null,null,null,null,null,null,null,null,null,null,null,null,null,null,null,null,null,null,null,null,null,null,null,null,null,null,null,null,null,null,null,null,null,null,null,null,null,null,null,null,null,null,null,null,null,null,null,null,null,null,null,null,null,null,null,null,null,null,null,null,null,null,null,null,null,null,null,null,null,null,null,null,null,null,null,null,null,null,null,null,null,null,null,null,null,null,null,null,null,null,null,null,null,null,null,null,null,null,null,null,null,null,null,null,null,null,null,null,null,null,null,null,null,null,null,null,null,null,null,null,null,null,null,null,null,null,null,null,null,null,null,null,null,null,null,null,null,null,null,null,null,null,null,null,null,null,null,null,null,null,null,null,null,null,null,null,null,null,null,null,null,null,null,null,null,null,null,null,null,null,null,null,null,null,null,null,null,null,null,null,null,null,null,null,null,null,null,null,null,null,null,null,null,null,null,null,null,null,null,null,null,null,null,null,null,null,null,null,null,null,null,null,null,970,"DV9"]
[null,null,null,null,null,null,null,null,null,null,null,null,null,null,null,null,null,null,null,null,null,null,null,null,null,null,null,null,null,null,null,null,null,null,null,null,null,null,null,null,null,null,null,null,null,null,null,null,null,null,null,null,null,null,null,null,null,null,null,null,null,null,null,null,null,null,null,null,null,null,null,null,null,null,null,null,null,null,null,null,null,null,null,null,null,null,null,null,null,null,null,null,null,null,null,null,null,null,null,null,null,null,null,null,null,null,null,null,null,null,null,null,null,null,null,null,null,null,null,null,null,null,null,null,null,null,null,null,null,null,null,null,null,null,null,null,null,null,null,null,null,null,null,null,null,null,null,null,null,null,null,null,null,null,null,null,null,null,null,null,null,null,null,null,null,null,null,null,null,null,null,null,null,null,null,null,null,null,null,null,null,null,null,null,null,null,null,null,null,null,null,null,null,null,null,null,null,null,null,null,null,null,null,null,null,null,null,null,null,null,null,null,null,null,null,null,null,null,null,null,null,null,null,null,null,null,null,null,null,null,null,null,null,null,null,null,null,null,null,null,null,null,null,null,null,null,null,null,null,null,null,null,null,null,null,null,null,null,null,null,null,null,null,null,null,null,null,null,null,null,null,null,null,null,null,null,null,null,null,null,null,null,null,null,null,null,null,null,null,null,null,null,null,null,null,null,null,null,null,null,null,null,null,null,null,null,null,null,null,null,null,null,null,null,null,null,null,null,null,null,null,null,null,null,null,null,null,null,null,null,null,null,null,971,"DW0"]
[null,null,null,null,null,null,null,null,null,null,null,null,null,null,null,null,null,null,null,null,null,null,null,null,null,null,null,null,null,null,null,null,null,null,null,null,null,null,null,null,null,null,null,null,null,null,null,null,null,null,null,null,null,null,null,null,null,null,null,null,null,null,null,null,null,null,null,null,null,null,null,null,null,null,null,null,null,null,null,null,null,null,null,null,null,null,null,null,null,null,null,null,null,null,null,null,null,null,null,null,null,null,null,null,null,null,null,null,null,null,null,null,null,null,null,null,null,null,null,null,null,null,null,null,null,null,null,null,null,null,null,null,null,null,null,null,null,null,null,null,null,null,null,null,null,null,null,null,null,null,null,null,null,null,null,null,null,null,null,null,null,null,null,null,null,null,null,null,null,null,null,null,null,null,null,null,null,null,null,null,null,null,null,null,null,null,null,null,null,null,null,null,null,null,null,null,null,null,null,null,null,null,null,null,null,null,null,null,null,null,null,null,null,null,null,null,null,null,null,null,null,null,null,null,null,null,null,null,null,null,null,null,null,null,null,null,null,null,null,null,null,null,null,null,null,null,null,null,null,null,null,null,null,null,null,null,null,null,null,null,null,null,null,null,null,null,null,null,null,null,null,null,null,null,null,null,null,null,null,null,null,null,null,null,null,null,null,null,null,null,null,null,null,null,null,null,null,null,null,null,null,null,null,null,null,null,null,null,null,null,null,null,null,null,null,null,null,null,null,null,null,null,null,null,null,null,null,null,null,null,null,null,null,972,"DW1"]
[null,null,null,null,null,null,null,null,null,null,null,null,null,null,null,null,null,null,null,null,null,null,null,null,null,null,null,null,null,null,null,null,null,null,null,null,null,null,null,null,null,null,null,null,null,null,null,null,null,null,null,null,null,null,null,null,null,null,null,null,null,null,null,null,null,null,null,null,null,null,null,null,null,null,null,null,null,null,null,null,null,null,null,null,null,null,null,null,null,null,null,null,null,null,null,null,null,null,null,null,null,null,null,null,null,null,null,null,null,null,null,null,null,null,null,null,null,null,null,null,null,null,null,null,null,null,null,null,null,null,null,null,null,null,null,null,null,null,null,null,null,null,null,null,null,null,null,null,null,null,null,null,null,null,null,null,null,null,null,null,null,null,null,null,null,null,null,null,null,null,null,null,null,null,null,null,null,null,null,null,null,null,null,null,null,null,null,null,null,null,null,null,null,null,null,null,null,null,null,null,null,null,null,null,null,null,null,null,null,null,null,null,null,null,null,null,null,null,null,null,null,null,null,null,null,null,null,null,null,null,null,null,null,null,null,null,null,null,null,null,null,null,null,null,null,null,null,null,null,null,null,null,null,null,null,null,null,null,null,null,null,null,null,null,null,null,null,null,null,null,null,null,null,null,null,null,null,null,null,null,null,null,null,null,null,null,null,null,null,null,null,null,null,null,null,null,null,null,null,null,null,null,null,null,null,null,null,null,null,null,null,null,null,null,null,null,null,null,null,null,null,null,null,null,null,null,null,null,null,null,null,null,null,973,"DW2"]
[null,null,null,null,null,null,null,null,null,null,null,null,null,null,null,null,null,null,null,null,null,null,null,null,null,null,null,null,null,null,null,null,null,null,null,null,null,null,null,null,null,null,null,null,null,null,null,null,null,null,null,null,null,null,null,null,null,null,null,null,null,null,null,null,null,null,null,null,null,null,null,null,null,null,null,null,null,null,null,null,null,null,null,null,null,null,null,null,null,null,null,null,null,null,null,null,null,null,null,null,null,null,null,null,null,null,null,null,null,null,null,null,null,null,null,null,null,null,null,null,null,null,null,null,null,null,null,null,null,null,null,null,null,null,null,null,null,null,null,null,null,null,null,null,null,null,null,null,null,null,null,null,null,null,null,null,null,null,null,null,null,null,null,null,null,null,null,null,null,null,null,null,null,null,null,null,null,null,null,null,null,null,null,null,null,null,null,null,null,null,null,null,null,null,null,null,null,null,null,null,null,null,null,null,null,null,null,null,null,null,null,null,null,null,null,null,null,null,null,null,null,null,null,null,null,null,null,null,null,null,null,null,null,null,null,null,null,null,null,null,null,null,null,null,null,null,null,null,null,null,null,null,null,null,null,null,null,null,null,null,null,null,null,null,null,null,null,null,null,null,null,null,null,null,null,null,null,null,null,null,null,null,null,null,null,null,null,null,null,null,null,null,null,null,null,null,null,null,null,null,null,null,null,null,null,null,null,null,null,null,null,null,null,null,null,null,null,null,null,null,null,null,null,null,null,null,null,null,null,null,null,null,null,974,"DW3"]
[null,null,null,null,null,null,null,null,null,null,null,null,null,null,null,null,null,null,null,null,null,null,null,null,null,null,null,null,null,null,null,null,null,null,null,null,null,null,null,null,null,null,null,null,null,null,null,null,null,null,null,null,null,null,null,null,null,null,null,null,null,null,null,null,null,null,null,null,null,null,null,null,null,null,null,null,null,null,null,null,null,null,null,null,null,null,null,null,null,null,null,null,null,null,null,null,null,null,null,null,null,null,null,null,null,null,null,null,null,null,null,null,null,null,null,null,null,null,null,null,null,null,null,null,null,null,null,null,null,null,null,null,null,null,null,null,null,null,null,null,null,null,null,null,null,null,null,null,null,null,null,null,null,null,null,null,null,null,null,null,null,null,null,null,null,null,null,null,null,null,null,null,null,null,null,null,null,null,null,null,null,null,null,null,null,null,null,null,null,null,null,null,null,null,null,null,null,null,null,null,null,null,null,null,null,null,null,null,null,null,null,null,null,null,null,null,null,null,null,null,null,null,null,null,null,null,null,null,null,null,null,null,null,null,null,null,null,null,null,null,null,null,null,null,null,null,null,null,null,null,null,null,null,null,null,null,null,null,null,null,null,null,null,null,null,null,null,null,null,null,null,null,null,null,null,null,null,null,null,null,null,null,null,null,null,null,null,null,null,null,null,null,null,null,null,null,null,null,null,null,null,null,null,null,null,null,null,null,null,null,null,null,null,null,null,null,null,null,null,null,null,null,null,null,null,null,null,null,null,null,null,null,null,975,"DW4"]
[null,null,null,null,null,null,null,null,null,null,null,null,null,null,null,null,null,null,null,null,null,null,null,null,null,null,null,null,null,null,null,null,null,null,null,null,null,null,null,null,null,null,null,null,null,null,null,null,null,null,null,null,null,null,null,null,null,null,null,null,null,null,null,null,null,null,null,null,null,null,null,null,null,null,null,null,null,null,null,null,null,null,null,null,null,null,null,null,null,null,null,null,null,null,null,null,null,null,null,null,null,null,null,null,null,null,null,null,null,null,null,null,null,null,null,null,null,null,null,null,null,null,null,null,null,null,null,null,null,null,null,null,null,null,null,null,null,null,null,null,null,null,null,null,null,null,null,null,null,null,null,null,null,null,null,null,null,null,null,null,null,null,null,null,null,null,null,null,null,null,null,null,null,null,null,null,null,null,null,null,null,null,null,null,null,null,null,null,null,null,null,null,null,null,null,null,null,null,null,null,null,null,null,null,null,null,null,null,null,null,null,null,null,null,null,null,null,null,null,null,null,null,null,null,null,null,null,null,null,null,null,null,null,null,null,null,null,null,null,null,null,null,null,null,null,null,null,null,null,null,null,null,null,null,null,null,null,null,null,null,null,null,null,null,null,null,null,null,null,null,null,null,null,null,null,null,null,null,null,null,null,null,null,null,null,null,null,null,null,null,null,null,null,null,null,null,null,null,null,null,null,null,null,null,null,null,null,null,null,null,null,null,null,null,null,null,null,null,null,null,null,null,null,null,null,null,null,null,null,null,null,null,null,976,"DW5"]
[null,null,null,null,null,null,null,null,null,null,null,null,null,null,null,null,null,null,null,null,null,null,null,null,null,null,null,null,null,null,null,null,null,null,null,null,null,null,null,null,null,null,null,null,null,null,null,null,null,null,null,null,null,null,null,null,null,null,null,null,null,null,null,null,null,null,null,null,null,null,null,null,null,null,null,null,null,null,null,null,null,null,null,null,null,null,null,null,null,null,null,null,null,null,null,null,null,null,null,null,null,null,null,null,null,null,null,null,null,null,null,null,null,null,null,null,null,null,null,null,null,null,null,null,null,null,null,null,null,null,null,null,null,null,null,null,null,null,null,null,null,null,null,null,null,null,null,null,null,null,null,null,null,null,null,null,null,null,null,null,null,null,null,null,null,null,null,null,null,null,null,null,null,null,null,null,null,null,null,null,null,null,null,null,null,null,null,null,null,null,null,null,null,null,null,null,null,null,null,null,null,null,null,null,null,null,null,null,null,null,null,null,null,null,null,null,null,null,null,null,null,null,null,null,null,null,null,null,null,null,null,null,null,null,null,null,null,null,null,null,null,null,null,null,null,null,null,null,null,null,null,null,null,null,null,null,null,null,null,null,null,null,null,null,null,null,null,null,null,null,null,null,null,null,null,null,null,null,null,null,null,null,null,null,null,null,null,null,null,null,null,null,null,null,null,null,null,null,null,null,null,null,null,null,null,null,null,null,null,null,null,null,null,null,null,null,null,null,null,null,null,null,null,null,null,null,null,null,null,null,null,null,null,977,"DW6"]
[null,null,null,null,null,null,null,null,null,null,null,null,null,null,null,null,null,null,null,null,null,null,null,null,null,null,null,null,null,null,null,null,null,null,null,null,null,null,null,null,null,null,null,null,null,null,null,null,null,null,null,null,null,null,null,null,null,null,null,null,null,null,null,null,null,null,null,null,null,null,null,null,null,null,null,null,null,null,null,null,null,null,null,null,null,null,null,null,null,null,null,null,null,null,null,null,null,null,null,null,null,null,null,null,null,null,null,null,null,null,null,null,null,null,null,null,null,null,null,null,null,null,null,null,null,null,null,null,null,null,null,null,null,null,null,null,null,null,null,null,null,null,null,null,null,null,null,null,null,null,null,null,null,null,null,null,null,null,null,null,null,null,null,null,null,null,null,null,null,null,null,null,null,null,null,null,null,null,null,null,null,null,null,null,null,null,null,null,null,null,null,null,null,null,null,null,null,null,null,null,null,null,null,null,null,null,null,null,null,null,null,null,null,null,null,null,null,null,null,null,null,null,null,null,null,null,null,null,null,null,null,null,null,null,null,null,null,null,null,null,null,null,null,null,null,null,null,null,null,null,null,null,null,null,null,null,null,null,null,null,null,null,null,null,null,null,null,null,null,null,null,null,null,null,null,null,null,null,null,null,null,null,null,null,null,null,null,null,null,null,null,null,null,null,null,null,null,null,null,null,null,null,null,null,null,null,null,null,null,null,null,null,null,null,null,null,null,null,null,null,null,null,null,null,null,null,null,null,null,null,null,null,null,978,"DW7"]
[null,null,null,null,null,null,null,null,null,null,null,null,null,null,null,null,null,null,null,null,null,null,null,null,null,null,null,null,null,null,null,null,null,null,null,null,null,null,null,null,null,null,null,null,null,null,null,null,null,null,null,null,null,null,null,null,null,null,null,null,null,null,null,null,null,null,null,null,null,null,null,null,null,null,null,null,null,null,null,null,null,null,null,null,null,null,null,null,null,null,null,null,null,null,null,null,null,null,null,null,null,null,null,null,null,null,null,null,null,null,null,null,null,null,null,null,null,null,null,null,null,null,null,null,null,null,null,null,null,null,null,null,null,null,null,null,null,null,null,null,null,null,null,null,null,null,null,null,null,null,null,null,null,null,null,null,null,null,null,null,null,null,null,null,null,null,null,null,null,null,null,null,null,null,null,null,null,null,null,null,null,null,null,null,null,null,null,null,null,null,null,null,null,null,null,null,null,null,null,null,null,null,null,null,null,null,null,null,null,null,null,null,null,null,null,null,null,null,null,null,null,null,null,null,null,null,null,null,null,null,null,null,null,null,null,null,null,null,null,null,null,null,null,null,null,null,null,null,null,null,null,null,null,null,null,null,null,null,null,null,null,null,null,null,null,null,null,null,null,null,null,null,null,null,null,null,null,null,null,null,null,null,null,null,null,null,null,null,null,null,null,null,null,null,null,null,null,null,null,null,null,null,null,null,null,null,null,null,null,null,null,null,null,null,null,null,null,null,null,null,null,null,null,null,null,null,null,null,null,null,null,null,null,979,"DW8"]
[null,null,null,null,null,null,null,null,null,null,null,null,null,null,null,null,null,null,null,null,null,null,null,null,null,null,null,null,null,null,null,null,null,null,null,null,null,null,null,null,null,null,null,null,null,null,null,null,null,null,null,null,null,null,null,null,null,null,null,null,null,null,null,null,null,null,null,null,null,null,null,null,null,null,null,null,null,null,null,null,null,null,null,null,null,null,null,null,null,null,null,null,null,null,null,null,null,null,null,null,null,null,null,null,null,null,null,null,null,null,null,null,null,null,null,null,null,null,null,null,null,null,null,null,null,null,null,null,null,null,null,null,null,null,null,null,null,null,null,null,null,null,null,null,null,null,null,null,null,null,null,null,null,null,null,null,null,null,null,null,null,null,null,null,null,null,null,null,null,null,null,null,null,null,null,null,null,null,null,null,null,null,null,null,null,null,null,null,null,null,null,null,null,null,null,null,null,null,null,null,null,null,null,null,null,null,null,null,null,null,null,null,null,null,null,null,null,null,null,null,null,null,null,null,null,null,null,null,null,null,null,null,null,null,null,null,null,null,null,null,null,null,null,null,null,null,null,null,null,null,null,null,null,null,null,null,null,null,null,null,null,null,null,null,null,null,null,null,null,null,null,null,null,null,null,null,null,null,null,null,null,null,null,null,null,null,null,null,null,null,null,null,null,null,null,null,null,null,null,null,null,null,null,null,null,null,null,null,null,null,null,null,null,null,null,null,null,null,null,null,null,null,null,null,null,null,null,null,null,null,null,null,null,980,"DW9"]
[null,null,null,null,null,null,null,null,null,null,null,null,null,null,null,null,null,null,null,null,null,null,null,null,null,null,null,null,null,null,null,null,null,null,null,null,null,null,null,null,null,null,null,null,null,null,null,null,null,null,null,null,null,null,null,null,null,null,null,null,null,null,null,null,null,null,null,null,null,null,null,null,null,null,null,null,null,null,null,null,null,null,null,null,null,null,null,null,null,null,null,null,null,null,null,null,null,null,null,null,null,null,null,null,null,null,null,null,null,null,null,null,null,null,null,null,null,null,null,null,null,null,null,null,null,null,null,null,null,null,null,null,null,null,null,null,null,null,null,null,null,null,null,null,null,null,null,null,null,null,null,null,null,null,null,null,null,null,null,null,null,null,null,null,null,null,null,null,null,null,null,null,null,null,null,null,null,null,null,null,null,null,null,null,null,null,null,null,null,null,null,null,null,null,null,null,null,null,null,null,null,null,null,null,null,null,null,null,null,null,null,null,null,null,null,null,null,null,null,null,null,null,null,null,null,null,null,null,null,null,null,null,null,null,null,null,null,null,null,null,null,null,null,null,null,null,null,null,null,null,null,null,null,null,null,null,null,null,null,null,null,null,null,null,null,null,null,null,null,null,null,null,null,null,null,null,null,null,null,null,null,null,null,null,null,null,null,null,null,null,null,null,null,null,null,null,null,null,null,null,null,null,null,null,null,null,null,null,null,null,null,null,null,null,null,null,null,null,null,null,null,null,null,null,null,null,null,null,null,null,null,null,null,981,"DX0"]
[null,null,null,null,null,null,null,null,null,null,null,null,null,null,null,null,null,null,null,null,null,null,null,null,null,null,null,null,null,null,null,null,null,null,null,null,null,null,null,null,null,null,null,null,null,null,null,null,null,null,null,null,null,null,null,null,null,null,null,null,null,null,null,null,null,null,null,null,null,null,null,null,null,null,null,null,null,null,null,null,null,null,null,null,null,null,null,null,null,null,null,null,null,null,null,null,null,null,null,null,null,null,null,null,null,null,null,null,null,null,null,null,null,null,null,null,null,null,null,null,null,null,null,null,null,null,null,null,null,null,null,null,null,null,null,null,null,null,null,null,null,null,null,null,null,null,null,null,null,null,null,null,null,null,null,null,null,null,null,null,null,null,null,null,null,null,null,null,null,null,null,null,null,null,null,null,null,null,null,null,null,null,null,null,null,null,null,null,null,null,null,null,null,null,null,null,null,null,null,null,null,null,null,null,null,null,null,null,null,null,null,null,null,null,null,null,null,null,null,null,null,null,null,null,null,null,null,null,null,null,null,null,null,null,null,null,null,null,null,null,null,null,null,null,null,null,null,null,null,null,null,null,null,null,null,null,null,null,null,null,null,null,null,null,null,null,null,null,null,null,null,null,null,null,null,null,null,null,null,null,null,null,null,null,null,null,null,null,null,null,null,null,null,null,null,null,null,null,null,null,null,null,null,null,null,null,null,null,null,null,null,null,null,null,null,null,null,null,null,null,null,null,null,null,null,null,null,null,null,null,null,null,null,982,"DX1"]
[null,null,null,null,null,null,null,null,null,null,null,null,null,null,null,null,null,null,null,null,null,null,null,null,null,null,null,null,null,null,null,null,null,null,null,null,null,null,null,null,null,null,null,null,null,null,null,null,null,null,null,null,null,null,null,null,null,null,null,null,null,null,null,null,null,null,null,null,null,null,null,null,null,null,null,null,null,null,null,null,null,null,null,null,null,null,null,null,null,null,null,null,null,null,null,null,null,null,null,null,null,null,null,null,null,null,null,null,null,null,null,null,null,null,null,null,null,null,null,null,null,null,null,null,null,null,null,null,null,null,null,null,null,null,null,null,null,null,null,null,null,null,null,null,null,null,null,null,null,null,null,null,null,null,null,null,null,null,null,null,null,null,null,null,null,null,null,null,null,null,null,null,null,null,null,null,null,null,null,null,null,null,null,null,null,null,null,null,null,null,null,null,null,null,null,null,null,null,null,null,null,null,null,null,null,null,null,null,null,null,null,null,null,null,null,null,null,null,null,null,null,null,null,null,null,null,null,null,null,null,null,null,null,null,null,null,null,null,null,null,null,null,null,null,null,null,null,null,null,null,null,null,null,null,null,null,null,null,null,null,null,null,null,null,null,null,null,null,null,null,null,null,null,null,null,null,null,null,null,null,null,null,null,null,null,null,null,null,null,null,null,null,null,null,null,null,null,null,null,null,null,null,null,null,null,null,null,null,null,null,null,null,null,null,null,null,null,null,null,null,null,null,null,null,null,null,null,null,null,null,null,null,null,983,"DX2"]
[null,null,null,null,null,null,null,null,null,null,null,null,null,null,null,null,null,null,null,null,null,null,null,null,null,null,null,null,null,null,null,null,null,null,null,null,null,null,null,null,null,null,null,null,null,null,null,null,null,null,null,null,null,null,null,null,null,null,null,null,null,null,null,null,null,null,null,null,null,null,null,null,null,null,null,null,null,null,null,null,null,null,null,null,null,null,null,null,null,null,null,null,null,null,null,null,null,null,null,null,null,null,null,null,null,null,null,null,null,null,null,null,null,null,null,null,null,null,null,null,null,null,null,null,null,null,null,null,null,null,null,null,null,null,null,null,null,null,null,null,null,null,null,null,null,null,null,null,null,null,null,null,null,null,null,null,null,null,null,null,null,null,null,null,null,null,null,null,null,null,null,null,null,null,null,null,null,null,null,null,null,null,null,null,null,null,null,null,null,null,null,null,null,null,null,null,null,null,null,null,null,null,null,null,null,null,null,null,null,null,null,null,null,null,null,null,null,null,null,null,null,null,null,null,null,null,null,null,null,null,null,null,null,null,null,null,null,null,null,null,null,null,null,null,null,null,null,null,null,null,null,null,null,null,null,null,null,null,null,null,null,null,null,null,null,null,null,null,null,null,null,null,null,null,null,null,null,null,null,null,null,null,null,null,null,null,null,null,null,null,null,null,null,null,null,null,null,null,null,null,null,null,null,null,null,null,null,null,null,null,null,null,null,null,null,null,null,null,null,null,null,null,null,null,null,null,null,null,null,null,null,null,null,984,"DX3"]
[null,null,null,null,null,null,null,null,null,null,null,null,null,null,null,null,null,null,null,null,null,null,null,null,null,null,null,null,null,null,null,null,null,null,null,null,null,null,null,null,null,null,null,null,null,null,null,null,null,null,null,null,null,null,null,null,null,null,null,null,null,null,null,null,null,null,null,null,null,null,null,null,null,null,null,null,null,null,null,null,null,null,null,null,null,null,null,null,null,null,null,null,null,null,null,null,null,null,null,null,null,null,null,null,null,null,null,null,null,null,null,null,null,null,null,null,null,null,null,null,null,null,null,null,null,null,null,null,null,null,null,null,null,null,null,null,null,null,null,null,null,null,null,null,null,null,null,null,null,null,null,null,null,null,null,null,null,null,null,null,null,null,null,null,null,null,null,null,null,null,null,null,null,null,null,null,null,null,null,null,null,null,null,null,null,null,null,null,null,null,null,null,null,null,null,null,null,null,null,null,null,null,null,null,null,null,null,null,null,null,null,null,null,null,null,null,null,null,null,null,null,null,null,null,null,null,null,null,null,null,null,null,null,null,null,null,null,null,null,null,null,null,null,null,null,null,null,null,null,null,null,null,null,null,null,null,null,null,null,null,null,null,null,null,null,null,null,null,null,null,null,null,null,null,null,null,null,null,null,null,null,null,null,null,null,null,null,null,null,null,null,null,null,null,null,null,null,null,null,null,null,null,null,null,null,null,null,null,null,null,null,null,null,null,null,null,null,null,null,null,null,null,null,null,null,null,null,null,null,null,null,null,null,985,"DX4"]
[null,null,null,null,null,null,null,null,null,null,null,null,null,null,null,null,null,null,null,null,null,null,null,null,null,null,null,null,null,null,null,null,null,null,null,null,null,null,null,null,null,null,null,null,null,null,null,null,null,null,null,null,null,null,null,null,null,null,null,null,null,null,null,null,null,null,null,null,null,null,null,null,null,null,null,null,null,null,null,null,null,null,null,null,null,null,null,null,null,null,null,null,null,null,null,null,null,null,null,null,null,null,null,null,null,null,null,null,null,null,null,null,null,null,null,null,null,null,null,null,null,null,null,null,null,null,null,null,null,null,null,null,null,null,null,null,null,null,null,null,null,null,null,null,null,null,null,null,null,null,null,null,null,null,null,null,null,null,null,null,null,null,null,null,null,null,null,null,null,null,null,null,null,null,null,null,null,null,null,null,null,null,null,null,null,null,null,null,null,null,null,null,null,null,null,null,null,null,null,null,null,null,null,null,null,null,null,null,null,null,null,null,null,null,null,null,null,null,null,null,null,null,null,null,null,null,null,null,null,null,null,null,null,null,null,null,null,null,null,null,null,null,null,null,null,null,null,null,null,null,null,null,null,null,null,null,null,null,null,null,null,null,null,null,null,null,null,null,null,null,null,null,null,null,null,null,null,null,null,null,null,null,null,null,null,null,null,null,null,null,null,null,null,null,null,null,null,null,null,null,null,null,null,null,null,null,null,null,null,null,null,null,null,null,null,null,null,null,null,null,null,null,null,null,null,null,null,null,null,null,null,null,null,986,"DX5"]
[null,null,null,null,null,null,null,null,null,null,null,null,null,null,null,null,null,null,null,null,null,null,null,null,null,null,null,null,null,null,null,null,null,null,null,null,null,null,null,null,null,null,null,null,null,null,null,null,null,null,null,null,null,null,null,null,null,null,null,null,null,null,null,null,null,null,null,null,null,null,null,null,null,null,null,null,null,null,null,null,null,null,null,null,null,null,null,null,null,null,null,null,null,null,null,null,null,null,null,null,null,null,null,null,null,null,null,null,null,null,null,null,null,null,null,null,null,null,null,null,null,null,null,null,null,null,null,null,null,null,null,null,null,null,null,null,null,null,null,null,null,null,null,null,null,null,null,null,null,null,null,null,null,null,null,null,null,null,null,null,null,null,null,null,null,null,null,null,null,null,null,null,null,null,null,null,null,null,null,null,null,null,null,null,null,null,null,null,null,null,null,null,null,null,null,null,null,null,null,null,null,null,null,null,null,null,null,null,null,null,null,null,null,null,null,null,null,null,null,null,null,null,null,null,null,null,null,null,null,null,null,null,null,null,null,null,null,null,null,null,null,null,null,null,null,null,null,null,null,null,null,null,null,null,null,null,null,null,null,null,null,null,null,null,null,null,null,null,null,null,null,null,null,null,null,null,null,null,null,null,null,null,null,null,null,null,null,null,null,null,null,null,null,null,null,null,null,null,null,null,null,null,null,null,null,null,null,null,null,null,null,null,null,null,null,null,null,null,null,null,null,null,null,null,null,null,null,null,null,null,null,null,null,987,"DX6"]
[null,null,null,null,null,null,null,null,null,null,null,null,null,null,null,null,null,null,null,null,null,null,null,null,null,null,null,null,null,null,null,null,null,null,null,null,null,null,null,null,null,null,null,null,null,null,null,null,null,null,null,null,null,null,null,null,null,null,null,null,null,null,null,null,null,null,null,null,null,null,null,null,null,null,null,null,null,null,null,null,null,null,null,null,null,null,null,null,null,null,null,null,null,null,null,null,null,null,null,null,null,null,null,null,null,null,null,null,null,null,null,null,null,null,null,null,null,null,null,null,null,null,null,null,null,null,null,null,null,null,null,null,null,null,null,null,null,null,null,null,null,null,null,null,null,null,null,null,null,null,null,null,null,null,null,null,null,null,null,null,null,null,null,null,null,null,null,null,null,null,null,null,null,null,null,null,null,null,null,null,null,null,null,null,null,null,null,null,null,null,null,null,null,null,null,null,null,null,null,null,null,null,null,null,null,null,null,null,null,null,null,null,null,null,null,null,null,null,null,null,null,null,null,null,null,null,null,null,null,null,null,null,null,null,null,null,null,null,null,null,null,null,null,null,null,null,null,null,null,null,null,null,null,null,null,null,null,null,null,null,null,null,null,null,null,null,null,null,null,null,null,null,null,null,null,null,null,null,null,null,null,null,null,null,null,null,null,null,null,null,null,null,null,null,null,null,null,null,null,null,null,null,null,null,null,null,null,null,null,null,null,null,null,null,null,null,null,null,null,null,null,null,null,null,null,null,null,null,null,null,null,null,null,988,"DX7"]
[null,null,null,null,null,null,null,null,null,null,null,null,null,null,null,null,null,null,null,null,null,null,null,null,null,null,null,null,null,null,null,null,null,null,null,null,null,null,null,null,null,null,null,null,null,null,null,null,null,null,null,null,null,null,null,null,null,null,null,null,null,null,null,null,null,null,null,null,null,null,null,null,null,null,null,null,null,null,null,null,null,null,null,null,null,null,null,null,null,null,null,null,null,null,null,null,null,null,null,null,null,null,null,null,null,null,null,null,null,null,null,null,null,null,null,null,null,null,null,null,null,null,null,null,null,null,null,null,null,null,null,null,null,null,null,null,null,null,null,null,null,null,null,null,null,null,null,null,null,null,null,null,null,null,null,null,null,null,null,null,null,null,null,null,null,null,null,null,null,null,null,null,null,null,null,null,null,null,null,null,null,null,null,null,null,null,null,null,null,null,null,null,null,null,null,null,null,null,null,null,null,null,null,null,null,null,null,null,null,null,null,null,null,null,null,null,null,null,null,null,null,null,null,null,null,null,null,null,null,null,null,null,null,null,null,null,null,null,null,null,null,null,null,null,null,null,null,null,null,null,null,null,null,null,null,null,null,null,null,null,null,null,null,null,null,null,null,null,null,null,null,null,null,null,null,null,null,null,null,null,null,null,null,null,null,null,null,null,null,null,null,null,null,null,null,null,null,null,null,null,null,null,null,null,null,null,null,null,null,null,null,null,null,null,null,null,null,null,null,null,null,null,null,null,null,null,null,null,null,null,null,null,null,989,"DX8"]
[null,null,null,null,null,null,null,null,null,null,null,null,null,null,null,null,null,null,null,null,null,null,null,null,null,null,null,null,null,null,null,null,null,null,null,null,null,null,null,null,null,null,null,null,null,null,null,null,null,null,null,null,null,null,null,null,null,null,null,null,null,null,null,null,null,null,null,null,null,null,null,null,null,null,null,null,null,null,null,null,null,null,null,null,null,null,null,null,null,null,null,null,null,null,null,null,null,null,null,null,null,null,null,null,null,null,null,null,null,null,null,null,null,null,null,null,null,null,null,null,null,null,null,null,null,null,null,null,null,null,null,null,null,null,null,null,null,null,null,null,null,null,null,null,null,null,null,null,null,null,null,null,null,null,null,null,null,null,null,null,null,null,null,null,null,null,null,null,null,null,null,null,null,null,null,null,null,null,null,null,null,null,null,null,null,null,null,null,null,null,null,null,null,null,null,null,null,null,null,null,null,null,null,null,null,null,null,null,null,null,null,null,null,null,null,null,null,null,null,null,null,null,null,null,null,null,null,null,null,null,null,null,null,null,null,null,null,null,null,null,null,null,null,null,null,null,null,null,null,null,null,null,null,null,null,null,null,null,null,null,null,null,null,null,null,null,null,null,null,null,null,null,null,null,null,null,null,null,null,null,null,null,null,null,null,null,null,null,null,null,null,null,null,null,null,null,null,null,null,null,null,null,null,null,null,null,null,null,null,null,null,null,null,null,null,null,null,null,null,null,null,null,null,null,null,null,null,null,null,null,null,null,null,990,"DX9"]
[null,null,null,null,null,null,null,null,null,null,null,null,null,null,null,null,null,null,null,null,null,null,null,null,null,null,null,null,null,null,null,null,null,null,null,null,null,null,null,null,null,null,null,null,null,null,null,null,null,null,null,null,null,null,null,null,null,null,null,null,null,null,null,null,null,null,null,null,null,null,null,null,null,null,null,null,null,null,null,null,null,null,null,null,null,null,null,null,null,null,null,null,null,null,null,null,null,null,null,null,null,null,null,null,null,null,null,null,null,null,null,null,null,null,null,null,null,null,null,null,null,null,null,null,null,null,null,null,null,null,null,null,null,null,null,null,null,null,null,null,null,null,null,null,null,null,null,null,null,null,null,null,null,null,null,null,null,null,null,null,null,null,null,null,null,null,null,null,null,null,null,null,null,null,null,null,null,null,null,null,null,null,null,null,null,null,null,null,null,null,null,null,null,null,null,null,null,null,null,null,null,null,null,null,null,null,null,null,null,null,null,null,null,null,null,null,null,null,null,null,null,null,null,null,null,null,null,null,null,null,null,null,null,null,null,null,null,null,null,null,null,null,null,null,null,null,null,null,null,null,null,null,null,null,null,null,null,null,null,null,null,null,null,null,null,null,null,null,null,null,null,null,null,null,null,null,null,null,null,null,null,null,null,null,null,null,null,null,null,null,null,null,null,null,null,null,null,null,null,null,null,null,null,null,null,null,null,null,null,null,null,null,null,null,null,null,null,null,null,null,null,null,null,null,null,null,null,null,null,null,null,null,null,991,"DY0"]
[null,null,null,null,null,null,null,null,null,null,null,null,null,null,null,null,null,null,null,null,null,null,null,null,null,null,null,null,null,null,null,null,null,null,null,null,null,null,null,null,null,null,null,null,null,null,null,null,null,null,null,null,null,null,null,null,null,null,null,null,null,null,null,null,null,null,null,null,null,null,null,null,null,null,null,null,null,null,null,null,null,null,null,null,null,null,null,null,null,null,null,null,null,null,null,null,null,null,null,null,null,null,null,null,null,null,null,null,null,null,null,null,null,null,null,null,null,null,null,null,null,null,null,null,null,null,null,null,null,null,null,null,null,null,null,null,null,null,null,null,null,null,null,null,null,null,null,null,null,null,null,null,null,null,null,null,null,null,null,null,null,null,null,null,null,null,null,null,null,null,null,null,null,null,null,null,null,null,null,null,null,null,null,null,null,null,null,null,null,null,null,null,null,null,null,null,null,null,null,null,null,null,null,null,null,null,null,null,null,null,null,null,null,null,null,null,null,null,null,null,null,null,null,null,null,null,null,null,null,null,null,null,null,null,null,null,null,null,null,null,null,null,null,null,null,null,null,null,null,null,null,null,null,null,null,null,null,null,null,null,null,null,null,null,null,null,null,null,null,null,null,null,null,null,null,null,null,null,null,null,null,null,null,null,null,null,null,null,null,null,null,null,null,null,null,null,null,null,null,null,null,null,null,null,null,null,null,null,null,null,null,null,null,null,null,null,null,null,null,null,null,null,null,null,null,null,null,null,null,null,null,null,null,992,"DY1"]
[null,null,null,null,null,null,null,null,null,null,null,null,null,null,null,null,null,null,null,null,null,null,null,null,null,null,null,null,null,null,null,null,null,null,null,null,null,null,null,null,null,null,null,null,null,null,null,null,null,null,null,null,null,null,null,null,null,null,null,null,null,null,null,null,null,null,null,null,null,null,null,null,null,null,null,null,null,null,null,null,null,null,null,null,null,null,null,null,null,null,null,null,null,null,null,null,null,null,null,null,null,null,null,null,null,null,null,null,null,null,null,null,null,null,null,null,null,null,null,null,null,null,null,null,null,null,null,null,null,null,null,null,null,null,null,null,null,null,null,null,null,null,null,null,null,null,null,null,null,null,null,null,null,null,null,null,null,null,null,null,null,null,null,null,null,null,null,null,null,null,null,null,null,null,null,null,null,null,null,null,null,null,null,null,null,null,null,null,null,null,null,null,null,null,null,null,null,null,null,null,null,null,null,null,null,null,null,null,null,null,null,null,null,null,null,null,null,null,null,null,null,null,null,null,null,null,null,null,null,null,null,null,null,null,null,null,null,null,null,null,null,null,null,null,null,null,null,null,null,null,null,null,null,null,null,null,null,null,null,null,null,null,null,null,null,null,null,null,null,null,null,null,null,null,null,null,null,null,null,null,null,null,null,null,null,null,null,null,null,null,null,null,null,null,null,null,null,null,null,null,null,null,null,null,null,null,null,null,null,null,null,null,null,null,null,null,null,null,null,null,null,null,null,null,null,null,null,null,null,null,null,null,null,993,"DY2"]
[null,null,null,null,null,null,null,null,null,null,null,null,null,null,null,null,null,null,null,null,null,null,null,null,null,null,null,null,null,null,null,null,null,null,null,null,null,null,null,null,null,null,null,null,null,null,null,null,null,null,null,null,null,null,null,null,null,null,null,null,null,null,null,null,null,null,null,null,null,null,null,null,null,null,null,null,null,null,null,null,null,null,null,null,null,null,null,null,null,null,null,null,null,null,null,null,null,null,null,null,null,null,null,null,null,null,null,null,null,null,null,null,null,null,null,null,null,null,null,null,null,null,null,null,null,null,null,null,null,null,null,null,null,null,null,null,null,null,null,null,null,null,null,null,null,null,null,null,null,null,null,null,null,null,null,null,null,null,null,null,null,null,null,null,null,null,null,null,null,null,null,null,null,null,null,null,null,null,null,null,null,null,null,null,null,null,null,null,null,null,null,null,null,null,null,null,null,null,null,null,null,null,null,null,null,null,null,null,null,null,null,null,null,null,null,null,null,null,null,null,null,null,null,null,null,null,null,null,null,null,null,null,null,null,null,null,null,null,null,null,null,null,null,null,null,null,null,null,null,null,null,null,null,null,null,null,null,null,null,null,null,null,null,null,null,null,null,null,null,null,null,null,null,null,null,null,null,null,null,null,null,null,null,null,null,null,null,null,null,null,null,null,null,null,null,null,null,null,null,null,null,null,null,null,null,null,null,null,null,null,null,null,null,null,null,null,null,null,null,null,null,null,null,null,null,null,null,null,null,null,null,null,null,994,"DY3"]
[null,null,null,null,null,null,null,null,null,null,null,null,null,null,null,null,null,null,null,null,null,null,null,null,null,null,null,null,null,null,null,null,null,null,null,null,null,null,null,null,null,null,null,null,null,null,null,null,null,null,null,null,null,null,null,null,null,null,null,null,null,null,null,null,null,null,null,null,null,null,null,null,null,null,null,null,null,null,null,null,null,null,null,null,null,null,null,null,null,null,null,null,null,null,null,null,null,null,null,null,null,null,null,null,null,null,null,null,null,null,null,null,null,null,null,null,null,null,null,null,null,null,null,null,null,null,null,null,null,null,null,null,null,null,null,null,null,null,null,null,null,null,null,null,null,null,null,null,null,null,null,null,null,null,null,null,null,null,null,null,null,null,null,null,null,null,null,null,null,null,null,null,null,null,null,null,null,null,null,null,null,null,null,null,null,null,null,null,null,null,null,null,null,null,null,null,null,null,null,null,null,null,null,null,null,null,null,null,null,null,null,null,null,null,null,null,null,null,null,null,null,null,null,null,null,null,null,null,null,null,null,null,null,null,null,null,null,null,null,null,null,null,null,null,null,null,null,null,null,null,null,null,null,null,null,null,null,null,null,null,null,null,null,null,null,null,null,null,null,null,null,null,null,null,null,null,null,null,null,null,null,null,null,null,null,null,null,null,null,null,null,null,null,null,null,null,null,null,null,null,null,null,null,null,null,null,null,null,null,null,null,null,null,null,null,null,null,null,null,null,null,null,null,null,null,null,null,null,null,null,null,null,null,995,"DY4"]
[null,null,null,null,null,null,null,null,null,null,null,null,null,null,null,null,null,null,null,null,null,null,null,null,null,null,null,null,null,null,null,null,null,null,null,null,null,null,null,null,null,null,null,null,null,null,null,null,null,null,null,null,null,null,null,null,null,null,null,null,null,null,null,null,null,null,null,null,null,null,null,null,null,null,null,null,null,null,null,null,null,null,null,null,null,null,null,null,null,null,null,null,null,null,null,null,null,null,null,null,null,null,null,null,null,null,null,null,null,null,null,null,null,null,null,null,null,null,null,null,null,null,null,null,null,null,null,null,null,null,null,null,null,null,null,null,null,null,null,null,null,null,null,null,null,null,null,null,null,null,null,null,null,null,null,null,null,null,null,null,null,null,null,null,null,null,null,null,null,null,null,null,null,null,null,null,null,null,null,null,null,null,null,null,null,null,null,null,null,null,null,null,null,null,null,null,null,null,null,null,null,null,null,null,null,null,null,null,null,null,null,null,null,null,null,null,null,null,null,null,null,null,null,null,null,null,null,null,null,null,null,null,null,null,null,null,null,null,null,null,null,null,null,null,null,null,null,null,null,null,null,null,null,null,null,null,null,null,null,null,null,null,null,null,null,null,null,null,null,null,null,null,null,null,null,null,null,null,null,null,null,null,null,null,null,null,null,null,null,null,null,null,null,null,null,null,null,null,null,null,null,null,null,null,null,null,null,null,null,null,null,null,null,null,null,null,null,null,null,null,null,null,null,null,null,null,null,null,null,null,null,null,null,996,"DY5"]
[null,null,null,null,null,null,null,null,null,null,null,null,null,null,null,null,null,null,null,null,null,null,null,null,null,null,null,null,null,null,null,null,null,null,null,null,null,null,null,null,null,null,null,null,null,null,null,null,null,null,null,null,null,null,null,null,null,null,null,null,null,null,null,null,null,null,null,null,null,null,null,null,null,null,null,null,null,null,null,null,null,null,null,null,null,null,null,null,null,null,null,null,null,null,null,null,null,null,null,null,null,null,null,null,null,null,null,null,null,null,null,null,null,null,null,null,null,null,null,null,null,null,null,null,null,null,null,null,null,null,null,null,null,null,null,null,null,null,null,null,null,null,null,null,null,null,null,null,null,null,null,null,null,null,null,null,null,null,null,null,null,null,null,null,null,null,null,null,null,null,null,null,null,null,null,null,null,null,null,null,null,null,null,null,null,null,null,null,null,null,null,null,null,null,null,null,null,null,null,null,null,null,null,null,null,null,null,null,null,null,null,null,null,null,null,null,null,null,null,null,null,null,null,null,null,null,null,null,null,null,null,null,null,null,null,null,null,null,null,null,null,null,null,null,null,null,null,null,null,null,null,null,null,null,null,null,null,null,null,null,null,null,null,null,null,null,null,null,null,null,null,null,null,null,null,null,null,null,null,null,null,null,null,null,null,null,null,null,null,null,null,null,null,null,null,null,null,null,null,null,null,null,null,null,null,null,null,null,null,null,null,null,null,null,null,null,null,null,null,null,null,null,null,null,null,null,null,null,null,null,null,null,null,997,"DY6"]
[null,null,null,null,null,null,null,null,null,null,null,null,null,null,null,null,null,null,null,null,null,null,null,null,null,null,null,null,null,null,null,null,null,null,null,null,null,null,null,null,null,null,null,null,null,null,null,null,null,null,null,null,null,null,null,null,null,null,null,null,null,null,null,null,null,null,null,null,null,null,null,null,null,null,null,null,null,null,null,null,null,null,null,null,null,null,null,null,null,null,null,null,null,null,null,null,null,null,null,null,null,null,null,null,null,null,null,null,null,null,null,null,null,null,null,null,null,null,null,null,null,null,null,null,null,null,null,null,null,null,null,null,null,null,null,null,null,null,null,null,null,null,null,null,null,null,null,null,null,null,null,null,null,null,null,null,null,null,null,null,null,null,null,null,null,null,null,null,null,null,null,null,null,null,null,null,null,null,null,null,null,null,null,null,null,null,null,null,null,null,null,null,null,null,null,null,null,null,null,null,null,null,null,null,null,null,null,null,null,null,null,null,null,null,null,null,null,null,null,null,null,null,null,null,null,null,null,null,null,null,null,null,null,null,null,null,null,null,null,null,null,null,null,null,null,null,null,null,null,null,null,null,null,null,null,null,null,null,null,null,null,null,null,null,null,null,null,null,null,null,null,null,null,null,null,null,null,null,null,null,null,null,null,null,null,null,null,null,null,null,null,null,null,null,null,null,null,null,null,null,null,null,null,null,null,null,null,null,null,null,null,null,null,null,null,null,null,null,null,null,null,null,null,null,null,null,null,null,null,null,null,null,null,998,"DY7"]
[null,null,null,null,null,null,null,null,null,null,null,null,null,null,null,null,null,null,null,null,null,null,null,null,null,null,null,null,null,null,null,null,null,null,null,null,null,null,null,null,null,null,null,null,null,null,null,null,null,null,null,null,null,null,null,null,null,null,null,null,null,null,null,null,null,null,null,null,null,null,null,null,null,null,null,null,null,null,null,null,null,null,null,null,null,null,null,null,null,null,null,null,null,null,null,null,null,null,null,null,null,null,null,null,null,null,null,null,null,null,null,null,null,null,null,null,null,null,null,null,null,null,null,null,null,null,null,null,null,null,null,null,null,null,null,null,null,null,null,null,null,null,null,null,null,null,null,null,null,null,null,null,null,null,null,null,null,null,null,null,null,null,null,null,null,null,null,null,null,null,null,null,null,null,null,null,null,null,null,null,null,null,null,null,null,null,null,null,null,null,null,null,null,null,null,null,null,null,null,null,null,null,null,null,null,null,null,null,null,null,null,null,null,null,null,null,null,null,null,null,null,null,null,null,null,null,null,null,null,null,null,null,null,null,null,null,null,null,null,null,null,null,null,null,null,null,null,null,null,null,null,null,null,null,null,null,null,null,null,null,null,null,null,null,null,null,null,null,null,null,null,null,null,null,null,null,null,null,null,null,null,null,null,null,null,null,null,null,null,null,null,null,null,null,null,null,null,null,null,null,null,null,null,null,null,null,null,null,null,null,null,null,null,null,null,null,null,null,null,null,null,null,null,null,null,null,null,null,null,null,null,null,null,999,"DY8"]
[null,null,null,null,null,null,null,null,null,null,null,null,null,null,null,null,null,null,null,null,null,null,null,null,null,null,null,null,null,null,null,null,null,null,null,null,null,null,null,null,null,null,null,null,null,null,null,null,null,null,null,null,null,null,null,null,null,null,null,null,null,null,null,null,null,null,null,null,null,null,null,null,null,null,null,null,null,null,null,null,null,null,null,null,null,null,null,null,null,null,null,null,null,null,null,null,null,null,null,null,null,null,null,null,null,null,null,null,null,null,null,null,null,null,null,null,null,null,null,null,null,null,null,null,null,null,null,null,null,null,null,null,null,null,null,null,null,null,null,null,null,null,null,null,null,null,null,null,null,null,null,null,null,null,null,null,null,null,null,null,null,null,null,null,null,null,null,null,null,null,null,null,null,null,null,null,null,null,null,null,null,null,null,null,null,null,null,null,null,null,null,null,null,null,null,null,null,null,null,null,null,null,null,null,null,null,null,null,null,null,null,null,null,null,null,null,null,null,null,null,null,null,null,null,null,null,null,null,null,null,null,null,null,null,null,null,null,null,null,null,null,null,null,null,null,null,null,null,null,null,null,null,null,null,null,null,null,null,null,null,null,null,null,null,null,null,null,null,null,null,null,null,null,null,null,null,null,null,null,null,null,null,null,null,null,null,null,null,null,null,null,null,null,null,null,null,null,null,null,null,null,null,null,null,null,null,null,null,null,null,null,null,null,null,null,null,null,null,null,null,null,null,null,null,null,null,null,null,null,null,null,null,null,1000,"DY9"]

{"sheet":"PicChart","index":18,"n_rows":52,"n_cols":46,"rows_kept":52,"cut":false,"hidden":true,"merged":[[0,0,2,0],[0,1,2,1],[0,5,2,5],[0,6,2,6],[0,8,2,8],[0,9,2,9],[1,26,2,26],[4,1,5,1],[4,2,5,2],[4,4,5,4],[4,5,5,5],[4,6,5,6],[4,7,5,7],[4,8,5,8],[4,9,5,9],[4,10,5,10],[1,20,2,20],[1,21,2,21],[1,22,2,22],[1,23,2,23],[1,24,2,24],[1,25,2,25],[1,11,2,11],[1,13,2,13],[1,14,2,14],[1,15,2,15],[1,16,2,16],[1,17,2,17],[1,18,2,18],[4,24,5,24],[4,26,5,26],[4,14,5,14],[4,16,5,16],[4,18,5,18],[4,20,5,20],[4,22,5,22],[1,19,2,19],[6,2,7,2],[6,4,7,4],[6,5,7,5],[6,6,7,6],[6,7,7,7],[6,8,7,8],[6,9,7,9],[4,12,5,12],[1,12,2,12],[0,4,2,4],[0,7,2,7],[0,10,2,10],[6,22,7,22],[6,24,7,24],[6,26,7,26],[8,1,9,1],[8,2,9,2],[8,4,9,4],[8,5,9,5],[8,6,9,6],[8,7,9,7],[8,8,9,8],[6,10,7,10],[6,12,7,12],[6,14,7,14],[6,16,7,16],[6,18,7,18],[6,20,7,20],[8,20,9,20],[8,22,9,22],[8,24,9,24],[8,26,9,26],[8,14,9,14],[8,16,9,16],[8,18,9,18],[6,1,7,1],[10,1,11,1],[10,2,11,2],[10,4,11,4],[10,5,11,5],[10,6,11,6],[10,7,11,7],[8,9,9,9],[8,10,9,10],[8,12,9,12],[10,18,11,18],[10,20,11,20],[10,22,11,22],[10,24,11,24],[10,26,11,26],[12,1,13,1],[12,2,13,2],[12,4,13,4],[12,5,13,5],[12,6,13,6],[10,8,11,8],[10,9,11,9],[10,10,11,10],[10,12,11,12],[10,14,11,14],[10,16,11,16],[12,16,13,16],[12,18,13,18],[12,20,13,20],[12,22,13,22],[12,24,13,24],[12,26,13,26],[12,7,13,7],[12,8,13,8],[12,9,13,9],[12,10,13,10],[12,12,13,12],[12,14,13,14],[14,18,15,18],[14,20,15,20],[14,22,15,22],[14,24,15,24],[14,26,15,26],[14,14,15,14],[14,16,15,16],[16,1,17,1],[16,2,17,2],[16,4,17,4],[16,5,17,5],[16,6,17,6],[14,8,15,8],[14,9,15,9],[14,10,15,10],[14,12,15,12],[14,1,15,1],[14,2,15,2],[14,4,15,4],[14,5,15,5],[14,6,15,6],[14,7,15,7],[16,16,17,16],[16,18,17,18],[16,20,17,20],[16,22,17,22],[16,24,17,24],[16,26,17,26],[16,7,17,7],[16,8,17,8],[16,9,17,9],[16,10,17,10],[16,12,17,12],[16,14,17,14],[18,18,19,18],[18,20,19,20],[18,22,19,22],[18,24,19,24],[18,26,19,26],[20,1,21,1],[20,2,21,2],[20,4,21,4],[20,5,21,5],[20,6,21,6],[18,8,19,8],[18,9,19,9],[18,10,19,10],[18,12,19,12],[18,14,19,14],[18,16,19,16],[18,1,19,1],[18,2,19,2],[18,4,19,4],[18,5,19,5],[18,6,19,6],[18,7,19,7],[20,16,21,16],[20,18,21,18],[20,20,21,20],[20,22,21,22],[20,24,21,24],[20,26,21,26],[20,7,21,7],[20,8,21,8],[20,9,21,9],[20,10,21,10],[20,12,21,12],[20,14,21,14],[22,18,23,18],[22,20,23,20],[22,22,23,22],[22,24,23,24],[22,26,23,26],[24,1,25,1],[24,2,25,2],[24,4,25,4],[24,5,25,5],[24,6,25,6],[22,8,23,8],[22,9,23,9],[22,10,23,10],[22,12,23,12],[22,14,23,14],[22,16,23,16],[22,1,23,1],[22,2,23,2],[22,4,23,4],[22,5,23,5],[22,6,23,6],[22,7,23,7],[24,16,25,16],[24,18,25,18],[24,20,25,20],[24,22,25,22],[24,24,25,24],[24,26,25,26],[24,7,25,7],[24,8,25,8],[24,9,25,9],[24,10,25,10],[24,12,25,12],[24,14,25,14],[26,18,27,18],[26,20,27,20],[26,22,27,22],[26,24,27,24],[26,26,27,26],[28,1,29,1],[28,2,29,2],[28,4,29,4],[28,5,29,5],[28,6,29,6],[26,8,27,8],[26,9,27,9],[26,10,27,10],[26,12,27,12],[26,14,27,14],[26,16,27,16],[26,1,27,1],[26,2,27,2],[26,4,27,4],[26,5,27,5],[26,6,27,6],[26,7,27,7],[28,16,29,16],[28,18,29,18],[28,20,29,20],[28,22,29,22],[28,24,29,24],[28,26,29,26],[28,7,29,7],[28,8,29,8],[28,9,29,9],[28,10,29,10],[28,12,29,12],[28,14,29,14],[30,26,31,26],[32,1,33,1],[32,2,33,2],[32,4,33,4],[32,5,33,5],[32,6,33,6],[30,8,31,8],[30,9,31,9],[30,10,31,10],[30,12,31,12],[30,14,31,14],[30,16,31,16],[30,1,31,1],[30,2,31,2],[30,4,31,4],[30,5,31,5],[30,6,31,6],[30,7,31,7],[32,7,33,7],[32,8,33,8],[32,9,33,9],[32,10,33,10],[32,12,33,12],[32,14,33,14],[30,18,31,18],[30,20,31,20],[30,22,31,22],[36,0,36,2],[36,5,36,9],[36,10,36,11],[36,12,36,13],[36,14,36,18],[34,8,35,8],[34,9,35,9],[34,10,35,10],[34,12,35,12],[34,14,35,14],[34,16,35,16],[34,1,35,1],[34,2,35,2],[34,4,35,4],[34,5,35,5],[34,6,35,6],[34,7,35,7],[43,30,43,34],[43,35,45,35],[43,40,43,44],[43,45,45,45],[44,30,44,34],[44,40,44,44],[36,19,36,20],[0,11,0,20],[39,30,39,34],[39,40,39,44],[42,31,42,35],[42,41,42,45],[34,18,35,18],[34,20,35,20],[34,22,35,22],[34,24,35,24],[34,26,35,26],[32,16,33,16],[32,18,33,18],[32,20,33,20],[32,22,33,22],[32,24,33,24],[32,26,33,26],[30,24,31,24],[49,31,49,34],[49,41,49,44],[51,29,51,35],[51,39,51,45],[46,31,46,35],[46,41,46,45],[47,30,47,34],[47,40,47,44],[48,30,48,34],[48,40,48,44]]}
["Terima Cascade Dari?","KPI ID",null,null,"Metoda\nUkuran","SMART\nSasaran\n(Elakkan 0)","Jenis","Wk Mula","Wk Dead Line","Cascade Ke Bawah?","Kontribusi Sendiri","Cascade Ke Bawah"]
[null,null,"                Deskripsi Spesifik KPI","«\nWajaran",null,null,null,null,null,null,null,"Cascade\n1","Kontribusi","Cascade\n2","Kontribusi","Cascade\n3","Kontribusi","Cascade\n4","Kontribusi","Cascade\n5","Kontribusi","Cascade\n6","Kontribusi","Cascade\n7","Kontribusi","Cascade\n8","Kontribusi"]
[null,null,null,"%"]
[{"$f":"KPICreate!A4","v":2020},null,{"$f":"KPICreate!C4","v":"ADAM NAUFAL HASMADI: PEN. KETUA PEMASARAN DAN PERKHIDMATAN"}]
[{"$f":"IF(KPICreate!A5=\"\",\"\",KPICreate!A5)","v":"Rashidi"},{"$f":"KPICreate!B5","v":"DM101"},{"$f":"IF(KPICreate!C5=\"\",\"\",KPICreate!C5)","v":"WK01 Mencapai sasaran pendapatan korporat yang meningkat bagi Sektor Perumahan (RM Juta)"},{"$f":"IF(KPICreate!D5=\"\",\"\",KPICreate!D5)","v":"5⍟"},{"$f":"IF(KPICreate!E5=\"\",\"\",KPICreate!E5)","v":"Number"},{"$f":"IF(KPICreate!F5=\"\",\"\",KPICreate!F5)","v":38.5},{"$f":"IF(KPICreate!G5=\"\",\"\",KPICreate!G5)","v":"A"},{"$f":"IF(KPICreate!H5=\"\",\"\",KPICreate!H5)","v":1},{"$f":"IF(KPICreate!I5=\"\",\"\",KPICreate!I5)","v":52},{"$f":"IF(KPICreate!J5=\"\",\"\",KPICreate!J5)","v":"Absolute"},{"$f":"IF(KPICreate!K5=\"\",\"\",KPICreate!K5)","v":18.5},{"$f":"IF(KPICreate!L5=\"\",\"\",KPICreate!L5)","v":"Raymond"},{"$f":"IF(KPICreate!M5=\"\",\"\",KPICreate!M5)","v":10},{"$f":"IF(KPICreate!N5=\"\",\"\",KPICreate!N5)","v":"Linda"},{"$f":"IF(KPICreate!O5=\"\",\"\",KPICreate!O5)","v":10},{"$f":"IF(KPICreate!P5=\"\",\"\",KPICreate!P5)","v":""},{"$f":"IF(KPICreate!Q5=\"\",\"\",KPICreate!Q5)","v":""},{"$f":"IF(KPICreate!R5=\"\",\"\",KPICreate!R5)","v":""},{"$f":"IF(KPICreate!S5=\"\",\"\",KPICreate!S5)","v":""},{"$f":"IF(KPICreate!T5=\"\",\"\",KPICreate!T5)","v":""},{"$f":"IF(KPICreate!U5=\"\",\"\",KPICreate!U5)","v":""},{"$f":"IF(KPICreate!V5=\"\",\"\",KPICreate!V5)","v":""},{"$f":"IF(KPICreate!W5=\"\",\"\",KPICreate!W5)","v":""},{"$f":"IF(KPICreate!X5=\"\",\"\",KPICreate!X5)","v":""},{"$f":"IF(KPICreate!Y5=\"\",\"\",KPICreate!Y5)","v":""},{"$f":"IF(KPICreate!Z5=\"\",\"\",KPICreate!Z5)","v":""},{"$f":"IF(KPICreate!AA5=\"\",\"\",KPICreate!AA5)","v":""}]
[{"$f":"IF(KPICreate!A6=\"\",\"\",KPICreate!A6)","v":"BM301"},null,null,{"$f":"IF(KPICreate!D6=\"\",\"\",KPICreate!D6)","v":22.727272727272727},null,null,null,null,null,null,null,{"$f":"IF(KPICreate!L6=\"\",\"\",KPICreate!L6)","v":"CG801"},null,{"$f":"IF(KPICreate!N6=\"\",\"\",KPICreate!N6)","v":"DK602"},null,{"$f":"IF(KPICreate!P6=\"\",\"\",KPICreate!P6)","v":""},null,{"$f":"IF(KPICreate!R6=\"\",\"\",KPICreate!R6)","v":""},null,{"$f":"IF(KPICreate!T6=\"\",\"\",KPICreate!T6)","v":""},null,{"$f":"IF(KPICreate!V6=\"\",\"\",KPICreate!V6)","v":""},null,{"$f":"IF(KPICreate!X6=\"\",\"\",KPICreate!X6)","v":""},null,{"$f":"IF(KPICreate!Z6=\"\",\"\",KPICreate!Z6)","v":""}]
[{"$f":"IF(KPICreate!A7=\"\",\"\",KPICreate!A7)","v":""},{"$f":"KPICreate!B7","v":"DM102"},{"$f":"IF(KPICreate!C7=\"\",\"\",KPICreate!C7)","v":"BP03 Mengekalkan pembayaran pulang deposit pelanggan sewaan dalam tempoh yang optimum (Bil Hari)"},{"$f":"IF(KPICreate!D7=\"\",\"\",KPICreate!D7)","v":"3⍟"},{"$f":"IF(KPICreate!E7=\"\",\"\",KPICreate!E7)","v":"MaxLimit"},{"$f":"IF(KPICreate!F7=\"\",\"\",KPICreate!F7)","v":14},{"$f":"IF(KPICreate!G7=\"\",\"\",KPICreate!G7)","v":"M"},{"$f":"IF(KPICreate!H7=\"\",\"\",KPICreate!H7)","v":1},{"$f":"IF(KPICreate!I7=\"\",\"\",KPICreate!I7)","v":52},{"$f":"IF(KPICreate!J7=\"\",\"\",KPICreate!J7)","v":"No"},{"$f":"IF(KPICreate!K7=\"\",\"\",KPICreate!K7)","v":""},{"$f":"IF(KPICreate!L7=\"\",\"\",KPICreate!L7)","v":""},{"$f":"IF(KPICreate!M7=\"\",\"\",KPICreate!M7)","v":""},{"$f":"IF(KPICreate!N7=\"\",\"\",KPICreate!N7)","v":""},{"$f":"IF(KPICreate!O7=\"\",\"\",KPICreate!O7)","v":""},{"$f":"IF(KPICreate!P7=\"\",\"\",KPICreate!P7)","v":""},{"$f":"IF(KPICreate!Q7=\"\",\"\",KPICreate!Q7)","v":""},{"$f":"IF(KPICreate!R7=\"\",\"\",KPICreate!R7)","v":""},{"$f":"IF(KPICreate!S7=\"\",\"\",KPICreate!S7)","v":""},{"$f":"IF(KPICreate!T7=\"\",\"\",KPICreate!T7)","v":""},{"$f":"IF(KPICreate!U7=\"\",\"\",KPICreate!U7)","v":""},{"$f":"IF(KPICreate!V7=\"\",\"\",KPICreate!V7)","v":""},{"$f":"IF(KPICreate!W7=\"\",\"\",KPICreate!W7)","v":""},{"$f":"IF(KPICreate!X7=\"\",\"\",KPICreate!X7)","v":""},{"$f":"IF(KPICreate!Y7=\"\",\"\",KPICreate!Y7)","v":""},{"$f":"IF(KPICreate!Z7=\"\",\"\",KPICreate!Z7)","v":""},{"$f":"IF(KPICreate!AA7=\"\",\"\",KPICreate!AA7)","v":""}]
[{"$f":"IF(KPICreate!A8=\"\",\"\",KPICreate!A8)","v":""},null,null,{"$f":"IF(KPICreate!D8=\"\",\"\",KPICreate!D8)","v":13.636363636363637},null,null,null,null,null,null,null,{"$f":"IF(KPICreate!L8=\"\",\"\",KPICreate!L8)","v":""},null,{"$f":"IF(KPICreate!N8=\"\",\"\",KPICreate!N8)","v":""},null,{"$f":"IF(KPICreate!P8=\"\",\"\",KPICreate!P8)","v":""},null,{"$f":"IF(KPICreate!R8=\"\",\"\",KPICreate!R8)","v":""},null,{"$f":"IF(KPICreate!T8=\"\",\"\",KPICreate!T8)","v":""},null,{"$f":"IF(KPICreate!V8=\"\",\"\",KPICreate!V8)","v":""},null,{"$f":"IF(KPICreate!X8=\"\",\"\",KPICreate!X8)","v":""},null,{"$f":"IF(KPICreate!Z8=\"\",\"\",KPICreate!Z8)","v":""}]
[{"$f":"IF(KPICreate!A9=\"\",\"\",KPICreate!A9)","v":""},{"$f":"KPICreate!B9","v":"DM103"},{"$f":"IF(KPICreate!C9=\"\",\"\",KPICreate!C9)","v":"BP49 Mengekalkan Penghantaran shipment Pelanggan menepati sasaran"},{"$f":"IF(KPICreate!D9=\"\",\"\",KPICreate!D9)","v":"3⍟"},{"$f":"IF(KPICreate!E9=\"\",\"\",KPICreate!E9)","v":"Percentage"},{"$f":"IF(KPICreate!F9=\"\",\"\",KPICreate!F9)","v":95},{"$f":"IF(KPICreate!G9=\"\",\"\",KPICreate!G9)","v":"M"},{"$f":"IF(KPICreate!H9=\"\",\"\",KPICreate!H9)","v":1},{"$f":"IF(KPICreate!I9=\"\",\"\",KPICreate!I9)","v":52},{"$f":"IF(KPICreate!J9=\"\",\"\",KPICreate!J9)","v":"%Prorated"},{"$f":"IF(KPICreate!K9=\"\",\"\",KPICreate!K9)","v":80},{"$f":"IF(KPICreate!L9=\"\",\"\",KPICreate!L9)","v":"Raymond"},{"$f":"IF(KPICreate!M9=\"\",\"\",KPICreate!M9)","v":20},{"$f":"IF(KPICreate!N9=\"\",\"\",KPICreate!N9)","v":""},{"$f":"IF(KPICreate!O9=\"\",\"\",KPICreate!O9)","v":""},{"$f":"IF(KPICreate!P9=\"\",\"\",KPICreate!P9)","v":""},{"$f":"IF(KPICreate!Q9=\"\",\"\",KPICreate!Q9)","v":""},{"$f":"IF(KPICreate!R9=\"\",\"\",KPICreate!R9)","v":""},{"$f":"IF(KPICreate!S9=\"\",\"\",KPICreate!S9)","v":""},{"$f":"IF(KPICreate!T9=\"\",\"\",KPICreate!T9)","v":""},{"$f":"IF(KPICreate!U9=\"\",\"\",KPICreate!U9)","v":""},{"$f":"IF(KPICreate!V9=\"\",\"\",KPICreate!V9)","v":""},{"$f":"IF(KPICreate!W9=\"\",\"\",KPICreate!W9)","v":""},{"$f":"IF(KPICreate!X9=\"\",\"\",KPICreate!X9)","v":""},{"$f":"IF(KPICreate!Y9=\"\",\"\",KPICreate!Y9)","v":""},{"$f":"IF(KPICreate!Z9=\"\",\"\",KPICreate!Z9)","v":""},{"$f":"IF(KPICreate!AA9=\"\",\"\",KPICreate!AA9)","v":""}]
[{"$f":"IF(KPICreate!A10=\"\",\"\",KPICreate!A10)","v":""},null,null,{"$f":"IF(KPICreate!D10=\"\",\"\",KPICreate!D10)","v":13.636363636363637},null,null,null,null,null,null,null,{"$f":"IF(KPICreate!L10=\"\",\"\",KPICreate!L10)","v":"CG802"},null,{"$f":"IF(KPICreate!N10=\"\",\"\",KPICreate!N10)","v":""},null,{"$f":"IF(KPICreate!P10=\"\",\"\",KPICreate!P10)","v":""},null,{"$f":"IF(KPICreate!R10=\"\",\"\",KPICreate!R10)","v":""},null,{"$f":"IF(KPICreate!T10=\"\",\"\",KPICreate!T10)","v":""},null,{"$f":"IF(KPICreate!V10=\"\",\"\",KPICreate!V10)","v":""},null,{"$f":"IF(KPICreate!X10=\"\",\"\",KPICreate!X10)","v":""},null,{"$f":"IF(KPICreate!Z10=\"\",\"\",KPICreate!Z10)","v":""}]
[{"$f":"IF(KPICreate!A11=\"\",\"\",KPICreate!A11)","v":"Rashidi"},{"$f":"KPICreate!B11","v":"DM104"},{"$f":"IF(KPICreate!C11=\"\",\"\",KPICreate!C11)","v":"BP19 Mencapai penyempurnaan survei kajian penyelidikan 5 Klien-Produk"},{"$f":"IF(KPICreate!D11=\"\",\"\",KPICreate!D11)","v":"4⍟"},{"$f":"IF(KPICreate!E11=\"\",\"\",KPICreate!E11)","v":"Percentage"},{"$f":"IF(KPICreate!F11=\"\",\"\",KPICreate!F11)","v":90},{"$f":"IF(KPICreate!G11=\"\",\"\",KPICreate!G11)","v":"A"},{"$f":"IF(KPICreate!H11=\"\",\"\",KPICreate!H11)","v":1},{"$f":"IF(KPICreate!I11=\"\",\"\",KPICreate!I11)","v":44},{"$f":"IF(KPICreate!J11=\"\",\"\",KPICreate!J11)","v":"%Prorated"},{"$f":"IF(KPICreate!K11=\"\",\"\",KPICreate!K11)","v":70},{"$f":"IF(KPICreate!L11=\"\",\"\",KPICreate!L11)","v":"Linda"},{"$f":"IF(KPICreate!M11=\"\",\"\",KPICreate!M11)","v":30},{"$f":"IF(KPICreate!N11=\"\",\"\",KPICreate!N11)","v":""},{"$f":"IF(KPICreate!O11=\"\",\"\",KPICreate!O11)","v":""},{"$f":"IF(KPICreate!P11=\"\",\"\",KPICreate!P11)","v":""},{"$f":"IF(KPICreate!Q11=\"\",\"\",KPICreate!Q11)","v":""},{"$f":"IF(KPICreate!R11=\"\",\"\",KPICreate!R11)","v":""},{"$f":"IF(KPICreate!S11=\"\",\"\",KPICreate!S11)","v":""},{"$f":"IF(KPICreate!T11=\"\",\"\",KPICreate!T11)","v":""},{"$f":"IF(KPICreate!U11=\"\",\"\",KPICreate!U11)","v":""},{"$f":"IF(KPICreate!V11=\"\",\"\",KPICreate!V11)","v":""},{"$f":"IF(KPICreate!W11=\"\",\"\",KPICreate!W11)","v":""},{"$f":"IF(KPICreate!X11=\"\",\"\",KPICreate!X11)","v":""},{"$f":"IF(KPICreate!Y11=\"\",\"\",KPICreate!Y11)","v":""},{"$f":"IF(KPICreate!Z11=\"\",\"\",KPICreate!Z11)","v":""},{"$f":"IF(KPICreate!AA11=\"\",\"\",KPICreate!AA11)","v":""}]
[{"$f":"IF(KPICreate!A12=\"\",\"\",KPICreate!A12)","v":"BM303"},null,null,{"$f":"IF(KPICreate!D12=\"\",\"\",KPICreate!D12)","v":18.181818181818183},null,null,null,null,null,null,null,{"$f":"IF(KPICreate!L12=\"\",\"\",KPICreate!L12)","v":"DK604"},null,{"$f":"IF(KPICreate!N12=\"\",\"\",KPICreate!N12)","v":""},null,{"$f":"IF(KPICreate!P12=\"\",\"\",KPICreate!P12)","v":""},null,{"$f":"IF(KPICreate!R12=\"\",\"\",KPICreate!R12)","v":""},null,{"$f":"IF(KPICreate!T12=\"\",\"\",KPICreate!T12)","v":""},null,{"$f":"IF(KPICreate!V12=\"\",\"\",KPICreate!V12)","v":""},null,{"$f":"IF(KPICreate!X12=\"\",\"\",KPICreate!X12)","v":""},null,{"$f":"IF(KPICreate!Z12=\"\",\"\",KPICreate!Z12)","v":""}]
[{"$f":"IF(KPICreate!A13=\"\",\"\",KPICreate!A13)","v":""},{"$f":"KPICreate!B13","v":"DM105"},{"$f":"IF(KPICreate!C13=\"\",\"\",KPICreate!C13)","v":"OR04 Mengekalkan penyempurnaan kerja-kerja adhoc pemasaran dan perkhidmatan seperti yang diperlukan oleh Jabatan"},{"$f":"IF(KPICreate!D13=\"\",\"\",KPICreate!D13)","v":"3⍟"},{"$f":"IF(KPICreate!E13=\"\",\"\",KPICreate!E13)","v":"Percentage"},{"$f":"IF(KPICreate!F13=\"\",\"\",KPICreate!F13)","v":95},{"$f":"IF(KPICreate!G13=\"\",\"\",KPICreate!G13)","v":"M"},{"$f":"IF(KPICreate!H13=\"\",\"\",KPICreate!H13)","v":1},{"$f":"IF(KPICreate!I13=\"\",\"\",KPICreate!I13)","v":52},{"$f":"IF(KPICreate!J13=\"\",\"\",KPICreate!J13)","v":"No"},{"$f":"IF(KPICreate!K13=\"\",\"\",KPICreate!K13)","v":""},{"$f":"IF(KPICreate!L13=\"\",\"\",KPICreate!L13)","v":""},{"$f":"IF(KPICreate!M13=\"\",\"\",KPICreate!M13)","v":""},{"$f":"IF(KPICreate!N13=\"\",\"\",KPICreate!N13)","v":""},{"$f":"IF(KPICreate!O13=\"\",\"\",KPICreate!O13)","v":""},{"$f":"IF(KPICreate!P13=\"\",\"\",KPICreate!P13)","v":""},{"$f":"IF(KPICreate!Q13=\"\",\"\",KPICreate!Q13)","v":""},{"$f":"IF(KPICreate!R13=\"\",\"\",KPICreate!R13)","v":""},{"$f":"IF(KPICreate!S13=\"\",\"\",KPICreate!S13)","v":""},{"$f":"IF(KPICreate!T13=\"\",\"\",KPICreate!T13)","v":""},{"$f":"IF(KPICreate!U13=\"\",\"\",KPICreate!U13)","v":""},{"$f":"IF(KPICreate!V13=\"\",\"\",KPICreate!V13)","v":""},{"$f":"IF(KPICreate!W13=\"\",\"\",KPICreate!W13)","v":""},{"$f":"IF(KPICreate!X13=\"\",\"\",KPICreate!X13)","v":""},{"$f":"IF(KPICreate!Y13=\"\",\"\",KPICreate!Y13)","v":""},{"$f":"IF(KPICreate!Z13=\"\",\"\",KPICreate!Z13)","v":""},{"$f":"IF(KPICreate!AA13=\"\",\"\",KPICreate!AA13)","v":""}]
[{"$f":"IF(KPICreate!A14=\"\",\"\",KPICreate!A14)","v":""},null,null,{"$f":"IF(KPICreate!D14=\"\",\"\",KPICreate!D14)","v":13.636363636363637},null,null,null,null,null,null,null,{"$f":"IF(KPICreate!L14=\"\",\"\",KPICreate!L14)","v":""},null,{"$f":"IF(KPICreate!N14=\"\",\"\",KPICreate!N14)","v":""},null,{"$f":"IF(KPICreate!P14=\"\",\"\",KPICreate!P14)","v":""},null,{"$f":"IF(KPICreate!R14=\"\",\"\",KPICreate!R14)","v":""},null,{"$f":"IF(KPICreate!T14=\"\",\"\",KPICreate!T14)","v":""},null,{"$f":"IF(KPICreate!V14=\"\",\"\",KPICreate!V14)","v":""},null,{"$f":"IF(KPICreate!X14=\"\",\"\",KPICreate!X14)","v":""},null,{"$f":"IF(KPICreate!Z14=\"\",\"\",KPICreate!Z14)","v":""}]
[{"$f":"IF(KPICreate!A15=\"\",\"\",KPICreate!A15)","v":""},{"$f":"KPICreate!B15","v":"DM106"},{"$f":"IF(KPICreate!C15=\"\",\"\",KPICreate!C15)","v":"OR05 Mencapai pensijilan ISO18001:2007 oleh badan pensijilan"},{"$f":"IF(KPICreate!D15=\"\",\"\",KPICreate!D15)","v":"4⍟"},{"$f":"IF(KPICreate!E15=\"\",\"\",KPICreate!E15)","v":"Yes/No"},{"$f":"IF(KPICreate!F15=\"\",\"\",KPICreate!F15)","v":"Yes"},{"$f":"IF(KPICreate!G15=\"\",\"\",KPICreate!G15)","v":"A"},{"$f":"IF(KPICreate!H15=\"\",\"\",KPICreate!H15)","v":10},{"$f":"IF(KPICreate!I15=\"\",\"\",KPICreate!I15)","v":45},{"$f":"IF(KPICreate!J15=\"\",\"\",KPICreate!J15)","v":"No"},{"$f":"IF(KPICreate!K15=\"\",\"\",KPICreate!K15)","v":""},{"$f":"IF(KPICreate!L15=\"\",\"\",KPICreate!L15)","v":""},{"$f":"IF(KPICreate!M15=\"\",\"\",KPICreate!M15)","v":""},{"$f":"IF(KPICreate!N15=\"\",\"\",KPICreate!N15)","v":""},{"$f":"IF(KPICreate!O15=\"\",\"\",KPICreate!O15)","v":""},{"$f":"IF(KPICreate!P15=\"\",\"\",KPICreate!P15)","v":""},{"$f":"IF(KPICreate!Q15=\"\",\"\",KPICreate!Q15)","v":""},{"$f":"IF(KPICreate!R15=\"\",\"\",KPICreate!R15)","v":""},{"$f":"IF(KPICreate!S15=\"\",\"\",KPICreate!S15)","v":""},{"$f":"IF(KPICreate!T15=\"\",\"\",KPICreate!T15)","v":""},{"$f":"IF(KPICreate!U15=\"\",\"\",KPICreate!U15)","v":""},{"$f":"IF(KPICreate!V15=\"\",\"\",KPICreate!V15)","v":""},{"$f":"IF(KPICreate!W15=\"\",\"\",KPICreate!W15)","v":""},{"$f":"IF(KPICreate!X15=\"\",\"\",KPICreate!X15)","v":""},{"$f":"IF(KPICreate!Y15=\"\",\"\",KPICreate!Y15)","v":""},{"$f":"IF(KPICreate!Z15=\"\",\"\",KPICreate!Z15)","v":""},{"$f":"IF(KPICreate!AA15=\"\",\"\",KPICreate!AA15)","v":""}]
[{"$f":"IF(KPICreate!A16=\"\",\"\",KPICreate!A16)","v":""},null,null,{"$f":"IF(KPICreate!D16=\"\",\"\",KPICreate!D16)","v":18.181818181818183},null,null,null,null,null,null,null,{"$f":"IF(KPICreate!L16=\"\",\"\",KPICreate!L16)","v":""},null,{"$f":"IF(KPICreate!N16=\"\",\"\",KPICreate!N16)","v":""},null,{"$f":"IF(KPICreate!P16=\"\",\"\",KPICreate!P16)","v":""},null,{"$f":"IF(KPICreate!R16=\"\",\"\",KPICreate!R16)","v":""},null,{"$f":"IF(KPICreate!T16=\"\",\"\",KPICreate!T16)","v":""},null,{"$f":"IF(KPICreate!V16=\"\",\"\",KPICreate!V16)","v":""},null,{"$f":"IF(KPICreate!X16=\"\",\"\",KPICreate!X16)","v":""},null,{"$f":"IF(KPICreate!Z16=\"\",\"\",KPICreate!Z16)","v":""}]
[{"$f":"IF(KPICreate!A17=\"\",\"\",KPICreate!A17)","v":""},{"$f":"KPICreate!B17","v":"DM107"},{"$f":"IF(KPICreate!C17=\"\",\"\",KPICreate!C17)","v":""},{"$f":"IF(KPICreate!D17=\"\",\"\",KPICreate!D17)","v":""},{"$f":"IF(KPICreate!E17=\"\",\"\",KPICreate!E17)","v":""},{"$f":"IF(KPICreate!F17=\"\",\"\",KPICreate!F17)","v":""},{"$f":"IF(KPICreate!G17=\"\",\"\",KPICreate!G17)","v":""},{"$f":"IF(KPICreate!H17=\"\",\"\",KPICreate!H17)","v":""},{"$f":"IF(KPICreate!I17=\"\",\"\",KPICreate!I17)","v":""},{"$f":"IF(KPICreate!J17=\"\",\"\",KPICreate!J17)","v":""},{"$f":"IF(KPICreate!K17=\"\",\"\",KPICreate!K17)","v":""},{"$f":"IF(KPICreate!L17=\"\",\"\",KPICreate!L17)","v":""},{"$f":"IF(KPICreate!M17=\"\",\"\",KPICreate!M17)","v":""},{"$f":"IF(KPICreate!N17=\"\",\"\",KPICreate!N17)","v":""},{"$f":"IF(KPICreate!O17=\"\",\"\",KPICreate!O17)","v":""},{"$f":"IF(KPICreate!P17=\"\",\"\",KPICreate!P17)","v":""},{"$f":"IF(KPICreate!Q17=\"\",\"\",KPICreate!Q17)","v":""},{"$f":"IF(KPICreate!R17=\"\",\"\",KPICreate!R17)","v":""},{"$f":"IF(KPICreate!S17=\"\",\"\",KPICreate!S17)","v":""},{"$f":"IF(KPICreate!T17=\"\",\"\",KPICreate!T17)","v":""},{"$f":"IF(KPICreate!U17=\"\",\"\",KPICreate!U17)","v":""},{"$f":"IF(KPICreate!V17=\"\",\"\",KPICreate!V17)","v":""},{"$f":"IF(KPICreate!W17=\"\",\"\",KPICreate!W17)","v":""},{"$f":"IF(KPICreate!X17=\"\",\"\",KPICreate!X17)","v":""},{"$f":"IF(KPICreate!Y17=\"\",\"\",KPICreate!Y17)","v":""},{"$f":"IF(KPICreate!Z17=\"\",\"\",KPICreate!Z17)","v":""},{"$f":"IF(KPICreate!AA17=\"\",\"\",KPICreate!AA17)","v":""}]
[{"$f":"IF(KPICreate!A18=\"\",\"\",KPICreate!A18)","v":""},null,null,{"$f":"IF(KPICreate!D18=\"\",\"\",KPICreate!D18)","v":0},null,null,null,null,null,null,null,{"$f":"IF(KPICreate!L18=\"\",\"\",KPICreate!L18)","v":""},null,{"$f":"IF(KPICreate!N18=\"\",\"\",KPICreate!N18)","v":""},null,{"$f":"IF(KPICreate!P18=\"\",\"\",KPICreate!P18)","v":""},null,{"$f":"IF(KPICreate!R18=\"\",\"\",KPICreate!R18)","v":""},null,{"$f":"IF(KPICreate!T18=\"\",\"\",KPICreate!T18)","v":""},null,{"$f":"IF(KPICreate!V18=\"\",\"\",KPICreate!V18)","v":""},null,{"$f":"IF(KPICreate!X18=\"\",\"\",KPICreate!X18)","v":""},null,{"$f":"IF(KPICreate!Z18=\"\",\"\",KPICreate!Z18)","v":""}]
[{"$f":"IF(KPICreate!A19=\"\",\"\",KPICreate!A19)","v":""},{"$f":"KPICreate!B19","v":"DM108"},{"$f":"IF(KPICreate!C19=\"\",\"\",KPICreate!C19)","v":""},{"$f":"IF(KPICreate!D19=\"\",\"\",KPICreate!D19)","v":""},{"$f":"IF(KPICreate!E19=\"\",\"\",KPICreate!E19)","v":""},{"$f":"IF(KPICreate!F19=\"\",\"\",KPICreate!F19)","v":""},{"$f":"IF(KPICreate!G19=\"\",\"\",KPICreate!G19)","v":""},{"$f":"IF(KPICreate!H19=\"\",\"\",KPICreate!H19)","v":""},{"$f":"IF(KPICreate!I19=\"\",\"\",KPICreate!I19)","v":""},{"$f":"IF(KPICreate!J19=\"\",\"\",KPICreate!J19)","v":""},{"$f":"IF(KPICreate!K19=\"\",\"\",KPICreate!K19)","v":""},{"$f":"IF(KPICreate!L19=\"\",\"\",KPICreate!L19)","v":""},{"$f":"IF(KPICreate!M19=\"\",\"\",KPICreate!M19)","v":""},{"$f":"IF(KPICreate!N19=\"\",\"\",KPICreate!N19)","v":""},{"$f":"IF(KPICreate!O19=\"\",\"\",KPICreate!O19)","v":""},{"$f":"IF(KPICreate!P19=\"\",\"\",KPICreate!P19)","v":""},{"$f":"IF(KPICreate!Q19=\"\",\"\",KPICreate!Q19)","v":""},{"$f":"IF(KPICreate!R19=\"\",\"\",KPICreate!R19)","v":""},{"$f":"IF(KPICreate!S19=\"\",\"\",KPICreate!S19)","v":""},{"$f":"IF(KPICreate!T19=\"\",\"\",KPICreate!T19)","v":""},{"$f":"IF(KPICreate!U19=\"\",\"\",KPICreate!U19)","v":""},{"$f":"IF(KPICreate!V19=\"\",\"\",KPICreate!V19)","v":""},{"$f":"IF(KPICreate!W19=\"\",\"\",KPICreate!W19)","v":""},{"$f":"IF(KPICreate!X19=\"\",\"\",KPICreate!X19)","v":""},{"$f":"IF(KPICreate!Y19=\"\",\"\",KPICreate!Y19)","v":""},{"$f":"IF(KPICreate!Z19=\"\",\"\",KPICreate!Z19)","v":""},{"$f":"IF(KPICreate!AA19=\"\",\"\",KPICreate!AA19)","v":""}]
[{"$f":"IF(KPICreate!A20=\"\",\"\",KPICreate!A20)","v":""},null,null,{"$f":"IF(KPICreate!D20=\"\",\"\",KPICreate!D20)","v":0},null,null,null,null,null,null,null,{"$f":"IF(KPICreate!L20=\"\",\"\",KPICreate!L20)","v":""},null,{"$f":"IF(KPICreate!N20=\"\",\"\",KPICreate!N20)","v":""},null,{"$f":"IF(KPICreate!P20=\"\",\"\",KPICreate!P20)","v":""},null,{"$f":"IF(KPICreate!R20=\"\",\"\",KPICreate!R20)","v":""},null,{"$f":"IF(KPICreate!T20=\"\",\"\",KPICreate!T20)","v":""},null,{"$f":"IF(KPICreate!V20=\"\",\"\",KPICreate!V20)","v":""},null,{"$f":"IF(KPICreate!X20=\"\",\"\",KPICreate!X20)","v":""},null,{"$f":"IF(KPICreate!Z20=\"\",\"\",KPICreate!Z20)","v":""}]
[{"$f":"IF(KPICreate!A21=\"\",\"\",KPICreate!A21)","v":""},{"$f":"KPICreate!B21","v":"DM109"},{"$f":"IF(KPICreate!C21=\"\",\"\",KPICreate!C21)","v":""},{"$f":"IF(KPICreate!D21=\"\",\"\",KPICreate!D21)","v":""},{"$f":"IF(KPICreate!E21=\"\",\"\",KPICreate!E21)","v":""},{"$f":"IF(KPICreate!F21=\"\",\"\",KPICreate!F21)","v":""},{"$f":"IF(KPICreate!G21=\"\",\"\",KPICreate!G21)","v":""},{"$f":"IF(KPICreate!H21=\"\",\"\",KPICreate!H21)","v":""},{"$f":"IF(KPICreate!I21=\"\",\"\",KPICreate!I21)","v":""},{"$f":"IF(KPICreate!J21=\"\",\"\",KPICreate!J21)","v":""},{"$f":"IF(KPICreate!K21=\"\",\"\",KPICreate!K21)","v":""},{"$f":"IF(KPICreate!L21=\"\",\"\",KPICreate!L21)","v":""},{"$f":"IF(KPICreate!M21=\"\",\"\",KPICreate!M21)","v":""},{"$f":"IF(KPICreate!N21=\"\",\"\",KPICreate!N21)","v":""},{"$f":"IF(KPICreate!O21=\"\",\"\",KPICreate!O21)","v":""},{"$f":"IF(KPICreate!P21=\"\",\"\",KPICreate!P21)","v":""},{"$f":"IF(KPICreate!Q21=\"\",\"\",KPICreate!Q21)","v":""},{"$f":"IF(KPICreate!R21=\"\",\"\",KPICreate!R21)","v":""},{"$f":"IF(KPICreate!S21=\"\",\"\",KPICreate!S21)","v":""},{"$f":"IF(KPICreate!T21=\"\",\"\",KPICreate!T21)","v":""},{"$f":"IF(KPICreate!U21=\"\",\"\",KPICreate!U21)","v":""},{"$f":"IF(KPICreate!V21=\"\",\"\",KPICreate!V21)","v":""},{"$f":"IF(KPICreate!W21=\"\",\"\",KPICreate!W21)","v":""},{"$f":"IF(KPICreate!X21=\"\",\"\",KPICreate!X21)","v":""},{"$f":"IF(KPICreate!Y21=\"\",\"\",KPICreate!Y21)","v":""},{"$f":"IF(KPICreate!Z21=\"\",\"\",KPICreate!Z21)","v":""},{"$f":"IF(KPICreate!AA21=\"\",\"\",KPICreate!AA21)","v":""}]
[{"$f":"IF(KPICreate!A22=\"\",\"\",KPICreate!A22)","v":""},null,null,{"$f":"IF(KPICreate!D22=\"\",\"\",KPICreate!D22)","v":0},null,null,null,null,null,null,null,{"$f":"IF(KPICreate!L22=\"\",\"\",KPICreate!L22)","v":""},null,{"$f":"IF(KPICreate!N22=\"\",\"\",KPICreate!N22)","v":""},null,{"$f":"IF(KPICreate!P22=\"\",\"\",KPICreate!P22)","v":""},null,{"$f":"IF(KPICreate!R22=\"\",\"\",KPICreate!R22)","v":""},null,{"$f":"IF(KPICreate!T22=\"\",\"\",KPICreate!T22)","v":""},null,{"$f":"IF(KPICreate!V22=\"\",\"\",KPICreate!V22)","v":""},null,{"$f":"IF(KPICreate!X22=\"\",\"\",KPICreate!X22)","v":""},null,{"$f":"IF(KPICreate!Z22=\"\",\"\",KPICreate!Z22)","v":""}]
[{"$f":"IF(KPICreate!A23=\"\",\"\",KPICreate!A23)","v":""},{"$f":"KPICreate!B23","v":"DM110"},{"$f":"IF(KPICreate!C23=\"\",\"\",KPICreate!C23)","v":""},{"$f":"IF(KPICreate!D23=\"\",\"\",KPICreate!D23)","v":""},{"$f":"IF(KPICreate!E23=\"\",\"\",KPICreate!E23)","v":""},{"$f":"IF(KPICreate!F23=\"\",\"\",KPICreate!F23)","v":""},{"$f":"IF(KPICreate!G23=\"\",\"\",KPICreate!G23)","v":""},{"$f":"IF(KPICreate!H23=\"\",\"\",KPICreate!H23)","v":""},{"$f":"IF(KPICreate!I23=\"\",\"\",KPICreate!I23)","v":""},{"$f":"IF(KPICreate!J23=\"\",\"\",KPICreate!J23)","v":""},{"$f":"IF(KPICreate!K23=\"\",\"\",KPICreate!K23)","v":""},{"$f":"IF(KPICreate!L23=\"\",\"\",KPICreate!L23)","v":""},{"$f":"IF(KPICreate!M23=\"\",\"\",KPICreate!M23)","v":""},{"$f":"IF(KPICreate!N23=\"\",\"\",KPICreate!N23)","v":""},{"$f":"IF(KPICreate!O23=\"\",\"\",KPICreate!O23)","v":""},{"$f":"IF(KPICreate!P23=\"\",\"\",KPICreate!P23)","v":""},{"$f":"IF(KPICreate!Q23=\"\",\"\",KPICreate!Q23)","v":""},{"$f":"IF(KPICreate!R23=\"\",\"\",KPICreate!R23)","v":""},{"$f":"IF(KPICreate!S23=\"\",\"\",KPICreate!S23)","v":""},{"$f":"IF(KPICreate!T23=\"\",\"\",KPICreate!T23)","v":""},{"$f":"IF(KPICreate!U23=\"\",\"\",KPICreate!U23)","v":""},{"$f":"IF(KPICreate!V23=\"\",\"\",KPICreate!V23)","v":""},{"$f":"IF(KPICreate!W23=\"\",\"\",KPICreate!W23)","v":""},{"$f":"IF(KPICreate!X23=\"\",\"\",KPICreate!X23)","v":""},{"$f":"IF(KPICreate!Y23=\"\",\"\",KPICreate!Y23)","v":""},{"$f":"IF(KPICreate!Z23=\"\",\"\",KPICreate!Z23)","v":""},{"$f":"IF(KPICreate!AA23=\"\",\"\",KPICreate!AA23)","v":""}]
[{"$f":"IF(KPICreate!A24=\"\",\"\",KPICreate!A24)","v":""},null,null,{"$f":"IF(KPICreate!D24=\"\",\"\",KPICreate!D24)","v":0},null,null,null,null,null,null,null,{"$f":"IF(KPICreate!L24=\"\",\"\",KPICreate!L24)","v":""},null,{"$f":"IF(KPICreate!N24=\"\",\"\",KPICreate!N24)","v":""},null,{"$f":"IF(KPICreate!P24=\"\",\"\",KPICreate!P24)","v":""},null,{"$f":"IF(KPICreate!R24=\"\",\"\",KPICreate!R24)","v":""},null,{"$f":"IF(KPICreate!T24=\"\",\"\",KPICreate!T24)","v":""},null,{"$f":"IF(KPICreate!V24=\"\",\"\",KPICreate!V24)","v":""},null,{"$f":"IF(KPICreate!X24=\"\",\"\",KPICreate!X24)","v":""},null,{"$f":"IF(KPICreate!Z24=\"\",\"\",KPICreate!Z24)","v":""}]
[{"$f":"IF(KPICreate!A25=\"\",\"\",KPICreate!A25)","v":""},{"$f":"KPICreate!B25","v":"DM111"},{"$f":"IF(KPICreate!C25=\"\",\"\",KPICreate!C25)","v":""},{"$f":"IF(KPICreate!D25=\"\",\"\",KPICreate!D25)","v":""},{"$f":"IF(KPICreate!E25=\"\",\"\",KPICreate!E25)","v":""},{"$f":"IF(KPICreate!F25=\"\",\"\",KPICreate!F25)","v":""},{"$f":"IF(KPICreate!G25=\"\",\"\",KPICreate!G25)","v":""},{"$f":"IF(KPICreate!H25=\"\",\"\",KPICreate!H25)","v":""},{"$f":"IF(KPICreate!I25=\"\",\"\",KPICreate!I25)","v":""},{"$f":"IF(KPICreate!J25=\"\",\"\",KPICreate!J25)","v":""},{"$f":"IF(KPICreate!K25=\"\",\"\",KPICreate!K25)","v":""},{"$f":"IF(KPICreate!L25=\"\",\"\",KPICreate!L25)","v":""},{"$f":"IF(KPICreate!M25=\"\",\"\",KPICreate!M25)","v":""},{"$f":"IF(KPICreate!N25=\"\",\"\",KPICreate!N25)","v":""},{"$f":"IF(KPICreate!O25=\"\",\"\",KPICreate!O25)","v":""},{"$f":"IF(KPICreate!P25=\"\",\"\",KPICreate!P25)","v":""},{"$f":"IF(KPICreate!Q25=\"\",\"\",KPICreate!Q25)","v":""},{"$f":"IF(KPICreate!R25=\"\",\"\",KPICreate!R25)","v":""},{"$f":"IF(KPICreate!S25=\"\",\"\",KPICreate!S25)","v":""},{"$f":"IF(KPICreate!T25=\"\",\"\",KPICreate!T25)","v":""},{"$f":"IF(KPICreate!U25=\"\",\"\",KPICreate!U25)","v":""},{"$f":"IF(KPICreate!V25=\"\",\"\",KPICreate!V25)","v":""},{"$f":"IF(KPICreate!W25=\"\",\"\",KPICreate!W25)","v":""},{"$f":"IF(KPICreate!X25=\"\",\"\",KPICreate!X25)","v":""},{"$f":"IF(KPICreate!Y25=\"\",\"\",KPICreate!Y25)","v":""},{"$f":"IF(KPICreate!Z25=\"\",\"\",KPICreate!Z25)","v":""},{"$f":"IF(KPICreate!AA25=\"\",\"\",KPICreate!AA25)","v":""}]
[{"$f":"IF(KPICreate!A26=\"\",\"\",KPICreate!A26)","v":""},null,null,{"$f":"IF(KPICreate!D26=\"\",\"\",KPICreate!D26)","v":0},null,null,null,null,null,null,null,{"$f":"IF(KPICreate!L26=\"\",\"\",KPICreate!L26)","v":""},null,{"$f":"IF(KPICreate!N26=\"\",\"\",KPICreate!N26)","v":""},null,{"$f":"IF(KPICreate!P26=\"\",\"\",KPICreate!P26)","v":""},null,{"$f":"IF(KPICreate!R26=\"\",\"\",KPICreate!R26)","v":""},null,{"$f":"IF(KPICreate!T26=\"\",\"\",KPICreate!T26)","v":""},null,{"$f":"IF(KPICreate!V26=\"\",\"\",KPICreate!V26)","v":""},null,{"$f":"IF(KPICreate!X26=\"\",\"\",KPICreate!X26)","v":""},null,{"$f":"IF(KPICreate!Z26=\"\",\"\",KPICreate!Z26)","v":""}]
[{"$f":"IF(KPICreate!A27=\"\",\"\",KPICreate!A27)","v":""},{"$f":"KPICreate!B27","v":"DM112"},{"$f":"IF(KPICreate!C27=\"\",\"\",KPICreate!C27)","v":""},{"$f":"IF(KPICreate!D27=\"\",\"\",KPICreate!D27)","v":""},{"$f":"IF(KPICreate!E27=\"\",\"\",KPICreate!E27)","v":""},{"$f":"IF(KPICreate!F27=\"\",\"\",KPICreate!F27)","v":""},{"$f":"IF(KPICreate!G27=\"\",\"\",KPICreate!G27)","v":""},{"$f":"IF(KPICreate!H27=\"\",\"\",KPICreate!H27)","v":""},{"$f":"IF(KPICreate!I27=\"\",\"\",KPICreate!I27)","v":""},{"$f":"IF(KPICreate!J27=\"\",\"\",KPICreate!J27)","v":""},{"$f":"IF(KPICreate!K27=\"\",\"\",KPICreate!K27)","v":""},{"$f":"IF(KPICreate!L27=\"\",\"\",KPICreate!L27)","v":""},{"$f":"IF(KPICreate!M27=\"\",\"\",KPICreate!M27)","v":""},{"$f":"IF(KPICreate!N27=\"\",\"\",KPICreate!N27)","v":""},{"$f":"IF(KPICreate!O27=\"\",\"\",KPICreate!O27)","v":""},{"$f":"IF(KPICreate!P27=\"\",\"\",KPICreate!P27)","v":""},{"$f":"IF(KPICreate!Q27=\"\",\"\",KPICreate!Q27)","v":""},{"$f":"IF(KPICreate!R27=\"\",\"\",KPICreate!R27)","v":""},{"$f":"IF(KPICreate!S27=\"\",\"\",KPICreate!S27)","v":""},{"$f":"IF(KPICreate!T27=\"\",\"\",KPICreate!T27)","v":""},{"$f":"IF(KPICreate!U27=\"\",\"\",KPICreate!U27)","v":""},{"$f":"IF(KPICreate!V27=\"\",\"\",KPICreate!V27)","v":""},{"$f":"IF(KPICreate!W27=\"\",\"\",KPICreate!W27)","v":""},{"$f":"IF(KPICreate!X27=\"\",\"\",KPICreate!X27)","v":""},{"$f":"IF(KPICreate!Y27=\"\",\"\",KPICreate!Y27)","v":""},{"$f":"IF(KPICreate!Z27=\"\",\"\",KPICreate!Z27)","v":""},{"$f":"IF(KPICreate!AA27=\"\",\"\",KPICreate!AA27)","v":""}]
[{"$f":"IF(KPICreate!A28=\"\",\"\",KPICreate!A28)","v":""},null,null,{"$f":"IF(KPICreate!D28=\"\",\"\",KPICreate!D28)","v":0},null,null,null,null,null,null,null,{"$f":"IF(KPICreate!L28=\"\",\"\",KPICreate!L28)","v":""},null,{"$f":"IF(KPICreate!N28=\"\",\"\",KPICreate!N28)","v":""},null,{"$f":"IF(KPICreate!P28=\"\",\"\",KPICreate!P28)","v":""},null,{"$f":"IF(KPICreate!R28=\"\",\"\",KPICreate!R28)","v":""},null,{"$f":"IF(KPICreate!T28=\"\",\"\",KPICreate!T28)","v":""},null,{"$f":"IF(KPICreate!V28=\"\",\"\",KPICreate!V28)","v":""},null,{"$f":"IF(KPICreate!X28=\"\",\"\",KPICreate!X28)","v":""},null,{"$f":"IF(KPICreate!Z28=\"\",\"\",KPICreate!Z28)","v":""}]
[{"$f":"IF(KPICreate!A29=\"\",\"\",KPICreate!A29)","v":""},{"$f":"KPICreate!B29","v":"DM113"},{"$f":"IF(KPICreate!C29=\"\",\"\",KPICreate!C29)","v":""},{"$f":"IF(KPICreate!D29=\"\",\"\",KPICreate!D29)","v":""},{"$f":"IF(KPICreate!E29=\"\",\"\",KPICreate!E29)","v":""},{"$f":"IF(KPICreate!F29=\"\",\"\",KPICreate!F29)","v":""},{"$f":"IF(KPICreate!G29=\"\",\"\",KPICreate!G29)","v":""},{"$f":"IF(KPICreate!H29=\"\",\"\",KPICreate!H29)","v":""},{"$f":"IF(KPICreate!I29=\"\",\"\",KPICreate!I29)","v":""},{"$f":"IF(KPICreate!J29=\"\",\"\",KPICreate!J29)","v":""},{"$f":"IF(KPICreate!K29=\"\",\"\",KPICreate!K29)","v":""},{"$f":"IF(KPICreate!L29=\"\",\"\",KPICreate!L29)","v":""},{"$f":"IF(KPICreate!M29=\"\",\"\",KPICreate!M29)","v":""},{"$f":"IF(KPICreate!N29=\"\",\"\",KPICreate!N29)","v":""},{"$f":"IF(KPICreate!O29=\"\",\"\",KPICreate!O29)","v":""},{"$f":"IF(KPICreate!P29=\"\",\"\",KPICreate!P29)","v":""},{"$f":"IF(KPICreate!Q29=\"\",\"\",KPICreate!Q29)","v":""},{"$f":"IF(KPICreate!R29=\"\",\"\",KPICreate!R29)","v":""},{"$f":"IF(KPICreate!S29=\"\",\"\",KPICreate!S29)","v":""},{"$f":"IF(KPICreate!T29=\"\",\"\",KPICreate!T29)","v":""},{"$f":"IF(KPICreate!U29=\"\",\"\",KPICreate!U29)","v":""},{"$f":"IF(KPICreate!V29=\"\",\"\",KPICreate!V29)","v":""},{"$f":"IF(KPICreate!W29=\"\",\"\",KPICreate!W29)","v":""},{"$f":"IF(KPICreate!X29=\"\",\"\",KPICreate!X29)","v":""},{"$f":"IF(KPICreate!Y29=\"\",\"\",KPICreate!Y29)","v":""},{"$f":"IF(KPICreate!Z29=\"\",\"\",KPICreate!Z29)","v":""},{"$f":"IF(KPICreate!AA29=\"\",\"\",KPICreate!AA29)","v":""}]
[{"$f":"IF(KPICreate!A30=\"\",\"\",KPICreate!A30)","v":""},null,null,{"$f":"IF(KPICreate!D30=\"\",\"\",KPICreate!D30)","v":0},null,null,null,null,null,null,null,{"$f":"IF(KPICreate!L30=\"\",\"\",KPICreate!L30)","v":""},null,{"$f":"IF(KPICreate!N30=\"\",\"\",KPICreate!N30)","v":""},null,{"$f":"IF(KPICreate!P30=\"\",\"\",KPICreate!P30)","v":""},null,{"$f":"IF(KPICreate!R30=\"\",\"\",KPICreate!R30)","v":""},null,{"$f":"IF(KPICreate!T30=\"\",\"\",KPICreate!T30)","v":""},null,{"$f":"IF(KPICreate!V30=\"\",\"\",KPICreate!V30)","v":""},null,{"$f":"IF(KPICreate!X30=\"\",\"\",KPICreate!X30)","v":""},null,{"$f":"IF(KPICreate!Z30=\"\",\"\",KPICreate!Z30)","v":""}]
[{"$f":"IF(KPICreate!A31=\"\",\"\",KPICreate!A31)","v":""},{"$f":"KPICreate!B31","v":"DM114"},{"$f":"IF(KPICreate!C31=\"\",\"\",KPICreate!C31)","v":""},{"$f":"IF(KPICreate!D31=\"\",\"\",KPICreate!D31)","v":""},{"$f":"IF(KPICreate!E31=\"\",\"\",KPICreate!E31)","v":""},{"$f":"IF(KPICreate!F31=\"\",\"\",KPICreate!F31)","v":""},{"$f":"IF(KPICreate!G31=\"\",\"\",KPICreate!G31)","v":""},{"$f":"IF(KPICreate!H31=\"\",\"\",KPICreate!H31)","v":""},{"$f":"IF(KPICreate!I31=\"\",\"\",KPICreate!I31)","v":""},{"$f":"IF(KPICreate!J31=\"\",\"\",KPICreate!J31)","v":""},{"$f":"IF(KPICreate!K31=\"\",\"\",KPICreate!K31)","v":""},{"$f":"IF(KPICreate!L31=\"\",\"\",KPICreate!L31)","v":""},{"$f":"IF(KPICreate!M31=\"\",\"\",KPICreate!M31)","v":""},{"$f":"IF(KPICreate!N31=\"\",\"\",KPICreate!N31)","v":""},{"$f":"IF(KPICreate!O31=\"\",\"\",KPICreate!O31)","v":""},{"$f":"IF(KPICreate!P31=\"\",\"\",KPICreate!P31)","v":""},{"$f":"IF(KPICreate!Q31=\"\",\"\",KPICreate!Q31)","v":""},{"$f":"IF(KPICreate!R31=\"\",\"\",KPICreate!R31)","v":""},{"$f":"IF(KPICreate!S31=\"\",\"\",KPICreate!S31)","v":""},{"$f":"IF(KPICreate!T31=\"\",\"\",KPICreate!T31)","v":""},{"$f":"IF(KPICreate!U31=\"\",\"\",KPICreate!U31)","v":""},{"$f":"IF(KPICreate!V31=\"\",\"\",KPICreate!V31)","v":""},{"$f":"IF(KPICreate!W31=\"\",\"\",KPICreate!W31)","v":""},{"$f":"IF(KPICreate!X31=\"\",\"\",KPICreate!X31)","v":""},{"$f":"IF(KPICreate!Y31=\"\",\"\",KPICreate!Y31)","v":""},{"$f":"IF(KPICreate!Z31=\"\",\"\",KPICreate!Z31)","v":""},{"$f":"IF(KPICreate!AA31=\"\",\"\",KPICreate!AA31)","v":""}]
[{"$f":"IF(KPICreate!A32=\"\",\"\",KPICreate!A32)","v":""},null,null,{"$f":"IF(KPICreate!D32=\"\",\"\",KPICreate!D32)","v":0},null,null,null,null,null,null,null,{"$f":"IF(KPICreate!L32=\"\",\"\",KPICreate!L32)","v":""},null,{"$f":"IF(KPICreate!N32=\"\",\"\",KPICreate!N32)","v":""},null,{"$f":"IF(KPICreate!P32=\"\",\"\",KPICreate!P32)","v":""},null,{"$f":"IF(KPICreate!R32=\"\",\"\",KPICreate!R32)","v":""},null,{"$f":"IF(KPICreate!T32=\"\",\"\",KPICreate!T32)","v":""},null,{"$f":"IF(KPICreate!V32=\"\",\"\",KPICreate!V32)","v":""},null,{"$f":"IF(KPICreate!X32=\"\",\"\",KPICreate!X32)","v":""},null,{"$f":"IF(KPICreate!Z32=\"\",\"\",KPICreate!Z32)","v":""}]
[{"$f":"IF(KPICreate!A33=\"\",\"\",KPICreate!A33)","v":""},{"$f":"KPICreate!B33","v":"DM115"},{"$f":"IF(KPICreate!C33=\"\",\"\",KPICreate!C33)","v":""},{"$f":"IF(KPICreate!D33=\"\",\"\",KPICreate!D33)","v":""},{"$f":"IF(KPICreate!E33=\"\",\"\",KPICreate!E33)","v":""},{"$f":"IF(KPICreate!F33=\"\",\"\",KPICreate!F33)","v":""},{"$f":"IF(KPICreate!G33=\"\",\"\",KPICreate!G33)","v":""},{"$f":"IF(KPICreate!H33=\"\",\"\",KPICreate!H33)","v":""},{"$f":"IF(KPICreate!I33=\"\",\"\",KPICreate!I33)","v":""},{"$f":"IF(KPICreate!J33=\"\",\"\",KPICreate!J33)","v":""},{"$f":"IF(KPICreate!K33=\"\",\"\",KPICreate!K33)","v":""},{"$f":"IF(KPICreate!L33=\"\",\"\",KPICreate!L33)","v":""},{"$f":"IF(KPICreate!M33=\"\",\"\",KPICreate!M33)","v":""},{"$f":"IF(KPICreate!N33=\"\",\"\",KPICreate!N33)","v":""},{"$f":"IF(KPICreate!O33=\"\",\"\",KPICreate!O33)","v":""},{"$f":"IF(KPICreate!P33=\"\",\"\",KPICreate!P33)","v":""},{"$f":"IF(KPICreate!Q33=\"\",\"\",KPICreate!Q33)","v":""},{"$f":"IF(KPICreate!R33=\"\",\"\",KPICreate!R33)","v":""},{"$f":"IF(KPICreate!S33=\"\",\"\",KPICreate!S33)","v":""},{"$f":"IF(KPICreate!T33=\"\",\"\",KPICreate!T33)","v":""},{"$f":"IF(KPICreate!U33=\"\",\"\",KPICreate!U33)","v":""},{"$f":"IF(KPICreate!V33=\"\",\"\",KPICreate!V33)","v":""},{"$f":"IF(KPICreate!W33=\"\",\"\",KPICreate!W33)","v":""},{"$f":"IF(KPICreate!X33=\"\",\"\",KPICreate!X33)","v":""},{"$f":"IF(KPICreate!Y33=\"\",\"\",KPICreate!Y33)","v":""},{"$f":"IF(KPICreate!Z33=\"\",\"\",KPICreate!Z33)","v":""},{"$f":"IF(KPICreate!AA33=\"\",\"\",KPICreate!AA33)","v":""}]
[{"$f":"IF(KPICreate!A34=\"\",\"\",KPICreate!A34)","v":""},null,null,{"$f":"IF(KPICreate!D34=\"\",\"\",KPICreate!D34)","v":0},null,null,null,null,null,null,null,{"$f":"IF(KPICreate!L34=\"\",\"\",KPICreate!L34)","v":""},null,{"$f":"IF(KPICreate!N34=\"\",\"\",KPICreate!N34)","v":""},null,{"$f":"IF(KPICreate!P34=\"\",\"\",KPICreate!P34)","v":""},null,{"$f":"IF(KPICreate!R34=\"\",\"\",KPICreate!R34)","v":""},null,{"$f":"IF(KPICreate!T34=\"\",\"\",KPICreate!T34)","v":""},null,{"$f":"IF(KPICreate!V34=\"\",\"\",KPICreate!V34)","v":""},null,{"$f":"IF(KPICreate!X34=\"\",\"\",KPICreate!X34)","v":""},null,{"$f":"IF(KPICreate!Z34=\"\",\"\",KPICreate!Z34)","v":""}]
[{"$f":"IF(KPICreate!A35=\"\",\"\",KPICreate!A35)","v":""},{"$f":"KPICreate!B35","v":"DM116"},null,{"$f":"IF(KPICreate!D35=\"\",\"\",KPICreate!D35)","v":""},{"$f":"IF(KPICreate!E35=\"\",\"\",KPICreate!E35)","v":""},{"$f":"IF(KPICreate!F35=\"\",\"\",KPICreate!F35)","v":""},{"$f":"IF(KPICreate!G35=\"\",\"\",KPICreate!G35)","v":""},{"$f":"IF(KPICreate!H35=\"\",\"\",KPICreate!H35)","v":""},{"$f":"IF(KPICreate!I35=\"\",\"\",KPICreate!I35)","v":""},{"$f":"IF(KPICreate!J35=\"\",\"\",KPICreate!J35)","v":""},{"$f":"IF(KPICreate!K35=\"\",\"\",KPICreate!K35)","v":""},{"$f":"IF(KPICreate!L35=\"\",\"\",KPICreate!L35)","v":""},{"$f":"IF(KPICreate!M35=\"\",\"\",KPICreate!M35)","v":""},{"$f":"IF(KPICreate!N35=\"\",\"\",KPICreate!N35)","v":""},{"$f":"IF(KPICreate!O35=\"\",\"\",KPICreate!O35)","v":""},{"$f":"IF(KPICreate!P35=\"\",\"\",KPICreate!P35)","v":""},{"$f":"IF(KPICreate!Q35=\"\",\"\",KPICreate!Q35)","v":""},{"$f":"IF(KPICreate!R35=\"\",\"\",KPICreate!R35)","v":""},{"$f":"IF(KPICreate!S35=\"\",\"\",KPICreate!S35)","v":""},{"$f":"IF(KPICreate!T35=\"\",\"\",KPICreate!T35)","v":""},{"$f":"IF(KPICreate!U35=\"\",\"\",KPICreate!U35)","v":""},{"$f":"IF(KPICreate!V35=\"\",\"\",KPICreate!V35)","v":""},{"$f":"IF(KPICreate!W35=\"\",\"\",KPICreate!W35)","v":""},{"$f":"IF(KPICreate!X35=\"\",\"\",KPICreate!X35)","v":""},{"$f":"IF(KPICreate!Y35=\"\",\"\",KPICreate!Y35)","v":""},{"$f":"IF(KPICreate!Z35=\"\",\"\",KPICreate!Z35)","v":""},{"$f":"IF(KPICreate!AA35=\"\",\"\",KPICreate!AA35)","v":""}]
[{"$f":"IF(KPICreate!A36=\"\",\"\",KPICreate!A36)","v":""},null,null,{"$f":"IF(KPICreate!D36=\"\",\"\",KPICreate!D36)","v":0},null,null,null,null,null,null,null,{"$f":"IF(KPICreate!L36=\"\",\"\",KPICreate!L36)","v":""},null,{"$f":"IF(KPICreate!N36=\"\",\"\",KPICreate!N36)","v":""},null,{"$f":"IF(KPICreate!P36=\"\",\"\",KPICreate!P36)","v":""},null,{"$f":"IF(KPICreate!R36=\"\",\"\",KPICreate!R36)","v":""},null,{"$f":"IF(KPICreate!T36=\"\",\"\",KPICreate!T36)","v":""},null,{"$f":"IF(KPICreate!V36=\"\",\"\",KPICreate!V36)","v":""},null,{"$f":"IF(KPICreate!X36=\"\",\"\",KPICreate!X36)","v":""},null,{"$f":"IF(KPICreate!Z36=\"\",\"\",KPICreate!Z36)","v":""}]
[{"$f":"CONCATENATE(O38,Home!P41,\"KPICreate.jpg\")","v":"SAMPELDM1KPICreate.jpg"},null,null,{"$f":"IF(KPICreate!D37=\"\",\"\",KPICreate!D37)","v":100.00000000000001},"Empunya:","Tandatangan",null,null,null,null,"Tarikh",null,"Diluluskan:",null,"Tandatangan",null,null,null,null,"Tarikh"]
[null,null,null,"Form design by LEADERSENSE CONSULTING & SYSTEMS SDN BHD © 2016"]
[]
[null,null,null,null,null,null,null,null,null,null,null,null,null,null,null,null,null,null,null,null,null,null,null,null,null,null,null,null,null,{"$f":"GYCards!C2","v":2020},{"$f":"GYCards!D2","v":"SAMPEL CORPORATION LTD"},{"$f":"GYCards!E2","v":0},{"$f":"GYCards!F2","v":0},{"$f":"GYCards!G2","v":0},{"$f":"GYCards!H2","v":0},null,null,null,null,{"$f":"GYCards!M2","v":2020},{"$f":"GYCards!N2","v":"SAMPEL CORPORATION LTD"},{"$f":"GYCards!O2","v":0},{"$f":"GYCards!P2","v":0},{"$f":"GYCards!Q2","v":0},{"$f":"GYCards!R2","v":0}]
[]
[null,null,null,null,null,null,null,null,null,null,null,null,null,null,null,null,null,null,null,null,null,null,null,null,null,null,null,null,null,"No. Kad:",{"$f":"GYCards!D4","v":"4320AB0G0023"},null,"Issued Date:",{"$f":"GYCards!G4","v":"2020-10-21"},null,null,null,null,null,"No. Kad:",{"$f":"GYCards!N4","v":"3320AC0Y0008"},null,"Issued Date:",{"$f":"GYCards!Q4","v":"2020-08-11"}]
[null,null,null,null,null,null,null,null,null,null,null,null,null,null,null,null,null,null,null,null,null,null,null,null,null,null,null,null,null,"Dikeluar oleh:",{"$f":"GYCards!D5","v":"AB0"},{"$f":"GYCards!E5","v":"BASIRAH BASIR"},{"$f":"GYCards!F5","v":0},{"$f":"GYCards!G5","v":0},{"$f":"GYCards!H5","v":0},{"$f":"GYCards!I5","v":0},null,null,null,"Dikeluar oleh:",{"$f":"GYCards!N5","v":"AC0"},{"$f":"GYCards!O5","v":"CHEWAN CHEMAT"},{"$f":"GYCards!P5","v":0},{"$f":"GYCards!Q5","v":0},{"$f":"GYCards!R5","v":0},{"$f":"GYCards!S5","v":0}]
[null,null,null,null,null,null,null,null,null,null,null,null,null,null,null,null,null,null,null,null,null,null,null,null,null,null,null,null,null,"Jawatan:",{"$f":"GYCards!D6","v":"VP KEWANGAN"},{"$f":"GYCards!E6","v":0},{"$f":"GYCards!F6","v":0},{"$f":"GYCards!G6","v":0},{"$f":"GYCards!H6","v":0},"O",null,null,null,"Jawatan:",{"$f":"GYCards!N6","v":"VP OPERASI PERNIAGAAN"},{"$f":"GYCards!O6","v":0},{"$f":"GYCards!P6","v":0},{"$f":"GYCards!Q6","v":0},{"$f":"GYCards!R6","v":0},"O"]
[null,null,null,null,null,null,null,null,null,null,null,null,null,null,null,null,null,null,null,null,null,null,null,null,null,null,null,null,null,"Bahagian:",{"$f":"GYCards!D7","v":"KEWANGAN"},{"$f":"GYCards!E7","v":0},{"$f":"GYCards!F7","v":0},{"$f":"GYCards!G7","v":0},{"$f":"GYCards!H7","v":0},null,null,null,null,"Bahagian:",{"$f":"GYCards!N7","v":"OPERASI PERNIAGAAN"},{"$f":"GYCards!O7","v":0},{"$f":"GYCards!P7","v":0},{"$f":"GYCards!Q7","v":0},{"$f":"GYCards!R7","v":0}]
[null,null,null,null,null,null,null,null,null,null,null,null,null,null,null,null,null,null,null,null,null,null,null,null,null,null,null,null,null,"Diberi kepada:",null,null,null,null,null,null,null,null,null,"Diberi kepada:"]
[null,null,null,null,null,null,null,null,null,null,null,null,null,null,null,null,null,null,null,null,null,null,null,null,null,null,null,null,null,"ID Pengguna:",{"$f":"GYCards!D9","v":"DM1"},{"$f":"GYCards!E9","v":"ADAM NAUFAL HASMADI"},{"$f":"GYCards!F9","v":0},{"$f":"GYCards!G9","v":0},{"$f":"GYCards!H9","v":0},{"$f":"GYCards!I9","v":0},null,null,null,"ID Pengguna:",{"$f":"GYCards!N9","v":"DM1"},{"$f":"GYCards!O9","v":"ADAM NAUFAL HASMADI"},{"$f":"GYCards!P9","v":0},{"$f":"GYCards!Q9","v":0},{"$f":"GYCards!R9","v":0},{"$f":"GYCards!S9","v":0}]
[null,null,null,null,null,null,null,null,null,null,null,null,null,null,null,null,null,null,null,null,null,null,null,null,null,null,null,null,null,"Jawatan:",{"$f":"GYCards!D10","v":"PEN. KETUA PEMASARAN DAN PERKHIDMATAN"},{"$f":"GYCards!E10","v":0},{"$f":"GYCards!F10","v":0},{"$f":"GYCards!G10","v":0},{"$f":"GYCards!H10","v":0},null,null,null,null,"Jawatan:",{"$f":"GYCards!N10","v":"PEN. KETUA PEMASARAN DAN PERKHIDMATAN"},{"$f":"GYCards!O10","v":0},{"$f":"GYCards!P10","v":0},{"$f":"GYCards!Q10","v":0},{"$f":"GYCards!R10","v":0}]
[null,null,null,null,null,null,null,null,null,null,null,null,null,null,null,null,null,null,null,null,null,null,null,null,null,null,null,null,null,"Bahagian:",{"$f":"GYCards!D11","v":"PEMASARAN DAN PERKHIDMATAN"},{"$f":"GYCards!E11","v":0},{"$f":"GYCards!F11","v":0},{"$f":"GYCards!G11","v":0},{"$f":"GYCards!H11","v":0},"Points:",null,null,null,"Bahagian:",{"$f":"GYCards!N11","v":"PEMASARAN DAN PERKHIDMATAN"},{"$f":"GYCards!O11","v":0},{"$f":"GYCards!P11","v":0},{"$f":"GYCards!Q11","v":0},{"$f":"GYCards!R11","v":0},"Points:"]
[null,null,null,null,null,null,null,null,null,null,null,null,null,null,null,null,null,null,null,null,null,null,null,null,null,null,null,null,null,"No. Merit:",{"$f":"GYCards!D12","v":"M10"},{"$f":"GYCards!E12","v":"Menyumbang usaha kerja yang signifikan melebihi dari keperluan Bahagian/ Unit/ JD sendiri"},{"$f":"GYCards!F12","v":0},{"$f":"GYCards!G12","v":0},{"$f":"GYCards!H12","v":0},{"$f":"GYCards!I12","v":2},null,null,null,"No. DeMerit:",{"$f":"GYCards!N12","v":"D08"},{"$f":"GYCards!O12","v":"Tidak hadir ke mesyuarat dalaman berjadual tanpa notis dan tanpa alasan munasabah"},{"$f":"GYCards!P12","v":0},{"$f":"GYCards!Q12","v":0},{"$f":"GYCards!R12","v":0},{"$f":"GYCards!S12","v":-4}]
[null,null,null,null,null,null,null,null,null,null,null,null,null,null,null,null,null,null,null,null,null,null,null,null,null,null,null,null,null,"Catatan Tambahan:",null,null,null,null,"Date of Deed:",{"$f":"GYCards!I13","v":"2020-10-19"},null,null,null,"Catatan Tambahan:",null,null,null,null,"Date of Deed:",{"$f":"GYCards!S13","v":"2020-08-09"}]
[null,null,null,null,null,null,null,null,null,null,null,null,null,null,null,null,null,null,null,null,null,null,null,null,null,null,null,null,null,{"$f":"GYCards!C14","v":"Membantu Divisyen Kewangan untuk memulih hutang lapuk daripada klien ABCD Sdn Bhd secara mempamirkan pengurusan pelanggan yang baik."},{"$f":"GYCards!D14","v":0},{"$f":"GYCards!E14","v":0},{"$f":"GYCards!F14","v":0},{"$f":"GYCards!G14","v":0},{"$f":"GYCards!H14","v":0},{"$f":"GYCards!I14","v":0},null,null,null,{"$f":"GYCards!M14","v":"Tidak hadir ke Mesyuarat Operasi Perkhidmatan No. 6/20 tanpa notis."},{"$f":"GYCards!N14","v":0},{"$f":"GYCards!O14","v":0},{"$f":"GYCards!P14","v":0},{"$f":"GYCards!Q14","v":0},{"$f":"GYCards!R14","v":0},{"$f":"GYCards!S14","v":0}]